{"text_format":"1","workbook":"xlsx","n_sheets":46,"sheets":["Descrição","Croqui","Parâmetros Gerais","Produção","Rateio Custos","Preparo e Gerais","Plan1","latex","fruto genipapo","fruto araçauna","fruto pitanga","Castanha","fruto cajá","semente urucum","semente aroeira","raiz mandioca","abacaxi","espigas","semente caupi","biomassa","madeira","Produto 15","Produto 16","Produto 17","Produto 18","Produto 19","Produto 20","Produto 21","Produto 22","Produto 23","Produto 24","Resultados Fin","Fluxo de Caixa","Ind Financeiros","Gráficos 10","Gráficos 20","Gráficos 30 ","% Perdas","% Variação Custos","% Variação Preços","Resultado Fin (2)","Fluxo de Caixa (2)","Ind Financeiros (2)","Gráficos 10 (2)","Gráficos 20 (2)","Gráficos 30 (2)"],"not_rendered":{"charts":41,"images":1,"macros":1,"external_links":0,"defined_names":3,"comments":0,"pivot_tables":0},"unopened":[],"bounds":{"document_bytes":16777216,"sheet_cells":100000,"rows_first":2000,"rows_last":500,"rows_between":2000,"halvings":0,"cell_chars":16384,"cell_head_chars":4096},"cells_cut":0,"cells_raw":0,"read":"whole","date_system":"1900"}

{"sheet":"Descrição","index":0,"n_rows":65,"n_cols":16,"rows_kept":65,"cut":false,"hidden":false,"merged":[[50,3,50,8],[51,3,51,5],[51,6,51,8],[65,3,65,12],[66,3,66,16],[63,3,63,5],[62,3,62,5],[61,6,61,8],[62,6,62,8],[63,6,63,8],[52,6,52,8],[53,6,53,8],[54,6,54,8],[55,6,55,8],[56,6,56,8],[57,6,57,8],[58,6,58,8],[59,6,59,8],[53,3,53,5],[52,3,52,5],[54,3,54,5],[55,3,55,5],[56,3,56,5],[58,3,58,5],[57,3,57,5],[59,3,59,5],[60,3,60,5],[61,3,61,5],[1,0,1,3],[4,0,4,2],[5,0,5,2],[3,0,3,2],[9,14,10,14],[4,3,4,15],[5,3,5,15],[9,15,10,15],[9,13,10,13],[9,10,10,12],[9,3,9,9],[10,3,10,5],[10,6,10,9],[35,3,35,12],[38,3,38,15],[39,3,39,15],[40,3,40,15],[41,3,41,15],[42,3,42,15],[43,3,43,15],[44,3,44,15],[45,3,45,15],[46,3,46,15],[47,3,47,15],[14,10,14,12],[15,6,15,9],[15,10,15,12],[16,6,16,9],[16,10,16,12],[33,10,33,12],[28,10,28,12],[33,6,33,9],[29,6,29,9],[17,6,17,9],[18,6,18,9],[19,6,19,9],[20,6,20,9],[21,6,21,9],[31,6,31,9],[31,10,31,12],[34,10,34,12],[22,6,22,9],[17,3,17,5],[18,3,18,5],[29,3,29,5],[30,3,30,5],[11,10,11,12],[24,10,24,12],[25,10,25,12],[30,10,30,12],[12,6,12,9],[12,10,12,12],[13,6,13,9],[13,10,13,12],[14,6,14,9],[11,6,11,9],[24,6,24,9],[28,6,28,9],[22,10,22,12],[23,10,23,12],[26,10,26,12],[27,10,27,12],[29,10,29,12],[17,10,17,12],[18,10,18,12],[19,10,19,12],[20,10,20,12],[21,10,21,12],[16,3,16,5],[11,3,11,5],[12,3,12,5],[13,3,13,5],[14,3,14,5],[15,3,15,5],[19,3,19,5],[20,3,20,5],[34,6,34,9],[25,6,25,9],[30,6,30,9],[26,6,26,9],[27,6,27,9],[21,3,21,5],[22,3,22,5],[24,3,24,5],[25,3,25,5],[31,3,31,5],[32,3,32,5],[33,3,33,5],[34,3,34,5],[26,3,26,5],[27,3,27,5],[28,3,28,5]]}
["Análise Financeira de Sistemas Produtivos Integrados (V. 4.16 11/2016)"]
["Descrição do Sistema de Produção"]
[]
["Identificação"]
["   Município/Local:",null,null,"Sooretama - ES"]
["   Modelo do Sistema:",null,null,"SAF projeto biomas subprojeto MA 11"]
[]
["Espécies e Composição do Modelo"]
[]
[null,null,null,"Espécies",null,null,null,null,null,null,"Espaçamento (m)",null,null,"Dens.","Qtde. Produtos","%"]
[null,null,null,"Nome Vulgar",null,null,"Nome Científico"]
[null,null,null,"Seringueira",null,null,"Hevea brasiliensis",null,null,null,"4,00x17,5",null,null,142,1,{"$f":"IF(AND(N12<>0,O12<>0),N12/$N$36/O12,0)","v":1.509514191559477E-3}]
[null,null,null,"Genipapo",null,null,"Genipa americana",null,null,null,"8,75x20,0",null,null,58,1,{"$f":"IF(AND(N13<>0,O13<>0),N13/$N$36/O13,0)","v":6.1656213458063144E-4}]
[null,null,null,"Araçauna",null,null,"Psidium eugeniaefolia",null,null,null,"8,75x20,0",null,null,58,1,6.1656213458063144E-4]
[null,null,null,"pitanga",null,null,"Eugenia sp",null,null,null,"8,75x20,0",null,null,58,1,6.1656213458063144E-4]
[null,null,null,"Sapucaia",null,null,"Lecythis pisonis",null,null,null,"8,75x20,0",null,null,58,1,6.1656213458063144E-4]
[null,null,null,"Cajá mirim",null,null,"Spondias mombin",null,null,null,"8,75x20,0",null,null,58,1,6.1656213458063144E-4]
[null,null,null,"Urucum",null,null,"Bixa orellana",null,null,null,"8,75x4,0",null,null,284,1,3.0190283831189541E-3]
[null,null,null,"Aroeira",null,null,"Schinnus terebentifolius",null,null,null,"8,75x4,0",null,null,284,1,3.0190283831189541E-3]
[null,null,null,"Mandioca",null,null,"Manihot esculenta",null,null,null,"(FACA) 0,90x0,40",null,null,11400,1,0.12118635058998618]
[null,null,null,"Abacaxi",null,null,"Ananas sp cultivar Vitoria",null,null,null,"15,5x0,30",null,null,3660,1,3.8907196768363982E-2]
[null,null,null,"milho",null,null,"Zea mays",null,null,null,"(FACA) 0,50x0,50x0,50x0,40",null,null,8550,1,9.0889762942489641E-2]
[null,null,null,"Sansão do campo",null,null,"Mimosa caesalpiniaefoliae",null,null,null,"17,5x10,0",null,null,60,1,6.3782289784203251E-4]
[null,null,null,"Madeira nova",null,null,"Pterogyne nitens",null,null,null,"17,5x20,0",null,null,30,1,3.1891144892101626E-4]
[null,null,null,"Fedegoso",null,null,"Senna occidentalis",null,null,null,"17,5x20,0",null,null,30,1,3.1891144892101626E-4]
[null,null,null,"Pau d'alho",null,null,"Gallesia integrifolia",null,null,null,"17,5x20,0",null,null,30,1,3.1891144892101626E-4]
[null,null,null,"Boleira",null,null,"Joanesia princips",null,null,null,"17,5x20,0",null,null,30,1,3.1891144892101626E-4]
[null,null,null,"Angico roxo",null,null,"Piptadenia pterosperma",null,null,null,"17,5x20,0",null,null,30,1,3.1891144892101626E-4]
[null,null,null,"Ipê roxo",null,null,"Handroanthus impetiginosus",null,null,null,"17,5x20,0",null,null,30,1,3.1891144892101626E-4]
[null,null,null,"Ipê amarelo",null,null,"Handroantus albus",null,null,null,"17,5x20,0",null,null,30,1,3.1891144892101626E-4]
[null,null,null,"Gonçalo alves",null,null,"Astronium graveolens",null,null,null,"17,5x20,0",null,null,30,1,3.1891144892101626E-4]
[null,null,null,"Vinhatico",null,null,"Plathymenia foliolosa",null,null,null,"17,5x20,0",null,null,30,1,3.1891144892101626E-4]
[null,null,null,"Jequitibá",null,null,"Cariniana legalis",null,null,null,null,"17,5x20,0",null,30,1,3.1891144892101626E-4]
[null,null,null,"Feijão guandu",null,null,"Cajanus cajan",null,null,null,"0,60 x 0,60",null,null,6600,1,7.016051876262358E-2]
[null,null,null,"Feijão caupi",null,null,"Vigna unguiculata",null,null,null,"0,40x0,20",null,null,62500,1,0.66439885191878389]
[null,null,null,"Total de Espécies no Módulo do Sistema:",null,null,null,null,null,null,null,null,null,{"$f":"SUM(N12:N35)","v":94070},{"$f":"SUM(O12:O35)","v":24},{"$f":"O12*P12+O13*P13+O14*P14+O15*P15+O16*P16+O17*P17+O18*P18+O19*P19+O20*P20+O21*P21+O22*P22+O23*P23+O24*P24+O25*P25+O26*P26+O27*P27+O28*P28+O29+P29+O30*P30+O31*P31+O32*P32+O33*P33+O34*P34+35*P35","v":24.589560965238654}]
[]
[null,null,null,"Observações:"]
[null,null,null,"MILHO: plantado na faixa de culturas anuais com 3 linhas no espaçamento de 0,50 entre linhas e 0,40 na linha. A FACA é de 1,0x100, sendo um total de 11 FACA."]
[null,null,null,"FEIJÃO CAUPI foi plantado no inicio com objetivo de gerar biomassa e renda ao sistema. Foi plantado em área total antes das demais espécies."]
[null,null,null,"FEIJÃO GUANDU foi utilizado como fonte de biomassa para o sistema. Não foi realizado a colheita de sementes."]
[null,null,null,"As espécies de árvores nativas estão distribuídas em 6 linhas (a cada 17,5m) no espaçamento de 1,5m por planta na linha"]
[]
[]
[]
[]
[]
[]
[]
[]
[null,null,null,"ESPÉCIES QUE COMPÕE A FAIXA DAS NATIVAS"]
[null,null,null,"NOME POPULAR",null,null,"NOME CIENTIFICO",null,null,"produto"]
[]
[null,null,null,"ipê Amarelo",null,null,"Handroantus albus",null,null,"madeira"]
[null,null,null,"Ipe roxo",null,null,"Handroantus impetiginosus",null,null,"madeira"]
[null,null,null,"Madeira Nova",null,null,"Pterogyne nitens",null,null,"lenha/estaca"]
[null,null,null,"Fedegoso",null,null,"Senna occidentalis",null,null,"lenha/estaca"]
[null,null,null,"Pau D'alho",null,null,"Gallesia integrifolia",null,null,"lenha/estaca"]
[null,null,null,"Angico roxo",null,null,"Piptadenia pterosperma",null,null,"madeira"]
[null,null,null,"Gonçalo Alves ",null,null,"Astronium graveolens ",null,null,"madeira"]
[null,null,null,"Vinhatico",null,null,"Plathymenia foliolosa",null,null,"madeira"]
[null,null,null,"jequitibá",null,null,"Cariniana legalis",null,null,"madeira"]
[null,null,null,"Sansão do Campo",null,null,"Mimosa caesalpiniaefolia",null,null,"lenha/estaca"]
[null,null,null,"Angico Canjiquinha",null,null,"Peltophorum dubium",null,null,"lenha/estaca"]
[null,null,null,"Boleira",null,null,"Joanesia princips",null,null,"caixotaria"]

{"sheet":"Croqui","index":1,"n_rows":3,"n_cols":1,"rows_kept":3,"cut":false,"hidden":false,"merged":[[1,0,1,3]]}
[{"$f":"Descrição!A1","v":"Análise Financeira de Sistemas Produtivos Integrados (V. 4.16 11/2016)"}]
["Croqui do Sistema de Produção"]
["(desenho esquemático do arranjo espacial e temporal do SAF)"]

{"sheet":"Parâmetros Gerais","index":2,"n_rows":51,"n_cols":9,"rows_kept":51,"cut":false,"hidden":false,"merged":[[9,1,9,4],[11,0,12,0],[3,1,3,4],[4,1,4,4],[6,1,6,4],[7,1,7,4],[8,1,8,4],[5,1,5,4],[28,1,28,3],[20,1,20,3],[21,1,21,3],[22,1,22,3],[23,1,23,3],[24,1,24,3],[15,1,15,3],[16,1,16,3],[17,1,17,3],[36,1,36,3],[29,1,29,3],[30,1,30,3],[31,1,31,3],[32,1,32,3],[33,1,33,3],[34,1,34,3],[35,1,35,3],[18,1,18,3],[19,1,19,3],[25,1,25,3],[26,1,26,3],[27,1,27,3],[11,7,12,8],[12,1,12,3],[13,1,13,3],[14,1,14,3],[11,1,11,5]]}
[{"$f":"Descrição!A1","v":"Análise Financeira de Sistemas Produtivos Integrados (V. 4.16 11/2016)"}]
["Parâmetros Gerais"]
[]
[null,"Valor da Mão de Obra (diária):",null,null,null,50,null,"Unidade:","homem/dia"]
[null,"Valor da Hora de Máquina (com operador):",null,null,null,120,null,"Unidade:","hora/máquina"]
[null,"Valor da diária da tração animal (com operador):",null,null,null,null,null,"Unidade:","animal/dia"]
[null,"Taxa de Juros (financiamento):",null,null,null,null,"por período"]
[null,"Taxa Mínima de Atratividade (TMA):",null,null,null,null,"por período"]
[null,"Taxa de Desconto do Projeto:",null,null,null,{"$f":"F7+F8","v":0},"por período"]
[null,"Área do Módulo de Produção:",null,null,null,0.63,"ha"]
[]
["Espécie","Preço de Venda dos Produtos",null,null,null,null,null,"Unidades dos Insumos"]
[null,"Produto",null,null,"Unidade","Preço"]
["Seringueira","latex",null,null,"kg",2.25,null,"t"]
["Genipapo","fruto genipapo",null,null,"kg",4,null,"kg"]
["Araçauna","fruto araçauna",null,null,"kg",4,null,"l"]
["pitanga","fruto pitanga",null,null,"kg",3,null,"unid"]
["Sapucaia","castanha sapucaia",null,null,"kg",30,null,"m3"]
["Cajá mirim","fruto cajá",null,null,"kg",4,null,"mil"]
["Urucum","semente urucum",null,null,"kg",8,null,"st"]
["Aroeira","semente aroeira",null,null,"kg",6,null,"caixa"]
["Mandioca","raiz mandioca",null,null,"kg",0.8,null,"m"]
["Abacaxi","fruto abacaxi",null,null,"kg",1.5,null,"carrada"]
["milho","espigas milho",null,null,"unidade",0.5]
["Sansão do campo","estaca sansão do campo",null,null,"unidade",6]
["Madeira nova","madeira madeira nova",null,null,"m3",250]
["Fedegoso","lenha fedegoso",null,null,"m3",50]
["Pau d'alho","estaca pau d'alho",null,null,"unidade"]
["Boleira","caixotaria boleira",null,null,"m3",50]
["Angico roxo","madeira angico roxo",null,null,"m3",350]
["Ipê roxo","madeira ipê roxo",null,null,"m3",350]
["Ipê amarelo","madeira ipê amarelo",null,null,"m3",350]
["Gonçalo alves","madeira gonçalo alves",null,null,"m3",250]
["Vinhatico","madeira vinhatico",null,null,"m3",350]
["Jequitibá","madeira jequitiba",null,null,"m3",350]
["Feijão guandu","biomassa",null,null,"t"]
["Feijão caupi","grão caupi",null,null,"kg",2.5]
[]
["O preço dos produtos foi calculado como se fosse vendido diretamente na propriedade."]
["Urucum é o preço da semente batida sem a cachola"]
["Feijão guandu calcular quantas toneladas de biomassa serão produzidas no sistema para calcular a produção de N"]
["Os dados de madeira são com base em monocultivos e quando em plantios mistos são silvicultura."]
["Estaca de sansão fonte: http://www.mfrural.com.br/busca.aspx?palavras=madeira+caixotaria&pg=2"]
["Boleira no ano 7 produz 10 m3/hectare de madeira para caixotaria no espaçamento 17,5 x 20m. Fonte: guia de árvores com valor econômico input= iniciativa para uso da terra."]
["Fedegoso no ano 7 produz  5 m3 de lenha. Fonte: guia de árvores com valor econômico input"]
["Angico roxo no ano 10 produz 4 m3 de madeira por hectare. Fonte: idem fedegoso"]
["Ipe roxo. Fonte: idem"]
["Ipe amarelo. Fonte: idem"]
["Jequitiba. Fonte: idem"]
["Vinhatico. Fonte: Embrapa comunicado técnico 231, 2009 (Paulo Hernani Ramalho Carvalho); input"]
["Mandioca com produtividade de 1kg/planta. Fonte: Cedagro"]

{"sheet":"Produção","index":3,"n_rows":63,"n_cols":33,"rows_kept":63,"cut":false,"hidden":false,"merged":[[62,0,67,2],[52,0,54,2],[56,0,59,2],[60,0,60,2],[43,0,48,2],[1,0,1,1],[32,0,34,2],[36,0,38,2],[40,0,41,2]]}
[{"$f":"'Parâmetros Gerais'!A1","v":"Análise Financeira de Sistemas Produtivos Integrados (V. 4.16 11/2016)"}]
["Produção Esperada por Período"]
[null,null,null,"Período"]
[null,null,null,1,2,3,4,5,6,7,8,9,10,11,12,13,14,15,16,17,18,19,20,21,22,23,24,25,26,27,28,29,30]
["Produtos","Unidade"]
[{"$f":"IF(LEN('Parâmetros Gerais'!B14)=0,\" \",'Parâmetros Gerais'!B14)","v":"latex"},{"$f":"IF('Parâmetros Gerais'!E14<>\"\",'Parâmetros Gerais'!E14,\"\")","v":"kg"},null,null,null,null,null,null,null,142,284,340,426,426,426,426,426,426,426,426,426,426,426]
[{"$f":"IF(LEN('Parâmetros Gerais'!B15)=0,\" \",'Parâmetros Gerais'!B15)","v":"fruto genipapo"},{"$f":"IF('Parâmetros Gerais'!E15<>\"\",'Parâmetros Gerais'!E15,\"\")","v":"kg"},null,null,null,null,null,null,null,null,null,null,null,null,580,696,870,1334,1334,1334,1508,1508,1508]
[{"$f":"IF(LEN('Parâmetros Gerais'!B16)=0,\" \",'Parâmetros Gerais'!B16)","v":"fruto araçauna"},{"$f":"IF('Parâmetros Gerais'!E16<>\"\",'Parâmetros Gerais'!E16,\"\")","v":"kg"},null,null,null,230,230,290,230]
[{"$f":"IF(LEN('Parâmetros Gerais'!B17)=0,\" \",'Parâmetros Gerais'!B17)","v":"fruto pitanga"},{"$f":"IF('Parâmetros Gerais'!E17<>\"\",'Parâmetros Gerais'!E17,\"\")","v":"kg"},null,null,190,380,380,380]
[{"$f":"IF(LEN('Parâmetros Gerais'!B18)=0,\" \",'Parâmetros Gerais'!B18)","v":"castanha sapucaia"},{"$f":"IF('Parâmetros Gerais'!E18<>\"\",'Parâmetros Gerais'!E18,\"\")","v":"kg"},null,null,null,null,null,null,null,null,null,null,null,null,58,80,200,320,350,350,350,350,350]
[{"$f":"IF(LEN('Parâmetros Gerais'!B19)=0,\" \",'Parâmetros Gerais'!B19)","v":"fruto cajá"},{"$f":"IF('Parâmetros Gerais'!E19<>\"\",'Parâmetros Gerais'!E19,\"\")","v":"kg"},null,null,null,null,336,480,600,650,780,850,850,850,850,850,850,850,850,850,850,850,850]
[{"$f":"IF(LEN('Parâmetros Gerais'!B20)=0,\" \",'Parâmetros Gerais'!B20)","v":"semente urucum"},{"$f":"IF('Parâmetros Gerais'!E20<>\"\",'Parâmetros Gerais'!E20,\"\")","v":"kg"},null,null,568,568,852,852]
[{"$f":"IF(LEN('Parâmetros Gerais'!B21)=0,\" \",'Parâmetros Gerais'!B21)","v":"semente aroeira"},{"$f":"IF('Parâmetros Gerais'!E21<>\"\",'Parâmetros Gerais'!E21,\"\")","v":"kg"},null,null,116,116,174,174,290]
[{"$f":"IF(LEN('Parâmetros Gerais'!B22)=0,\" \",'Parâmetros Gerais'!B22)","v":"raiz mandioca"},{"$f":"IF('Parâmetros Gerais'!E22<>\"\",'Parâmetros Gerais'!E22,\"\")","v":"kg"},null,null,11400]
[{"$f":"IF(LEN('Parâmetros Gerais'!B23)=0,\" \",'Parâmetros Gerais'!B23)","v":"fruto abacaxi"},{"$f":"IF('Parâmetros Gerais'!E23<>\"\",'Parâmetros Gerais'!E23,\"\")","v":"kg"},null,null,3660]
[{"$f":"IF(LEN('Parâmetros Gerais'!B24)=0,\" \",'Parâmetros Gerais'!B24)","v":"espigas milho"},{"$f":"IF('Parâmetros Gerais'!E24<>\"\",'Parâmetros Gerais'!E24,\"\")","v":"unidade"},null,8550]
[{"$f":"IF(LEN('Parâmetros Gerais'!B25)=0,\" \",'Parâmetros Gerais'!B25)","v":"estaca sansão do campo"},{"$f":"IF('Parâmetros Gerais'!E25<>\"\",'Parâmetros Gerais'!E25,\"\")","v":"unidade"},null,null,null,null,null,null,null,null,180]
[{"$f":"IF(LEN('Parâmetros Gerais'!B26)=0,\" \",'Parâmetros Gerais'!B26)","v":"madeira madeira nova"},{"$f":"IF('Parâmetros Gerais'!E26<>\"\",'Parâmetros Gerais'!E26,\"\")","v":"m3"},null,null,null,null,null,null,null,null,null,null,null,null,null,null,null,10]
[{"$f":"IF(LEN('Parâmetros Gerais'!B27)=0,\" \",'Parâmetros Gerais'!B27)","v":"lenha fedegoso"},{"$f":"IF('Parâmetros Gerais'!E27<>\"\",'Parâmetros Gerais'!E27,\"\")","v":"m3"},null,null,null,null,null,null,null,5]
[{"$f":"IF(LEN('Parâmetros Gerais'!B28)=0,\" \",'Parâmetros Gerais'!B28)","v":"estaca pau d'alho"},{"$f":"IF('Parâmetros Gerais'!E28<>\"\",'Parâmetros Gerais'!E28,\"\")","v":"unidade"}]
[{"$f":"IF(LEN('Parâmetros Gerais'!B29)=0,\" \",'Parâmetros Gerais'!B29)","v":"caixotaria boleira"},{"$f":"IF('Parâmetros Gerais'!E29<>\"\",'Parâmetros Gerais'!E29,\"\")","v":"m3"},null,null,null,null,null,null,null,10]
[{"$f":"IF(LEN('Parâmetros Gerais'!B30)=0,\" \",'Parâmetros Gerais'!B30)","v":"madeira angico roxo"},{"$f":"IF('Parâmetros Gerais'!E30<>\"\",'Parâmetros Gerais'!E30,\"\")","v":"m3"},null,null,null,null,null,null,null,null,null,null,4,null,null,null,null,null,null,null,null,null,5]
[{"$f":"IF(LEN('Parâmetros Gerais'!B31)=0,\" \",'Parâmetros Gerais'!B31)","v":"madeira ipê roxo"},{"$f":"IF('Parâmetros Gerais'!E31<>\"\",'Parâmetros Gerais'!E31,\"\")","v":"m3"}]
[{"$f":"IF(LEN('Parâmetros Gerais'!B32)=0,\" \",'Parâmetros Gerais'!B32)","v":"madeira ipê amarelo"},{"$f":"IF('Parâmetros Gerais'!E32<>\"\",'Parâmetros Gerais'!E32,\"\")","v":"m3"},null,null,null,null,null,null,null,null,null,null,null,null,null,null,null,null,null,null,null,null,36]
[{"$f":"IF(LEN('Parâmetros Gerais'!B33)=0,\" \",'Parâmetros Gerais'!B33)","v":"madeira gonçalo alves"},{"$f":"IF('Parâmetros Gerais'!E33<>\"\",'Parâmetros Gerais'!E33,\"\")","v":"m3"}]
[{"$f":"IF(LEN('Parâmetros Gerais'!B34)=0,\" \",'Parâmetros Gerais'!B34)","v":"madeira vinhatico"},{"$f":"IF('Parâmetros Gerais'!E34<>\"\",'Parâmetros Gerais'!E34,\"\")","v":"m3"},null,null,null,null,null,null,null,null,null,null,null,null,null,null,null,null,null,null,null,null,10]
[{"$f":"IF(LEN('Parâmetros Gerais'!B35)=0,\" \",'Parâmetros Gerais'!B35)","v":"madeira jequitiba"},{"$f":"IF('Parâmetros Gerais'!E35<>\"\",'Parâmetros Gerais'!E35,\"\")","v":"m3"},null,null,null,null,null,null,null,null,null,null,null,null,null,null,null,null,null,null,null,null,4]
[{"$f":"IF(LEN('Parâmetros Gerais'!B36)=0,\" \",'Parâmetros Gerais'!B36)","v":"biomassa"},{"$f":"IF('Parâmetros Gerais'!E36<>\"\",'Parâmetros Gerais'!E36,\"\")","v":"t"}]
[{"$f":"IF(LEN('Parâmetros Gerais'!B37)=0,\" \",'Parâmetros Gerais'!B37)","v":"grão caupi"},{"$f":"IF('Parâmetros Gerais'!E37<>\"\",'Parâmetros Gerais'!E37,\"\")","v":"kg"},null,128]
[]
[]
[]
["Fruto Aroeira: 2kg/ano2 e 3. Ano 4 e 5:média de 3Kg/planta. Do ano 6 em diante: média de 5kg/planta. Preco de R$6,00/kg."]
[]
[]
[]
["Abacaxi Vitória: 1kg a 1.200 Kg/planta. 1 fruto/planta/ano e meio. Produção de 5 mudas por planta sendo em média 60 centavos por muda. "]
[]
[]
[]
["Milho com produção de 1 espiga/planta e preço de 0,50 centavos a unidade"]
[]
[]
["Pitanga produz a partir do 3o ano até o sexto quando estabiliza a produção que pode variar de 15 a 20 kg por planta com 2 safras por ano. http://www.agencia.cnptia.embrapa.br/gestor/territorio_mata_sul_pernambucana/arvore/CONT000gtq6c11c02wx7ha087apz22u0146j.html"]
[]
[]
[]
[]
[]
[]
["Sapucaia 1kg=180 castanhas"]
[]
["Urucum no ano 2 e 3 foram 2 kg/planta e no ano 4 e 5 ano foram 3 kg/planta. Fonte: Embrapa coleção plantar 2a. Edição. Preço praticado na região R$8,00/kg"]
[]
[]
[]
["Caja mirim foi calculado 6kg/planta no ano 4 e aumentando gradativamente até estabilizar no ano 9 com a produção de 15kg/planta até o ano 20"]
[]
[]
[]
["Genipapo foi calculado 10kg/planta no ano 12 e 12kg/planta no ano 13 até produção de 26 kg/planta no ano 18 em diante. Sendo que nos anos 15, 16 e 17 foram calculados 23kg/planta"]
[]
["Feijão caupi na parcela foram produzidos 128kg/há e a média de produção no Brasil é de 366kg/há sendo que varia de 1200 no centro-oeste para 328 no nordeste. Fonte: http://www.agencia.cnptia.embrapa.br/gestor/feijao-caupi/arvore/CONTAG01_16_510200683536.html"]

{"sheet":"Rateio Custos","index":4,"n_rows":29,"n_cols":33,"rows_kept":29,"cut":false,"hidden":false,"merged":[[1,0,1,1]]}
[{"$f":"'Parâmetros Gerais'!A1","v":"Análise Financeira de Sistemas Produtivos Integrados (V. 4.16 11/2016)"}]
["Rateio de Custos Gerais (% da Receita Bruta)"]
[null,null,null,"Período"]
[null,null,null,1,2,3,4,5,6,7,8,9,10,11,12,13,14,15,16,17,18,19,20,21,22,23,24,25,26,27,28,29,30]
["Produtos","Unidade",null,{"$f":"SUM(D6:D29)","v":1},1,0.99999999999999989,1,1,1,1,1,1,1,1,1,1,1,1,1,1,1,1,0.99999999999999989,0,0,0,0,0,0,0,0,0,0]
[{"$f":"IF(LEN('Parâmetros Gerais'!B14)=0,\" \",'Parâmetros Gerais'!B14)","v":"latex"},{"$f":"IF('Parâmetros Gerais'!E14<>\"\",IF('Parâmetros Gerais'!$F$10=1,CONCATENATE('Parâmetros Gerais'!E14,\"/\",'Parâmetros Gerais'!$G$10,),CONCATENATE('Parâmetros Gerais'!E14,\"/\",'Parâmetros Gerais'!$F$10,'Parâmetros Gerais'!$G$10,)),\"\")","v":"kg/0,63ha"},null,{"$f":"IF(Produção!D6<>0,('Resultados Fin'!E71/'Resultados Fin'!$E$68),0)","v":0},{"$f":"IF(Produção!E6<>0,('Resultados Fin'!F71/'Resultados Fin'!$F$68),0)","v":0},{"$f":"IF(Produção!F6<>0,('Resultados Fin'!G71/'Resultados Fin'!$G$68),0)","v":0},{"$f":"IF(Produção!G6<>0,('Resultados Fin'!H71/'Resultados Fin'!$H$68),0)","v":0},{"$f":"IF(Produção!H6<>0,('Resultados Fin'!I71/'Resultados Fin'!$I$68),0)","v":0},{"$f":"IF(Produção!I6<>0,('Resultados Fin'!J71/'Resultados Fin'!$J$68),0)","v":0},{"$f":"IF(Produção!J6<>0,('Resultados Fin'!K71/'Resultados Fin'!$K$68),0)","v":8.7069082981332604E-2},{"$f":"IF(Produção!K6<>0,('Resultados Fin'!L71/'Resultados Fin'!$L$68),0)","v":0.13205207687538748},{"$f":"IF(Produção!L6<>0,('Resultados Fin'!M71/'Resultados Fin'!$M$68),0)","v":0.18367346938775511},{"$f":"IF(Produção!M6<>0,('Resultados Fin'!N71/'Resultados Fin'!$N$68),0)","v":0.1664495962490232},{"$f":"IF(Produção!N6<>0,('Resultados Fin'!O71/'Resultados Fin'!$O$68),0)","v":0.21991510840885625},{"$f":"IF(Produção!O6<>0,('Resultados Fin'!P71/'Resultados Fin'!$P$68),0)","v":0.11385638771752687},{"$f":"IF(Produção!P6<>0,('Resultados Fin'!Q71/'Resultados Fin'!$Q$68),0)","v":0.10044537594969871},{"$f":"IF(Produção!Q6<>0,('Resultados Fin'!R71/'Resultados Fin'!$R$68),0)","v":6.9263287205983307E-2},{"$f":"IF(Produção!R6<>0,('Resultados Fin'!S71/'Resultados Fin'!$S$68),0)","v":4.3978985523870702E-2},{"$f":"IF(Produção!S6<>0,('Resultados Fin'!T71/'Resultados Fin'!$T$68),0)","v":4.7463418257446335E-2},{"$f":"IF(Produção!T6<>0,('Resultados Fin'!U71/'Resultados Fin'!$U$68),0)","v":4.7463418257446335E-2},{"$f":"IF(Produção!U6<>0,('Resultados Fin'!V71/'Resultados Fin'!$V$68),0)","v":4.5882099518920083E-2},{"$f":"IF(Produção!V6<>0,('Resultados Fin'!W71/'Resultados Fin'!$W$68),0)","v":4.5882099518920083E-2},{"$f":"IF(Produção!W6<>0,('Resultados Fin'!X71/'Resultados Fin'!$X$68),0)","v":2.387862632503332E-2},{"$f":"IF(Produção!X6<>0,('Resultados Fin'!Y71/'Resultados Fin'!$Y$68),0)","v":0},{"$f":"IF(Produção!Y6<>0,('Resultados Fin'!Z71/'Resultados Fin'!$Z$68),0)","v":0},{"$f":"IF(Produção!Z6<>0,('Resultados Fin'!AA71/'Resultados Fin'!$AA$68),0)","v":0},{"$f":"IF(Produção!AA6<>0,('Resultados Fin'!AB71/'Resultados Fin'!$AB$68),0)","v":0},{"$f":"IF(Produção!AB6<>0,('Resultados Fin'!AC71/'Resultados Fin'!$AC$68),0)","v":0},{"$f":"IF(Produção!AC6<>0,('Resultados Fin'!AD71/'Resultados Fin'!$AD$68),0)","v":0},{"$f":"IF(Produção!AD6<>0,('Resultados Fin'!AE71/'Resultados Fin'!$AE$68),0)","v":0},{"$f":"IF(Produção!AE6<>0,('Resultados Fin'!AF71/'Resultados Fin'!$AF$68),0)","v":0},{"$f":"IF(Produção!AF6<>0,('Resultados Fin'!AG71/'Resultados Fin'!$AG$68),0)","v":0},{"$f":"IF(Produção!AG6<>0,('Resultados Fin'!AH71/'Resultados Fin'!$AH$68),0)","v":0}]
[{"$f":"IF(LEN('Parâmetros Gerais'!B15)=0,\" \",'Parâmetros Gerais'!B15)","v":"fruto genipapo"},{"$f":"IF('Parâmetros Gerais'!E15<>\"\",IF('Parâmetros Gerais'!$F$10=1,CONCATENATE('Parâmetros Gerais'!E15,\"/\",'Parâmetros Gerais'!$G$10,),CONCATENATE('Parâmetros Gerais'!E15,\"/\",'Parâmetros Gerais'!$F$10,'Parâmetros Gerais'!$G$10,)),\"\")","v":"kg/0,63ha"},null,{"$f":"IF(Produção!D7<>0,('Resultados Fin'!E72/'Resultados Fin'!$E$68),0)","v":0},{"$f":"IF(Produção!E7<>0,('Resultados Fin'!F72/'Resultados Fin'!$F$68),0)","v":0},{"$f":"IF(Produção!F7<>0,('Resultados Fin'!G72/'Resultados Fin'!$G$68),0)","v":0},{"$f":"IF(Produção!G7<>0,('Resultados Fin'!H72/'Resultados Fin'!$H$68),0)","v":0},{"$f":"IF(Produção!H7<>0,('Resultados Fin'!I72/'Resultados Fin'!$I$68),0)","v":0},{"$f":"IF(Produção!I7<>0,('Resultados Fin'!J72/'Resultados Fin'!$J$68),0)","v":0},{"$f":"IF(Produção!J7<>0,('Resultados Fin'!K72/'Resultados Fin'!$K$68),0)","v":0},{"$f":"IF(Produção!K7<>0,('Resultados Fin'!L72/'Resultados Fin'!$L$68),0)","v":0},{"$f":"IF(Produção!L7<>0,('Resultados Fin'!M72/'Resultados Fin'!$M$68),0)","v":0},{"$f":"IF(Produção!M7<>0,('Resultados Fin'!N72/'Resultados Fin'!$N$68),0)","v":0},{"$f":"IF(Produção!N7<>0,('Resultados Fin'!O72/'Resultados Fin'!$O$68),0)","v":0},{"$f":"IF(Produção!O7<>0,('Resultados Fin'!P72/'Resultados Fin'!$P$68),0)","v":0.27558353625942866},{"$f":"IF(Produção!P7<>0,('Resultados Fin'!Q72/'Resultados Fin'!$Q$68),0)","v":0.29174744563793553},{"$f":"IF(Produção!Q7<>0,('Resultados Fin'!R72/'Resultados Fin'!$R$68),0)","v":0.25147234165552623},{"$f":"IF(Produção!R7<>0,('Resultados Fin'!S72/'Resultados Fin'!$S$68),0)","v":0.24483241184702562},{"$f":"IF(Produção!S7<>0,('Resultados Fin'!T72/'Resultados Fin'!$T$68),0)","v":0.26423035975141745},{"$f":"IF(Produção!T7<>0,('Resultados Fin'!U72/'Resultados Fin'!$U$68),0)","v":0.26423035975141745},{"$f":"IF(Produção!U7<>0,('Resultados Fin'!V72/'Resultados Fin'!$V$68),0)","v":0.28874368732198846},{"$f":"IF(Produção!V7<>0,('Resultados Fin'!W72/'Resultados Fin'!$W$68),0)","v":0.28874368732198846},{"$f":"IF(Produção!W7<>0,('Resultados Fin'!X72/'Resultados Fin'!$X$68),0)","v":0.15027216900636514},{"$f":"IF(Produção!X7<>0,('Resultados Fin'!Y72/'Resultados Fin'!$Y$68),0)","v":0},{"$f":"IF(Produção!Y7<>0,('Resultados Fin'!Z72/'Resultados Fin'!$Z$68),0)","v":0},{"$f":"IF(Produção!Z7<>0,('Resultados Fin'!AA72/'Resultados Fin'!$AA$68),0)","v":0},{"$f":"IF(Produção!AA7<>0,('Resultados Fin'!AB72/'Resultados Fin'!$AB$68),0)","v":0},{"$f":"IF(Produção!AB7<>0,('Resultados Fin'!AC72/'Resultados Fin'!$AC$68),0)","v":0},{"$f":"IF(Produção!AC7<>0,('Resultados Fin'!AD72/'Resultados Fin'!$AD$68),0)","v":0},{"$f":"IF(Produção!AD7<>0,('Resultados Fin'!AE72/'Resultados Fin'!$AE$68),0)","v":0},{"$f":"IF(Produção!AE7<>0,('Resultados Fin'!AF72/'Resultados Fin'!$AF$68),0)","v":0},{"$f":"IF(Produção!AF7<>0,('Resultados Fin'!AG72/'Resultados Fin'!$AG$68),0)","v":0},{"$f":"IF(Produção!AG7<>0,('Resultados Fin'!AH72/'Resultados Fin'!$AH$68),0)","v":0}]
[{"$f":"IF(LEN('Parâmetros Gerais'!B16)=0,\" \",'Parâmetros Gerais'!B16)","v":"fruto araçauna"},{"$f":"IF('Parâmetros Gerais'!E16<>\"\",IF('Parâmetros Gerais'!$F$10=1,CONCATENATE('Parâmetros Gerais'!E16,\"/\",'Parâmetros Gerais'!$G$10,),CONCATENATE('Parâmetros Gerais'!E16,\"/\",'Parâmetros Gerais'!$F$10,'Parâmetros Gerais'!$G$10,)),\"\")","v":"kg/0,63ha"},null,{"$f":"IF(Produção!D8<>0,('Resultados Fin'!E73/'Resultados Fin'!$E$68),0)","v":0},{"$f":"IF(Produção!E8<>0,('Resultados Fin'!F73/'Resultados Fin'!$F$68),0)","v":0},{"$f":"IF(Produção!F8<>0,('Resultados Fin'!G73/'Resultados Fin'!$G$68),0)","v":0.12602739726027398},{"$f":"IF(Produção!G8<>0,('Resultados Fin'!H73/'Resultados Fin'!$H$68),0)","v":8.1676136363636367E-2},{"$f":"IF(Produção!H8<>0,('Resultados Fin'!I73/'Resultados Fin'!$I$68),0)","v":9.602649006622517E-2},{"$f":"IF(Produção!I8<>0,('Resultados Fin'!J73/'Resultados Fin'!$J$68),0)","v":0.18181818181818182},{"$f":"IF(Produção!J8<>0,('Resultados Fin'!K73/'Resultados Fin'!$K$68),0)","v":0},{"$f":"IF(Produção!K8<>0,('Resultados Fin'!L73/'Resultados Fin'!$L$68),0)","v":0},{"$f":"IF(Produção!L8<>0,('Resultados Fin'!M73/'Resultados Fin'!$M$68),0)","v":0},{"$f":"IF(Produção!M8<>0,('Resultados Fin'!N73/'Resultados Fin'!$N$68),0)","v":0},{"$f":"IF(Produção!N8<>0,('Resultados Fin'!O73/'Resultados Fin'!$O$68),0)","v":0},{"$f":"IF(Produção!O8<>0,('Resultados Fin'!P73/'Resultados Fin'!$P$68),0)","v":0},{"$f":"IF(Produção!P8<>0,('Resultados Fin'!Q73/'Resultados Fin'!$Q$68),0)","v":0},{"$f":"IF(Produção!Q8<>0,('Resultados Fin'!R73/'Resultados Fin'!$R$68),0)","v":0},{"$f":"IF(Produção!R8<>0,('Resultados Fin'!S73/'Resultados Fin'!$S$68),0)","v":0},{"$f":"IF(Produção!S8<>0,('Resultados Fin'!T73/'Resultados Fin'!$T$68),0)","v":0},{"$f":"IF(Produção!T8<>0,('Resultados Fin'!U73/'Resultados Fin'!$U$68),0)","v":0},{"$f":"IF(Produção!U8<>0,('Resultados Fin'!V73/'Resultados Fin'!$V$68),0)","v":0},{"$f":"IF(Produção!V8<>0,('Resultados Fin'!W73/'Resultados Fin'!$W$68),0)","v":0},{"$f":"IF(Produção!W8<>0,('Resultados Fin'!X73/'Resultados Fin'!$X$68),0)","v":0},{"$f":"IF(Produção!X8<>0,('Resultados Fin'!Y73/'Resultados Fin'!$Y$68),0)","v":0},{"$f":"IF(Produção!Y8<>0,('Resultados Fin'!Z73/'Resultados Fin'!$Z$68),0)","v":0},{"$f":"IF(Produção!Z8<>0,('Resultados Fin'!AA73/'Resultados Fin'!$AA$68),0)","v":0},{"$f":"IF(Produção!AA8<>0,('Resultados Fin'!AB73/'Resultados Fin'!$AB$68),0)","v":0},{"$f":"IF(Produção!AB8<>0,('Resultados Fin'!AC73/'Resultados Fin'!$AC$68),0)","v":0},{"$f":"IF(Produção!AC8<>0,('Resultados Fin'!AD73/'Resultados Fin'!$AD$68),0)","v":0},{"$f":"IF(Produção!AD8<>0,('Resultados Fin'!AE73/'Resultados Fin'!$AE$68),0)","v":0},{"$f":"IF(Produção!AE8<>0,('Resultados Fin'!AF73/'Resultados Fin'!$AF$68),0)","v":0},{"$f":"IF(Produção!AF8<>0,('Resultados Fin'!AG73/'Resultados Fin'!$AG$68),0)","v":0},{"$f":"IF(Produção!AG8<>0,('Resultados Fin'!AH73/'Resultados Fin'!$AH$68),0)","v":0}]
[{"$f":"IF(LEN('Parâmetros Gerais'!B17)=0,\" \",'Parâmetros Gerais'!B17)","v":"fruto pitanga"},{"$f":"IF('Parâmetros Gerais'!E17<>\"\",IF('Parâmetros Gerais'!$F$10=1,CONCATENATE('Parâmetros Gerais'!E17,\"/\",'Parâmetros Gerais'!$G$10,),CONCATENATE('Parâmetros Gerais'!E17,\"/\",'Parâmetros Gerais'!$F$10,'Parâmetros Gerais'!$G$10,)),\"\")","v":"kg/0,63ha"},null,{"$f":"IF(Produção!D9<>0,('Resultados Fin'!E74/'Resultados Fin'!$E$68),0)","v":0},{"$f":"IF(Produção!E9<>0,('Resultados Fin'!F74/'Resultados Fin'!$F$68),0)","v":2.7913809990205679E-2},{"$f":"IF(Produção!F9<>0,('Resultados Fin'!G74/'Resultados Fin'!$G$68),0)","v":0.15616438356164383},{"$f":"IF(Produção!G9<>0,('Resultados Fin'!H74/'Resultados Fin'!$H$68),0)","v":0.10120738636363637},{"$f":"IF(Produção!H9<>0,('Resultados Fin'!I74/'Resultados Fin'!$I$68),0)","v":9.4370860927152314E-2},{"$f":"IF(Produção!I9<>0,('Resultados Fin'!J74/'Resultados Fin'!$J$68),0)","v":0},{"$f":"IF(Produção!J9<>0,('Resultados Fin'!K74/'Resultados Fin'!$K$68),0)","v":0},{"$f":"IF(Produção!K9<>0,('Resultados Fin'!L74/'Resultados Fin'!$L$68),0)","v":0},{"$f":"IF(Produção!L9<>0,('Resultados Fin'!M74/'Resultados Fin'!$M$68),0)","v":0},{"$f":"IF(Produção!M9<>0,('Resultados Fin'!N74/'Resultados Fin'!$N$68),0)","v":0},{"$f":"IF(Produção!N9<>0,('Resultados Fin'!O74/'Resultados Fin'!$O$68),0)","v":0},{"$f":"IF(Produção!O9<>0,('Resultados Fin'!P74/'Resultados Fin'!$P$68),0)","v":0},{"$f":"IF(Produção!P9<>0,('Resultados Fin'!Q74/'Resultados Fin'!$Q$68),0)","v":0},{"$f":"IF(Produção!Q9<>0,('Resultados Fin'!R74/'Resultados Fin'!$R$68),0)","v":0},{"$f":"IF(Produção!R9<>0,('Resultados Fin'!S74/'Resultados Fin'!$S$68),0)","v":0},{"$f":"IF(Produção!S9<>0,('Resultados Fin'!T74/'Resultados Fin'!$T$68),0)","v":0},{"$f":"IF(Produção!T9<>0,('Resultados Fin'!U74/'Resultados Fin'!$U$68),0)","v":0},{"$f":"IF(Produção!U9<>0,('Resultados Fin'!V74/'Resultados Fin'!$V$68),0)","v":0},{"$f":"IF(Produção!V9<>0,('Resultados Fin'!W74/'Resultados Fin'!$W$68),0)","v":0},{"$f":"IF(Produção!W9<>0,('Resultados Fin'!X74/'Resultados Fin'!$X$68),0)","v":0},{"$f":"IF(Produção!X9<>0,('Resultados Fin'!Y74/'Resultados Fin'!$Y$68),0)","v":0},{"$f":"IF(Produção!Y9<>0,('Resultados Fin'!Z74/'Resultados Fin'!$Z$68),0)","v":0},{"$f":"IF(Produção!Z9<>0,('Resultados Fin'!AA74/'Resultados Fin'!$AA$68),0)","v":0},{"$f":"IF(Produção!AA9<>0,('Resultados Fin'!AB74/'Resultados Fin'!$AB$68),0)","v":0},{"$f":"IF(Produção!AB9<>0,('Resultados Fin'!AC74/'Resultados Fin'!$AC$68),0)","v":0},{"$f":"IF(Produção!AC9<>0,('Resultados Fin'!AD74/'Resultados Fin'!$AD$68),0)","v":0},{"$f":"IF(Produção!AD9<>0,('Resultados Fin'!AE74/'Resultados Fin'!$AE$68),0)","v":0},{"$f":"IF(Produção!AE9<>0,('Resultados Fin'!AF74/'Resultados Fin'!$AF$68),0)","v":0},{"$f":"IF(Produção!AF9<>0,('Resultados Fin'!AG74/'Resultados Fin'!$AG$68),0)","v":0},{"$f":"IF(Produção!AG9<>0,('Resultados Fin'!AH74/'Resultados Fin'!$AH$68),0)","v":0}]
[{"$f":"IF(LEN('Parâmetros Gerais'!B18)=0,\" \",'Parâmetros Gerais'!B18)","v":"castanha sapucaia"},{"$f":"IF('Parâmetros Gerais'!E18<>\"\",IF('Parâmetros Gerais'!$F$10=1,CONCATENATE('Parâmetros Gerais'!E18,\"/\",'Parâmetros Gerais'!$G$10,),CONCATENATE('Parâmetros Gerais'!E18,\"/\",'Parâmetros Gerais'!$F$10,'Parâmetros Gerais'!$G$10,)),\"\")","v":"kg/0,63ha"},null,{"$f":"IF(Produção!D10<>0,('Resultados Fin'!E75/'Resultados Fin'!$E$68),0)","v":0},{"$f":"IF(Produção!E10<>0,('Resultados Fin'!F75/'Resultados Fin'!$F$68),0)","v":0},{"$f":"IF(Produção!F10<>0,('Resultados Fin'!G75/'Resultados Fin'!$G$68),0)","v":0},{"$f":"IF(Produção!G10<>0,('Resultados Fin'!H75/'Resultados Fin'!$H$68),0)","v":0},{"$f":"IF(Produção!H10<>0,('Resultados Fin'!I75/'Resultados Fin'!$I$68),0)","v":0},{"$f":"IF(Produção!I10<>0,('Resultados Fin'!J75/'Resultados Fin'!$J$68),0)","v":0},{"$f":"IF(Produção!J10<>0,('Resultados Fin'!K75/'Resultados Fin'!$K$68),0)","v":0},{"$f":"IF(Produção!K10<>0,('Resultados Fin'!L75/'Resultados Fin'!$L$68),0)","v":0},{"$f":"IF(Produção!L10<>0,('Resultados Fin'!M75/'Resultados Fin'!$M$68),0)","v":0},{"$f":"IF(Produção!M10<>0,('Resultados Fin'!N75/'Resultados Fin'!$N$68),0)","v":0},{"$f":"IF(Produção!N10<>0,('Resultados Fin'!O75/'Resultados Fin'!$O$68),0)","v":0},{"$f":"IF(Produção!O10<>0,('Resultados Fin'!P75/'Resultados Fin'!$P$68),0)","v":0.20668765219457147},{"$f":"IF(Produção!P10<>0,('Resultados Fin'!Q75/'Resultados Fin'!$Q$68),0)","v":0.25150641865339274},{"$f":"IF(Produção!Q10<>0,('Resultados Fin'!R75/'Resultados Fin'!$R$68),0)","v":0.43357300285435563},{"$f":"IF(Produção!R10<>0,('Resultados Fin'!S75/'Resultados Fin'!$S$68),0)","v":0.44047810227350936},{"$f":"IF(Produção!S10<>0,('Resultados Fin'!T75/'Resultados Fin'!$T$68),0)","v":0.51994354898611006},{"$f":"IF(Produção!T10<>0,('Resultados Fin'!U75/'Resultados Fin'!$U$68),0)","v":0.51994354898611006},{"$f":"IF(Produção!U10<>0,('Resultados Fin'!V75/'Resultados Fin'!$V$68),0)","v":0.50262080850147195},{"$f":"IF(Produção!V10<>0,('Resultados Fin'!W75/'Resultados Fin'!$W$68),0)","v":0.50262080850147195},{"$f":"IF(Produção!W10<>0,('Resultados Fin'!X75/'Resultados Fin'!$X$68),0)","v":0.26158119604887831},{"$f":"IF(Produção!X10<>0,('Resultados Fin'!Y75/'Resultados Fin'!$Y$68),0)","v":0},{"$f":"IF(Produção!Y10<>0,('Resultados Fin'!Z75/'Resultados Fin'!$Z$68),0)","v":0},{"$f":"IF(Produção!Z10<>0,('Resultados Fin'!AA75/'Resultados Fin'!$AA$68),0)","v":0},{"$f":"IF(Produção!AA10<>0,('Resultados Fin'!AB75/'Resultados Fin'!$AB$68),0)","v":0},{"$f":"IF(Produção!AB10<>0,('Resultados Fin'!AC75/'Resultados Fin'!$AC$68),0)","v":0},{"$f":"IF(Produção!AC10<>0,('Resultados Fin'!AD75/'Resultados Fin'!$AD$68),0)","v":0},{"$f":"IF(Produção!AD10<>0,('Resultados Fin'!AE75/'Resultados Fin'!$AE$68),0)","v":0},{"$f":"IF(Produção!AE10<>0,('Resultados Fin'!AF75/'Resultados Fin'!$AF$68),0)","v":0},{"$f":"IF(Produção!AF10<>0,('Resultados Fin'!AG75/'Resultados Fin'!$AG$68),0)","v":0},{"$f":"IF(Produção!AG10<>0,('Resultados Fin'!AH75/'Resultados Fin'!$AH$68),0)","v":0}]
[{"$f":"IF(LEN('Parâmetros Gerais'!B19)=0,\" \",'Parâmetros Gerais'!B19)","v":"fruto cajá"},{"$f":"IF('Parâmetros Gerais'!E19<>\"\",IF('Parâmetros Gerais'!$F$10=1,CONCATENATE('Parâmetros Gerais'!E19,\"/\",'Parâmetros Gerais'!$G$10,),CONCATENATE('Parâmetros Gerais'!E19,\"/\",'Parâmetros Gerais'!$F$10,'Parâmetros Gerais'!$G$10,)),\"\")","v":"kg/0,63ha"},null,{"$f":"IF(Produção!D11<>0,('Resultados Fin'!E76/'Resultados Fin'!$E$68),0)","v":0},{"$f":"IF(Produção!E11<>0,('Resultados Fin'!F76/'Resultados Fin'!$F$68),0)","v":0},{"$f":"IF(Produção!F11<>0,('Resultados Fin'!G76/'Resultados Fin'!$G$68),0)","v":0},{"$f":"IF(Produção!G11<>0,('Resultados Fin'!H76/'Resultados Fin'!$H$68),0)","v":0.11931818181818182},{"$f":"IF(Produção!H11<>0,('Resultados Fin'!I76/'Resultados Fin'!$I$68),0)","v":0.15894039735099338},{"$f":"IF(Produção!I11<>0,('Resultados Fin'!J76/'Resultados Fin'!$J$68),0)","v":0.4743083003952569},{"$f":"IF(Produção!J11<>0,('Resultados Fin'!K76/'Resultados Fin'!$K$68),0)","v":0.70854339828314483},{"$f":"IF(Produção!K11<>0,('Resultados Fin'!L76/'Resultados Fin'!$L$68),0)","v":0.6447613143211407},{"$f":"IF(Produção!L11<>0,('Resultados Fin'!M76/'Resultados Fin'!$M$68),0)","v":0.81632653061224492},{"$f":"IF(Produção!M11<>0,('Resultados Fin'!N76/'Resultados Fin'!$N$68),0)","v":0.5904315359902752},{"$f":"IF(Produção!N11<>0,('Resultados Fin'!O76/'Resultados Fin'!$O$68),0)","v":0.78008489159114369},{"$f":"IF(Produção!O11<>0,('Resultados Fin'!P76/'Resultados Fin'!$P$68),0)","v":0.40387242382847299},{"$f":"IF(Produção!P11<>0,('Resultados Fin'!Q76/'Resultados Fin'!$Q$68),0)","v":0.35630075975897302},{"$f":"IF(Produção!Q11<>0,('Resultados Fin'!R76/'Resultados Fin'!$R$68),0)","v":0.24569136828413485},{"$f":"IF(Produção!R11<>0,('Resultados Fin'!S76/'Resultados Fin'!$S$68),0)","v":0.1560026612218679},{"$f":"IF(Produção!S11<>0,('Resultados Fin'!T76/'Resultados Fin'!$T$68),0)","v":0.16836267300502611},{"$f":"IF(Produção!T11<>0,('Resultados Fin'!U76/'Resultados Fin'!$U$68),0)","v":0.16836267300502611},{"$f":"IF(Produção!U11<>0,('Resultados Fin'!V76/'Resultados Fin'!$V$68),0)","v":0.1627534046576195},{"$f":"IF(Produção!V11<>0,('Resultados Fin'!W76/'Resultados Fin'!$W$68),0)","v":0.1627534046576195},{"$f":"IF(Produção!W11<>0,('Resultados Fin'!X76/'Resultados Fin'!$X$68),0)","v":8.4702482530112977E-2},{"$f":"IF(Produção!X11<>0,('Resultados Fin'!Y76/'Resultados Fin'!$Y$68),0)","v":0},{"$f":"IF(Produção!Y11<>0,('Resultados Fin'!Z76/'Resultados Fin'!$Z$68),0)","v":0},{"$f":"IF(Produção!Z11<>0,('Resultados Fin'!AA76/'Resultados Fin'!$AA$68),0)","v":0},{"$f":"IF(Produção!AA11<>0,('Resultados Fin'!AB76/'Resultados Fin'!$AB$68),0)","v":0},{"$f":"IF(Produção!AB11<>0,('Resultados Fin'!AC76/'Resultados Fin'!$AC$68),0)","v":0},{"$f":"IF(Produção!AC11<>0,('Resultados Fin'!AD76/'Resultados Fin'!$AD$68),0)","v":0},{"$f":"IF(Produção!AD11<>0,('Resultados Fin'!AE76/'Resultados Fin'!$AE$68),0)","v":0},{"$f":"IF(Produção!AE11<>0,('Resultados Fin'!AF76/'Resultados Fin'!$AF$68),0)","v":0},{"$f":"IF(Produção!AF11<>0,('Resultados Fin'!AG76/'Resultados Fin'!$AG$68),0)","v":0},{"$f":"IF(Produção!AG11<>0,('Resultados Fin'!AH76/'Resultados Fin'!$AH$68),0)","v":0}]
[{"$f":"IF(LEN('Parâmetros Gerais'!B20)=0,\" \",'Parâmetros Gerais'!B20)","v":"semente urucum"},{"$f":"IF('Parâmetros Gerais'!E20<>\"\",IF('Parâmetros Gerais'!$F$10=1,CONCATENATE('Parâmetros Gerais'!E20,\"/\",'Parâmetros Gerais'!$G$10,),CONCATENATE('Parâmetros Gerais'!E20,\"/\",'Parâmetros Gerais'!$F$10,'Parâmetros Gerais'!$G$10,)),\"\")","v":"kg/0,63ha"},null,{"$f":"IF(Produção!D12<>0,('Resultados Fin'!E77/'Resultados Fin'!$E$68),0)","v":0},{"$f":"IF(Produção!E12<>0,('Resultados Fin'!F77/'Resultados Fin'!$F$68),0)","v":0.22252693437806073},{"$f":"IF(Produção!F12<>0,('Resultados Fin'!G77/'Resultados Fin'!$G$68),0)","v":0.62246575342465749},{"$f":"IF(Produção!G12<>0,('Resultados Fin'!H77/'Resultados Fin'!$H$68),0)","v":0.60511363636363635},{"$f":"IF(Produção!H12<>0,('Resultados Fin'!I77/'Resultados Fin'!$I$68),0)","v":0.56423841059602653},{"$f":"IF(Produção!I12<>0,('Resultados Fin'!J77/'Resultados Fin'!$J$68),0)","v":0},{"$f":"IF(Produção!J12<>0,('Resultados Fin'!K77/'Resultados Fin'!$K$68),0)","v":0},{"$f":"IF(Produção!K12<>0,('Resultados Fin'!L77/'Resultados Fin'!$L$68),0)","v":0},{"$f":"IF(Produção!L12<>0,('Resultados Fin'!M77/'Resultados Fin'!$M$68),0)","v":0},{"$f":"IF(Produção!M12<>0,('Resultados Fin'!N77/'Resultados Fin'!$N$68),0)","v":0},{"$f":"IF(Produção!N12<>0,('Resultados Fin'!O77/'Resultados Fin'!$O$68),0)","v":0},{"$f":"IF(Produção!O12<>0,('Resultados Fin'!P77/'Resultados Fin'!$P$68),0)","v":0},{"$f":"IF(Produção!P12<>0,('Resultados Fin'!Q77/'Resultados Fin'!$Q$68),0)","v":0},{"$f":"IF(Produção!Q12<>0,('Resultados Fin'!R77/'Resultados Fin'!$R$68),0)","v":0},{"$f":"IF(Produção!R12<>0,('Resultados Fin'!S77/'Resultados Fin'!$S$68),0)","v":0},{"$f":"IF(Produção!S12<>0,('Resultados Fin'!T77/'Resultados Fin'!$T$68),0)","v":0},{"$f":"IF(Produção!T12<>0,('Resultados Fin'!U77/'Resultados Fin'!$U$68),0)","v":0},{"$f":"IF(Produção!U12<>0,('Resultados Fin'!V77/'Resultados Fin'!$V$68),0)","v":0},{"$f":"IF(Produção!V12<>0,('Resultados Fin'!W77/'Resultados Fin'!$W$68),0)","v":0},{"$f":"IF(Produção!W12<>0,('Resultados Fin'!X77/'Resultados Fin'!$X$68),0)","v":0},{"$f":"IF(Produção!X12<>0,('Resultados Fin'!Y77/'Resultados Fin'!$Y$68),0)","v":0},{"$f":"IF(Produção!Y12<>0,('Resultados Fin'!Z77/'Resultados Fin'!$Z$68),0)","v":0},{"$f":"IF(Produção!Z12<>0,('Resultados Fin'!AA77/'Resultados Fin'!$AA$68),0)","v":0},{"$f":"IF(Produção!AA12<>0,('Resultados Fin'!AB77/'Resultados Fin'!$AB$68),0)","v":0},{"$f":"IF(Produção!AB12<>0,('Resultados Fin'!AC77/'Resultados Fin'!$AC$68),0)","v":0},{"$f":"IF(Produção!AC12<>0,('Resultados Fin'!AD77/'Resultados Fin'!$AD$68),0)","v":0},{"$f":"IF(Produção!AD12<>0,('Resultados Fin'!AE77/'Resultados Fin'!$AE$68),0)","v":0},{"$f":"IF(Produção!AE12<>0,('Resultados Fin'!AF77/'Resultados Fin'!$AF$68),0)","v":0},{"$f":"IF(Produção!AF12<>0,('Resultados Fin'!AG77/'Resultados Fin'!$AG$68),0)","v":0},{"$f":"IF(Produção!AG12<>0,('Resultados Fin'!AH77/'Resultados Fin'!$AH$68),0)","v":0}]
[{"$f":"IF(LEN('Parâmetros Gerais'!B21)=0,\" \",'Parâmetros Gerais'!B21)","v":"semente aroeira"},{"$f":"IF('Parâmetros Gerais'!E21<>\"\",IF('Parâmetros Gerais'!$F$10=1,CONCATENATE('Parâmetros Gerais'!E21,\"/\",'Parâmetros Gerais'!$G$10,),CONCATENATE('Parâmetros Gerais'!E21,\"/\",'Parâmetros Gerais'!$F$10,'Parâmetros Gerais'!$G$10,)),\"\")","v":"kg/0,63ha"},null,{"$f":"IF(Produção!D13<>0,('Resultados Fin'!E78/'Resultados Fin'!$E$68),0)","v":0},{"$f":"IF(Produção!E13<>0,('Resultados Fin'!F78/'Resultados Fin'!$F$68),0)","v":3.4084231145935361E-2},{"$f":"IF(Produção!F13<>0,('Resultados Fin'!G78/'Resultados Fin'!$G$68),0)","v":9.5342465753424657E-2},{"$f":"IF(Produção!G13<>0,('Resultados Fin'!H78/'Resultados Fin'!$H$68),0)","v":9.2684659090909088E-2},{"$f":"IF(Produção!H13<>0,('Resultados Fin'!I78/'Resultados Fin'!$I$68),0)","v":8.6423841059602644E-2},{"$f":"IF(Produção!I13<>0,('Resultados Fin'!J78/'Resultados Fin'!$J$68),0)","v":0.34387351778656128},{"$f":"IF(Produção!J13<>0,('Resultados Fin'!K78/'Resultados Fin'!$K$68),0)","v":0},{"$f":"IF(Produção!K13<>0,('Resultados Fin'!L78/'Resultados Fin'!$L$68),0)","v":0},{"$f":"IF(Produção!L13<>0,('Resultados Fin'!M78/'Resultados Fin'!$M$68),0)","v":0},{"$f":"IF(Produção!M13<>0,('Resultados Fin'!N78/'Resultados Fin'!$N$68),0)","v":0},{"$f":"IF(Produção!N13<>0,('Resultados Fin'!O78/'Resultados Fin'!$O$68),0)","v":0},{"$f":"IF(Produção!O13<>0,('Resultados Fin'!P78/'Resultados Fin'!$P$68),0)","v":0},{"$f":"IF(Produção!P13<>0,('Resultados Fin'!Q78/'Resultados Fin'!$Q$68),0)","v":0},{"$f":"IF(Produção!Q13<>0,('Resultados Fin'!R78/'Resultados Fin'!$R$68),0)","v":0},{"$f":"IF(Produção!R13<>0,('Resultados Fin'!S78/'Resultados Fin'!$S$68),0)","v":0},{"$f":"IF(Produção!S13<>0,('Resultados Fin'!T78/'Resultados Fin'!$T$68),0)","v":0},{"$f":"IF(Produção!T13<>0,('Resultados Fin'!U78/'Resultados Fin'!$U$68),0)","v":0},{"$f":"IF(Produção!U13<>0,('Resultados Fin'!V78/'Resultados Fin'!$V$68),0)","v":0},{"$f":"IF(Produção!V13<>0,('Resultados Fin'!W78/'Resultados Fin'!$W$68),0)","v":0},{"$f":"IF(Produção!W13<>0,('Resultados Fin'!X78/'Resultados Fin'!$X$68),0)","v":0},{"$f":"IF(Produção!X13<>0,('Resultados Fin'!Y78/'Resultados Fin'!$Y$68),0)","v":0},{"$f":"IF(Produção!Y13<>0,('Resultados Fin'!Z78/'Resultados Fin'!$Z$68),0)","v":0},{"$f":"IF(Produção!Z13<>0,('Resultados Fin'!AA78/'Resultados Fin'!$AA$68),0)","v":0},{"$f":"IF(Produção!AA13<>0,('Resultados Fin'!AB78/'Resultados Fin'!$AB$68),0)","v":0},{"$f":"IF(Produção!AB13<>0,('Resultados Fin'!AC78/'Resultados Fin'!$AC$68),0)","v":0},{"$f":"IF(Produção!AC13<>0,('Resultados Fin'!AD78/'Resultados Fin'!$AD$68),0)","v":0},{"$f":"IF(Produção!AD13<>0,('Resultados Fin'!AE78/'Resultados Fin'!$AE$68),0)","v":0},{"$f":"IF(Produção!AE13<>0,('Resultados Fin'!AF78/'Resultados Fin'!$AF$68),0)","v":0},{"$f":"IF(Produção!AF13<>0,('Resultados Fin'!AG78/'Resultados Fin'!$AG$68),0)","v":0},{"$f":"IF(Produção!AG13<>0,('Resultados Fin'!AH78/'Resultados Fin'!$AH$68),0)","v":0}]
[{"$f":"IF(LEN('Parâmetros Gerais'!B22)=0,\" \",'Parâmetros Gerais'!B22)","v":"raiz mandioca"},{"$f":"IF('Parâmetros Gerais'!E22<>\"\",IF('Parâmetros Gerais'!$F$10=1,CONCATENATE('Parâmetros Gerais'!E22,\"/\",'Parâmetros Gerais'!$G$10,),CONCATENATE('Parâmetros Gerais'!E22,\"/\",'Parâmetros Gerais'!$F$10,'Parâmetros Gerais'!$G$10,)),\"\")","v":"kg/0,63ha"},null,{"$f":"IF(Produção!D14<>0,('Resultados Fin'!E79/'Resultados Fin'!$E$68),0)","v":0},{"$f":"IF(Produção!E14<>0,('Resultados Fin'!F79/'Resultados Fin'!$F$68),0)","v":0.44662095984329087},{"$f":"IF(Produção!F14<>0,('Resultados Fin'!G79/'Resultados Fin'!$G$68),0)","v":0},{"$f":"IF(Produção!G14<>0,('Resultados Fin'!H79/'Resultados Fin'!$H$68),0)","v":0},{"$f":"IF(Produção!H14<>0,('Resultados Fin'!I79/'Resultados Fin'!$I$68),0)","v":0},{"$f":"IF(Produção!I14<>0,('Resultados Fin'!J79/'Resultados Fin'!$J$68),0)","v":0},{"$f":"IF(Produção!J14<>0,('Resultados Fin'!K79/'Resultados Fin'!$K$68),0)","v":0},{"$f":"IF(Produção!K14<>0,('Resultados Fin'!L79/'Resultados Fin'!$L$68),0)","v":0},{"$f":"IF(Produção!L14<>0,('Resultados Fin'!M79/'Resultados Fin'!$M$68),0)","v":0},{"$f":"IF(Produção!M14<>0,('Resultados Fin'!N79/'Resultados Fin'!$N$68),0)","v":0},{"$f":"IF(Produção!N14<>0,('Resultados Fin'!O79/'Resultados Fin'!$O$68),0)","v":0},{"$f":"IF(Produção!O14<>0,('Resultados Fin'!P79/'Resultados Fin'!$P$68),0)","v":0},{"$f":"IF(Produção!P14<>0,('Resultados Fin'!Q79/'Resultados Fin'!$Q$68),0)","v":0},{"$f":"IF(Produção!Q14<>0,('Resultados Fin'!R79/'Resultados Fin'!$R$68),0)","v":0},{"$f":"IF(Produção!R14<>0,('Resultados Fin'!S79/'Resultados Fin'!$S$68),0)","v":0},{"$f":"IF(Produção!S14<>0,('Resultados Fin'!T79/'Resultados Fin'!$T$68),0)","v":0},{"$f":"IF(Produção!T14<>0,('Resultados Fin'!U79/'Resultados Fin'!$U$68),0)","v":0},{"$f":"IF(Produção!U14<>0,('Resultados Fin'!V79/'Resultados Fin'!$V$68),0)","v":0},{"$f":"IF(Produção!V14<>0,('Resultados Fin'!W79/'Resultados Fin'!$W$68),0)","v":0},{"$f":"IF(Produção!W14<>0,('Resultados Fin'!X79/'Resultados Fin'!$X$68),0)","v":0},{"$f":"IF(Produção!X14<>0,('Resultados Fin'!Y79/'Resultados Fin'!$Y$68),0)","v":0},{"$f":"IF(Produção!Y14<>0,('Resultados Fin'!Z79/'Resultados Fin'!$Z$68),0)","v":0},{"$f":"IF(Produção!Z14<>0,('Resultados Fin'!AA79/'Resultados Fin'!$AA$68),0)","v":0},{"$f":"IF(Produção!AA14<>0,('Resultados Fin'!AB79/'Resultados Fin'!$AB$68),0)","v":0},{"$f":"IF(Produção!AB14<>0,('Resultados Fin'!AC79/'Resultados Fin'!$AC$68),0)","v":0},{"$f":"IF(Produção!AC14<>0,('Resultados Fin'!AD79/'Resultados Fin'!$AD$68),0)","v":0},{"$f":"IF(Produção!AD14<>0,('Resultados Fin'!AE79/'Resultados Fin'!$AE$68),0)","v":0},{"$f":"IF(Produção!AE14<>0,('Resultados Fin'!AF79/'Resultados Fin'!$AF$68),0)","v":0},{"$f":"IF(Produção!AF14<>0,('Resultados Fin'!AG79/'Resultados Fin'!$AG$68),0)","v":0},{"$f":"IF(Produção!AG14<>0,('Resultados Fin'!AH79/'Resultados Fin'!$AH$68),0)","v":0}]
[{"$f":"IF(LEN('Parâmetros Gerais'!B23)=0,\" \",'Parâmetros Gerais'!B23)","v":"fruto abacaxi"},{"$f":"IF('Parâmetros Gerais'!E23<>\"\",IF('Parâmetros Gerais'!$F$10=1,CONCATENATE('Parâmetros Gerais'!E23,\"/\",'Parâmetros Gerais'!$G$10,),CONCATENATE('Parâmetros Gerais'!E23,\"/\",'Parâmetros Gerais'!$F$10,'Parâmetros Gerais'!$G$10,)),\"\")","v":"kg/0,63ha"},null,{"$f":"IF(Produção!D15<>0,('Resultados Fin'!E80/'Resultados Fin'!$E$68),0)","v":0},{"$f":"IF(Produção!E15<>0,('Resultados Fin'!F80/'Resultados Fin'!$F$68),0)","v":0.26885406464250733},{"$f":"IF(Produção!F15<>0,('Resultados Fin'!G80/'Resultados Fin'!$G$68),0)","v":0},{"$f":"IF(Produção!G15<>0,('Resultados Fin'!H80/'Resultados Fin'!$H$68),0)","v":0},{"$f":"IF(Produção!H15<>0,('Resultados Fin'!I80/'Resultados Fin'!$I$68),0)","v":0},{"$f":"IF(Produção!I15<>0,('Resultados Fin'!J80/'Resultados Fin'!$J$68),0)","v":0},{"$f":"IF(Produção!J15<>0,('Resultados Fin'!K80/'Resultados Fin'!$K$68),0)","v":0},{"$f":"IF(Produção!K15<>0,('Resultados Fin'!L80/'Resultados Fin'!$L$68),0)","v":0},{"$f":"IF(Produção!L15<>0,('Resultados Fin'!M80/'Resultados Fin'!$M$68),0)","v":0},{"$f":"IF(Produção!M15<>0,('Resultados Fin'!N80/'Resultados Fin'!$N$68),0)","v":0},{"$f":"IF(Produção!N15<>0,('Resultados Fin'!O80/'Resultados Fin'!$O$68),0)","v":0},{"$f":"IF(Produção!O15<>0,('Resultados Fin'!P80/'Resultados Fin'!$P$68),0)","v":0},{"$f":"IF(Produção!P15<>0,('Resultados Fin'!Q80/'Resultados Fin'!$Q$68),0)","v":0},{"$f":"IF(Produção!Q15<>0,('Resultados Fin'!R80/'Resultados Fin'!$R$68),0)","v":0},{"$f":"IF(Produção!R15<>0,('Resultados Fin'!S80/'Resultados Fin'!$S$68),0)","v":0},{"$f":"IF(Produção!S15<>0,('Resultados Fin'!T80/'Resultados Fin'!$T$68),0)","v":0},{"$f":"IF(Produção!T15<>0,('Resultados Fin'!U80/'Resultados Fin'!$U$68),0)","v":0},{"$f":"IF(Produção!U15<>0,('Resultados Fin'!V80/'Resultados Fin'!$V$68),0)","v":0},{"$f":"IF(Produção!V15<>0,('Resultados Fin'!W80/'Resultados Fin'!$W$68),0)","v":0},{"$f":"IF(Produção!W15<>0,('Resultados Fin'!X80/'Resultados Fin'!$X$68),0)","v":0},{"$f":"IF(Produção!X15<>0,('Resultados Fin'!Y80/'Resultados Fin'!$Y$68),0)","v":0},{"$f":"IF(Produção!Y15<>0,('Resultados Fin'!Z80/'Resultados Fin'!$Z$68),0)","v":0},{"$f":"IF(Produção!Z15<>0,('Resultados Fin'!AA80/'Resultados Fin'!$AA$68),0)","v":0},{"$f":"IF(Produção!AA15<>0,('Resultados Fin'!AB80/'Resultados Fin'!$AB$68),0)","v":0},{"$f":"IF(Produção!AB15<>0,('Resultados Fin'!AC80/'Resultados Fin'!$AC$68),0)","v":0},{"$f":"IF(Produção!AC15<>0,('Resultados Fin'!AD80/'Resultados Fin'!$AD$68),0)","v":0},{"$f":"IF(Produção!AD15<>0,('Resultados Fin'!AE80/'Resultados Fin'!$AE$68),0)","v":0},{"$f":"IF(Produção!AE15<>0,('Resultados Fin'!AF80/'Resultados Fin'!$AF$68),0)","v":0},{"$f":"IF(Produção!AF15<>0,('Resultados Fin'!AG80/'Resultados Fin'!$AG$68),0)","v":0},{"$f":"IF(Produção!AG15<>0,('Resultados Fin'!AH80/'Resultados Fin'!$AH$68),0)","v":0}]
[{"$f":"IF(LEN('Parâmetros Gerais'!B24)=0,\" \",'Parâmetros Gerais'!B24)","v":"espigas milho"},{"$f":"IF('Parâmetros Gerais'!E24<>\"\",IF('Parâmetros Gerais'!$F$10=1,CONCATENATE('Parâmetros Gerais'!E24,\"/\",'Parâmetros Gerais'!$G$10,),CONCATENATE('Parâmetros Gerais'!E24,\"/\",'Parâmetros Gerais'!$F$10,'Parâmetros Gerais'!$G$10,)),\"\")","v":"unidade/0,63ha"},null,{"$f":"IF(Produção!D16<>0,('Resultados Fin'!E81/'Resultados Fin'!$E$68),0)","v":1},{"$f":"IF(Produção!E16<>0,('Resultados Fin'!F81/'Resultados Fin'!$F$68),0)","v":0},{"$f":"IF(Produção!F16<>0,('Resultados Fin'!G81/'Resultados Fin'!$G$68),0)","v":0},{"$f":"IF(Produção!G16<>0,('Resultados Fin'!H81/'Resultados Fin'!$H$68),0)","v":0},{"$f":"IF(Produção!H16<>0,('Resultados Fin'!I81/'Resultados Fin'!$I$68),0)","v":0},{"$f":"IF(Produção!I16<>0,('Resultados Fin'!J81/'Resultados Fin'!$J$68),0)","v":0},{"$f":"IF(Produção!J16<>0,('Resultados Fin'!K81/'Resultados Fin'!$K$68),0)","v":0},{"$f":"IF(Produção!K16<>0,('Resultados Fin'!L81/'Resultados Fin'!$L$68),0)","v":0},{"$f":"IF(Produção!L16<>0,('Resultados Fin'!M81/'Resultados Fin'!$M$68),0)","v":0},{"$f":"IF(Produção!M16<>0,('Resultados Fin'!N81/'Resultados Fin'!$N$68),0)","v":0},{"$f":"IF(Produção!N16<>0,('Resultados Fin'!O81/'Resultados Fin'!$O$68),0)","v":0},{"$f":"IF(Produção!O16<>0,('Resultados Fin'!P81/'Resultados Fin'!$P$68),0)","v":0},{"$f":"IF(Produção!P16<>0,('Resultados Fin'!Q81/'Resultados Fin'!$Q$68),0)","v":0},{"$f":"IF(Produção!Q16<>0,('Resultados Fin'!R81/'Resultados Fin'!$R$68),0)","v":0},{"$f":"IF(Produção!R16<>0,('Resultados Fin'!S81/'Resultados Fin'!$S$68),0)","v":0},{"$f":"IF(Produção!S16<>0,('Resultados Fin'!T81/'Resultados Fin'!$T$68),0)","v":0},{"$f":"IF(Produção!T16<>0,('Resultados Fin'!U81/'Resultados Fin'!$U$68),0)","v":0},{"$f":"IF(Produção!U16<>0,('Resultados Fin'!V81/'Resultados Fin'!$V$68),0)","v":0},{"$f":"IF(Produção!V16<>0,('Resultados Fin'!W81/'Resultados Fin'!$W$68),0)","v":0},{"$f":"IF(Produção!W16<>0,('Resultados Fin'!X81/'Resultados Fin'!$X$68),0)","v":0},{"$f":"IF(Produção!X16<>0,('Resultados Fin'!Y81/'Resultados Fin'!$Y$68),0)","v":0},{"$f":"IF(Produção!Y16<>0,('Resultados Fin'!Z81/'Resultados Fin'!$Z$68),0)","v":0},{"$f":"IF(Produção!Z16<>0,('Resultados Fin'!AA81/'Resultados Fin'!$AA$68),0)","v":0},{"$f":"IF(Produção!AA16<>0,('Resultados Fin'!AB81/'Resultados Fin'!$AB$68),0)","v":0},{"$f":"IF(Produção!AB16<>0,('Resultados Fin'!AC81/'Resultados Fin'!$AC$68),0)","v":0},{"$f":"IF(Produção!AC16<>0,('Resultados Fin'!AD81/'Resultados Fin'!$AD$68),0)","v":0},{"$f":"IF(Produção!AD16<>0,('Resultados Fin'!AE81/'Resultados Fin'!$AE$68),0)","v":0},{"$f":"IF(Produção!AE16<>0,('Resultados Fin'!AF81/'Resultados Fin'!$AF$68),0)","v":0},{"$f":"IF(Produção!AF16<>0,('Resultados Fin'!AG81/'Resultados Fin'!$AG$68),0)","v":0},{"$f":"IF(Produção!AG16<>0,('Resultados Fin'!AH81/'Resultados Fin'!$AH$68),0)","v":0}]
[{"$f":"IF(LEN('Parâmetros Gerais'!B25)=0,\" \",'Parâmetros Gerais'!B25)","v":"estaca sansão do campo"},{"$f":"IF('Parâmetros Gerais'!E25<>\"\",IF('Parâmetros Gerais'!$F$10=1,CONCATENATE('Parâmetros Gerais'!E25,\"/\",'Parâmetros Gerais'!$G$10,),CONCATENATE('Parâmetros Gerais'!E25,\"/\",'Parâmetros Gerais'!$F$10,'Parâmetros Gerais'!$G$10,)),\"\")","v":"unidade/0,63ha"},null,{"$f":"IF(Produção!D17<>0,('Resultados Fin'!E82/'Resultados Fin'!$E$68),0)","v":0},{"$f":"IF(Produção!E17<>0,('Resultados Fin'!F82/'Resultados Fin'!$F$68),0)","v":0},{"$f":"IF(Produção!F17<>0,('Resultados Fin'!G82/'Resultados Fin'!$G$68),0)","v":0},{"$f":"IF(Produção!G17<>0,('Resultados Fin'!H82/'Resultados Fin'!$H$68),0)","v":0},{"$f":"IF(Produção!H17<>0,('Resultados Fin'!I82/'Resultados Fin'!$I$68),0)","v":0},{"$f":"IF(Produção!I17<>0,('Resultados Fin'!J82/'Resultados Fin'!$J$68),0)","v":0},{"$f":"IF(Produção!J17<>0,('Resultados Fin'!K82/'Resultados Fin'!$K$68),0)","v":0},{"$f":"IF(Produção!K17<>0,('Resultados Fin'!L82/'Resultados Fin'!$L$68),0)","v":0.2231866088034718},{"$f":"IF(Produção!L17<>0,('Resultados Fin'!M82/'Resultados Fin'!$M$68),0)","v":0},{"$f":"IF(Produção!M17<>0,('Resultados Fin'!N82/'Resultados Fin'!$N$68),0)","v":0},{"$f":"IF(Produção!N17<>0,('Resultados Fin'!O82/'Resultados Fin'!$O$68),0)","v":0},{"$f":"IF(Produção!O17<>0,('Resultados Fin'!P82/'Resultados Fin'!$P$68),0)","v":0},{"$f":"IF(Produção!P17<>0,('Resultados Fin'!Q82/'Resultados Fin'!$Q$68),0)","v":0},{"$f":"IF(Produção!Q17<>0,('Resultados Fin'!R82/'Resultados Fin'!$R$68),0)","v":0},{"$f":"IF(Produção!R17<>0,('Resultados Fin'!S82/'Resultados Fin'!$S$68),0)","v":0},{"$f":"IF(Produção!S17<>0,('Resultados Fin'!T82/'Resultados Fin'!$T$68),0)","v":0},{"$f":"IF(Produção!T17<>0,('Resultados Fin'!U82/'Resultados Fin'!$U$68),0)","v":0},{"$f":"IF(Produção!U17<>0,('Resultados Fin'!V82/'Resultados Fin'!$V$68),0)","v":0},{"$f":"IF(Produção!V17<>0,('Resultados Fin'!W82/'Resultados Fin'!$W$68),0)","v":0},{"$f":"IF(Produção!W17<>0,('Resultados Fin'!X82/'Resultados Fin'!$X$68),0)","v":0},{"$f":"IF(Produção!X17<>0,('Resultados Fin'!Y82/'Resultados Fin'!$Y$68),0)","v":0},{"$f":"IF(Produção!Y17<>0,('Resultados Fin'!Z82/'Resultados Fin'!$Z$68),0)","v":0},{"$f":"IF(Produção!Z17<>0,('Resultados Fin'!AA82/'Resultados Fin'!$AA$68),0)","v":0},{"$f":"IF(Produção!AA17<>0,('Resultados Fin'!AB82/'Resultados Fin'!$AB$68),0)","v":0},{"$f":"IF(Produção!AB17<>0,('Resultados Fin'!AC82/'Resultados Fin'!$AC$68),0)","v":0},{"$f":"IF(Produção!AC17<>0,('Resultados Fin'!AD82/'Resultados Fin'!$AD$68),0)","v":0},{"$f":"IF(Produção!AD17<>0,('Resultados Fin'!AE82/'Resultados Fin'!$AE$68),0)","v":0},{"$f":"IF(Produção!AE17<>0,('Resultados Fin'!AF82/'Resultados Fin'!$AF$68),0)","v":0},{"$f":"IF(Produção!AF17<>0,('Resultados Fin'!AG82/'Resultados Fin'!$AG$68),0)","v":0},{"$f":"IF(Produção!AG17<>0,('Resultados Fin'!AH82/'Resultados Fin'!$AH$68),0)","v":0}]
[{"$f":"IF(LEN('Parâmetros Gerais'!B26)=0,\" \",'Parâmetros Gerais'!B26)","v":"madeira madeira nova"},{"$f":"IF('Parâmetros Gerais'!E26<>\"\",IF('Parâmetros Gerais'!$F$10=1,CONCATENATE('Parâmetros Gerais'!E26,\"/\",'Parâmetros Gerais'!$G$10,),CONCATENATE('Parâmetros Gerais'!E26,\"/\",'Parâmetros Gerais'!$F$10,'Parâmetros Gerais'!$G$10,)),\"\")","v":"m3/0,63ha"},null,{"$f":"IF(Produção!D18<>0,('Resultados Fin'!E83/'Resultados Fin'!$E$68),0)","v":0},{"$f":"IF(Produção!E18<>0,('Resultados Fin'!F83/'Resultados Fin'!$F$68),0)","v":0},{"$f":"IF(Produção!F18<>0,('Resultados Fin'!G83/'Resultados Fin'!$G$68),0)","v":0},{"$f":"IF(Produção!G18<>0,('Resultados Fin'!H83/'Resultados Fin'!$H$68),0)","v":0},{"$f":"IF(Produção!H18<>0,('Resultados Fin'!I83/'Resultados Fin'!$I$68),0)","v":0},{"$f":"IF(Produção!I18<>0,('Resultados Fin'!J83/'Resultados Fin'!$J$68),0)","v":0},{"$f":"IF(Produção!J18<>0,('Resultados Fin'!K83/'Resultados Fin'!$K$68),0)","v":0},{"$f":"IF(Produção!K18<>0,('Resultados Fin'!L83/'Resultados Fin'!$L$68),0)","v":0},{"$f":"IF(Produção!L18<>0,('Resultados Fin'!M83/'Resultados Fin'!$M$68),0)","v":0},{"$f":"IF(Produção!M18<>0,('Resultados Fin'!N83/'Resultados Fin'!$N$68),0)","v":0},{"$f":"IF(Produção!N18<>0,('Resultados Fin'!O83/'Resultados Fin'!$O$68),0)","v":0},{"$f":"IF(Produção!O18<>0,('Resultados Fin'!P83/'Resultados Fin'!$P$68),0)","v":0},{"$f":"IF(Produção!P18<>0,('Resultados Fin'!Q83/'Resultados Fin'!$Q$68),0)","v":0},{"$f":"IF(Produção!Q18<>0,('Resultados Fin'!R83/'Resultados Fin'!$R$68),0)","v":0},{"$f":"IF(Produção!R18<>0,('Resultados Fin'!S83/'Resultados Fin'!$S$68),0)","v":0.1147078391337264},{"$f":"IF(Produção!S18<>0,('Resultados Fin'!T83/'Resultados Fin'!$T$68),0)","v":0},{"$f":"IF(Produção!T18<>0,('Resultados Fin'!U83/'Resultados Fin'!$U$68),0)","v":0},{"$f":"IF(Produção!U18<>0,('Resultados Fin'!V83/'Resultados Fin'!$V$68),0)","v":0},{"$f":"IF(Produção!V18<>0,('Resultados Fin'!W83/'Resultados Fin'!$W$68),0)","v":0},{"$f":"IF(Produção!W18<>0,('Resultados Fin'!X83/'Resultados Fin'!$X$68),0)","v":0},{"$f":"IF(Produção!X18<>0,('Resultados Fin'!Y83/'Resultados Fin'!$Y$68),0)","v":0},{"$f":"IF(Produção!Y18<>0,('Resultados Fin'!Z83/'Resultados Fin'!$Z$68),0)","v":0},{"$f":"IF(Produção!Z18<>0,('Resultados Fin'!AA83/'Resultados Fin'!$AA$68),0)","v":0},{"$f":"IF(Produção!AA18<>0,('Resultados Fin'!AB83/'Resultados Fin'!$AB$68),0)","v":0},{"$f":"IF(Produção!AB18<>0,('Resultados Fin'!AC83/'Resultados Fin'!$AC$68),0)","v":0},{"$f":"IF(Produção!AC18<>0,('Resultados Fin'!AD83/'Resultados Fin'!$AD$68),0)","v":0},{"$f":"IF(Produção!AD18<>0,('Resultados Fin'!AE83/'Resultados Fin'!$AE$68),0)","v":0},{"$f":"IF(Produção!AE18<>0,('Resultados Fin'!AF83/'Resultados Fin'!$AF$68),0)","v":0},{"$f":"IF(Produção!AF18<>0,('Resultados Fin'!AG83/'Resultados Fin'!$AG$68),0)","v":0},{"$f":"IF(Produção!AG18<>0,('Resultados Fin'!AH83/'Resultados Fin'!$AH$68),0)","v":0}]
[{"$f":"IF(LEN('Parâmetros Gerais'!B27)=0,\" \",'Parâmetros Gerais'!B27)","v":"lenha fedegoso"},{"$f":"IF('Parâmetros Gerais'!E27<>\"\",IF('Parâmetros Gerais'!$F$10=1,CONCATENATE('Parâmetros Gerais'!E27,\"/\",'Parâmetros Gerais'!$G$10,),CONCATENATE('Parâmetros Gerais'!E27,\"/\",'Parâmetros Gerais'!$F$10,'Parâmetros Gerais'!$G$10,)),\"\")","v":"m3/0,63ha"},null,{"$f":"IF(Produção!D19<>0,('Resultados Fin'!E84/'Resultados Fin'!$E$68),0)","v":0},{"$f":"IF(Produção!E19<>0,('Resultados Fin'!F84/'Resultados Fin'!$F$68),0)","v":0},{"$f":"IF(Produção!F19<>0,('Resultados Fin'!G84/'Resultados Fin'!$G$68),0)","v":0},{"$f":"IF(Produção!G19<>0,('Resultados Fin'!H84/'Resultados Fin'!$H$68),0)","v":0},{"$f":"IF(Produção!H19<>0,('Resultados Fin'!I84/'Resultados Fin'!$I$68),0)","v":0},{"$f":"IF(Produção!I19<>0,('Resultados Fin'!J84/'Resultados Fin'!$J$68),0)","v":0},{"$f":"IF(Produção!J19<>0,('Resultados Fin'!K84/'Resultados Fin'!$K$68),0)","v":6.8129172911840855E-2},{"$f":"IF(Produção!K19<>0,('Resultados Fin'!L84/'Resultados Fin'!$L$68),0)","v":0},{"$f":"IF(Produção!L19<>0,('Resultados Fin'!M84/'Resultados Fin'!$M$68),0)","v":0},{"$f":"IF(Produção!M19<>0,('Resultados Fin'!N84/'Resultados Fin'!$N$68),0)","v":0},{"$f":"IF(Produção!N19<>0,('Resultados Fin'!O84/'Resultados Fin'!$O$68),0)","v":0},{"$f":"IF(Produção!O19<>0,('Resultados Fin'!P84/'Resultados Fin'!$P$68),0)","v":0},{"$f":"IF(Produção!P19<>0,('Resultados Fin'!Q84/'Resultados Fin'!$Q$68),0)","v":0},{"$f":"IF(Produção!Q19<>0,('Resultados Fin'!R84/'Resultados Fin'!$R$68),0)","v":0},{"$f":"IF(Produção!R19<>0,('Resultados Fin'!S84/'Resultados Fin'!$S$68),0)","v":0},{"$f":"IF(Produção!S19<>0,('Resultados Fin'!T84/'Resultados Fin'!$T$68),0)","v":0},{"$f":"IF(Produção!T19<>0,('Resultados Fin'!U84/'Resultados Fin'!$U$68),0)","v":0},{"$f":"IF(Produção!U19<>0,('Resultados Fin'!V84/'Resultados Fin'!$V$68),0)","v":0},{"$f":"IF(Produção!V19<>0,('Resultados Fin'!W84/'Resultados Fin'!$W$68),0)","v":0},{"$f":"IF(Produção!W19<>0,('Resultados Fin'!X84/'Resultados Fin'!$X$68),0)","v":0},{"$f":"IF(Produção!X19<>0,('Resultados Fin'!Y84/'Resultados Fin'!$Y$68),0)","v":0},{"$f":"IF(Produção!Y19<>0,('Resultados Fin'!Z84/'Resultados Fin'!$Z$68),0)","v":0},{"$f":"IF(Produção!Z19<>0,('Resultados Fin'!AA84/'Resultados Fin'!$AA$68),0)","v":0},{"$f":"IF(Produção!AA19<>0,('Resultados Fin'!AB84/'Resultados Fin'!$AB$68),0)","v":0},{"$f":"IF(Produção!AB19<>0,('Resultados Fin'!AC84/'Resultados Fin'!$AC$68),0)","v":0},{"$f":"IF(Produção!AC19<>0,('Resultados Fin'!AD84/'Resultados Fin'!$AD$68),0)","v":0},{"$f":"IF(Produção!AD19<>0,('Resultados Fin'!AE84/'Resultados Fin'!$AE$68),0)","v":0},{"$f":"IF(Produção!AE19<>0,('Resultados Fin'!AF84/'Resultados Fin'!$AF$68),0)","v":0},{"$f":"IF(Produção!AF19<>0,('Resultados Fin'!AG84/'Resultados Fin'!$AG$68),0)","v":0},{"$f":"IF(Produção!AG19<>0,('Resultados Fin'!AH84/'Resultados Fin'!$AH$68),0)","v":0}]
[{"$f":"IF(LEN('Parâmetros Gerais'!B28)=0,\" \",'Parâmetros Gerais'!B28)","v":"estaca pau d'alho"},{"$f":"IF('Parâmetros Gerais'!E28<>\"\",IF('Parâmetros Gerais'!$F$10=1,CONCATENATE('Parâmetros Gerais'!E28,\"/\",'Parâmetros Gerais'!$G$10,),CONCATENATE('Parâmetros Gerais'!E28,\"/\",'Parâmetros Gerais'!$F$10,'Parâmetros Gerais'!$G$10,)),\"\")","v":"unidade/0,63ha"},null,{"$f":"IF(Produção!D20<>0,('Resultados Fin'!E85/'Resultados Fin'!$E$68),0)","v":0},{"$f":"IF(Produção!E20<>0,('Resultados Fin'!F85/'Resultados Fin'!$F$68),0)","v":0},{"$f":"IF(Produção!F20<>0,('Resultados Fin'!G85/'Resultados Fin'!$G$68),0)","v":0},{"$f":"IF(Produção!G20<>0,('Resultados Fin'!H85/'Resultados Fin'!$H$68),0)","v":0},{"$f":"IF(Produção!H20<>0,('Resultados Fin'!I85/'Resultados Fin'!$I$68),0)","v":0},{"$f":"IF(Produção!I20<>0,('Resultados Fin'!J85/'Resultados Fin'!$J$68),0)","v":0},{"$f":"IF(Produção!J20<>0,('Resultados Fin'!K85/'Resultados Fin'!$K$68),0)","v":0},{"$f":"IF(Produção!K20<>0,('Resultados Fin'!L85/'Resultados Fin'!$L$68),0)","v":0},{"$f":"IF(Produção!L20<>0,('Resultados Fin'!M85/'Resultados Fin'!$M$68),0)","v":0},{"$f":"IF(Produção!M20<>0,('Resultados Fin'!N85/'Resultados Fin'!$N$68),0)","v":0},{"$f":"IF(Produção!N20<>0,('Resultados Fin'!O85/'Resultados Fin'!$O$68),0)","v":0},{"$f":"IF(Produção!O20<>0,('Resultados Fin'!P85/'Resultados Fin'!$P$68),0)","v":0},{"$f":"IF(Produção!P20<>0,('Resultados Fin'!Q85/'Resultados Fin'!$Q$68),0)","v":0},{"$f":"IF(Produção!Q20<>0,('Resultados Fin'!R85/'Resultados Fin'!$R$68),0)","v":0},{"$f":"IF(Produção!R20<>0,('Resultados Fin'!S85/'Resultados Fin'!$S$68),0)","v":0},{"$f":"IF(Produção!S20<>0,('Resultados Fin'!T85/'Resultados Fin'!$T$68),0)","v":0},{"$f":"IF(Produção!T20<>0,('Resultados Fin'!U85/'Resultados Fin'!$U$68),0)","v":0},{"$f":"IF(Produção!U20<>0,('Resultados Fin'!V85/'Resultados Fin'!$V$68),0)","v":0},{"$f":"IF(Produção!V20<>0,('Resultados Fin'!W85/'Resultados Fin'!$W$68),0)","v":0},{"$f":"IF(Produção!W20<>0,('Resultados Fin'!X85/'Resultados Fin'!$X$68),0)","v":0},{"$f":"IF(Produção!X20<>0,('Resultados Fin'!Y85/'Resultados Fin'!$Y$68),0)","v":0},{"$f":"IF(Produção!Y20<>0,('Resultados Fin'!Z85/'Resultados Fin'!$Z$68),0)","v":0},{"$f":"IF(Produção!Z20<>0,('Resultados Fin'!AA85/'Resultados Fin'!$AA$68),0)","v":0},{"$f":"IF(Produção!AA20<>0,('Resultados Fin'!AB85/'Resultados Fin'!$AB$68),0)","v":0},{"$f":"IF(Produção!AB20<>0,('Resultados Fin'!AC85/'Resultados Fin'!$AC$68),0)","v":0},{"$f":"IF(Produção!AC20<>0,('Resultados Fin'!AD85/'Resultados Fin'!$AD$68),0)","v":0},{"$f":"IF(Produção!AD20<>0,('Resultados Fin'!AE85/'Resultados Fin'!$AE$68),0)","v":0},{"$f":"IF(Produção!AE20<>0,('Resultados Fin'!AF85/'Resultados Fin'!$AF$68),0)","v":0},{"$f":"IF(Produção!AF20<>0,('Resultados Fin'!AG85/'Resultados Fin'!$AG$68),0)","v":0},{"$f":"IF(Produção!AG20<>0,('Resultados Fin'!AH85/'Resultados Fin'!$AH$68),0)","v":0}]
[{"$f":"IF(LEN('Parâmetros Gerais'!B29)=0,\" \",'Parâmetros Gerais'!B29)","v":"caixotaria boleira"},{"$f":"IF('Parâmetros Gerais'!E29<>\"\",IF('Parâmetros Gerais'!$F$10=1,CONCATENATE('Parâmetros Gerais'!E29,\"/\",'Parâmetros Gerais'!$G$10,),CONCATENATE('Parâmetros Gerais'!E29,\"/\",'Parâmetros Gerais'!$F$10,'Parâmetros Gerais'!$G$10,)),\"\")","v":"m3/0,63ha"},null,{"$f":"IF(Produção!D21<>0,('Resultados Fin'!E86/'Resultados Fin'!$E$68),0)","v":0},{"$f":"IF(Produção!E21<>0,('Resultados Fin'!F86/'Resultados Fin'!$F$68),0)","v":0},{"$f":"IF(Produção!F21<>0,('Resultados Fin'!G86/'Resultados Fin'!$G$68),0)","v":0},{"$f":"IF(Produção!G21<>0,('Resultados Fin'!H86/'Resultados Fin'!$H$68),0)","v":0},{"$f":"IF(Produção!H21<>0,('Resultados Fin'!I86/'Resultados Fin'!$I$68),0)","v":0},{"$f":"IF(Produção!I21<>0,('Resultados Fin'!J86/'Resultados Fin'!$J$68),0)","v":0},{"$f":"IF(Produção!J21<>0,('Resultados Fin'!K86/'Resultados Fin'!$K$68),0)","v":0.13625834582368171},{"$f":"IF(Produção!K21<>0,('Resultados Fin'!L86/'Resultados Fin'!$L$68),0)","v":0},{"$f":"IF(Produção!L21<>0,('Resultados Fin'!M86/'Resultados Fin'!$M$68),0)","v":0},{"$f":"IF(Produção!M21<>0,('Resultados Fin'!N86/'Resultados Fin'!$N$68),0)","v":0},{"$f":"IF(Produção!N21<>0,('Resultados Fin'!O86/'Resultados Fin'!$O$68),0)","v":0},{"$f":"IF(Produção!O21<>0,('Resultados Fin'!P86/'Resultados Fin'!$P$68),0)","v":0},{"$f":"IF(Produção!P21<>0,('Resultados Fin'!Q86/'Resultados Fin'!$Q$68),0)","v":0},{"$f":"IF(Produção!Q21<>0,('Resultados Fin'!R86/'Resultados Fin'!$R$68),0)","v":0},{"$f":"IF(Produção!R21<>0,('Resultados Fin'!S86/'Resultados Fin'!$S$68),0)","v":0},{"$f":"IF(Produção!S21<>0,('Resultados Fin'!T86/'Resultados Fin'!$T$68),0)","v":0},{"$f":"IF(Produção!T21<>0,('Resultados Fin'!U86/'Resultados Fin'!$U$68),0)","v":0},{"$f":"IF(Produção!U21<>0,('Resultados Fin'!V86/'Resultados Fin'!$V$68),0)","v":0},{"$f":"IF(Produção!V21<>0,('Resultados Fin'!W86/'Resultados Fin'!$W$68),0)","v":0},{"$f":"IF(Produção!W21<>0,('Resultados Fin'!X86/'Resultados Fin'!$X$68),0)","v":0},{"$f":"IF(Produção!X21<>0,('Resultados Fin'!Y86/'Resultados Fin'!$Y$68),0)","v":0},{"$f":"IF(Produção!Y21<>0,('Resultados Fin'!Z86/'Resultados Fin'!$Z$68),0)","v":0},{"$f":"IF(Produção!Z21<>0,('Resultados Fin'!AA86/'Resultados Fin'!$AA$68),0)","v":0},{"$f":"IF(Produção!AA21<>0,('Resultados Fin'!AB86/'Resultados Fin'!$AB$68),0)","v":0},{"$f":"IF(Produção!AB21<>0,('Resultados Fin'!AC86/'Resultados Fin'!$AC$68),0)","v":0},{"$f":"IF(Produção!AC21<>0,('Resultados Fin'!AD86/'Resultados Fin'!$AD$68),0)","v":0},{"$f":"IF(Produção!AD21<>0,('Resultados Fin'!AE86/'Resultados Fin'!$AE$68),0)","v":0},{"$f":"IF(Produção!AE21<>0,('Resultados Fin'!AF86/'Resultados Fin'!$AF$68),0)","v":0},{"$f":"IF(Produção!AF21<>0,('Resultados Fin'!AG86/'Resultados Fin'!$AG$68),0)","v":0},{"$f":"IF(Produção!AG21<>0,('Resultados Fin'!AH86/'Resultados Fin'!$AH$68),0)","v":0}]
[{"$f":"IF(LEN('Parâmetros Gerais'!B30)=0,\" \",'Parâmetros Gerais'!B30)","v":"madeira angico roxo"},{"$f":"IF('Parâmetros Gerais'!E30<>\"\",IF('Parâmetros Gerais'!$F$10=1,CONCATENATE('Parâmetros Gerais'!E30,\"/\",'Parâmetros Gerais'!$G$10,),CONCATENATE('Parâmetros Gerais'!E30,\"/\",'Parâmetros Gerais'!$F$10,'Parâmetros Gerais'!$G$10,)),\"\")","v":"m3/0,63ha"},null,{"$f":"IF(Produção!D22<>0,('Resultados Fin'!E87/'Resultados Fin'!$E$68),0)","v":0},{"$f":"IF(Produção!E22<>0,('Resultados Fin'!F87/'Resultados Fin'!$F$68),0)","v":0},{"$f":"IF(Produção!F22<>0,('Resultados Fin'!G87/'Resultados Fin'!$G$68),0)","v":0},{"$f":"IF(Produção!G22<>0,('Resultados Fin'!H87/'Resultados Fin'!$H$68),0)","v":0},{"$f":"IF(Produção!H22<>0,('Resultados Fin'!I87/'Resultados Fin'!$I$68),0)","v":0},{"$f":"IF(Produção!I22<>0,('Resultados Fin'!J87/'Resultados Fin'!$J$68),0)","v":0},{"$f":"IF(Produção!J22<>0,('Resultados Fin'!K87/'Resultados Fin'!$K$68),0)","v":0},{"$f":"IF(Produção!K22<>0,('Resultados Fin'!L87/'Resultados Fin'!$L$68),0)","v":0},{"$f":"IF(Produção!L22<>0,('Resultados Fin'!M87/'Resultados Fin'!$M$68),0)","v":0},{"$f":"IF(Produção!M22<>0,('Resultados Fin'!N87/'Resultados Fin'!$N$68),0)","v":0.24311886776070157},{"$f":"IF(Produção!N22<>0,('Resultados Fin'!O87/'Resultados Fin'!$O$68),0)","v":0},{"$f":"IF(Produção!O22<>0,('Resultados Fin'!P87/'Resultados Fin'!$P$68),0)","v":0},{"$f":"IF(Produção!P22<>0,('Resultados Fin'!Q87/'Resultados Fin'!$Q$68),0)","v":0},{"$f":"IF(Produção!Q22<>0,('Resultados Fin'!R87/'Resultados Fin'!$R$68),0)","v":0},{"$f":"IF(Produção!R22<>0,('Resultados Fin'!S87/'Resultados Fin'!$S$68),0)","v":0},{"$f":"IF(Produção!S22<>0,('Resultados Fin'!T87/'Resultados Fin'!$T$68),0)","v":0},{"$f":"IF(Produção!T22<>0,('Resultados Fin'!U87/'Resultados Fin'!$U$68),0)","v":0},{"$f":"IF(Produção!U22<>0,('Resultados Fin'!V87/'Resultados Fin'!$V$68),0)","v":0},{"$f":"IF(Produção!V22<>0,('Resultados Fin'!W87/'Resultados Fin'!$W$68),0)","v":0},{"$f":"IF(Produção!W22<>0,('Resultados Fin'!X87/'Resultados Fin'!$X$68),0)","v":4.3596866008146384E-2},{"$f":"IF(Produção!X22<>0,('Resultados Fin'!Y87/'Resultados Fin'!$Y$68),0)","v":0},{"$f":"IF(Produção!Y22<>0,('Resultados Fin'!Z87/'Resultados Fin'!$Z$68),0)","v":0},{"$f":"IF(Produção!Z22<>0,('Resultados Fin'!AA87/'Resultados Fin'!$AA$68),0)","v":0},{"$f":"IF(Produção!AA22<>0,('Resultados Fin'!AB87/'Resultados Fin'!$AB$68),0)","v":0},{"$f":"IF(Produção!AB22<>0,('Resultados Fin'!AC87/'Resultados Fin'!$AC$68),0)","v":0},{"$f":"IF(Produção!AC22<>0,('Resultados Fin'!AD87/'Resultados Fin'!$AD$68),0)","v":0},{"$f":"IF(Produção!AD22<>0,('Resultados Fin'!AE87/'Resultados Fin'!$AE$68),0)","v":0},{"$f":"IF(Produção!AE22<>0,('Resultados Fin'!AF87/'Resultados Fin'!$AF$68),0)","v":0},{"$f":"IF(Produção!AF22<>0,('Resultados Fin'!AG87/'Resultados Fin'!$AG$68),0)","v":0},{"$f":"IF(Produção!AG22<>0,('Resultados Fin'!AH87/'Resultados Fin'!$AH$68),0)","v":0}]
[{"$f":"IF(LEN('Parâmetros Gerais'!B31)=0,\" \",'Parâmetros Gerais'!B31)","v":"madeira ipê roxo"},{"$f":"IF('Parâmetros Gerais'!E31<>\"\",IF('Parâmetros Gerais'!$F$10=1,CONCATENATE('Parâmetros Gerais'!E31,\"/\",'Parâmetros Gerais'!$G$10,),CONCATENATE('Parâmetros Gerais'!E31,\"/\",'Parâmetros Gerais'!$F$10,'Parâmetros Gerais'!$G$10,)),\"\")","v":"m3/0,63ha"},null,{"$f":"IF(Produção!D23<>0,('Resultados Fin'!E88/'Resultados Fin'!$E$68),0)","v":0},{"$f":"IF(Produção!E23<>0,('Resultados Fin'!F88/'Resultados Fin'!$F$68),0)","v":0},{"$f":"IF(Produção!F23<>0,('Resultados Fin'!G88/'Resultados Fin'!$G$68),0)","v":0},{"$f":"IF(Produção!G23<>0,('Resultados Fin'!H88/'Resultados Fin'!$H$68),0)","v":0},{"$f":"IF(Produção!H23<>0,('Resultados Fin'!I88/'Resultados Fin'!$I$68),0)","v":0},{"$f":"IF(Produção!I23<>0,('Resultados Fin'!J88/'Resultados Fin'!$J$68),0)","v":0},{"$f":"IF(Produção!J23<>0,('Resultados Fin'!K88/'Resultados Fin'!$K$68),0)","v":0},{"$f":"IF(Produção!K23<>0,('Resultados Fin'!L88/'Resultados Fin'!$L$68),0)","v":0},{"$f":"IF(Produção!L23<>0,('Resultados Fin'!M88/'Resultados Fin'!$M$68),0)","v":0},{"$f":"IF(Produção!M23<>0,('Resultados Fin'!N88/'Resultados Fin'!$N$68),0)","v":0},{"$f":"IF(Produção!N23<>0,('Resultados Fin'!O88/'Resultados Fin'!$O$68),0)","v":0},{"$f":"IF(Produção!O23<>0,('Resultados Fin'!P88/'Resultados Fin'!$P$68),0)","v":0},{"$f":"IF(Produção!P23<>0,('Resultados Fin'!Q88/'Resultados Fin'!$Q$68),0)","v":0},{"$f":"IF(Produção!Q23<>0,('Resultados Fin'!R88/'Resultados Fin'!$R$68),0)","v":0},{"$f":"IF(Produção!R23<>0,('Resultados Fin'!S88/'Resultados Fin'!$S$68),0)","v":0},{"$f":"IF(Produção!S23<>0,('Resultados Fin'!T88/'Resultados Fin'!$T$68),0)","v":0},{"$f":"IF(Produção!T23<>0,('Resultados Fin'!U88/'Resultados Fin'!$U$68),0)","v":0},{"$f":"IF(Produção!U23<>0,('Resultados Fin'!V88/'Resultados Fin'!$V$68),0)","v":0},{"$f":"IF(Produção!V23<>0,('Resultados Fin'!W88/'Resultados Fin'!$W$68),0)","v":0},{"$f":"IF(Produção!W23<>0,('Resultados Fin'!X88/'Resultados Fin'!$X$68),0)","v":0},{"$f":"IF(Produção!X23<>0,('Resultados Fin'!Y88/'Resultados Fin'!$Y$68),0)","v":0},{"$f":"IF(Produção!Y23<>0,('Resultados Fin'!Z88/'Resultados Fin'!$Z$68),0)","v":0},{"$f":"IF(Produção!Z23<>0,('Resultados Fin'!AA88/'Resultados Fin'!$AA$68),0)","v":0},{"$f":"IF(Produção!AA23<>0,('Resultados Fin'!AB88/'Resultados Fin'!$AB$68),0)","v":0},{"$f":"IF(Produção!AB23<>0,('Resultados Fin'!AC88/'Resultados Fin'!$AC$68),0)","v":0},{"$f":"IF(Produção!AC23<>0,('Resultados Fin'!AD88/'Resultados Fin'!$AD$68),0)","v":0},{"$f":"IF(Produção!AD23<>0,('Resultados Fin'!AE88/'Resultados Fin'!$AE$68),0)","v":0},{"$f":"IF(Produção!AE23<>0,('Resultados Fin'!AF88/'Resultados Fin'!$AF$68),0)","v":0},{"$f":"IF(Produção!AF23<>0,('Resultados Fin'!AG88/'Resultados Fin'!$AG$68),0)","v":0},{"$f":"IF(Produção!AG23<>0,('Resultados Fin'!AH88/'Resultados Fin'!$AH$68),0)","v":0}]
[{"$f":"IF(LEN('Parâmetros Gerais'!B32)=0,\" \",'Parâmetros Gerais'!B32)","v":"madeira ipê amarelo"},{"$f":"IF('Parâmetros Gerais'!E32<>\"\",IF('Parâmetros Gerais'!$F$10=1,CONCATENATE('Parâmetros Gerais'!E32,\"/\",'Parâmetros Gerais'!$G$10,),CONCATENATE('Parâmetros Gerais'!E32,\"/\",'Parâmetros Gerais'!$F$10,'Parâmetros Gerais'!$G$10,)),\"\")","v":"m3/0,63ha"},null,{"$f":"IF(Produção!D24<>0,('Resultados Fin'!E89/'Resultados Fin'!$E$68),0)","v":0},{"$f":"IF(Produção!E24<>0,('Resultados Fin'!F89/'Resultados Fin'!$F$68),0)","v":0},{"$f":"IF(Produção!F24<>0,('Resultados Fin'!G89/'Resultados Fin'!$G$68),0)","v":0},{"$f":"IF(Produção!G24<>0,('Resultados Fin'!H89/'Resultados Fin'!$H$68),0)","v":0},{"$f":"IF(Produção!H24<>0,('Resultados Fin'!I89/'Resultados Fin'!$I$68),0)","v":0},{"$f":"IF(Produção!I24<>0,('Resultados Fin'!J89/'Resultados Fin'!$J$68),0)","v":0},{"$f":"IF(Produção!J24<>0,('Resultados Fin'!K89/'Resultados Fin'!$K$68),0)","v":0},{"$f":"IF(Produção!K24<>0,('Resultados Fin'!L89/'Resultados Fin'!$L$68),0)","v":0},{"$f":"IF(Produção!L24<>0,('Resultados Fin'!M89/'Resultados Fin'!$M$68),0)","v":0},{"$f":"IF(Produção!M24<>0,('Resultados Fin'!N89/'Resultados Fin'!$N$68),0)","v":0},{"$f":"IF(Produção!N24<>0,('Resultados Fin'!O89/'Resultados Fin'!$O$68),0)","v":0},{"$f":"IF(Produção!O24<>0,('Resultados Fin'!P89/'Resultados Fin'!$P$68),0)","v":0},{"$f":"IF(Produção!P24<>0,('Resultados Fin'!Q89/'Resultados Fin'!$Q$68),0)","v":0},{"$f":"IF(Produção!Q24<>0,('Resultados Fin'!R89/'Resultados Fin'!$R$68),0)","v":0},{"$f":"IF(Produção!R24<>0,('Resultados Fin'!S89/'Resultados Fin'!$S$68),0)","v":0},{"$f":"IF(Produção!S24<>0,('Resultados Fin'!T89/'Resultados Fin'!$T$68),0)","v":0},{"$f":"IF(Produção!T24<>0,('Resultados Fin'!U89/'Resultados Fin'!$U$68),0)","v":0},{"$f":"IF(Produção!U24<>0,('Resultados Fin'!V89/'Resultados Fin'!$V$68),0)","v":0},{"$f":"IF(Produção!V24<>0,('Resultados Fin'!W89/'Resultados Fin'!$W$68),0)","v":0},{"$f":"IF(Produção!W24<>0,('Resultados Fin'!X89/'Resultados Fin'!$X$68),0)","v":0.31389743525865399},{"$f":"IF(Produção!X24<>0,('Resultados Fin'!Y89/'Resultados Fin'!$Y$68),0)","v":0},{"$f":"IF(Produção!Y24<>0,('Resultados Fin'!Z89/'Resultados Fin'!$Z$68),0)","v":0},{"$f":"IF(Produção!Z24<>0,('Resultados Fin'!AA89/'Resultados Fin'!$AA$68),0)","v":0},{"$f":"IF(Produção!AA24<>0,('Resultados Fin'!AB89/'Resultados Fin'!$AB$68),0)","v":0},{"$f":"IF(Produção!AB24<>0,('Resultados Fin'!AC89/'Resultados Fin'!$AC$68),0)","v":0},{"$f":"IF(Produção!AC24<>0,('Resultados Fin'!AD89/'Resultados Fin'!$AD$68),0)","v":0},{"$f":"IF(Produção!AD24<>0,('Resultados Fin'!AE89/'Resultados Fin'!$AE$68),0)","v":0},{"$f":"IF(Produção!AE24<>0,('Resultados Fin'!AF89/'Resultados Fin'!$AF$68),0)","v":0},{"$f":"IF(Produção!AF24<>0,('Resultados Fin'!AG89/'Resultados Fin'!$AG$68),0)","v":0},{"$f":"IF(Produção!AG24<>0,('Resultados Fin'!AH89/'Resultados Fin'!$AH$68),0)","v":0}]
[{"$f":"IF(LEN('Parâmetros Gerais'!B33)=0,\" \",'Parâmetros Gerais'!B33)","v":"madeira gonçalo alves"},{"$f":"IF('Parâmetros Gerais'!E33<>\"\",IF('Parâmetros Gerais'!$F$10=1,CONCATENATE('Parâmetros Gerais'!E33,\"/\",'Parâmetros Gerais'!$G$10,),CONCATENATE('Parâmetros Gerais'!E33,\"/\",'Parâmetros Gerais'!$F$10,'Parâmetros Gerais'!$G$10,)),\"\")","v":"m3/0,63ha"},null,{"$f":"IF(Produção!D25<>0,('Resultados Fin'!E90/'Resultados Fin'!$E$68),0)","v":0},{"$f":"IF(Produção!E25<>0,('Resultados Fin'!F90/'Resultados Fin'!$F$68),0)","v":0},{"$f":"IF(Produção!F25<>0,('Resultados Fin'!G90/'Resultados Fin'!$G$68),0)","v":0},{"$f":"IF(Produção!G25<>0,('Resultados Fin'!H90/'Resultados Fin'!$H$68),0)","v":0},{"$f":"IF(Produção!H25<>0,('Resultados Fin'!I90/'Resultados Fin'!$I$68),0)","v":0},{"$f":"IF(Produção!I25<>0,('Resultados Fin'!J90/'Resultados Fin'!$J$68),0)","v":0},{"$f":"IF(Produção!J25<>0,('Resultados Fin'!K90/'Resultados Fin'!$K$68),0)","v":0},{"$f":"IF(Produção!K25<>0,('Resultados Fin'!L90/'Resultados Fin'!$L$68),0)","v":0},{"$f":"IF(Produção!L25<>0,('Resultados Fin'!M90/'Resultados Fin'!$M$68),0)","v":0},{"$f":"IF(Produção!M25<>0,('Resultados Fin'!N90/'Resultados Fin'!$N$68),0)","v":0},{"$f":"IF(Produção!N25<>0,('Resultados Fin'!O90/'Resultados Fin'!$O$68),0)","v":0},{"$f":"IF(Produção!O25<>0,('Resultados Fin'!P90/'Resultados Fin'!$P$68),0)","v":0},{"$f":"IF(Produção!P25<>0,('Resultados Fin'!Q90/'Resultados Fin'!$Q$68),0)","v":0},{"$f":"IF(Produção!Q25<>0,('Resultados Fin'!R90/'Resultados Fin'!$R$68),0)","v":0},{"$f":"IF(Produção!R25<>0,('Resultados Fin'!S90/'Resultados Fin'!$S$68),0)","v":0},{"$f":"IF(Produção!S25<>0,('Resultados Fin'!T90/'Resultados Fin'!$T$68),0)","v":0},{"$f":"IF(Produção!T25<>0,('Resultados Fin'!U90/'Resultados Fin'!$U$68),0)","v":0},{"$f":"IF(Produção!U25<>0,('Resultados Fin'!V90/'Resultados Fin'!$V$68),0)","v":0},{"$f":"IF(Produção!V25<>0,('Resultados Fin'!W90/'Resultados Fin'!$W$68),0)","v":0},{"$f":"IF(Produção!W25<>0,('Resultados Fin'!X90/'Resultados Fin'!$X$68),0)","v":0},{"$f":"IF(Produção!X25<>0,('Resultados Fin'!Y90/'Resultados Fin'!$Y$68),0)","v":0},{"$f":"IF(Produção!Y25<>0,('Resultados Fin'!Z90/'Resultados Fin'!$Z$68),0)","v":0},{"$f":"IF(Produção!Z25<>0,('Resultados Fin'!AA90/'Resultados Fin'!$AA$68),0)","v":0},{"$f":"IF(Produção!AA25<>0,('Resultados Fin'!AB90/'Resultados Fin'!$AB$68),0)","v":0},{"$f":"IF(Produção!AB25<>0,('Resultados Fin'!AC90/'Resultados Fin'!$AC$68),0)","v":0},{"$f":"IF(Produção!AC25<>0,('Resultados Fin'!AD90/'Resultados Fin'!$AD$68),0)","v":0},{"$f":"IF(Produção!AD25<>0,('Resultados Fin'!AE90/'Resultados Fin'!$AE$68),0)","v":0},{"$f":"IF(Produção!AE25<>0,('Resultados Fin'!AF90/'Resultados Fin'!$AF$68),0)","v":0},{"$f":"IF(Produção!AF25<>0,('Resultados Fin'!AG90/'Resultados Fin'!$AG$68),0)","v":0},{"$f":"IF(Produção!AG25<>0,('Resultados Fin'!AH90/'Resultados Fin'!$AH$68),0)","v":0}]
[{"$f":"IF(LEN('Parâmetros Gerais'!B34)=0,\" \",'Parâmetros Gerais'!B34)","v":"madeira vinhatico"},{"$f":"IF('Parâmetros Gerais'!E34<>\"\",IF('Parâmetros Gerais'!$F$10=1,CONCATENATE('Parâmetros Gerais'!E34,\"/\",'Parâmetros Gerais'!$G$10,),CONCATENATE('Parâmetros Gerais'!E34,\"/\",'Parâmetros Gerais'!$F$10,'Parâmetros Gerais'!$G$10,)),\"\")","v":"m3/0,63ha"},null,{"$f":"IF(Produção!D26<>0,('Resultados Fin'!E91/'Resultados Fin'!$E$68),0)","v":0},{"$f":"IF(Produção!E26<>0,('Resultados Fin'!F91/'Resultados Fin'!$F$68),0)","v":0},{"$f":"IF(Produção!F26<>0,('Resultados Fin'!G91/'Resultados Fin'!$G$68),0)","v":0},{"$f":"IF(Produção!G26<>0,('Resultados Fin'!H91/'Resultados Fin'!$H$68),0)","v":0},{"$f":"IF(Produção!H26<>0,('Resultados Fin'!I91/'Resultados Fin'!$I$68),0)","v":0},{"$f":"IF(Produção!I26<>0,('Resultados Fin'!J91/'Resultados Fin'!$J$68),0)","v":0},{"$f":"IF(Produção!J26<>0,('Resultados Fin'!K91/'Resultados Fin'!$K$68),0)","v":0},{"$f":"IF(Produção!K26<>0,('Resultados Fin'!L91/'Resultados Fin'!$L$68),0)","v":0},{"$f":"IF(Produção!L26<>0,('Resultados Fin'!M91/'Resultados Fin'!$M$68),0)","v":0},{"$f":"IF(Produção!M26<>0,('Resultados Fin'!N91/'Resultados Fin'!$N$68),0)","v":0},{"$f":"IF(Produção!N26<>0,('Resultados Fin'!O91/'Resultados Fin'!$O$68),0)","v":0},{"$f":"IF(Produção!O26<>0,('Resultados Fin'!P91/'Resultados Fin'!$P$68),0)","v":0},{"$f":"IF(Produção!P26<>0,('Resultados Fin'!Q91/'Resultados Fin'!$Q$68),0)","v":0},{"$f":"IF(Produção!Q26<>0,('Resultados Fin'!R91/'Resultados Fin'!$R$68),0)","v":0},{"$f":"IF(Produção!R26<>0,('Resultados Fin'!S91/'Resultados Fin'!$S$68),0)","v":0},{"$f":"IF(Produção!S26<>0,('Resultados Fin'!T91/'Resultados Fin'!$T$68),0)","v":0},{"$f":"IF(Produção!T26<>0,('Resultados Fin'!U91/'Resultados Fin'!$U$68),0)","v":0},{"$f":"IF(Produção!U26<>0,('Resultados Fin'!V91/'Resultados Fin'!$V$68),0)","v":0},{"$f":"IF(Produção!V26<>0,('Resultados Fin'!W91/'Resultados Fin'!$W$68),0)","v":0},{"$f":"IF(Produção!W26<>0,('Resultados Fin'!X91/'Resultados Fin'!$X$68),0)","v":8.7193732016292769E-2},{"$f":"IF(Produção!X26<>0,('Resultados Fin'!Y91/'Resultados Fin'!$Y$68),0)","v":0},{"$f":"IF(Produção!Y26<>0,('Resultados Fin'!Z91/'Resultados Fin'!$Z$68),0)","v":0},{"$f":"IF(Produção!Z26<>0,('Resultados Fin'!AA91/'Resultados Fin'!$AA$68),0)","v":0},{"$f":"IF(Produção!AA26<>0,('Resultados Fin'!AB91/'Resultados Fin'!$AB$68),0)","v":0},{"$f":"IF(Produção!AB26<>0,('Resultados Fin'!AC91/'Resultados Fin'!$AC$68),0)","v":0},{"$f":"IF(Produção!AC26<>0,('Resultados Fin'!AD91/'Resultados Fin'!$AD$68),0)","v":0},{"$f":"IF(Produção!AD26<>0,('Resultados Fin'!AE91/'Resultados Fin'!$AE$68),0)","v":0},{"$f":"IF(Produção!AE26<>0,('Resultados Fin'!AF91/'Resultados Fin'!$AF$68),0)","v":0},{"$f":"IF(Produção!AF26<>0,('Resultados Fin'!AG91/'Resultados Fin'!$AG$68),0)","v":0},{"$f":"IF(Produção!AG26<>0,('Resultados Fin'!AH91/'Resultados Fin'!$AH$68),0)","v":0}]
[{"$f":"IF(LEN('Parâmetros Gerais'!B35)=0,\" \",'Parâmetros Gerais'!B35)","v":"madeira jequitiba"},{"$f":"IF('Parâmetros Gerais'!E35<>\"\",IF('Parâmetros Gerais'!$F$10=1,CONCATENATE('Parâmetros Gerais'!E35,\"/\",'Parâmetros Gerais'!$G$10,),CONCATENATE('Parâmetros Gerais'!E35,\"/\",'Parâmetros Gerais'!$F$10,'Parâmetros Gerais'!$G$10,)),\"\")","v":"m3/0,63ha"},null,{"$f":"IF(Produção!D27<>0,('Resultados Fin'!E92/'Resultados Fin'!$E$68),0)","v":0},{"$f":"IF(Produção!E27<>0,('Resultados Fin'!F92/'Resultados Fin'!$F$68),0)","v":0},{"$f":"IF(Produção!F27<>0,('Resultados Fin'!G92/'Resultados Fin'!$G$68),0)","v":0},{"$f":"IF(Produção!G27<>0,('Resultados Fin'!H92/'Resultados Fin'!$H$68),0)","v":0},{"$f":"IF(Produção!H27<>0,('Resultados Fin'!I92/'Resultados Fin'!$I$68),0)","v":0},{"$f":"IF(Produção!I27<>0,('Resultados Fin'!J92/'Resultados Fin'!$J$68),0)","v":0},{"$f":"IF(Produção!J27<>0,('Resultados Fin'!K92/'Resultados Fin'!$K$68),0)","v":0},{"$f":"IF(Produção!K27<>0,('Resultados Fin'!L92/'Resultados Fin'!$L$68),0)","v":0},{"$f":"IF(Produção!L27<>0,('Resultados Fin'!M92/'Resultados Fin'!$M$68),0)","v":0},{"$f":"IF(Produção!M27<>0,('Resultados Fin'!N92/'Resultados Fin'!$N$68),0)","v":0},{"$f":"IF(Produção!N27<>0,('Resultados Fin'!O92/'Resultados Fin'!$O$68),0)","v":0},{"$f":"IF(Produção!O27<>0,('Resultados Fin'!P92/'Resultados Fin'!$P$68),0)","v":0},{"$f":"IF(Produção!P27<>0,('Resultados Fin'!Q92/'Resultados Fin'!$Q$68),0)","v":0},{"$f":"IF(Produção!Q27<>0,('Resultados Fin'!R92/'Resultados Fin'!$R$68),0)","v":0},{"$f":"IF(Produção!R27<>0,('Resultados Fin'!S92/'Resultados Fin'!$S$68),0)","v":0},{"$f":"IF(Produção!S27<>0,('Resultados Fin'!T92/'Resultados Fin'!$T$68),0)","v":0},{"$f":"IF(Produção!T27<>0,('Resultados Fin'!U92/'Resultados Fin'!$U$68),0)","v":0},{"$f":"IF(Produção!U27<>0,('Resultados Fin'!V92/'Resultados Fin'!$V$68),0)","v":0},{"$f":"IF(Produção!V27<>0,('Resultados Fin'!W92/'Resultados Fin'!$W$68),0)","v":0},{"$f":"IF(Produção!W27<>0,('Resultados Fin'!X92/'Resultados Fin'!$X$68),0)","v":3.4877492806517106E-2},{"$f":"IF(Produção!X27<>0,('Resultados Fin'!Y92/'Resultados Fin'!$Y$68),0)","v":0},{"$f":"IF(Produção!Y27<>0,('Resultados Fin'!Z92/'Resultados Fin'!$Z$68),0)","v":0},{"$f":"IF(Produção!Z27<>0,('Resultados Fin'!AA92/'Resultados Fin'!$AA$68),0)","v":0},{"$f":"IF(Produção!AA27<>0,('Resultados Fin'!AB92/'Resultados Fin'!$AB$68),0)","v":0},{"$f":"IF(Produção!AB27<>0,('Resultados Fin'!AC92/'Resultados Fin'!$AC$68),0)","v":0},{"$f":"IF(Produção!AC27<>0,('Resultados Fin'!AD92/'Resultados Fin'!$AD$68),0)","v":0},{"$f":"IF(Produção!AD27<>0,('Resultados Fin'!AE92/'Resultados Fin'!$AE$68),0)","v":0},{"$f":"IF(Produção!AE27<>0,('Resultados Fin'!AF92/'Resultados Fin'!$AF$68),0)","v":0},{"$f":"IF(Produção!AF27<>0,('Resultados Fin'!AG92/'Resultados Fin'!$AG$68),0)","v":0},{"$f":"IF(Produção!AG27<>0,('Resultados Fin'!AH92/'Resultados Fin'!$AH$68),0)","v":0}]
[{"$f":"IF(LEN('Parâmetros Gerais'!B36)=0,\" \",'Parâmetros Gerais'!B36)","v":"biomassa"},{"$f":"IF('Parâmetros Gerais'!E36<>\"\",IF('Parâmetros Gerais'!$F$10=1,CONCATENATE('Parâmetros Gerais'!E36,\"/\",'Parâmetros Gerais'!$G$10,),CONCATENATE('Parâmetros Gerais'!E36,\"/\",'Parâmetros Gerais'!$F$10,'Parâmetros Gerais'!$G$10,)),\"\")","v":"t/0,63ha"},null,{"$f":"IF(Produção!D28<>0,('Resultados Fin'!E93/'Resultados Fin'!$E$68),0)","v":0},{"$f":"IF(Produção!E28<>0,('Resultados Fin'!F93/'Resultados Fin'!$F$68),0)","v":0},{"$f":"IF(Produção!F28<>0,('Resultados Fin'!G93/'Resultados Fin'!$G$68),0)","v":0},{"$f":"IF(Produção!G28<>0,('Resultados Fin'!H93/'Resultados Fin'!$H$68),0)","v":0},{"$f":"IF(Produção!H28<>0,('Resultados Fin'!I93/'Resultados Fin'!$I$68),0)","v":0},{"$f":"IF(Produção!I28<>0,('Resultados Fin'!J93/'Resultados Fin'!$J$68),0)","v":0},{"$f":"IF(Produção!J28<>0,('Resultados Fin'!K93/'Resultados Fin'!$K$68),0)","v":0},{"$f":"IF(Produção!K28<>0,('Resultados Fin'!L93/'Resultados Fin'!$L$68),0)","v":0},{"$f":"IF(Produção!L28<>0,('Resultados Fin'!M93/'Resultados Fin'!$M$68),0)","v":0},{"$f":"IF(Produção!M28<>0,('Resultados Fin'!N93/'Resultados Fin'!$N$68),0)","v":0},{"$f":"IF(Produção!N28<>0,('Resultados Fin'!O93/'Resultados Fin'!$O$68),0)","v":0},{"$f":"IF(Produção!O28<>0,('Resultados Fin'!P93/'Resultados Fin'!$P$68),0)","v":0},{"$f":"IF(Produção!P28<>0,('Resultados Fin'!Q93/'Resultados Fin'!$Q$68),0)","v":0},{"$f":"IF(Produção!Q28<>0,('Resultados Fin'!R93/'Resultados Fin'!$R$68),0)","v":0},{"$f":"IF(Produção!R28<>0,('Resultados Fin'!S93/'Resultados Fin'!$S$68),0)","v":0},{"$f":"IF(Produção!S28<>0,('Resultados Fin'!T93/'Resultados Fin'!$T$68),0)","v":0},{"$f":"IF(Produção!T28<>0,('Resultados Fin'!U93/'Resultados Fin'!$U$68),0)","v":0},{"$f":"IF(Produção!U28<>0,('Resultados Fin'!V93/'Resultados Fin'!$V$68),0)","v":0},{"$f":"IF(Produção!V28<>0,('Resultados Fin'!W93/'Resultados Fin'!$W$68),0)","v":0},{"$f":"IF(Produção!W28<>0,('Resultados Fin'!X93/'Resultados Fin'!$X$68),0)","v":0},{"$f":"IF(Produção!X28<>0,('Resultados Fin'!Y93/'Resultados Fin'!$Y$68),0)","v":0},{"$f":"IF(Produção!Y28<>0,('Resultados Fin'!Z93/'Resultados Fin'!$Z$68),0)","v":0},{"$f":"IF(Produção!Z28<>0,('Resultados Fin'!AA93/'Resultados Fin'!$AA$68),0)","v":0},{"$f":"IF(Produção!AA28<>0,('Resultados Fin'!AB93/'Resultados Fin'!$AB$68),0)","v":0},{"$f":"IF(Produção!AB28<>0,('Resultados Fin'!AC93/'Resultados Fin'!$AC$68),0)","v":0},{"$f":"IF(Produção!AC28<>0,('Resultados Fin'!AD93/'Resultados Fin'!$AD$68),0)","v":0},{"$f":"IF(Produção!AD28<>0,('Resultados Fin'!AE93/'Resultados Fin'!$AE$68),0)","v":0},{"$f":"IF(Produção!AE28<>0,('Resultados Fin'!AF93/'Resultados Fin'!$AF$68),0)","v":0},{"$f":"IF(Produção!AF28<>0,('Resultados Fin'!AG93/'Resultados Fin'!$AG$68),0)","v":0},{"$f":"IF(Produção!AG28<>0,('Resultados Fin'!AH93/'Resultados Fin'!$AH$68),0)","v":0}]
[{"$f":"IF(LEN('Parâmetros Gerais'!B37)=0,\" \",'Parâmetros Gerais'!B37)","v":"grão caupi"},{"$f":"IF('Parâmetros Gerais'!E37<>\"\",IF('Parâmetros Gerais'!$F$10=1,CONCATENATE('Parâmetros Gerais'!E37,\"/\",'Parâmetros Gerais'!$G$10,),CONCATENATE('Parâmetros Gerais'!E37,\"/\",'Parâmetros Gerais'!$F$10,'Parâmetros Gerais'!$G$10,)),\"\")","v":"kg/0,63ha"},null,{"$f":"IF(Produção!D29<>0,('Resultados Fin'!E94/'Resultados Fin'!$E$68),0)","v":0},{"$f":"IF(Produção!E29<>0,('Resultados Fin'!F94/'Resultados Fin'!$F$68),0)","v":0},{"$f":"IF(Produção!F29<>0,('Resultados Fin'!G94/'Resultados Fin'!$G$68),0)","v":0},{"$f":"IF(Produção!G29<>0,('Resultados Fin'!H94/'Resultados Fin'!$H$68),0)","v":0},{"$f":"IF(Produção!H29<>0,('Resultados Fin'!I94/'Resultados Fin'!$I$68),0)","v":0},{"$f":"IF(Produção!I29<>0,('Resultados Fin'!J94/'Resultados Fin'!$J$68),0)","v":0},{"$f":"IF(Produção!J29<>0,('Resultados Fin'!K94/'Resultados Fin'!$K$68),0)","v":0},{"$f":"IF(Produção!K29<>0,('Resultados Fin'!L94/'Resultados Fin'!$L$68),0)","v":0},{"$f":"IF(Produção!L29<>0,('Resultados Fin'!M94/'Resultados Fin'!$M$68),0)","v":0},{"$f":"IF(Produção!M29<>0,('Resultados Fin'!N94/'Resultados Fin'!$N$68),0)","v":0},{"$f":"IF(Produção!N29<>0,('Resultados Fin'!O94/'Resultados Fin'!$O$68),0)","v":0},{"$f":"IF(Produção!O29<>0,('Resultados Fin'!P94/'Resultados Fin'!$P$68),0)","v":0},{"$f":"IF(Produção!P29<>0,('Resultados Fin'!Q94/'Resultados Fin'!$Q$68),0)","v":0},{"$f":"IF(Produção!Q29<>0,('Resultados Fin'!R94/'Resultados Fin'!$R$68),0)","v":0},{"$f":"IF(Produção!R29<>0,('Resultados Fin'!S94/'Resultados Fin'!$S$68),0)","v":0},{"$f":"IF(Produção!S29<>0,('Resultados Fin'!T94/'Resultados Fin'!$T$68),0)","v":0},{"$f":"IF(Produção!T29<>0,('Resultados Fin'!U94/'Resultados Fin'!$U$68),0)","v":0},{"$f":"IF(Produção!U29<>0,('Resultados Fin'!V94/'Resultados Fin'!$V$68),0)","v":0},{"$f":"IF(Produção!V29<>0,('Resultados Fin'!W94/'Resultados Fin'!$W$68),0)","v":0},{"$f":"IF(Produção!W29<>0,('Resultados Fin'!X94/'Resultados Fin'!$X$68),0)","v":0},{"$f":"IF(Produção!X29<>0,('Resultados Fin'!Y94/'Resultados Fin'!$Y$68),0)","v":0},{"$f":"IF(Produção!Y29<>0,('Resultados Fin'!Z94/'Resultados Fin'!$Z$68),0)","v":0},{"$f":"IF(Produção!Z29<>0,('Resultados Fin'!AA94/'Resultados Fin'!$AA$68),0)","v":0},{"$f":"IF(Produção!AA29<>0,('Resultados Fin'!AB94/'Resultados Fin'!$AB$68),0)","v":0},{"$f":"IF(Produção!AB29<>0,('Resultados Fin'!AC94/'Resultados Fin'!$AC$68),0)","v":0},{"$f":"IF(Produção!AC29<>0,('Resultados Fin'!AD94/'Resultados Fin'!$AD$68),0)","v":0},{"$f":"IF(Produção!AD29<>0,('Resultados Fin'!AE94/'Resultados Fin'!$AE$68),0)","v":0},{"$f":"IF(Produção!AE29<>0,('Resultados Fin'!AF94/'Resultados Fin'!$AF$68),0)","v":0},{"$f":"IF(Produção!AF29<>0,('Resultados Fin'!AG94/'Resultados Fin'!$AG$68),0)","v":0},{"$f":"IF(Produção!AG29<>0,('Resultados Fin'!AH94/'Resultados Fin'!$AH$68),0)","v":0}]

{"sheet":"Preparo e Gerais","index":5,"n_rows":20,"n_cols":34,"rows_kept":20,"cut":false,"hidden":false,"merged":[[1,0,1,1]]}
[{"$f":"'Parâmetros Gerais'!A1","v":"Análise Financeira de Sistemas Produtivos Integrados (V. 4.16 11/2016)"}]
["Preparo da Área e Atividades Gerais"]
[null,null,null,null,{"$f":"Produção!D3","v":"Período"}]
["Descrição","Unidade","Preço","Preparo",1,2,3,4,5,6,7,8,9,10,11,12,13,14,15,16,17,18,19,20,21,22,23,24,25,26,27,28,29,30]
[]
["Atividades",null,null,{"$f":"$C$7*D7+$C$8*D8+$C$9*D9+$C$10*D10+$C$11*D11+$C$12*D12+$C$13*D13+$C$14*D14+$C$15*D15+$C$16*D16+$C$17*D17+$C$18*D18","v":0},0,0,0,0,0,0,0,0,0,0,0,0,0,0,0,0,0,0,0,0,0,0,0,0,0,0,0,0,0,0]
[null,null,{"$f":"IF(B7='Parâmetros Gerais'!$I$4,'Parâmetros Gerais'!$F$4,IF(B7='Parâmetros Gerais'!$I$5,'Parâmetros Gerais'!$F$5,IF(B7='Parâmetros Gerais'!$I$6,'Parâmetros Gerais'!$F$6,0)))","v":0}]
[null,null,{"$f":"IF(B8='Parâmetros Gerais'!$I$4,'Parâmetros Gerais'!$F$4,IF(B8='Parâmetros Gerais'!$I$5,'Parâmetros Gerais'!$F$5,IF(B8='Parâmetros Gerais'!$I$6,'Parâmetros Gerais'!$F$6,0)))","v":0}]
[null,null,{"$f":"IF(B9='Parâmetros Gerais'!$I$4,'Parâmetros Gerais'!$F$4,IF(B9='Parâmetros Gerais'!$I$5,'Parâmetros Gerais'!$F$5,IF(B9='Parâmetros Gerais'!$I$6,'Parâmetros Gerais'!$F$6,0)))","v":0}]
[null,null,{"$f":"IF(B10='Parâmetros Gerais'!$I$4,'Parâmetros Gerais'!$F$4,IF(B10='Parâmetros Gerais'!$I$5,'Parâmetros Gerais'!$F$5,IF(B10='Parâmetros Gerais'!$I$6,'Parâmetros Gerais'!$F$6,0)))","v":0}]
[null,null,{"$f":"IF(B11='Parâmetros Gerais'!$I$4,'Parâmetros Gerais'!$F$4,IF(B11='Parâmetros Gerais'!$I$5,'Parâmetros Gerais'!$F$5,IF(B11='Parâmetros Gerais'!$I$6,'Parâmetros Gerais'!$F$6,0)))","v":0}]
[null,null,{"$f":"IF(B12='Parâmetros Gerais'!$I$4,'Parâmetros Gerais'!$F$4,IF(B12='Parâmetros Gerais'!$I$5,'Parâmetros Gerais'!$F$5,IF(B12='Parâmetros Gerais'!$I$6,'Parâmetros Gerais'!$F$6,0)))","v":0}]
[null,null,{"$f":"IF(B13='Parâmetros Gerais'!$I$4,'Parâmetros Gerais'!$F$4,IF(B13='Parâmetros Gerais'!$I$5,'Parâmetros Gerais'!$F$5,IF(B13='Parâmetros Gerais'!$I$6,'Parâmetros Gerais'!$F$6,0)))","v":0}]
[null,null,{"$f":"IF(B14='Parâmetros Gerais'!$I$4,'Parâmetros Gerais'!$F$4,IF(B14='Parâmetros Gerais'!$I$5,'Parâmetros Gerais'!$F$5,IF(B14='Parâmetros Gerais'!$I$6,'Parâmetros Gerais'!$F$6,0)))","v":0}]
[null,null,{"$f":"IF(B15='Parâmetros Gerais'!$I$4,'Parâmetros Gerais'!$F$4,IF(B15='Parâmetros Gerais'!$I$5,'Parâmetros Gerais'!$F$5,IF(B15='Parâmetros Gerais'!$I$6,'Parâmetros Gerais'!$F$6,0)))","v":0}]
[null,null,{"$f":"IF(B16='Parâmetros Gerais'!$I$4,'Parâmetros Gerais'!$F$4,IF(B16='Parâmetros Gerais'!$I$5,'Parâmetros Gerais'!$F$5,IF(B16='Parâmetros Gerais'!$I$6,'Parâmetros Gerais'!$F$6,0)))","v":0}]
[null,null,{"$f":"IF(B17='Parâmetros Gerais'!$I$4,'Parâmetros Gerais'!$F$4,IF(B17='Parâmetros Gerais'!$I$5,'Parâmetros Gerais'!$F$5,IF(B17='Parâmetros Gerais'!$I$6,'Parâmetros Gerais'!$F$6,0)))","v":0}]
[null,null,{"$f":"IF(B18='Parâmetros Gerais'!$I$4,'Parâmetros Gerais'!$F$4,IF(B18='Parâmetros Gerais'!$I$5,'Parâmetros Gerais'!$F$5,IF(B18='Parâmetros Gerais'!$I$6,'Parâmetros Gerais'!$F$6,0)))","v":0}]
[null,null,null,{"$f":"SUM(D7:D18)","v":0}]
["Insumos",null,null,{"$f":"$C$21*D21+$C$22*D22+$C$23*D23+$C$24*D24+$C$25*D25+$C$26*D26+$C$27*D27+$C$28*D28+$C$29*D29+$C$30*D30+$C$31*D31+$C$32*D32+$C$33*D33+$C$34*D34+$C$35*D35","v":0},{"$f":"$C$21*E21+$C$22*E22+$C$23*E23+$C$24*E24+$C$25*E25+$C$26*E26+$C$27*E27+$C$28*E28+$C$29*E29+$C$30*E30+$C$31*E31+$C$32*E32+$C$33*E33+$C$34*E34+$C$35*E35","v":0},0,0,0,0,0,0,0,0,0,0,0,0,0,0,0,0,0,0,0,0,0,0,0,0,0,0,0,0,0]

{"sheet":"Plan1","index":6,"n_rows":0,"n_cols":0,"rows_kept":0,"cut":false,"hidden":false,"merged":[]}

{"sheet":"latex","index":7,"n_rows":24,"n_cols":33,"rows_kept":24,"cut":false,"hidden":false,"merged":[]}
[{"$f":"'Parâmetros Gerais'!A1","v":"Análise Financeira de Sistemas Produtivos Integrados (V. 4.16 11/2016)"}]
[{"$f":"IF('Parâmetros Gerais'!B14<>\"\",'Parâmetros Gerais'!B14,\"\")","v":"latex"}]
[null,null,null,{"$f":"Produção!D3","v":"Período"}]
["Descrição","Unidade","Preço",1,2,3,4,5,6,7,8,9,10,11,12,13,14,15,16,17,18,19,20,21,22,23,24,25,26,27,28,29,30]
[]
[]
["Atividades",null,null,{"$f":"$C$8*D8+$C$9*D9+$C$10*D10+$C$11*D11+$C$12*D12+$C$13*D13+$C$14*D14+$C$15*D15+$C$16*D16+$C$17*D17+$C$18*D18+$C$19*D19+$C$20*D20+$C$21*D21+$C$22*D22","v":0},0,0,0,0,0,0,0,0,0,0,{"$f":"$C$8*O8+$C$9*O9+$C$10*O10+$C$11*O11+$C$12*O12+$C$13*O13+$C$14*O14+$C$15*O15+$C$16*O16+$C$17*O17+$C$18*O18+$C$19*O19+$C$20*O20+$C$21*O21+$C$22*O22","v":0},0,0,0,0,0,0,0,0,0,0,0,0,0,0,0,0,0,0]
[null,null,{"$f":"IF(B8='Parâmetros Gerais'!$I$4,'Parâmetros Gerais'!$F$4,IF(B8='Parâmetros Gerais'!$I$5,'Parâmetros Gerais'!$F$5,IF(B8='Parâmetros Gerais'!$I$6,'Parâmetros Gerais'!$F$6,0)))","v":0}]
[null,null,{"$f":"IF(B9='Parâmetros Gerais'!$I$4,'Parâmetros Gerais'!$F$4,IF(B9='Parâmetros Gerais'!$I$5,'Parâmetros Gerais'!$F$5,IF(B9='Parâmetros Gerais'!$I$6,'Parâmetros Gerais'!$F$6,0)))","v":0}]
[null,null,{"$f":"IF(B10='Parâmetros Gerais'!$I$4,'Parâmetros Gerais'!$F$4,IF(B10='Parâmetros Gerais'!$I$5,'Parâmetros Gerais'!$F$5,IF(B10='Parâmetros Gerais'!$I$6,'Parâmetros Gerais'!$F$6,0)))","v":0}]
[null,null,{"$f":"IF(B11='Parâmetros Gerais'!$I$4,'Parâmetros Gerais'!$F$4,IF(B11='Parâmetros Gerais'!$I$5,'Parâmetros Gerais'!$F$5,IF(B11='Parâmetros Gerais'!$I$6,'Parâmetros Gerais'!$F$6,0)))","v":0}]
[null,null,{"$f":"IF(B12='Parâmetros Gerais'!$I$4,'Parâmetros Gerais'!$F$4,IF(B12='Parâmetros Gerais'!$I$5,'Parâmetros Gerais'!$F$5,IF(B12='Parâmetros Gerais'!$I$6,'Parâmetros Gerais'!$F$6,0)))","v":0}]
[null,null,{"$f":"IF(B13='Parâmetros Gerais'!$I$4,'Parâmetros Gerais'!$F$4,IF(B13='Parâmetros Gerais'!$I$5,'Parâmetros Gerais'!$F$5,IF(B13='Parâmetros Gerais'!$I$6,'Parâmetros Gerais'!$F$6,0)))","v":0}]
[null,null,{"$f":"IF(B14='Parâmetros Gerais'!$I$4,'Parâmetros Gerais'!$F$4,IF(B14='Parâmetros Gerais'!$I$5,'Parâmetros Gerais'!$F$5,IF(B14='Parâmetros Gerais'!$I$6,'Parâmetros Gerais'!$F$6,0)))","v":0}]
[null,null,{"$f":"IF(B15='Parâmetros Gerais'!$I$4,'Parâmetros Gerais'!$F$4,IF(B15='Parâmetros Gerais'!$I$5,'Parâmetros Gerais'!$F$5,IF(B15='Parâmetros Gerais'!$I$6,'Parâmetros Gerais'!$F$6,0)))","v":0}]
[null,null,{"$f":"IF(B16='Parâmetros Gerais'!$I$4,'Parâmetros Gerais'!$F$4,IF(B16='Parâmetros Gerais'!$I$5,'Parâmetros Gerais'!$F$5,IF(B16='Parâmetros Gerais'!$I$6,'Parâmetros Gerais'!$F$6,0)))","v":0}]
[null,null,{"$f":"IF(B17='Parâmetros Gerais'!$I$4,'Parâmetros Gerais'!$F$4,IF(B17='Parâmetros Gerais'!$I$5,'Parâmetros Gerais'!$F$5,IF(B17='Parâmetros Gerais'!$I$6,'Parâmetros Gerais'!$F$6,0)))","v":0}]
[null,null,{"$f":"IF(B18='Parâmetros Gerais'!$I$4,'Parâmetros Gerais'!$F$4,IF(B18='Parâmetros Gerais'!$I$5,'Parâmetros Gerais'!$F$5,IF(B18='Parâmetros Gerais'!$I$6,'Parâmetros Gerais'!$F$6,0)))","v":0}]
[null,null,{"$f":"IF(B19='Parâmetros Gerais'!$I$4,'Parâmetros Gerais'!$F$4,IF(B19='Parâmetros Gerais'!$I$5,'Parâmetros Gerais'!$F$5,IF(B19='Parâmetros Gerais'!$I$6,'Parâmetros Gerais'!$F$6,0)))","v":0}]
[null,null,{"$f":"IF(B20='Parâmetros Gerais'!$I$4,'Parâmetros Gerais'!$F$4,IF(B20='Parâmetros Gerais'!$I$5,'Parâmetros Gerais'!$F$5,IF(B20='Parâmetros Gerais'!$I$6,'Parâmetros Gerais'!$F$6,0)))","v":0}]
[null,null,{"$f":"IF(B21='Parâmetros Gerais'!$I$4,'Parâmetros Gerais'!$F$4,IF(B21='Parâmetros Gerais'!$I$5,'Parâmetros Gerais'!$F$5,IF(B21='Parâmetros Gerais'!$I$6,'Parâmetros Gerais'!$F$6,0)))","v":0}]
[null,null,{"$f":"IF(B22='Parâmetros Gerais'!$I$4,'Parâmetros Gerais'!$F$4,IF(B22='Parâmetros Gerais'!$I$5,'Parâmetros Gerais'!$F$5,IF(B22='Parâmetros Gerais'!$I$6,'Parâmetros Gerais'!$F$6,0)))","v":0}]
[null,null,null,{"$f":"SUM(D8:D22)","v":0},{"$f":"SUM(E8:E22)","v":0},0,0,0,0,0,0,0,0,0,0,0,0,0,0,0,0,0,0,0,0,0,0,0,0,0,0,0,0]
["Insumos",null,null,{"$f":"$C$25*D25+$C$26*D26+$C$27*D27+$C$28*D28+$C$29*D29+$C$30*D30+$C$31*D31+$C$32*D32+$C$33*D33+$C$34*D34+$C$35*D35+$C$36*D36+$C$37*D37+$C$38*D38+$C$39*D39+$C$40*D40+$C$41*D41+$C$42*D42+$C$43*D43+$C$44*D44","v":0},{"$f":"$C$25*E25+$C$26*E26+$C$27*E27+$C$28*E28+$C$29*E29+$C$30*E30+$C$31*E31+$C$32*E32+$C$33*E33+$C$34*E34+$C$35*E35+$C$36*E36+$C$37*E37+$C$38*E38+$C$39*E39+$C$40*E40+$C$41*E41+$C$42*E42+$C$43*E43+$C$44*E44","v":0},0,0,0,0,0,0,0,0,0,0,0,0,0,0,0,0,0,0,0,0,0,0,0,0,0,0,0,0]

{"sheet":"fruto genipapo","index":8,"n_rows":24,"n_cols":33,"rows_kept":24,"cut":false,"hidden":false,"merged":[]}
[{"$f":"'Parâmetros Gerais'!A1","v":"Análise Financeira de Sistemas Produtivos Integrados (V. 4.16 11/2016)"}]
[{"$f":"IF('Parâmetros Gerais'!B15<>\"\",'Parâmetros Gerais'!B15,\"\")","v":"fruto genipapo"}]
[null,null,null,{"$f":"Produção!D3","v":"Período"}]
["Descrição","Unidade","Preço",1,2,3,4,5,6,7,8,9,10,11,12,13,14,15,16,17,18,19,20,21,22,23,24,25,26,27,28,29,30]
[]
[]
["Atividades",null,null,{"$f":"$C$8*D8+$C$9*D9+$C$10*D10+$C$11*D11+$C$12*D12+$C$13*D13+$C$14*D14+$C$15*D15+$C$16*D16+$C$17*D17+$C$18*D18+$C$19*D19+$C$20*D20+$C$21*D21+$C$22*D22","v":0},{"$f":"$C$8*E8+$C$9*E9+$C$10*E10+$C$11*E11+$C$12*E12+$C$13*E13+$C$14*E14+$C$15*E15+$C$16*E16+$C$17*E17+$C$18*E18+$C$19*E19+$C$20*E20+$C$21*E21+$C$22*E22","v":0},{"$f":"$C$8*F8+$C$9*F9+$C$10*F10+$C$11*F11+$C$12*F12+$C$13*F13+$C$14*F14+$C$15*F15+$C$16*F16+$C$17*F17+$C$18*F18+$C$19*F19+$C$20*F20+$C$21*F21+$C$22*F22","v":0},{"$f":"$C$8*G8+$C$9*G9+$C$10*G10+$C$11*G11+$C$12*G12+$C$13*G13+$C$14*G14+$C$15*G15+$C$16*G16+$C$17*G17+$C$18*G18+$C$19*G19+$C$20*G20+$C$21*G21+$C$22*G22","v":0},0,0,0,0,0,0,0,0,0,0,0,0,0,0,0,0,0,0,0,0,0,0,0,0,0,0]
[null,null,{"$f":"IF(B8='Parâmetros Gerais'!$I$4,'Parâmetros Gerais'!$F$4,IF(B8='Parâmetros Gerais'!$I$5,'Parâmetros Gerais'!$F$5,IF(B8='Parâmetros Gerais'!$I$6,'Parâmetros Gerais'!$F$6,0)))","v":0}]
[null,null,{"$f":"IF(B9='Parâmetros Gerais'!$I$4,'Parâmetros Gerais'!$F$4,IF(B9='Parâmetros Gerais'!$I$5,'Parâmetros Gerais'!$F$5,IF(B9='Parâmetros Gerais'!$I$6,'Parâmetros Gerais'!$F$6,0)))","v":0}]
[null,null,{"$f":"IF(B10='Parâmetros Gerais'!$I$4,'Parâmetros Gerais'!$F$4,IF(B10='Parâmetros Gerais'!$I$5,'Parâmetros Gerais'!$F$5,IF(B10='Parâmetros Gerais'!$I$6,'Parâmetros Gerais'!$F$6,0)))","v":0}]
[null,null,{"$f":"IF(B11='Parâmetros Gerais'!$I$4,'Parâmetros Gerais'!$F$4,IF(B11='Parâmetros Gerais'!$I$5,'Parâmetros Gerais'!$F$5,IF(B11='Parâmetros Gerais'!$I$6,'Parâmetros Gerais'!$F$6,0)))","v":0}]
[null,null,{"$f":"IF(B12='Parâmetros Gerais'!$I$4,'Parâmetros Gerais'!$F$4,IF(B12='Parâmetros Gerais'!$I$5,'Parâmetros Gerais'!$F$5,IF(B12='Parâmetros Gerais'!$I$6,'Parâmetros Gerais'!$F$6,0)))","v":0}]
[null,null,{"$f":"IF(B13='Parâmetros Gerais'!$I$4,'Parâmetros Gerais'!$F$4,IF(B13='Parâmetros Gerais'!$I$5,'Parâmetros Gerais'!$F$5,IF(B13='Parâmetros Gerais'!$I$6,'Parâmetros Gerais'!$F$6,0)))","v":0}]
[null,null,{"$f":"IF(B14='Parâmetros Gerais'!$I$4,'Parâmetros Gerais'!$F$4,IF(B14='Parâmetros Gerais'!$I$5,'Parâmetros Gerais'!$F$5,IF(B14='Parâmetros Gerais'!$I$6,'Parâmetros Gerais'!$F$6,0)))","v":0}]
[null,null,{"$f":"IF(B15='Parâmetros Gerais'!$I$4,'Parâmetros Gerais'!$F$4,IF(B15='Parâmetros Gerais'!$I$5,'Parâmetros Gerais'!$F$5,IF(B15='Parâmetros Gerais'!$I$6,'Parâmetros Gerais'!$F$6,0)))","v":0}]
[null,null,{"$f":"IF(B16='Parâmetros Gerais'!$I$4,'Parâmetros Gerais'!$F$4,IF(B16='Parâmetros Gerais'!$I$5,'Parâmetros Gerais'!$F$5,IF(B16='Parâmetros Gerais'!$I$6,'Parâmetros Gerais'!$F$6,0)))","v":0}]
[null,null,{"$f":"IF(B17='Parâmetros Gerais'!$I$4,'Parâmetros Gerais'!$F$4,IF(B17='Parâmetros Gerais'!$I$5,'Parâmetros Gerais'!$F$5,IF(B17='Parâmetros Gerais'!$I$6,'Parâmetros Gerais'!$F$6,0)))","v":0}]
[null,null,{"$f":"IF(B18='Parâmetros Gerais'!$I$4,'Parâmetros Gerais'!$F$4,IF(B18='Parâmetros Gerais'!$I$5,'Parâmetros Gerais'!$F$5,IF(B18='Parâmetros Gerais'!$I$6,'Parâmetros Gerais'!$F$6,0)))","v":0}]
[null,null,{"$f":"IF(B19='Parâmetros Gerais'!$I$4,'Parâmetros Gerais'!$F$4,IF(B19='Parâmetros Gerais'!$I$5,'Parâmetros Gerais'!$F$5,IF(B19='Parâmetros Gerais'!$I$6,'Parâmetros Gerais'!$F$6,0)))","v":0}]
[null,null,{"$f":"IF(B20='Parâmetros Gerais'!$I$4,'Parâmetros Gerais'!$F$4,IF(B20='Parâmetros Gerais'!$I$5,'Parâmetros Gerais'!$F$5,IF(B20='Parâmetros Gerais'!$I$6,'Parâmetros Gerais'!$F$6,0)))","v":0}]
[null,null,{"$f":"IF(B21='Parâmetros Gerais'!$I$4,'Parâmetros Gerais'!$F$4,IF(B21='Parâmetros Gerais'!$I$5,'Parâmetros Gerais'!$F$5,IF(B21='Parâmetros Gerais'!$I$6,'Parâmetros Gerais'!$F$6,0)))","v":0}]
[null,null,{"$f":"IF(B22='Parâmetros Gerais'!$I$4,'Parâmetros Gerais'!$F$4,IF(B22='Parâmetros Gerais'!$I$5,'Parâmetros Gerais'!$F$5,IF(B22='Parâmetros Gerais'!$I$6,'Parâmetros Gerais'!$F$6,0)))","v":0}]
[null,null,null,{"$f":"SUM(D8:D22)","v":0},0,0,0,0,0,0,0,0,0,0,0,0,0,0,0,0,0,0,0,0,0,0,0,0,0,0,0,0,0]
["Insumos",null,null,{"$f":"$C$25*D25+$C$26*D26+$C$27*D27+$C$28*D28+$C$29*D29+$C$30*D30+$C$31*D31+$C$32*D32+$C$33*D33+$C$34*D34+$C$35*D35+$C$36*D36+$C$37*D37+$C$38*D38+$C$39*D39+$C$40*D40+$C$41*D41+$C$42*D42+$C$43*D43+$C$44*D44","v":0},{"$f":"$C$25*E25+$C$26*E26+$C$27*E27+$C$28*E28+$C$29*E29+$C$30*E30+$C$31*E31+$C$32*E32+$C$33*E33+$C$34*E34+$C$35*E35+$C$36*E36+$C$37*E37+$C$38*E38+$C$39*E39+$C$40*E40+$C$41*E41+$C$42*E42+$C$43*E43+$C$44*E44","v":0},0,0,0,0,0,0,0,0,0,0,0,0,0,0,0,0,0,0,0,0,0,0,0,0,0,0,0,0]

{"sheet":"fruto araçauna","index":9,"n_rows":24,"n_cols":33,"rows_kept":24,"cut":false,"hidden":false,"merged":[]}
[{"$f":"'Parâmetros Gerais'!A1","v":"Análise Financeira de Sistemas Produtivos Integrados (V. 4.16 11/2016)"}]
[{"$f":"IF('Parâmetros Gerais'!B16<>\"\",'Parâmetros Gerais'!B16,\"\")","v":"fruto araçauna"}]
[null,null,null,{"$f":"Produção!D3","v":"Período"}]
["Descrição","Unidade","Preço",1,2,3,4,5,6,7,8,9,10,11,12,13,14,15,16,17,18,19,20,21,22,23,24,25,26,27,28,29,30]
[]
[]
["Atividades",null,null,{"$f":"$C$8*D8+$C$9*D9+$C$10*D10+$C$11*D11+$C$12*D12+$C$13*D13+$C$14*D14+$C$15*D15+$C$16*D16+$C$17*D17+$C$18*D18+$C$19*D19+$C$20*D20+$C$21*D21+$C$22*D22","v":0},{"$f":"$C$8*E8+$C$9*E9+$C$10*E10+$C$11*E11+$C$12*E12+$C$13*E13+$C$14*E14+$C$15*E15+$C$16*E16+$C$17*E17+$C$18*E18+$C$19*E19+$C$20*E20+$C$21*E21+$C$22*E22","v":0},0,0,0,0,0,0,0,0,0,0,0,0,0,0,0,0,0,0,0,0,0,0,0,0,0,0,0,0]
[null,null,{"$f":"IF(B8='Parâmetros Gerais'!$I$4,'Parâmetros Gerais'!$F$4,IF(B8='Parâmetros Gerais'!$I$5,'Parâmetros Gerais'!$F$5,IF(B8='Parâmetros Gerais'!$I$6,'Parâmetros Gerais'!$F$6,0)))","v":0}]
[null,null,{"$f":"IF(B9='Parâmetros Gerais'!$I$4,'Parâmetros Gerais'!$F$4,IF(B9='Parâmetros Gerais'!$I$5,'Parâmetros Gerais'!$F$5,IF(B9='Parâmetros Gerais'!$I$6,'Parâmetros Gerais'!$F$6,0)))","v":0}]
[null,null,{"$f":"IF(B10='Parâmetros Gerais'!$I$4,'Parâmetros Gerais'!$F$4,IF(B10='Parâmetros Gerais'!$I$5,'Parâmetros Gerais'!$F$5,IF(B10='Parâmetros Gerais'!$I$6,'Parâmetros Gerais'!$F$6,0)))","v":0}]
[null,null,{"$f":"IF(B11='Parâmetros Gerais'!$I$4,'Parâmetros Gerais'!$F$4,IF(B11='Parâmetros Gerais'!$I$5,'Parâmetros Gerais'!$F$5,IF(B11='Parâmetros Gerais'!$I$6,'Parâmetros Gerais'!$F$6,0)))","v":0}]
[null,null,{"$f":"IF(B12='Parâmetros Gerais'!$I$4,'Parâmetros Gerais'!$F$4,IF(B12='Parâmetros Gerais'!$I$5,'Parâmetros Gerais'!$F$5,IF(B12='Parâmetros Gerais'!$I$6,'Parâmetros Gerais'!$F$6,0)))","v":0}]
[null,null,{"$f":"IF(B13='Parâmetros Gerais'!$I$4,'Parâmetros Gerais'!$F$4,IF(B13='Parâmetros Gerais'!$I$5,'Parâmetros Gerais'!$F$5,IF(B13='Parâmetros Gerais'!$I$6,'Parâmetros Gerais'!$F$6,0)))","v":0}]
[null,null,{"$f":"IF(B14='Parâmetros Gerais'!$I$4,'Parâmetros Gerais'!$F$4,IF(B14='Parâmetros Gerais'!$I$5,'Parâmetros Gerais'!$F$5,IF(B14='Parâmetros Gerais'!$I$6,'Parâmetros Gerais'!$F$6,0)))","v":0}]
[null,null,{"$f":"IF(B15='Parâmetros Gerais'!$I$4,'Parâmetros Gerais'!$F$4,IF(B15='Parâmetros Gerais'!$I$5,'Parâmetros Gerais'!$F$5,IF(B15='Parâmetros Gerais'!$I$6,'Parâmetros Gerais'!$F$6,0)))","v":0}]
[null,null,{"$f":"IF(B16='Parâmetros Gerais'!$I$4,'Parâmetros Gerais'!$F$4,IF(B16='Parâmetros Gerais'!$I$5,'Parâmetros Gerais'!$F$5,IF(B16='Parâmetros Gerais'!$I$6,'Parâmetros Gerais'!$F$6,0)))","v":0}]
[null,null,{"$f":"IF(B17='Parâmetros Gerais'!$I$4,'Parâmetros Gerais'!$F$4,IF(B17='Parâmetros Gerais'!$I$5,'Parâmetros Gerais'!$F$5,IF(B17='Parâmetros Gerais'!$I$6,'Parâmetros Gerais'!$F$6,0)))","v":0}]
[null,null,{"$f":"IF(B18='Parâmetros Gerais'!$I$4,'Parâmetros Gerais'!$F$4,IF(B18='Parâmetros Gerais'!$I$5,'Parâmetros Gerais'!$F$5,IF(B18='Parâmetros Gerais'!$I$6,'Parâmetros Gerais'!$F$6,0)))","v":0}]
[null,null,{"$f":"IF(B19='Parâmetros Gerais'!$I$4,'Parâmetros Gerais'!$F$4,IF(B19='Parâmetros Gerais'!$I$5,'Parâmetros Gerais'!$F$5,IF(B19='Parâmetros Gerais'!$I$6,'Parâmetros Gerais'!$F$6,0)))","v":0}]
[null,null,{"$f":"IF(B20='Parâmetros Gerais'!$I$4,'Parâmetros Gerais'!$F$4,IF(B20='Parâmetros Gerais'!$I$5,'Parâmetros Gerais'!$F$5,IF(B20='Parâmetros Gerais'!$I$6,'Parâmetros Gerais'!$F$6,0)))","v":0}]
[null,null,{"$f":"IF(B21='Parâmetros Gerais'!$I$4,'Parâmetros Gerais'!$F$4,IF(B21='Parâmetros Gerais'!$I$5,'Parâmetros Gerais'!$F$5,IF(B21='Parâmetros Gerais'!$I$6,'Parâmetros Gerais'!$F$6,0)))","v":0}]
[null,null,{"$f":"IF(B22='Parâmetros Gerais'!$I$4,'Parâmetros Gerais'!$F$4,IF(B22='Parâmetros Gerais'!$I$5,'Parâmetros Gerais'!$F$5,IF(B22='Parâmetros Gerais'!$I$6,'Parâmetros Gerais'!$F$6,0)))","v":0}]
[null,null,null,{"$f":"SUM(D8:D22)","v":0},0,0,0,0,0,0,0,0,0,0,0,0,0,0,0,0,0,0,0,0,0,0,0,0,0,0,0,0,0]
["Insumos",null,null,{"$f":"$C$25*D25+$C$26*D26+$C$27*D27+$C$28*D28+$C$29*D29+$C$30*D30+$C$31*D31+$C$32*D32+$C$33*D33+$C$34*D34+$C$35*D35+$C$36*D36+$C$37*D37+$C$38*D38+$C$39*D39+$C$40*D40+$C$41*D41+$C$42*D42+$C$43*D43+$C$44*D44","v":0},{"$f":"$C$25*E25+$C$26*E26+$C$27*E27+$C$28*E28+$C$29*E29+$C$30*E30+$C$31*E31+$C$32*E32+$C$33*E33+$C$34*E34+$C$35*E35+$C$36*E36+$C$37*E37+$C$38*E38+$C$39*E39+$C$40*E40+$C$41*E41+$C$42*E42+$C$43*E43+$C$44*E44","v":0},0,0,0,0,0,0,0,0,0,0,0,0,0,0,0,0,0,0,0,0,0,0,0,0,0,0,0,0]

{"sheet":"fruto pitanga","index":10,"n_rows":24,"n_cols":33,"rows_kept":24,"cut":false,"hidden":false,"merged":[]}
[{"$f":"'Parâmetros Gerais'!A1","v":"Análise Financeira de Sistemas Produtivos Integrados (V. 4.16 11/2016)"}]
[{"$f":"IF('Parâmetros Gerais'!B17<>\"\",'Parâmetros Gerais'!B17,\"\")","v":"fruto pitanga"}]
[null,null,null,{"$f":"Produção!D3","v":"Período"}]
["Descrição","Unidade","Preço",1,2,3,4,5,6,7,8,9,10,11,12,13,14,15,16,17,18,19,20,21,22,23,24,25,26,27,28,29,30]
[]
[]
["Atividades",null,null,{"$f":"$C$8*D8+$C$9*D9+$C$10*D10+$C$11*D11+$C$12*D12+$C$13*D13+$C$14*D14+$C$15*D15+$C$16*D16+$C$17*D17+$C$18*D18+$C$19*D19+$C$20*D20+$C$21*D21+$C$22*D22","v":0},0,0,0,0,0,0,0,0,0,0,0,0,0,0,0,0,0,0,0,0,0,0,0,0,0,0,0,0,0]
[null,null,{"$f":"IF(B8='Parâmetros Gerais'!$I$4,'Parâmetros Gerais'!$F$4,IF(B8='Parâmetros Gerais'!$I$5,'Parâmetros Gerais'!$F$5,IF(B8='Parâmetros Gerais'!$I$6,'Parâmetros Gerais'!$F$6,0)))","v":0}]
[null,null,{"$f":"IF(B9='Parâmetros Gerais'!$I$4,'Parâmetros Gerais'!$F$4,IF(B9='Parâmetros Gerais'!$I$5,'Parâmetros Gerais'!$F$5,IF(B9='Parâmetros Gerais'!$I$6,'Parâmetros Gerais'!$F$6,0)))","v":0}]
[null,null,{"$f":"IF(B10='Parâmetros Gerais'!$I$4,'Parâmetros Gerais'!$F$4,IF(B10='Parâmetros Gerais'!$I$5,'Parâmetros Gerais'!$F$5,IF(B10='Parâmetros Gerais'!$I$6,'Parâmetros Gerais'!$F$6,0)))","v":0}]
[null,null,{"$f":"IF(B11='Parâmetros Gerais'!$I$4,'Parâmetros Gerais'!$F$4,IF(B11='Parâmetros Gerais'!$I$5,'Parâmetros Gerais'!$F$5,IF(B11='Parâmetros Gerais'!$I$6,'Parâmetros Gerais'!$F$6,0)))","v":0}]
[null,null,{"$f":"IF(B12='Parâmetros Gerais'!$I$4,'Parâmetros Gerais'!$F$4,IF(B12='Parâmetros Gerais'!$I$5,'Parâmetros Gerais'!$F$5,IF(B12='Parâmetros Gerais'!$I$6,'Parâmetros Gerais'!$F$6,0)))","v":0}]
[null,null,{"$f":"IF(B13='Parâmetros Gerais'!$I$4,'Parâmetros Gerais'!$F$4,IF(B13='Parâmetros Gerais'!$I$5,'Parâmetros Gerais'!$F$5,IF(B13='Parâmetros Gerais'!$I$6,'Parâmetros Gerais'!$F$6,0)))","v":0}]
[null,null,{"$f":"IF(B14='Parâmetros Gerais'!$I$4,'Parâmetros Gerais'!$F$4,IF(B14='Parâmetros Gerais'!$I$5,'Parâmetros Gerais'!$F$5,IF(B14='Parâmetros Gerais'!$I$6,'Parâmetros Gerais'!$F$6,0)))","v":0}]
[null,null,{"$f":"IF(B15='Parâmetros Gerais'!$I$4,'Parâmetros Gerais'!$F$4,IF(B15='Parâmetros Gerais'!$I$5,'Parâmetros Gerais'!$F$5,IF(B15='Parâmetros Gerais'!$I$6,'Parâmetros Gerais'!$F$6,0)))","v":0}]
[null,null,{"$f":"IF(B16='Parâmetros Gerais'!$I$4,'Parâmetros Gerais'!$F$4,IF(B16='Parâmetros Gerais'!$I$5,'Parâmetros Gerais'!$F$5,IF(B16='Parâmetros Gerais'!$I$6,'Parâmetros Gerais'!$F$6,0)))","v":0}]
[null,null,{"$f":"IF(B17='Parâmetros Gerais'!$I$4,'Parâmetros Gerais'!$F$4,IF(B17='Parâmetros Gerais'!$I$5,'Parâmetros Gerais'!$F$5,IF(B17='Parâmetros Gerais'!$I$6,'Parâmetros Gerais'!$F$6,0)))","v":0}]
[null,null,{"$f":"IF(B18='Parâmetros Gerais'!$I$4,'Parâmetros Gerais'!$F$4,IF(B18='Parâmetros Gerais'!$I$5,'Parâmetros Gerais'!$F$5,IF(B18='Parâmetros Gerais'!$I$6,'Parâmetros Gerais'!$F$6,0)))","v":0}]
[null,null,{"$f":"IF(B19='Parâmetros Gerais'!$I$4,'Parâmetros Gerais'!$F$4,IF(B19='Parâmetros Gerais'!$I$5,'Parâmetros Gerais'!$F$5,IF(B19='Parâmetros Gerais'!$I$6,'Parâmetros Gerais'!$F$6,0)))","v":0}]
[null,null,{"$f":"IF(B20='Parâmetros Gerais'!$I$4,'Parâmetros Gerais'!$F$4,IF(B20='Parâmetros Gerais'!$I$5,'Parâmetros Gerais'!$F$5,IF(B20='Parâmetros Gerais'!$I$6,'Parâmetros Gerais'!$F$6,0)))","v":0}]
[null,null,{"$f":"IF(B21='Parâmetros Gerais'!$I$4,'Parâmetros Gerais'!$F$4,IF(B21='Parâmetros Gerais'!$I$5,'Parâmetros Gerais'!$F$5,IF(B21='Parâmetros Gerais'!$I$6,'Parâmetros Gerais'!$F$6,0)))","v":0}]
[null,null,{"$f":"IF(B22='Parâmetros Gerais'!$I$4,'Parâmetros Gerais'!$F$4,IF(B22='Parâmetros Gerais'!$I$5,'Parâmetros Gerais'!$F$5,IF(B22='Parâmetros Gerais'!$I$6,'Parâmetros Gerais'!$F$6,0)))","v":0}]
[null,null,null,{"$f":"SUM(D8:D22)","v":0},0,0,0,0,0,0,0,0,0,0,0,0,0,0,0,0,0,0,0,0,0,0,0,0,0,0,0,0,0]
["Insumos",null,null,{"$f":"$C$25*D25+$C$26*D26+$C$27*D27+$C$28*D28+$C$29*D29+$C$30*D30+$C$31*D31+$C$32*D32+$C$33*D33+$C$34*D34+$C$35*D35+$C$36*D36+$C$37*D37+$C$38*D38+$C$39*D39+$C$40*D40+$C$41*D41+$C$42*D42+$C$43*D43+$C$44*D44","v":0},{"$f":"$C$25*E25+$C$26*E26+$C$27*E27+$C$28*E28+$C$29*E29+$C$30*E30+$C$31*E31+$C$32*E32+$C$33*E33+$C$34*E34+$C$35*E35+$C$36*E36+$C$37*E37+$C$38*E38+$C$39*E39+$C$40*E40+$C$41*E41+$C$42*E42+$C$43*E43+$C$44*E44","v":0},0,0,0,0,0,0,0,0,0,0,0,0,0,0,0,0,0,0,0,0,0,0,0,0,0,0,0,0]

{"sheet":"Castanha","index":11,"n_rows":24,"n_cols":33,"rows_kept":24,"cut":false,"hidden":false,"merged":[]}
[{"$f":"'Parâmetros Gerais'!A1","v":"Análise Financeira de Sistemas Produtivos Integrados (V. 4.16 11/2016)"}]
[{"$f":"IF('Parâmetros Gerais'!B18<>\"\",'Parâmetros Gerais'!B18,\"\")","v":"castanha sapucaia"}]
[null,null,null,{"$f":"Produção!D3","v":"Período"}]
["Descrição","Unidade","Preço",1,2,3,4,5,6,7,8,9,10,11,12,13,14,15,16,17,18,19,20,21,22,23,24,25,26,27,28,29,30]
[]
[]
["Atividades",null,null,{"$f":"$C$8*D8+$C$9*D9+$C$10*D10+$C$11*D11+$C$12*D12+$C$13*D13+$C$14*D14+$C$15*D15+$C$16*D16+$C$17*D17+$C$18*D18+$C$19*D19+$C$20*D20+$C$21*D21+$C$22*D22","v":0},{"$f":"$C$8*E8+$C$9*E9+$C$10*E10+$C$11*E11+$C$12*E12+$C$13*E13+$C$14*E14+$C$15*E15+$C$16*E16+$C$17*E17+$C$18*E18+$C$19*E19+$C$20*E20+$C$21*E21+$C$22*E22","v":0},0,0,0,0,0,0,0,0,0,0,0,0,0,0,0,0,0,0,0,0,0,0,0,0,0,0,0,0]
[null,null,{"$f":"IF(B8='Parâmetros Gerais'!$I$4,'Parâmetros Gerais'!$F$4,IF(B8='Parâmetros Gerais'!$I$5,'Parâmetros Gerais'!$F$5,IF(B8='Parâmetros Gerais'!$I$6,'Parâmetros Gerais'!$F$6,0)))","v":0}]
[null,null,{"$f":"IF(B9='Parâmetros Gerais'!$I$4,'Parâmetros Gerais'!$F$4,IF(B9='Parâmetros Gerais'!$I$5,'Parâmetros Gerais'!$F$5,IF(B9='Parâmetros Gerais'!$I$6,'Parâmetros Gerais'!$F$6,0)))","v":0}]
[null,null,{"$f":"IF(B10='Parâmetros Gerais'!$I$4,'Parâmetros Gerais'!$F$4,IF(B10='Parâmetros Gerais'!$I$5,'Parâmetros Gerais'!$F$5,IF(B10='Parâmetros Gerais'!$I$6,'Parâmetros Gerais'!$F$6,0)))","v":0}]
[null,null,{"$f":"IF(B11='Parâmetros Gerais'!$I$4,'Parâmetros Gerais'!$F$4,IF(B11='Parâmetros Gerais'!$I$5,'Parâmetros Gerais'!$F$5,IF(B11='Parâmetros Gerais'!$I$6,'Parâmetros Gerais'!$F$6,0)))","v":0}]
[null,null,{"$f":"IF(B12='Parâmetros Gerais'!$I$4,'Parâmetros Gerais'!$F$4,IF(B12='Parâmetros Gerais'!$I$5,'Parâmetros Gerais'!$F$5,IF(B12='Parâmetros Gerais'!$I$6,'Parâmetros Gerais'!$F$6,0)))","v":0}]
[null,null,{"$f":"IF(B13='Parâmetros Gerais'!$I$4,'Parâmetros Gerais'!$F$4,IF(B13='Parâmetros Gerais'!$I$5,'Parâmetros Gerais'!$F$5,IF(B13='Parâmetros Gerais'!$I$6,'Parâmetros Gerais'!$F$6,0)))","v":0}]
[null,null,{"$f":"IF(B14='Parâmetros Gerais'!$I$4,'Parâmetros Gerais'!$F$4,IF(B14='Parâmetros Gerais'!$I$5,'Parâmetros Gerais'!$F$5,IF(B14='Parâmetros Gerais'!$I$6,'Parâmetros Gerais'!$F$6,0)))","v":0}]
[null,null,{"$f":"IF(B15='Parâmetros Gerais'!$I$4,'Parâmetros Gerais'!$F$4,IF(B15='Parâmetros Gerais'!$I$5,'Parâmetros Gerais'!$F$5,IF(B15='Parâmetros Gerais'!$I$6,'Parâmetros Gerais'!$F$6,0)))","v":0}]
[null,null,{"$f":"IF(B16='Parâmetros Gerais'!$I$4,'Parâmetros Gerais'!$F$4,IF(B16='Parâmetros Gerais'!$I$5,'Parâmetros Gerais'!$F$5,IF(B16='Parâmetros Gerais'!$I$6,'Parâmetros Gerais'!$F$6,0)))","v":0}]
[null,null,{"$f":"IF(B17='Parâmetros Gerais'!$I$4,'Parâmetros Gerais'!$F$4,IF(B17='Parâmetros Gerais'!$I$5,'Parâmetros Gerais'!$F$5,IF(B17='Parâmetros Gerais'!$I$6,'Parâmetros Gerais'!$F$6,0)))","v":0}]
[null,null,{"$f":"IF(B18='Parâmetros Gerais'!$I$4,'Parâmetros Gerais'!$F$4,IF(B18='Parâmetros Gerais'!$I$5,'Parâmetros Gerais'!$F$5,IF(B18='Parâmetros Gerais'!$I$6,'Parâmetros Gerais'!$F$6,0)))","v":0}]
[null,null,{"$f":"IF(B19='Parâmetros Gerais'!$I$4,'Parâmetros Gerais'!$F$4,IF(B19='Parâmetros Gerais'!$I$5,'Parâmetros Gerais'!$F$5,IF(B19='Parâmetros Gerais'!$I$6,'Parâmetros Gerais'!$F$6,0)))","v":0}]
[null,null,{"$f":"IF(B20='Parâmetros Gerais'!$I$4,'Parâmetros Gerais'!$F$4,IF(B20='Parâmetros Gerais'!$I$5,'Parâmetros Gerais'!$F$5,IF(B20='Parâmetros Gerais'!$I$6,'Parâmetros Gerais'!$F$6,0)))","v":0}]
[null,null,{"$f":"IF(B21='Parâmetros Gerais'!$I$4,'Parâmetros Gerais'!$F$4,IF(B21='Parâmetros Gerais'!$I$5,'Parâmetros Gerais'!$F$5,IF(B21='Parâmetros Gerais'!$I$6,'Parâmetros Gerais'!$F$6,0)))","v":0}]
[null,null,{"$f":"IF(B22='Parâmetros Gerais'!$I$4,'Parâmetros Gerais'!$F$4,IF(B22='Parâmetros Gerais'!$I$5,'Parâmetros Gerais'!$F$5,IF(B22='Parâmetros Gerais'!$I$6,'Parâmetros Gerais'!$F$6,0)))","v":0}]
[null,null,null,{"$f":"SUM(D8:D22)","v":0},0,0,0,0,0,0,0,0,0,0,0,0,0,0,0,0,0,0,0,0,0,0,0,0,0,0,0,0,0]
["Insumos",null,null,{"$f":"$C$25*D25+$C$26*D26+$C$27*D27+$C$28*D28+$C$29*D29+$C$30*D30+$C$31*D31+$C$32*D32+$C$33*D33+$C$34*D34+$C$35*D35+$C$36*D36+$C$37*D37+$C$38*D38+$C$39*D39+$C$40*D40+$C$41*D41+$C$42*D42+$C$43*D43+$C$44*D44","v":0},{"$f":"$C$25*E25+$C$26*E26+$C$27*E27+$C$28*E28+$C$29*E29+$C$30*E30+$C$31*E31+$C$32*E32+$C$33*E33+$C$34*E34+$C$35*E35+$C$36*E36+$C$37*E37+$C$38*E38+$C$39*E39+$C$40*E40+$C$41*E41+$C$42*E42+$C$43*E43+$C$44*E44","v":0},0,0,0,0,0,0,0,0,0,0,0,0,0,0,0,0,0,0,0,0,0,0,0,0,0,0,0,0]

{"sheet":"fruto cajá","index":12,"n_rows":24,"n_cols":33,"rows_kept":24,"cut":false,"hidden":false,"merged":[]}
[{"$f":"'Parâmetros Gerais'!A1","v":"Análise Financeira de Sistemas Produtivos Integrados (V. 4.16 11/2016)"}]
[{"$f":"IF('Parâmetros Gerais'!B19<>\"\",'Parâmetros Gerais'!B19,\"\")","v":"fruto cajá"}]
[null,null,null,{"$f":"Produção!D3","v":"Período"}]
["Descrição","Unidade","Preço",1,2,3,4,5,6,7,8,9,10,11,12,13,14,15,16,17,18,19,20,21,22,23,24,25,26,27,28,29,30]
[]
[]
["Atividades",null,null,{"$f":"$C$8*D8+$C$9*D9+$C$10*D10+$C$11*D11+$C$12*D12+$C$13*D13+$C$14*D14+$C$15*D15+$C$16*D16+$C$17*D17+$C$18*D18+$C$19*D19+$C$20*D20+$C$21*D21+$C$22*D22","v":0},{"$f":"$C$8*E8+$C$9*E9+$C$10*E10+$C$11*E11+$C$12*E12+$C$13*E13+$C$14*E14+$C$15*E15+$C$16*E16+$C$17*E17+$C$18*E18+$C$19*E19+$C$20*E20+$C$21*E21+$C$22*E22","v":0},0,0,0,0,0,0,0,0,0,0,0,0,0,0,0,0,0,0,0,0,0,0,0,0,0,0,0,0]
[null,null,{"$f":"IF(B8='Parâmetros Gerais'!$I$4,'Parâmetros Gerais'!$F$4,IF(B8='Parâmetros Gerais'!$I$5,'Parâmetros Gerais'!$F$5,IF(B8='Parâmetros Gerais'!$I$6,'Parâmetros Gerais'!$F$6,0)))","v":0}]
[null,null,{"$f":"IF(B9='Parâmetros Gerais'!$I$4,'Parâmetros Gerais'!$F$4,IF(B9='Parâmetros Gerais'!$I$5,'Parâmetros Gerais'!$F$5,IF(B9='Parâmetros Gerais'!$I$6,'Parâmetros Gerais'!$F$6,0)))","v":0}]
[null,null,{"$f":"IF(B10='Parâmetros Gerais'!$I$4,'Parâmetros Gerais'!$F$4,IF(B10='Parâmetros Gerais'!$I$5,'Parâmetros Gerais'!$F$5,IF(B10='Parâmetros Gerais'!$I$6,'Parâmetros Gerais'!$F$6,0)))","v":0}]
[null,null,{"$f":"IF(B11='Parâmetros Gerais'!$I$4,'Parâmetros Gerais'!$F$4,IF(B11='Parâmetros Gerais'!$I$5,'Parâmetros Gerais'!$F$5,IF(B11='Parâmetros Gerais'!$I$6,'Parâmetros Gerais'!$F$6,0)))","v":0}]
[null,null,{"$f":"IF(B12='Parâmetros Gerais'!$I$4,'Parâmetros Gerais'!$F$4,IF(B12='Parâmetros Gerais'!$I$5,'Parâmetros Gerais'!$F$5,IF(B12='Parâmetros Gerais'!$I$6,'Parâmetros Gerais'!$F$6,0)))","v":0}]
[null,null,{"$f":"IF(B13='Parâmetros Gerais'!$I$4,'Parâmetros Gerais'!$F$4,IF(B13='Parâmetros Gerais'!$I$5,'Parâmetros Gerais'!$F$5,IF(B13='Parâmetros Gerais'!$I$6,'Parâmetros Gerais'!$F$6,0)))","v":0}]
[null,null,{"$f":"IF(B14='Parâmetros Gerais'!$I$4,'Parâmetros Gerais'!$F$4,IF(B14='Parâmetros Gerais'!$I$5,'Parâmetros Gerais'!$F$5,IF(B14='Parâmetros Gerais'!$I$6,'Parâmetros Gerais'!$F$6,0)))","v":0}]
[null,null,{"$f":"IF(B15='Parâmetros Gerais'!$I$4,'Parâmetros Gerais'!$F$4,IF(B15='Parâmetros Gerais'!$I$5,'Parâmetros Gerais'!$F$5,IF(B15='Parâmetros Gerais'!$I$6,'Parâmetros Gerais'!$F$6,0)))","v":0}]
[null,null,{"$f":"IF(B16='Parâmetros Gerais'!$I$4,'Parâmetros Gerais'!$F$4,IF(B16='Parâmetros Gerais'!$I$5,'Parâmetros Gerais'!$F$5,IF(B16='Parâmetros Gerais'!$I$6,'Parâmetros Gerais'!$F$6,0)))","v":0}]
[null,null,{"$f":"IF(B17='Parâmetros Gerais'!$I$4,'Parâmetros Gerais'!$F$4,IF(B17='Parâmetros Gerais'!$I$5,'Parâmetros Gerais'!$F$5,IF(B17='Parâmetros Gerais'!$I$6,'Parâmetros Gerais'!$F$6,0)))","v":0}]
[null,null,{"$f":"IF(B18='Parâmetros Gerais'!$I$4,'Parâmetros Gerais'!$F$4,IF(B18='Parâmetros Gerais'!$I$5,'Parâmetros Gerais'!$F$5,IF(B18='Parâmetros Gerais'!$I$6,'Parâmetros Gerais'!$F$6,0)))","v":0}]
[null,null,{"$f":"IF(B19='Parâmetros Gerais'!$I$4,'Parâmetros Gerais'!$F$4,IF(B19='Parâmetros Gerais'!$I$5,'Parâmetros Gerais'!$F$5,IF(B19='Parâmetros Gerais'!$I$6,'Parâmetros Gerais'!$F$6,0)))","v":0}]
[null,null,{"$f":"IF(B20='Parâmetros Gerais'!$I$4,'Parâmetros Gerais'!$F$4,IF(B20='Parâmetros Gerais'!$I$5,'Parâmetros Gerais'!$F$5,IF(B20='Parâmetros Gerais'!$I$6,'Parâmetros Gerais'!$F$6,0)))","v":0}]
[null,null,{"$f":"IF(B21='Parâmetros Gerais'!$I$4,'Parâmetros Gerais'!$F$4,IF(B21='Parâmetros Gerais'!$I$5,'Parâmetros Gerais'!$F$5,IF(B21='Parâmetros Gerais'!$I$6,'Parâmetros Gerais'!$F$6,0)))","v":0}]
[null,null,{"$f":"IF(B22='Parâmetros Gerais'!$I$4,'Parâmetros Gerais'!$F$4,IF(B22='Parâmetros Gerais'!$I$5,'Parâmetros Gerais'!$F$5,IF(B22='Parâmetros Gerais'!$I$6,'Parâmetros Gerais'!$F$6,0)))","v":0}]
[null,null,null,{"$f":"SUM(D8:D22)","v":0},0,0,0,0,0,0,0,0,0,0,0,0,0,0,0,0,0,0,0,0,0,0,0,0,0,0,0,0,0]
["Insumos",null,null,{"$f":"$C$25*D25+$C$26*D26+$C$27*D27+$C$28*D28+$C$29*D29+$C$30*D30+$C$31*D31+$C$32*D32+$C$33*D33+$C$34*D34+$C$35*D35+$C$36*D36+$C$37*D37+$C$38*D38+$C$39*D39+$C$40*D40+$C$41*D41+$C$42*D42+$C$43*D43+$C$44*D44","v":0},{"$f":"$C$25*E25+$C$26*E26+$C$27*E27+$C$28*E28+$C$29*E29+$C$30*E30+$C$31*E31+$C$32*E32+$C$33*E33+$C$34*E34+$C$35*E35+$C$36*E36+$C$37*E37+$C$38*E38+$C$39*E39+$C$40*E40+$C$41*E41+$C$42*E42+$C$43*E43+$C$44*E44","v":0},0,0,0,0,0,0,0,0,0,0,0,0,0,0,0,0,0,0,0,0,0,0,0,0,0,0,0,0]

{"sheet":"semente urucum","index":13,"n_rows":24,"n_cols":33,"rows_kept":24,"cut":false,"hidden":false,"merged":[]}
[{"$f":"'Parâmetros Gerais'!A1","v":"Análise Financeira de Sistemas Produtivos Integrados (V. 4.16 11/2016)"}]
[{"$f":"IF('Parâmetros Gerais'!B20<>\"\",'Parâmetros Gerais'!B20,\"\")","v":"semente urucum"}]
[null,null,null,{"$f":"Produção!D3","v":"Período"}]
["Descrição","Unidade","Preço",1,2,3,4,5,6,7,8,9,10,11,12,13,14,15,16,17,18,19,20,21,22,23,24,25,26,27,28,29,30]
[]
[]
["Atividades",null,null,{"$f":"$C$8*D8+$C$9*D9+$C$10*D10+$C$11*D11+$C$12*D12+$C$13*D13+$C$14*D14+$C$15*D15+$C$16*D16+$C$17*D17+$C$18*D18+$C$19*D19+$C$20*D20+$C$21*D21+$C$22*D22","v":0},{"$f":"$C$8*E8+$C$9*E9+$C$10*E10+$C$11*E11+$C$12*E12+$C$13*E13+$C$14*E14+$C$15*E15+$C$16*E16+$C$17*E17+$C$18*E18+$C$19*E19+$C$20*E20+$C$21*E21+$C$22*E22","v":0},0,0,0,0,0,0,0,0,0,0,0,0,0,0,0,0,0,0,0,0,0,0,0,0,0,0,0,0]
[null,null,{"$f":"IF(B8='Parâmetros Gerais'!$I$4,'Parâmetros Gerais'!$F$4,IF(B8='Parâmetros Gerais'!$I$5,'Parâmetros Gerais'!$F$5,IF(B8='Parâmetros Gerais'!$I$6,'Parâmetros Gerais'!$F$6,0)))","v":0}]
[null,null,{"$f":"IF(B9='Parâmetros Gerais'!$I$4,'Parâmetros Gerais'!$F$4,IF(B9='Parâmetros Gerais'!$I$5,'Parâmetros Gerais'!$F$5,IF(B9='Parâmetros Gerais'!$I$6,'Parâmetros Gerais'!$F$6,0)))","v":0}]
[null,null,{"$f":"IF(B10='Parâmetros Gerais'!$I$4,'Parâmetros Gerais'!$F$4,IF(B10='Parâmetros Gerais'!$I$5,'Parâmetros Gerais'!$F$5,IF(B10='Parâmetros Gerais'!$I$6,'Parâmetros Gerais'!$F$6,0)))","v":0}]
[null,null,{"$f":"IF(B11='Parâmetros Gerais'!$I$4,'Parâmetros Gerais'!$F$4,IF(B11='Parâmetros Gerais'!$I$5,'Parâmetros Gerais'!$F$5,IF(B11='Parâmetros Gerais'!$I$6,'Parâmetros Gerais'!$F$6,0)))","v":0}]
[null,null,{"$f":"IF(B12='Parâmetros Gerais'!$I$4,'Parâmetros Gerais'!$F$4,IF(B12='Parâmetros Gerais'!$I$5,'Parâmetros Gerais'!$F$5,IF(B12='Parâmetros Gerais'!$I$6,'Parâmetros Gerais'!$F$6,0)))","v":0}]
[null,null,{"$f":"IF(B13='Parâmetros Gerais'!$I$4,'Parâmetros Gerais'!$F$4,IF(B13='Parâmetros Gerais'!$I$5,'Parâmetros Gerais'!$F$5,IF(B13='Parâmetros Gerais'!$I$6,'Parâmetros Gerais'!$F$6,0)))","v":0}]
[null,null,{"$f":"IF(B14='Parâmetros Gerais'!$I$4,'Parâmetros Gerais'!$F$4,IF(B14='Parâmetros Gerais'!$I$5,'Parâmetros Gerais'!$F$5,IF(B14='Parâmetros Gerais'!$I$6,'Parâmetros Gerais'!$F$6,0)))","v":0}]
[null,null,{"$f":"IF(B15='Parâmetros Gerais'!$I$4,'Parâmetros Gerais'!$F$4,IF(B15='Parâmetros Gerais'!$I$5,'Parâmetros Gerais'!$F$5,IF(B15='Parâmetros Gerais'!$I$6,'Parâmetros Gerais'!$F$6,0)))","v":0}]
[null,null,{"$f":"IF(B16='Parâmetros Gerais'!$I$4,'Parâmetros Gerais'!$F$4,IF(B16='Parâmetros Gerais'!$I$5,'Parâmetros Gerais'!$F$5,IF(B16='Parâmetros Gerais'!$I$6,'Parâmetros Gerais'!$F$6,0)))","v":0}]
[null,null,{"$f":"IF(B17='Parâmetros Gerais'!$I$4,'Parâmetros Gerais'!$F$4,IF(B17='Parâmetros Gerais'!$I$5,'Parâmetros Gerais'!$F$5,IF(B17='Parâmetros Gerais'!$I$6,'Parâmetros Gerais'!$F$6,0)))","v":0}]
[null,null,{"$f":"IF(B18='Parâmetros Gerais'!$I$4,'Parâmetros Gerais'!$F$4,IF(B18='Parâmetros Gerais'!$I$5,'Parâmetros Gerais'!$F$5,IF(B18='Parâmetros Gerais'!$I$6,'Parâmetros Gerais'!$F$6,0)))","v":0}]
[null,null,{"$f":"IF(B19='Parâmetros Gerais'!$I$4,'Parâmetros Gerais'!$F$4,IF(B19='Parâmetros Gerais'!$I$5,'Parâmetros Gerais'!$F$5,IF(B19='Parâmetros Gerais'!$I$6,'Parâmetros Gerais'!$F$6,0)))","v":0}]
[null,null,{"$f":"IF(B20='Parâmetros Gerais'!$I$4,'Parâmetros Gerais'!$F$4,IF(B20='Parâmetros Gerais'!$I$5,'Parâmetros Gerais'!$F$5,IF(B20='Parâmetros Gerais'!$I$6,'Parâmetros Gerais'!$F$6,0)))","v":0}]
[null,null,{"$f":"IF(B21='Parâmetros Gerais'!$I$4,'Parâmetros Gerais'!$F$4,IF(B21='Parâmetros Gerais'!$I$5,'Parâmetros Gerais'!$F$5,IF(B21='Parâmetros Gerais'!$I$6,'Parâmetros Gerais'!$F$6,0)))","v":0}]
[null,null,{"$f":"IF(B22='Parâmetros Gerais'!$I$4,'Parâmetros Gerais'!$F$4,IF(B22='Parâmetros Gerais'!$I$5,'Parâmetros Gerais'!$F$5,IF(B22='Parâmetros Gerais'!$I$6,'Parâmetros Gerais'!$F$6,0)))","v":0}]
[null,null,null,{"$f":"SUM(D8:D22)","v":0},0,0,0,0,0,0,0,0,0,0,0,0,0,0,0,0,0,0,0,0,0,0,0,0,0,0,0,0,0]
["Insumos",null,null,{"$f":"$C$25*D25+$C$26*D26+$C$27*D27+$C$28*D28+$C$29*D29+$C$30*D30+$C$31*D31+$C$32*D32+$C$33*D33+$C$34*D34+$C$35*D35+$C$36*D36+$C$37*D37+$C$38*D38+$C$39*D39+$C$40*D40+$C$41*D41+$C$42*D42+$C$43*D43+$C$44*D44","v":0},{"$f":"$C$25*E25+$C$26*E26+$C$27*E27+$C$28*E28+$C$29*E29+$C$30*E30+$C$31*E31+$C$32*E32+$C$33*E33+$C$34*E34+$C$35*E35+$C$36*E36+$C$37*E37+$C$38*E38+$C$39*E39+$C$40*E40+$C$41*E41+$C$42*E42+$C$43*E43+$C$44*E44","v":0},0,0,0,0,0,0,0,0,0,0,0,0,0,0,0,0,0,0,0,0,0,0,0,0,0,0,0,0]

{"sheet":"semente aroeira","index":14,"n_rows":24,"n_cols":33,"rows_kept":24,"cut":false,"hidden":false,"merged":[]}
[{"$f":"'Parâmetros Gerais'!A1","v":"Análise Financeira de Sistemas Produtivos Integrados (V. 4.16 11/2016)"}]
[{"$f":"IF('Parâmetros Gerais'!B21<>\"\",'Parâmetros Gerais'!B21,\"\")","v":"semente aroeira"}]
[null,null,null,{"$f":"Produção!D3","v":"Período"}]
["Descrição","Unidade","Preço",1,2,3,4,5,6,7,8,9,10,11,12,13,14,15,16,17,18,19,20,21,22,23,24,25,26,27,28,29,30]
[]
[]
["Atividades",null,null,{"$f":"$C$8*D8+$C$9*D9+$C$10*D10+$C$11*D11+$C$12*D12+$C$13*D13+$C$14*D14+$C$15*D15+$C$16*D16+$C$17*D17+$C$18*D18+$C$19*D19+$C$20*D20+$C$21*D21+$C$22*D22","v":0},{"$f":"$C$8*E8+$C$9*E9+$C$10*E10+$C$11*E11+$C$12*E12+$C$13*E13+$C$14*E14+$C$15*E15+$C$16*E16+$C$17*E17+$C$18*E18+$C$19*E19+$C$20*E20+$C$21*E21+$C$22*E22","v":0},0,0,0,0,0,0,0,0,0,0,0,0,0,0,0,0,0,0,0,0,0,0,0,0,0,0,0,0]
[null,null,{"$f":"IF(B8='Parâmetros Gerais'!$I$4,'Parâmetros Gerais'!$F$4,IF(B8='Parâmetros Gerais'!$I$5,'Parâmetros Gerais'!$F$5,IF(B8='Parâmetros Gerais'!$I$6,'Parâmetros Gerais'!$F$6,0)))","v":0}]
[null,null,{"$f":"IF(B9='Parâmetros Gerais'!$I$4,'Parâmetros Gerais'!$F$4,IF(B9='Parâmetros Gerais'!$I$5,'Parâmetros Gerais'!$F$5,IF(B9='Parâmetros Gerais'!$I$6,'Parâmetros Gerais'!$F$6,0)))","v":0}]
[null,null,{"$f":"IF(B10='Parâmetros Gerais'!$I$4,'Parâmetros Gerais'!$F$4,IF(B10='Parâmetros Gerais'!$I$5,'Parâmetros Gerais'!$F$5,IF(B10='Parâmetros Gerais'!$I$6,'Parâmetros Gerais'!$F$6,0)))","v":0}]
[null,null,{"$f":"IF(B11='Parâmetros Gerais'!$I$4,'Parâmetros Gerais'!$F$4,IF(B11='Parâmetros Gerais'!$I$5,'Parâmetros Gerais'!$F$5,IF(B11='Parâmetros Gerais'!$I$6,'Parâmetros Gerais'!$F$6,0)))","v":0}]
[null,null,{"$f":"IF(B12='Parâmetros Gerais'!$I$4,'Parâmetros Gerais'!$F$4,IF(B12='Parâmetros Gerais'!$I$5,'Parâmetros Gerais'!$F$5,IF(B12='Parâmetros Gerais'!$I$6,'Parâmetros Gerais'!$F$6,0)))","v":0}]
[null,null,{"$f":"IF(B13='Parâmetros Gerais'!$I$4,'Parâmetros Gerais'!$F$4,IF(B13='Parâmetros Gerais'!$I$5,'Parâmetros Gerais'!$F$5,IF(B13='Parâmetros Gerais'!$I$6,'Parâmetros Gerais'!$F$6,0)))","v":0}]
[null,null,{"$f":"IF(B14='Parâmetros Gerais'!$I$4,'Parâmetros Gerais'!$F$4,IF(B14='Parâmetros Gerais'!$I$5,'Parâmetros Gerais'!$F$5,IF(B14='Parâmetros Gerais'!$I$6,'Parâmetros Gerais'!$F$6,0)))","v":0}]
[null,null,{"$f":"IF(B15='Parâmetros Gerais'!$I$4,'Parâmetros Gerais'!$F$4,IF(B15='Parâmetros Gerais'!$I$5,'Parâmetros Gerais'!$F$5,IF(B15='Parâmetros Gerais'!$I$6,'Parâmetros Gerais'!$F$6,0)))","v":0}]
[null,null,{"$f":"IF(B16='Parâmetros Gerais'!$I$4,'Parâmetros Gerais'!$F$4,IF(B16='Parâmetros Gerais'!$I$5,'Parâmetros Gerais'!$F$5,IF(B16='Parâmetros Gerais'!$I$6,'Parâmetros Gerais'!$F$6,0)))","v":0}]
[null,null,{"$f":"IF(B17='Parâmetros Gerais'!$I$4,'Parâmetros Gerais'!$F$4,IF(B17='Parâmetros Gerais'!$I$5,'Parâmetros Gerais'!$F$5,IF(B17='Parâmetros Gerais'!$I$6,'Parâmetros Gerais'!$F$6,0)))","v":0}]
[null,null,{"$f":"IF(B18='Parâmetros Gerais'!$I$4,'Parâmetros Gerais'!$F$4,IF(B18='Parâmetros Gerais'!$I$5,'Parâmetros Gerais'!$F$5,IF(B18='Parâmetros Gerais'!$I$6,'Parâmetros Gerais'!$F$6,0)))","v":0}]
[null,null,{"$f":"IF(B19='Parâmetros Gerais'!$I$4,'Parâmetros Gerais'!$F$4,IF(B19='Parâmetros Gerais'!$I$5,'Parâmetros Gerais'!$F$5,IF(B19='Parâmetros Gerais'!$I$6,'Parâmetros Gerais'!$F$6,0)))","v":0}]
[null,null,{"$f":"IF(B20='Parâmetros Gerais'!$I$4,'Parâmetros Gerais'!$F$4,IF(B20='Parâmetros Gerais'!$I$5,'Parâmetros Gerais'!$F$5,IF(B20='Parâmetros Gerais'!$I$6,'Parâmetros Gerais'!$F$6,0)))","v":0}]
[null,null,{"$f":"IF(B21='Parâmetros Gerais'!$I$4,'Parâmetros Gerais'!$F$4,IF(B21='Parâmetros Gerais'!$I$5,'Parâmetros Gerais'!$F$5,IF(B21='Parâmetros Gerais'!$I$6,'Parâmetros Gerais'!$F$6,0)))","v":0}]
[null,null,{"$f":"IF(B22='Parâmetros Gerais'!$I$4,'Parâmetros Gerais'!$F$4,IF(B22='Parâmetros Gerais'!$I$5,'Parâmetros Gerais'!$F$5,IF(B22='Parâmetros Gerais'!$I$6,'Parâmetros Gerais'!$F$6,0)))","v":0}]
[null,null,null,{"$f":"SUM(D8:D22)","v":0},0,0,0,0,0,0,0,0,0,0,0,0,0,0,0,0,0,0,0,0,0,0,0,0,0,0,0,0,0]
["Insumos",null,null,{"$f":"$C$25*D25+$C$26*D26+$C$27*D27+$C$28*D28+$C$29*D29+$C$30*D30+$C$31*D31+$C$32*D32+$C$33*D33+$C$34*D34+$C$35*D35+$C$36*D36+$C$37*D37+$C$38*D38+$C$39*D39+$C$40*D40+$C$41*D41+$C$42*D42+$C$43*D43+$C$44*D44","v":0},{"$f":"$C$25*E25+$C$26*E26+$C$27*E27+$C$28*E28+$C$29*E29+$C$30*E30+$C$31*E31+$C$32*E32+$C$33*E33+$C$34*E34+$C$35*E35+$C$36*E36+$C$37*E37+$C$38*E38+$C$39*E39+$C$40*E40+$C$41*E41+$C$42*E42+$C$43*E43+$C$44*E44","v":0},0,0,0,0,0,0,0,0,0,0,0,0,0,0,0,0,0,0,0,0,0,0,0,0,0,0,0,0]

{"sheet":"raiz mandioca","index":15,"n_rows":24,"n_cols":33,"rows_kept":24,"cut":false,"hidden":false,"merged":[]}
[{"$f":"'Parâmetros Gerais'!A1","v":"Análise Financeira de Sistemas Produtivos Integrados (V. 4.16 11/2016)"}]
[{"$f":"IF('Parâmetros Gerais'!B22<>\"\",'Parâmetros Gerais'!B22,\"\")","v":"raiz mandioca"}]
[null,null,null,{"$f":"Produção!D3","v":"Período"}]
["Descrição","Unidade","Preço",1,2,3,4,5,6,7,8,9,10,11,12,13,14,15,16,17,18,19,20,21,22,23,24,25,26,27,28,29,30]
[]
[]
["Atividades",null,null,{"$f":"$C$8*D8+$C$9*D9+$C$10*D10+$C$11*D11+$C$12*D12+$C$13*D13+$C$14*D14+$C$15*D15+$C$16*D16+$C$17*D17+$C$18*D18+$C$19*D19+$C$20*D20+$C$21*D21+$C$22*D22","v":0},{"$f":"$C$8*E8+$C$9*E9+$C$10*E10+$C$11*E11+$C$12*E12+$C$13*E13+$C$14*E14+$C$15*E15+$C$16*E16+$C$17*E17+$C$18*E18+$C$19*E19+$C$20*E20+$C$21*E21+$C$22*E22","v":0},0,0,0,0,0,0,0,0,0,0,0,0,0,0,0,0,0,0,0,0,0,0,0,0,0,0,0,0]
[null,null,{"$f":"IF(B8='Parâmetros Gerais'!$I$4,'Parâmetros Gerais'!$F$4,IF(B8='Parâmetros Gerais'!$I$5,'Parâmetros Gerais'!$F$5,IF(B8='Parâmetros Gerais'!$I$6,'Parâmetros Gerais'!$F$6,0)))","v":0}]
[null,null,{"$f":"IF(B9='Parâmetros Gerais'!$I$4,'Parâmetros Gerais'!$F$4,IF(B9='Parâmetros Gerais'!$I$5,'Parâmetros Gerais'!$F$5,IF(B9='Parâmetros Gerais'!$I$6,'Parâmetros Gerais'!$F$6,0)))","v":0}]
[null,null,{"$f":"IF(B10='Parâmetros Gerais'!$I$4,'Parâmetros Gerais'!$F$4,IF(B10='Parâmetros Gerais'!$I$5,'Parâmetros Gerais'!$F$5,IF(B10='Parâmetros Gerais'!$I$6,'Parâmetros Gerais'!$F$6,0)))","v":0}]
[null,null,{"$f":"IF(B11='Parâmetros Gerais'!$I$4,'Parâmetros Gerais'!$F$4,IF(B11='Parâmetros Gerais'!$I$5,'Parâmetros Gerais'!$F$5,IF(B11='Parâmetros Gerais'!$I$6,'Parâmetros Gerais'!$F$6,0)))","v":0}]
[null,null,{"$f":"IF(B12='Parâmetros Gerais'!$I$4,'Parâmetros Gerais'!$F$4,IF(B12='Parâmetros Gerais'!$I$5,'Parâmetros Gerais'!$F$5,IF(B12='Parâmetros Gerais'!$I$6,'Parâmetros Gerais'!$F$6,0)))","v":0}]
[null,null,{"$f":"IF(B13='Parâmetros Gerais'!$I$4,'Parâmetros Gerais'!$F$4,IF(B13='Parâmetros Gerais'!$I$5,'Parâmetros Gerais'!$F$5,IF(B13='Parâmetros Gerais'!$I$6,'Parâmetros Gerais'!$F$6,0)))","v":0}]
[null,null,{"$f":"IF(B14='Parâmetros Gerais'!$I$4,'Parâmetros Gerais'!$F$4,IF(B14='Parâmetros Gerais'!$I$5,'Parâmetros Gerais'!$F$5,IF(B14='Parâmetros Gerais'!$I$6,'Parâmetros Gerais'!$F$6,0)))","v":0}]
[null,null,{"$f":"IF(B15='Parâmetros Gerais'!$I$4,'Parâmetros Gerais'!$F$4,IF(B15='Parâmetros Gerais'!$I$5,'Parâmetros Gerais'!$F$5,IF(B15='Parâmetros Gerais'!$I$6,'Parâmetros Gerais'!$F$6,0)))","v":0}]
[null,null,{"$f":"IF(B16='Parâmetros Gerais'!$I$4,'Parâmetros Gerais'!$F$4,IF(B16='Parâmetros Gerais'!$I$5,'Parâmetros Gerais'!$F$5,IF(B16='Parâmetros Gerais'!$I$6,'Parâmetros Gerais'!$F$6,0)))","v":0}]
[null,null,{"$f":"IF(B17='Parâmetros Gerais'!$I$4,'Parâmetros Gerais'!$F$4,IF(B17='Parâmetros Gerais'!$I$5,'Parâmetros Gerais'!$F$5,IF(B17='Parâmetros Gerais'!$I$6,'Parâmetros Gerais'!$F$6,0)))","v":0}]
[null,null,{"$f":"IF(B18='Parâmetros Gerais'!$I$4,'Parâmetros Gerais'!$F$4,IF(B18='Parâmetros Gerais'!$I$5,'Parâmetros Gerais'!$F$5,IF(B18='Parâmetros Gerais'!$I$6,'Parâmetros Gerais'!$F$6,0)))","v":0}]
[null,null,{"$f":"IF(B19='Parâmetros Gerais'!$I$4,'Parâmetros Gerais'!$F$4,IF(B19='Parâmetros Gerais'!$I$5,'Parâmetros Gerais'!$F$5,IF(B19='Parâmetros Gerais'!$I$6,'Parâmetros Gerais'!$F$6,0)))","v":0}]
[null,null,{"$f":"IF(B20='Parâmetros Gerais'!$I$4,'Parâmetros Gerais'!$F$4,IF(B20='Parâmetros Gerais'!$I$5,'Parâmetros Gerais'!$F$5,IF(B20='Parâmetros Gerais'!$I$6,'Parâmetros Gerais'!$F$6,0)))","v":0}]
[null,null,{"$f":"IF(B21='Parâmetros Gerais'!$I$4,'Parâmetros Gerais'!$F$4,IF(B21='Parâmetros Gerais'!$I$5,'Parâmetros Gerais'!$F$5,IF(B21='Parâmetros Gerais'!$I$6,'Parâmetros Gerais'!$F$6,0)))","v":0}]
[null,null,{"$f":"IF(B22='Parâmetros Gerais'!$I$4,'Parâmetros Gerais'!$F$4,IF(B22='Parâmetros Gerais'!$I$5,'Parâmetros Gerais'!$F$5,IF(B22='Parâmetros Gerais'!$I$6,'Parâmetros Gerais'!$F$6,0)))","v":0}]
[null,null,null,{"$f":"SUM(D8:D22)","v":0},0,0,0,0,0,0,0,0,0,0,0,0,0,0,0,0,0,0,0,0,0,0,0,0,0,0,0,0,0]
["Insumos",null,null,{"$f":"$C$25*D25+$C$26*D26+$C$27*D27+$C$28*D28+$C$29*D29+$C$30*D30+$C$31*D31+$C$32*D32+$C$33*D33+$C$34*D34+$C$35*D35+$C$36*D36+$C$37*D37+$C$38*D38+$C$39*D39+$C$40*D40+$C$41*D41+$C$42*D42+$C$43*D43+$C$44*D44","v":0},{"$f":"$C$25*E25+$C$26*E26+$C$27*E27+$C$28*E28+$C$29*E29+$C$30*E30+$C$31*E31+$C$32*E32+$C$33*E33+$C$34*E34+$C$35*E35+$C$36*E36+$C$37*E37+$C$38*E38+$C$39*E39+$C$40*E40+$C$41*E41+$C$42*E42+$C$43*E43+$C$44*E44","v":0},0,0,0,0,0,0,0,0,0,0,0,0,0,0,0,0,0,0,0,0,0,0,0,0,0,0,0,0]

{"sheet":"abacaxi","index":16,"n_rows":24,"n_cols":33,"rows_kept":24,"cut":false,"hidden":false,"merged":[]}
[{"$f":"'Parâmetros Gerais'!A1","v":"Análise Financeira de Sistemas Produtivos Integrados (V. 4.16 11/2016)"}]
[{"$f":"IF('Parâmetros Gerais'!B23<>\"\",'Parâmetros Gerais'!B23,\"\")","v":"fruto abacaxi"}]
[null,null,null,{"$f":"Produção!D3","v":"Período"}]
["Descrição","Unidade","Preço",1,2,3,4,5,6,7,8,9,10,11,12,13,14,15,16,17,18,19,20,21,22,23,24,25,26,27,28,29,30]
[]
[]
["Atividades",null,null,{"$f":"$C$8*D8+$C$9*D9+$C$10*D10+$C$11*D11+$C$12*D12+$C$13*D13+$C$14*D14+$C$15*D15+$C$16*D16+$C$17*D17+$C$18*D18+$C$19*D19+$C$20*D20+$C$21*D21+$C$22*D22","v":0},{"$f":"$C$8*E8+$C$9*E9+$C$10*E10+$C$11*E11+$C$12*E12+$C$13*E13+$C$14*E14+$C$15*E15+$C$16*E16+$C$17*E17+$C$18*E18+$C$19*E19+$C$20*E20+$C$21*E21+$C$22*E22","v":0},0,0,0,0,0,0,0,0,0,0,0,0,0,0,0,0,0,0,0,0,0,0,0,0,0,0,0,0]
[null,null,{"$f":"IF(B8='Parâmetros Gerais'!$I$4,'Parâmetros Gerais'!$F$4,IF(B8='Parâmetros Gerais'!$I$5,'Parâmetros Gerais'!$F$5,IF(B8='Parâmetros Gerais'!$I$6,'Parâmetros Gerais'!$F$6,0)))","v":0}]
[null,null,{"$f":"IF(B9='Parâmetros Gerais'!$I$4,'Parâmetros Gerais'!$F$4,IF(B9='Parâmetros Gerais'!$I$5,'Parâmetros Gerais'!$F$5,IF(B9='Parâmetros Gerais'!$I$6,'Parâmetros Gerais'!$F$6,0)))","v":0}]
[null,null,{"$f":"IF(B10='Parâmetros Gerais'!$I$4,'Parâmetros Gerais'!$F$4,IF(B10='Parâmetros Gerais'!$I$5,'Parâmetros Gerais'!$F$5,IF(B10='Parâmetros Gerais'!$I$6,'Parâmetros Gerais'!$F$6,0)))","v":0}]
[null,null,{"$f":"IF(B11='Parâmetros Gerais'!$I$4,'Parâmetros Gerais'!$F$4,IF(B11='Parâmetros Gerais'!$I$5,'Parâmetros Gerais'!$F$5,IF(B11='Parâmetros Gerais'!$I$6,'Parâmetros Gerais'!$F$6,0)))","v":0}]
[null,null,{"$f":"IF(B12='Parâmetros Gerais'!$I$4,'Parâmetros Gerais'!$F$4,IF(B12='Parâmetros Gerais'!$I$5,'Parâmetros Gerais'!$F$5,IF(B12='Parâmetros Gerais'!$I$6,'Parâmetros Gerais'!$F$6,0)))","v":0}]
[null,null,{"$f":"IF(B13='Parâmetros Gerais'!$I$4,'Parâmetros Gerais'!$F$4,IF(B13='Parâmetros Gerais'!$I$5,'Parâmetros Gerais'!$F$5,IF(B13='Parâmetros Gerais'!$I$6,'Parâmetros Gerais'!$F$6,0)))","v":0}]
[null,null,{"$f":"IF(B14='Parâmetros Gerais'!$I$4,'Parâmetros Gerais'!$F$4,IF(B14='Parâmetros Gerais'!$I$5,'Parâmetros Gerais'!$F$5,IF(B14='Parâmetros Gerais'!$I$6,'Parâmetros Gerais'!$F$6,0)))","v":0}]
[null,null,{"$f":"IF(B15='Parâmetros Gerais'!$I$4,'Parâmetros Gerais'!$F$4,IF(B15='Parâmetros Gerais'!$I$5,'Parâmetros Gerais'!$F$5,IF(B15='Parâmetros Gerais'!$I$6,'Parâmetros Gerais'!$F$6,0)))","v":0}]
[null,null,{"$f":"IF(B16='Parâmetros Gerais'!$I$4,'Parâmetros Gerais'!$F$4,IF(B16='Parâmetros Gerais'!$I$5,'Parâmetros Gerais'!$F$5,IF(B16='Parâmetros Gerais'!$I$6,'Parâmetros Gerais'!$F$6,0)))","v":0}]
[null,null,{"$f":"IF(B17='Parâmetros Gerais'!$I$4,'Parâmetros Gerais'!$F$4,IF(B17='Parâmetros Gerais'!$I$5,'Parâmetros Gerais'!$F$5,IF(B17='Parâmetros Gerais'!$I$6,'Parâmetros Gerais'!$F$6,0)))","v":0}]
[null,null,{"$f":"IF(B18='Parâmetros Gerais'!$I$4,'Parâmetros Gerais'!$F$4,IF(B18='Parâmetros Gerais'!$I$5,'Parâmetros Gerais'!$F$5,IF(B18='Parâmetros Gerais'!$I$6,'Parâmetros Gerais'!$F$6,0)))","v":0}]
[null,null,{"$f":"IF(B19='Parâmetros Gerais'!$I$4,'Parâmetros Gerais'!$F$4,IF(B19='Parâmetros Gerais'!$I$5,'Parâmetros Gerais'!$F$5,IF(B19='Parâmetros Gerais'!$I$6,'Parâmetros Gerais'!$F$6,0)))","v":0}]
[null,null,{"$f":"IF(B20='Parâmetros Gerais'!$I$4,'Parâmetros Gerais'!$F$4,IF(B20='Parâmetros Gerais'!$I$5,'Parâmetros Gerais'!$F$5,IF(B20='Parâmetros Gerais'!$I$6,'Parâmetros Gerais'!$F$6,0)))","v":0}]
[null,null,{"$f":"IF(B21='Parâmetros Gerais'!$I$4,'Parâmetros Gerais'!$F$4,IF(B21='Parâmetros Gerais'!$I$5,'Parâmetros Gerais'!$F$5,IF(B21='Parâmetros Gerais'!$I$6,'Parâmetros Gerais'!$F$6,0)))","v":0}]
[null,null,{"$f":"IF(B22='Parâmetros Gerais'!$I$4,'Parâmetros Gerais'!$F$4,IF(B22='Parâmetros Gerais'!$I$5,'Parâmetros Gerais'!$F$5,IF(B22='Parâmetros Gerais'!$I$6,'Parâmetros Gerais'!$F$6,0)))","v":0}]
[null,null,null,{"$f":"SUM(D8:D22)","v":0},0,0,0,0,0,0,0,0,0,0,0,0,0,0,0,0,0,0,0,0,0,0,0,0,0,0,0,0,0]
["Insumos",null,null,{"$f":"$C$25*D25+$C$26*D26+$C$27*D27+$C$28*D28+$C$29*D29+$C$30*D30+$C$31*D31+$C$32*D32+$C$33*D33+$C$34*D34+$C$35*D35+$C$36*D36+$C$37*D37+$C$38*D38+$C$39*D39+$C$40*D40+$C$41*D41+$C$42*D42+$C$43*D43+$C$44*D44","v":0},{"$f":"$C$25*E25+$C$26*E26+$C$27*E27+$C$28*E28+$C$29*E29+$C$30*E30+$C$31*E31+$C$32*E32+$C$33*E33+$C$34*E34+$C$35*E35+$C$36*E36+$C$37*E37+$C$38*E38+$C$39*E39+$C$40*E40+$C$41*E41+$C$42*E42+$C$43*E43+$C$44*E44","v":0},0,0,0,0,0,0,0,0,0,0,0,0,0,0,0,0,0,0,0,0,0,0,0,0,0,0,0,0]

{"sheet":"espigas","index":17,"n_rows":24,"n_cols":33,"rows_kept":24,"cut":false,"hidden":false,"merged":[]}
[{"$f":"'Parâmetros Gerais'!A1","v":"Análise Financeira de Sistemas Produtivos Integrados (V. 4.16 11/2016)"}]
[{"$f":"IF('Parâmetros Gerais'!B24<>\"\",'Parâmetros Gerais'!B24,\"\")","v":"espigas milho"}]
[null,null,null,{"$f":"Produção!D3","v":"Período"}]
["Descrição","Unidade","Preço",1,2,3,4,5,6,7,8,9,10,11,12,13,14,15,16,17,18,19,20,21,22,23,24,25,26,27,28,29,30]
[]
[]
["Atividades",null,null,{"$f":"$C$8*D8+$C$9*D9+$C$10*D10+$C$11*D11+$C$12*D12+$C$13*D13+$C$14*D14+$C$15*D15+$C$16*D16+$C$17*D17+$C$18*D18+$C$19*D19+$C$20*D20+$C$21*D21+$C$22*D22","v":0},{"$f":"$C$8*E8+$C$9*E9+$C$10*E10+$C$11*E11+$C$12*E12+$C$13*E13+$C$14*E14+$C$15*E15+$C$16*E16+$C$17*E17+$C$18*E18+$C$19*E19+$C$20*E20+$C$21*E21+$C$22*E22","v":0},0,0,0,0,0,0,0,0,0,0,0,0,0,0,0,0,0,0,0,0,0,0,0,0,0,0,0,0]
[null,null,{"$f":"IF(B8='Parâmetros Gerais'!$I$4,'Parâmetros Gerais'!$F$4,IF(B8='Parâmetros Gerais'!$I$5,'Parâmetros Gerais'!$F$5,IF(B8='Parâmetros Gerais'!$I$6,'Parâmetros Gerais'!$F$6,0)))","v":0}]
[null,null,{"$f":"IF(B9='Parâmetros Gerais'!$I$4,'Parâmetros Gerais'!$F$4,IF(B9='Parâmetros Gerais'!$I$5,'Parâmetros Gerais'!$F$5,IF(B9='Parâmetros Gerais'!$I$6,'Parâmetros Gerais'!$F$6,0)))","v":0}]
[null,null,{"$f":"IF(B10='Parâmetros Gerais'!$I$4,'Parâmetros Gerais'!$F$4,IF(B10='Parâmetros Gerais'!$I$5,'Parâmetros Gerais'!$F$5,IF(B10='Parâmetros Gerais'!$I$6,'Parâmetros Gerais'!$F$6,0)))","v":0}]
[null,null,{"$f":"IF(B11='Parâmetros Gerais'!$I$4,'Parâmetros Gerais'!$F$4,IF(B11='Parâmetros Gerais'!$I$5,'Parâmetros Gerais'!$F$5,IF(B11='Parâmetros Gerais'!$I$6,'Parâmetros Gerais'!$F$6,0)))","v":0}]
[null,null,{"$f":"IF(B12='Parâmetros Gerais'!$I$4,'Parâmetros Gerais'!$F$4,IF(B12='Parâmetros Gerais'!$I$5,'Parâmetros Gerais'!$F$5,IF(B12='Parâmetros Gerais'!$I$6,'Parâmetros Gerais'!$F$6,0)))","v":0}]
[null,null,{"$f":"IF(B13='Parâmetros Gerais'!$I$4,'Parâmetros Gerais'!$F$4,IF(B13='Parâmetros Gerais'!$I$5,'Parâmetros Gerais'!$F$5,IF(B13='Parâmetros Gerais'!$I$6,'Parâmetros Gerais'!$F$6,0)))","v":0}]
[null,null,{"$f":"IF(B14='Parâmetros Gerais'!$I$4,'Parâmetros Gerais'!$F$4,IF(B14='Parâmetros Gerais'!$I$5,'Parâmetros Gerais'!$F$5,IF(B14='Parâmetros Gerais'!$I$6,'Parâmetros Gerais'!$F$6,0)))","v":0}]
[null,null,{"$f":"IF(B15='Parâmetros Gerais'!$I$4,'Parâmetros Gerais'!$F$4,IF(B15='Parâmetros Gerais'!$I$5,'Parâmetros Gerais'!$F$5,IF(B15='Parâmetros Gerais'!$I$6,'Parâmetros Gerais'!$F$6,0)))","v":0}]
[null,null,{"$f":"IF(B16='Parâmetros Gerais'!$I$4,'Parâmetros Gerais'!$F$4,IF(B16='Parâmetros Gerais'!$I$5,'Parâmetros Gerais'!$F$5,IF(B16='Parâmetros Gerais'!$I$6,'Parâmetros Gerais'!$F$6,0)))","v":0}]
[null,null,{"$f":"IF(B17='Parâmetros Gerais'!$I$4,'Parâmetros Gerais'!$F$4,IF(B17='Parâmetros Gerais'!$I$5,'Parâmetros Gerais'!$F$5,IF(B17='Parâmetros Gerais'!$I$6,'Parâmetros Gerais'!$F$6,0)))","v":0}]
[null,null,{"$f":"IF(B18='Parâmetros Gerais'!$I$4,'Parâmetros Gerais'!$F$4,IF(B18='Parâmetros Gerais'!$I$5,'Parâmetros Gerais'!$F$5,IF(B18='Parâmetros Gerais'!$I$6,'Parâmetros Gerais'!$F$6,0)))","v":0}]
[null,null,{"$f":"IF(B19='Parâmetros Gerais'!$I$4,'Parâmetros Gerais'!$F$4,IF(B19='Parâmetros Gerais'!$I$5,'Parâmetros Gerais'!$F$5,IF(B19='Parâmetros Gerais'!$I$6,'Parâmetros Gerais'!$F$6,0)))","v":0}]
[null,null,{"$f":"IF(B20='Parâmetros Gerais'!$I$4,'Parâmetros Gerais'!$F$4,IF(B20='Parâmetros Gerais'!$I$5,'Parâmetros Gerais'!$F$5,IF(B20='Parâmetros Gerais'!$I$6,'Parâmetros Gerais'!$F$6,0)))","v":0}]
[null,null,{"$f":"IF(B21='Parâmetros Gerais'!$I$4,'Parâmetros Gerais'!$F$4,IF(B21='Parâmetros Gerais'!$I$5,'Parâmetros Gerais'!$F$5,IF(B21='Parâmetros Gerais'!$I$6,'Parâmetros Gerais'!$F$6,0)))","v":0}]
[null,null,{"$f":"IF(B22='Parâmetros Gerais'!$I$4,'Parâmetros Gerais'!$F$4,IF(B22='Parâmetros Gerais'!$I$5,'Parâmetros Gerais'!$F$5,IF(B22='Parâmetros Gerais'!$I$6,'Parâmetros Gerais'!$F$6,0)))","v":0}]
[null,null,null,{"$f":"SUM(D8:D22)","v":0},0,0,0,0,0,0,0,0,0,0,0,0,0,0,0,0,0,0,0,0,0,0,0,0,0,0,0,0,0]
["Insumos",null,null,{"$f":"$C$25*D25+$C$26*D26+$C$27*D27+$C$28*D28+$C$29*D29+$C$30*D30+$C$31*D31+$C$32*D32+$C$33*D33+$C$34*D34+$C$35*D35+$C$36*D36+$C$37*D37+$C$38*D38+$C$39*D39+$C$40*D40+$C$41*D41+$C$42*D42+$C$43*D43+$C$44*D44","v":0},{"$f":"$C$25*E25+$C$26*E26+$C$27*E27+$C$28*E28+$C$29*E29+$C$30*E30+$C$31*E31+$C$32*E32+$C$33*E33+$C$34*E34+$C$35*E35+$C$36*E36+$C$37*E37+$C$38*E38+$C$39*E39+$C$40*E40+$C$41*E41+$C$42*E42+$C$43*E43+$C$44*E44","v":0},0,0,0,0,0,0,0,0,0,0,0,0,0,0,0,0,0,0,0,0,0,0,0,0,0,0,0,0]

{"sheet":"semente caupi","index":18,"n_rows":24,"n_cols":33,"rows_kept":24,"cut":false,"hidden":false,"merged":[]}
[{"$f":"'Parâmetros Gerais'!A1","v":"Análise Financeira de Sistemas Produtivos Integrados (V. 4.16 11/2016)"}]
[{"$f":"IF('Parâmetros Gerais'!B25<>\"\",'Parâmetros Gerais'!B25,\"\")","v":"estaca sansão do campo"}]
[null,null,null,{"$f":"Produção!D3","v":"Período"}]
["Descrição","Unidade","Preço",1,2,3,4,5,6,7,8,9,10,11,12,13,14,15,16,17,18,19,20,21,22,23,24,25,26,27,28,29,30]
[]
[]
["Atividades",null,null,{"$f":"$C$8*D8+$C$9*D9+$C$10*D10+$C$11*D11+$C$12*D12+$C$13*D13+$C$14*D14+$C$15*D15+$C$16*D16+$C$17*D17+$C$18*D18+$C$19*D19+$C$20*D20+$C$21*D21+$C$22*D22","v":0},{"$f":"$C$8*E8+$C$9*E9+$C$10*E10+$C$11*E11+$C$12*E12+$C$13*E13+$C$14*E14+$C$15*E15+$C$16*E16+$C$17*E17+$C$18*E18+$C$19*E19+$C$20*E20+$C$21*E21+$C$22*E22","v":0},0,0,0,0,0,0,0,0,0,0,0,0,0,0,0,0,0,0,0,0,0,0,0,0,0,0,0,0]
[null,null,{"$f":"IF(B8='Parâmetros Gerais'!$I$4,'Parâmetros Gerais'!$F$4,IF(B8='Parâmetros Gerais'!$I$5,'Parâmetros Gerais'!$F$5,IF(B8='Parâmetros Gerais'!$I$6,'Parâmetros Gerais'!$F$6,0)))","v":0}]
[null,null,{"$f":"IF(B9='Parâmetros Gerais'!$I$4,'Parâmetros Gerais'!$F$4,IF(B9='Parâmetros Gerais'!$I$5,'Parâmetros Gerais'!$F$5,IF(B9='Parâmetros Gerais'!$I$6,'Parâmetros Gerais'!$F$6,0)))","v":0}]
[null,null,{"$f":"IF(B10='Parâmetros Gerais'!$I$4,'Parâmetros Gerais'!$F$4,IF(B10='Parâmetros Gerais'!$I$5,'Parâmetros Gerais'!$F$5,IF(B10='Parâmetros Gerais'!$I$6,'Parâmetros Gerais'!$F$6,0)))","v":0}]
[null,null,{"$f":"IF(B11='Parâmetros Gerais'!$I$4,'Parâmetros Gerais'!$F$4,IF(B11='Parâmetros Gerais'!$I$5,'Parâmetros Gerais'!$F$5,IF(B11='Parâmetros Gerais'!$I$6,'Parâmetros Gerais'!$F$6,0)))","v":0}]
[null,null,{"$f":"IF(B12='Parâmetros Gerais'!$I$4,'Parâmetros Gerais'!$F$4,IF(B12='Parâmetros Gerais'!$I$5,'Parâmetros Gerais'!$F$5,IF(B12='Parâmetros Gerais'!$I$6,'Parâmetros Gerais'!$F$6,0)))","v":0}]
[null,null,{"$f":"IF(B13='Parâmetros Gerais'!$I$4,'Parâmetros Gerais'!$F$4,IF(B13='Parâmetros Gerais'!$I$5,'Parâmetros Gerais'!$F$5,IF(B13='Parâmetros Gerais'!$I$6,'Parâmetros Gerais'!$F$6,0)))","v":0}]
[null,null,{"$f":"IF(B14='Parâmetros Gerais'!$I$4,'Parâmetros Gerais'!$F$4,IF(B14='Parâmetros Gerais'!$I$5,'Parâmetros Gerais'!$F$5,IF(B14='Parâmetros Gerais'!$I$6,'Parâmetros Gerais'!$F$6,0)))","v":0}]
[null,null,{"$f":"IF(B15='Parâmetros Gerais'!$I$4,'Parâmetros Gerais'!$F$4,IF(B15='Parâmetros Gerais'!$I$5,'Parâmetros Gerais'!$F$5,IF(B15='Parâmetros Gerais'!$I$6,'Parâmetros Gerais'!$F$6,0)))","v":0}]
[null,null,{"$f":"IF(B16='Parâmetros Gerais'!$I$4,'Parâmetros Gerais'!$F$4,IF(B16='Parâmetros Gerais'!$I$5,'Parâmetros Gerais'!$F$5,IF(B16='Parâmetros Gerais'!$I$6,'Parâmetros Gerais'!$F$6,0)))","v":0}]
[null,null,{"$f":"IF(B17='Parâmetros Gerais'!$I$4,'Parâmetros Gerais'!$F$4,IF(B17='Parâmetros Gerais'!$I$5,'Parâmetros Gerais'!$F$5,IF(B17='Parâmetros Gerais'!$I$6,'Parâmetros Gerais'!$F$6,0)))","v":0}]
[null,null,{"$f":"IF(B18='Parâmetros Gerais'!$I$4,'Parâmetros Gerais'!$F$4,IF(B18='Parâmetros Gerais'!$I$5,'Parâmetros Gerais'!$F$5,IF(B18='Parâmetros Gerais'!$I$6,'Parâmetros Gerais'!$F$6,0)))","v":0}]
[null,null,{"$f":"IF(B19='Parâmetros Gerais'!$I$4,'Parâmetros Gerais'!$F$4,IF(B19='Parâmetros Gerais'!$I$5,'Parâmetros Gerais'!$F$5,IF(B19='Parâmetros Gerais'!$I$6,'Parâmetros Gerais'!$F$6,0)))","v":0}]
[null,null,{"$f":"IF(B20='Parâmetros Gerais'!$I$4,'Parâmetros Gerais'!$F$4,IF(B20='Parâmetros Gerais'!$I$5,'Parâmetros Gerais'!$F$5,IF(B20='Parâmetros Gerais'!$I$6,'Parâmetros Gerais'!$F$6,0)))","v":0}]
[null,null,{"$f":"IF(B21='Parâmetros Gerais'!$I$4,'Parâmetros Gerais'!$F$4,IF(B21='Parâmetros Gerais'!$I$5,'Parâmetros Gerais'!$F$5,IF(B21='Parâmetros Gerais'!$I$6,'Parâmetros Gerais'!$F$6,0)))","v":0}]
[null,null,{"$f":"IF(B22='Parâmetros Gerais'!$I$4,'Parâmetros Gerais'!$F$4,IF(B22='Parâmetros Gerais'!$I$5,'Parâmetros Gerais'!$F$5,IF(B22='Parâmetros Gerais'!$I$6,'Parâmetros Gerais'!$F$6,0)))","v":0}]
[null,null,null,{"$f":"SUM(D8:D22)","v":0},0,0,0,0,0,0,0,0,0,0,0,0,0,0,0,0,0,0,0,0,0,0,0,0,0,0,0,0,0]
["Insumos",null,null,{"$f":"$C$25*D25+$C$26*D26+$C$27*D27+$C$28*D28+$C$29*D29+$C$30*D30+$C$31*D31+$C$32*D32+$C$33*D33+$C$34*D34+$C$35*D35+$C$36*D36+$C$37*D37+$C$38*D38+$C$39*D39+$C$40*D40+$C$41*D41+$C$42*D42+$C$43*D43+$C$44*D44","v":0},{"$f":"$C$25*E25+$C$26*E26+$C$27*E27+$C$28*E28+$C$29*E29+$C$30*E30+$C$31*E31+$C$32*E32+$C$33*E33+$C$34*E34+$C$35*E35+$C$36*E36+$C$37*E37+$C$38*E38+$C$39*E39+$C$40*E40+$C$41*E41+$C$42*E42+$C$43*E43+$C$44*E44","v":0},0,0,0,0,0,0,0,0,0,0,0,0,0,0,0,0,0,0,0,0,0,0,0,0,0,0,0,0]

{"sheet":"biomassa","index":19,"n_rows":24,"n_cols":33,"rows_kept":24,"cut":false,"hidden":false,"merged":[]}
[{"$f":"'Parâmetros Gerais'!A1","v":"Análise Financeira de Sistemas Produtivos Integrados (V. 4.16 11/2016)"}]
[{"$f":"IF('Parâmetros Gerais'!B26<>\"\",'Parâmetros Gerais'!B26,\"\")","v":"madeira madeira nova"}]
[null,null,null,{"$f":"Produção!D3","v":"Período"}]
["Descrição","Unidade","Preço",1,2,3,4,5,6,7,8,9,10,11,12,13,14,15,16,17,18,19,20,21,22,23,24,25,26,27,28,29,30]
[]
[]
["Atividades",null,null,{"$f":"$C$8*D8+$C$9*D9+$C$10*D10+$C$11*D11+$C$12*D12+$C$13*D13+$C$14*D14+$C$15*D15+$C$16*D16+$C$17*D17+$C$18*D18+$C$19*D19+$C$20*D20+$C$21*D21+$C$22*D22","v":0},{"$f":"$C$8*E8+$C$9*E9+$C$10*E10+$C$11*E11+$C$12*E12+$C$13*E13+$C$14*E14+$C$15*E15+$C$16*E16+$C$17*E17+$C$18*E18+$C$19*E19+$C$20*E20+$C$21*E21+$C$22*E22","v":0},0,0,0,0,0,0,0,0,0,0,0,0,0,0,0,0,0,0,0,0,0,0,0,0,0,0,0,0]
[null,null,{"$f":"IF(B8='Parâmetros Gerais'!$I$4,'Parâmetros Gerais'!$F$4,IF(B8='Parâmetros Gerais'!$I$5,'Parâmetros Gerais'!$F$5,IF(B8='Parâmetros Gerais'!$I$6,'Parâmetros Gerais'!$F$6,0)))","v":0}]
[null,null,{"$f":"IF(B9='Parâmetros Gerais'!$I$4,'Parâmetros Gerais'!$F$4,IF(B9='Parâmetros Gerais'!$I$5,'Parâmetros Gerais'!$F$5,IF(B9='Parâmetros Gerais'!$I$6,'Parâmetros Gerais'!$F$6,0)))","v":0}]
[null,null,{"$f":"IF(B10='Parâmetros Gerais'!$I$4,'Parâmetros Gerais'!$F$4,IF(B10='Parâmetros Gerais'!$I$5,'Parâmetros Gerais'!$F$5,IF(B10='Parâmetros Gerais'!$I$6,'Parâmetros Gerais'!$F$6,0)))","v":0}]
[null,null,{"$f":"IF(B11='Parâmetros Gerais'!$I$4,'Parâmetros Gerais'!$F$4,IF(B11='Parâmetros Gerais'!$I$5,'Parâmetros Gerais'!$F$5,IF(B11='Parâmetros Gerais'!$I$6,'Parâmetros Gerais'!$F$6,0)))","v":0}]
[null,null,{"$f":"IF(B12='Parâmetros Gerais'!$I$4,'Parâmetros Gerais'!$F$4,IF(B12='Parâmetros Gerais'!$I$5,'Parâmetros Gerais'!$F$5,IF(B12='Parâmetros Gerais'!$I$6,'Parâmetros Gerais'!$F$6,0)))","v":0}]
[null,null,{"$f":"IF(B13='Parâmetros Gerais'!$I$4,'Parâmetros Gerais'!$F$4,IF(B13='Parâmetros Gerais'!$I$5,'Parâmetros Gerais'!$F$5,IF(B13='Parâmetros Gerais'!$I$6,'Parâmetros Gerais'!$F$6,0)))","v":0}]
[null,null,{"$f":"IF(B14='Parâmetros Gerais'!$I$4,'Parâmetros Gerais'!$F$4,IF(B14='Parâmetros Gerais'!$I$5,'Parâmetros Gerais'!$F$5,IF(B14='Parâmetros Gerais'!$I$6,'Parâmetros Gerais'!$F$6,0)))","v":0}]
[null,null,{"$f":"IF(B15='Parâmetros Gerais'!$I$4,'Parâmetros Gerais'!$F$4,IF(B15='Parâmetros Gerais'!$I$5,'Parâmetros Gerais'!$F$5,IF(B15='Parâmetros Gerais'!$I$6,'Parâmetros Gerais'!$F$6,0)))","v":0}]
[null,null,{"$f":"IF(B16='Parâmetros Gerais'!$I$4,'Parâmetros Gerais'!$F$4,IF(B16='Parâmetros Gerais'!$I$5,'Parâmetros Gerais'!$F$5,IF(B16='Parâmetros Gerais'!$I$6,'Parâmetros Gerais'!$F$6,0)))","v":0}]
[null,null,{"$f":"IF(B17='Parâmetros Gerais'!$I$4,'Parâmetros Gerais'!$F$4,IF(B17='Parâmetros Gerais'!$I$5,'Parâmetros Gerais'!$F$5,IF(B17='Parâmetros Gerais'!$I$6,'Parâmetros Gerais'!$F$6,0)))","v":0}]
[null,null,{"$f":"IF(B18='Parâmetros Gerais'!$I$4,'Parâmetros Gerais'!$F$4,IF(B18='Parâmetros Gerais'!$I$5,'Parâmetros Gerais'!$F$5,IF(B18='Parâmetros Gerais'!$I$6,'Parâmetros Gerais'!$F$6,0)))","v":0}]
[null,null,{"$f":"IF(B19='Parâmetros Gerais'!$I$4,'Parâmetros Gerais'!$F$4,IF(B19='Parâmetros Gerais'!$I$5,'Parâmetros Gerais'!$F$5,IF(B19='Parâmetros Gerais'!$I$6,'Parâmetros Gerais'!$F$6,0)))","v":0}]
[null,null,{"$f":"IF(B20='Parâmetros Gerais'!$I$4,'Parâmetros Gerais'!$F$4,IF(B20='Parâmetros Gerais'!$I$5,'Parâmetros Gerais'!$F$5,IF(B20='Parâmetros Gerais'!$I$6,'Parâmetros Gerais'!$F$6,0)))","v":0}]
[null,null,{"$f":"IF(B21='Parâmetros Gerais'!$I$4,'Parâmetros Gerais'!$F$4,IF(B21='Parâmetros Gerais'!$I$5,'Parâmetros Gerais'!$F$5,IF(B21='Parâmetros Gerais'!$I$6,'Parâmetros Gerais'!$F$6,0)))","v":0}]
[null,null,{"$f":"IF(B22='Parâmetros Gerais'!$I$4,'Parâmetros Gerais'!$F$4,IF(B22='Parâmetros Gerais'!$I$5,'Parâmetros Gerais'!$F$5,IF(B22='Parâmetros Gerais'!$I$6,'Parâmetros Gerais'!$F$6,0)))","v":0}]
[null,null,null,{"$f":"SUM(D8:D22)","v":0},0,0,0,0,0,0,0,0,0,0,0,0,0,0,0,0,0,0,0,0,0,0,0,0,0,0,0,0,0]
["Insumos",null,null,{"$f":"$C$25*D25+$C$26*D26+$C$27*D27+$C$28*D28+$C$29*D29+$C$30*D30+$C$31*D31+$C$32*D32+$C$33*D33+$C$34*D34+$C$35*D35+$C$36*D36+$C$37*D37+$C$38*D38+$C$39*D39+$C$40*D40+$C$41*D41+$C$42*D42+$C$43*D43+$C$44*D44","v":0},{"$f":"$C$25*E25+$C$26*E26+$C$27*E27+$C$28*E28+$C$29*E29+$C$30*E30+$C$31*E31+$C$32*E32+$C$33*E33+$C$34*E34+$C$35*E35+$C$36*E36+$C$37*E37+$C$38*E38+$C$39*E39+$C$40*E40+$C$41*E41+$C$42*E42+$C$43*E43+$C$44*E44","v":0},0,0,0,0,0,0,0,0,0,0,0,0,0,0,0,0,0,0,0,0,0,0,0,0,0,0,0,0]

{"sheet":"madeira","index":20,"n_rows":24,"n_cols":33,"rows_kept":24,"cut":false,"hidden":false,"merged":[]}
[{"$f":"'Parâmetros Gerais'!A1","v":"Análise Financeira de Sistemas Produtivos Integrados (V. 4.16 11/2016)"}]
[{"$f":"IF('Parâmetros Gerais'!B27<>\"\",'Parâmetros Gerais'!B27,\"\")","v":"lenha fedegoso"}]
[null,null,null,{"$f":"Produção!D3","v":"Período"}]
["Descrição","Unidade","Preço",1,2,3,4,5,6,7,8,9,10,11,12,13,14,15,16,17,18,19,20,21,22,23,24,25,26,27,28,29,30]
[]
[]
["Atividades",null,null,{"$f":"$C$8*D8+$C$9*D9+$C$10*D10+$C$11*D11+$C$12*D12+$C$13*D13+$C$14*D14+$C$15*D15+$C$16*D16+$C$17*D17+$C$18*D18+$C$19*D19+$C$20*D20+$C$21*D21+$C$22*D22","v":0},{"$f":"$C$8*E8+$C$9*E9+$C$10*E10+$C$11*E11+$C$12*E12+$C$13*E13+$C$14*E14+$C$15*E15+$C$16*E16+$C$17*E17+$C$18*E18+$C$19*E19+$C$20*E20+$C$21*E21+$C$22*E22","v":0},0,0,0,0,0,0,0,0,0,0,0,0,0,0,0,0,0,0,0,0,0,0,0,0,0,0,0,0]
[null,null,{"$f":"IF(B8='Parâmetros Gerais'!$I$4,'Parâmetros Gerais'!$F$4,IF(B8='Parâmetros Gerais'!$I$5,'Parâmetros Gerais'!$F$5,IF(B8='Parâmetros Gerais'!$I$6,'Parâmetros Gerais'!$F$6,0)))","v":0}]
[null,null,{"$f":"IF(B9='Parâmetros Gerais'!$I$4,'Parâmetros Gerais'!$F$4,IF(B9='Parâmetros Gerais'!$I$5,'Parâmetros Gerais'!$F$5,IF(B9='Parâmetros Gerais'!$I$6,'Parâmetros Gerais'!$F$6,0)))","v":0}]
[null,null,{"$f":"IF(B10='Parâmetros Gerais'!$I$4,'Parâmetros Gerais'!$F$4,IF(B10='Parâmetros Gerais'!$I$5,'Parâmetros Gerais'!$F$5,IF(B10='Parâmetros Gerais'!$I$6,'Parâmetros Gerais'!$F$6,0)))","v":0}]
[null,null,{"$f":"IF(B11='Parâmetros Gerais'!$I$4,'Parâmetros Gerais'!$F$4,IF(B11='Parâmetros Gerais'!$I$5,'Parâmetros Gerais'!$F$5,IF(B11='Parâmetros Gerais'!$I$6,'Parâmetros Gerais'!$F$6,0)))","v":0}]
[null,null,{"$f":"IF(B12='Parâmetros Gerais'!$I$4,'Parâmetros Gerais'!$F$4,IF(B12='Parâmetros Gerais'!$I$5,'Parâmetros Gerais'!$F$5,IF(B12='Parâmetros Gerais'!$I$6,'Parâmetros Gerais'!$F$6,0)))","v":0}]
[null,null,{"$f":"IF(B13='Parâmetros Gerais'!$I$4,'Parâmetros Gerais'!$F$4,IF(B13='Parâmetros Gerais'!$I$5,'Parâmetros Gerais'!$F$5,IF(B13='Parâmetros Gerais'!$I$6,'Parâmetros Gerais'!$F$6,0)))","v":0}]
[null,null,{"$f":"IF(B14='Parâmetros Gerais'!$I$4,'Parâmetros Gerais'!$F$4,IF(B14='Parâmetros Gerais'!$I$5,'Parâmetros Gerais'!$F$5,IF(B14='Parâmetros Gerais'!$I$6,'Parâmetros Gerais'!$F$6,0)))","v":0}]
[null,null,{"$f":"IF(B15='Parâmetros Gerais'!$I$4,'Parâmetros Gerais'!$F$4,IF(B15='Parâmetros Gerais'!$I$5,'Parâmetros Gerais'!$F$5,IF(B15='Parâmetros Gerais'!$I$6,'Parâmetros Gerais'!$F$6,0)))","v":0}]
[null,null,{"$f":"IF(B16='Parâmetros Gerais'!$I$4,'Parâmetros Gerais'!$F$4,IF(B16='Parâmetros Gerais'!$I$5,'Parâmetros Gerais'!$F$5,IF(B16='Parâmetros Gerais'!$I$6,'Parâmetros Gerais'!$F$6,0)))","v":0}]
[null,null,{"$f":"IF(B17='Parâmetros Gerais'!$I$4,'Parâmetros Gerais'!$F$4,IF(B17='Parâmetros Gerais'!$I$5,'Parâmetros Gerais'!$F$5,IF(B17='Parâmetros Gerais'!$I$6,'Parâmetros Gerais'!$F$6,0)))","v":0}]
[null,null,{"$f":"IF(B18='Parâmetros Gerais'!$I$4,'Parâmetros Gerais'!$F$4,IF(B18='Parâmetros Gerais'!$I$5,'Parâmetros Gerais'!$F$5,IF(B18='Parâmetros Gerais'!$I$6,'Parâmetros Gerais'!$F$6,0)))","v":0}]
[null,null,{"$f":"IF(B19='Parâmetros Gerais'!$I$4,'Parâmetros Gerais'!$F$4,IF(B19='Parâmetros Gerais'!$I$5,'Parâmetros Gerais'!$F$5,IF(B19='Parâmetros Gerais'!$I$6,'Parâmetros Gerais'!$F$6,0)))","v":0}]
[null,null,{"$f":"IF(B20='Parâmetros Gerais'!$I$4,'Parâmetros Gerais'!$F$4,IF(B20='Parâmetros Gerais'!$I$5,'Parâmetros Gerais'!$F$5,IF(B20='Parâmetros Gerais'!$I$6,'Parâmetros Gerais'!$F$6,0)))","v":0}]
[null,null,{"$f":"IF(B21='Parâmetros Gerais'!$I$4,'Parâmetros Gerais'!$F$4,IF(B21='Parâmetros Gerais'!$I$5,'Parâmetros Gerais'!$F$5,IF(B21='Parâmetros Gerais'!$I$6,'Parâmetros Gerais'!$F$6,0)))","v":0}]
[null,null,{"$f":"IF(B22='Parâmetros Gerais'!$I$4,'Parâmetros Gerais'!$F$4,IF(B22='Parâmetros Gerais'!$I$5,'Parâmetros Gerais'!$F$5,IF(B22='Parâmetros Gerais'!$I$6,'Parâmetros Gerais'!$F$6,0)))","v":0}]
[null,null,null,{"$f":"SUM(D8:D22)","v":0},0,0,0,0,0,0,0,0,0,0,0,0,0,0,0,0,0,0,0,0,0,0,0,0,0,0,0,0,0]
["Insumos",null,null,{"$f":"$C$25*D25+$C$26*D26+$C$27*D27+$C$28*D28+$C$29*D29+$C$30*D30+$C$31*D31+$C$32*D32+$C$33*D33+$C$34*D34+$C$35*D35+$C$36*D36+$C$37*D37+$C$38*D38+$C$39*D39+$C$40*D40+$C$41*D41+$C$42*D42+$C$43*D43+$C$44*D44","v":0},{"$f":"$C$25*E25+$C$26*E26+$C$27*E27+$C$28*E28+$C$29*E29+$C$30*E30+$C$31*E31+$C$32*E32+$C$33*E33+$C$34*E34+$C$35*E35+$C$36*E36+$C$37*E37+$C$38*E38+$C$39*E39+$C$40*E40+$C$41*E41+$C$42*E42+$C$43*E43+$C$44*E44","v":0},0,0,0,0,0,0,0,0,0,0,0,0,0,0,0,0,0,0,0,0,0,0,0,0,0,0,0,0]

{"sheet":"Produto 15","index":21,"n_rows":24,"n_cols":33,"rows_kept":24,"cut":false,"hidden":false,"merged":[]}
[{"$f":"'Parâmetros Gerais'!A1","v":"Análise Financeira de Sistemas Produtivos Integrados (V. 4.16 11/2016)"}]
[{"$f":"IF('Parâmetros Gerais'!B28<>\"\",'Parâmetros Gerais'!B28,\"\")","v":"estaca pau d'alho"}]
[null,null,null,{"$f":"Produção!D3","v":"Período"}]
["Descrição","Unidade","Preço",1,2,3,4,5,6,7,8,9,10,11,12,13,14,15,16,17,18,19,20,21,22,23,24,25,26,27,28,29,30]
[]
[]
["Atividades",null,null,{"$f":"$C$8*D8+$C$9*D9+$C$10*D10+$C$11*D11+$C$12*D12+$C$13*D13+$C$14*D14+$C$15*D15+$C$16*D16+$C$17*D17+$C$18*D18+$C$19*D19+$C$20*D20+$C$21*D21+$C$22*D22","v":0},{"$f":"$C$8*E8+$C$9*E9+$C$10*E10+$C$11*E11+$C$12*E12+$C$13*E13+$C$14*E14+$C$15*E15+$C$16*E16+$C$17*E17+$C$18*E18+$C$19*E19+$C$20*E20+$C$21*E21+$C$22*E22","v":0},0,0,0,0,0,0,0,0,0,0,0,0,0,0,0,0,0,0,0,0,0,0,0,0,0,0,0,0]
[null,null,{"$f":"IF(B8='Parâmetros Gerais'!$I$4,'Parâmetros Gerais'!$F$4,IF(B8='Parâmetros Gerais'!$I$5,'Parâmetros Gerais'!$F$5,IF(B8='Parâmetros Gerais'!$I$6,'Parâmetros Gerais'!$F$6,0)))","v":0}]
[null,null,{"$f":"IF(B9='Parâmetros Gerais'!$I$4,'Parâmetros Gerais'!$F$4,IF(B9='Parâmetros Gerais'!$I$5,'Parâmetros Gerais'!$F$5,IF(B9='Parâmetros Gerais'!$I$6,'Parâmetros Gerais'!$F$6,0)))","v":0}]
[null,null,{"$f":"IF(B10='Parâmetros Gerais'!$I$4,'Parâmetros Gerais'!$F$4,IF(B10='Parâmetros Gerais'!$I$5,'Parâmetros Gerais'!$F$5,IF(B10='Parâmetros Gerais'!$I$6,'Parâmetros Gerais'!$F$6,0)))","v":0}]
[null,null,{"$f":"IF(B11='Parâmetros Gerais'!$I$4,'Parâmetros Gerais'!$F$4,IF(B11='Parâmetros Gerais'!$I$5,'Parâmetros Gerais'!$F$5,IF(B11='Parâmetros Gerais'!$I$6,'Parâmetros Gerais'!$F$6,0)))","v":0}]
[null,null,{"$f":"IF(B12='Parâmetros Gerais'!$I$4,'Parâmetros Gerais'!$F$4,IF(B12='Parâmetros Gerais'!$I$5,'Parâmetros Gerais'!$F$5,IF(B12='Parâmetros Gerais'!$I$6,'Parâmetros Gerais'!$F$6,0)))","v":0}]
[null,null,{"$f":"IF(B13='Parâmetros Gerais'!$I$4,'Parâmetros Gerais'!$F$4,IF(B13='Parâmetros Gerais'!$I$5,'Parâmetros Gerais'!$F$5,IF(B13='Parâmetros Gerais'!$I$6,'Parâmetros Gerais'!$F$6,0)))","v":0}]
[null,null,{"$f":"IF(B14='Parâmetros Gerais'!$I$4,'Parâmetros Gerais'!$F$4,IF(B14='Parâmetros Gerais'!$I$5,'Parâmetros Gerais'!$F$5,IF(B14='Parâmetros Gerais'!$I$6,'Parâmetros Gerais'!$F$6,0)))","v":0}]
[null,null,{"$f":"IF(B15='Parâmetros Gerais'!$I$4,'Parâmetros Gerais'!$F$4,IF(B15='Parâmetros Gerais'!$I$5,'Parâmetros Gerais'!$F$5,IF(B15='Parâmetros Gerais'!$I$6,'Parâmetros Gerais'!$F$6,0)))","v":0}]
[null,null,{"$f":"IF(B16='Parâmetros Gerais'!$I$4,'Parâmetros Gerais'!$F$4,IF(B16='Parâmetros Gerais'!$I$5,'Parâmetros Gerais'!$F$5,IF(B16='Parâmetros Gerais'!$I$6,'Parâmetros Gerais'!$F$6,0)))","v":0}]
[null,null,{"$f":"IF(B17='Parâmetros Gerais'!$I$4,'Parâmetros Gerais'!$F$4,IF(B17='Parâmetros Gerais'!$I$5,'Parâmetros Gerais'!$F$5,IF(B17='Parâmetros Gerais'!$I$6,'Parâmetros Gerais'!$F$6,0)))","v":0}]
[null,null,{"$f":"IF(B18='Parâmetros Gerais'!$I$4,'Parâmetros Gerais'!$F$4,IF(B18='Parâmetros Gerais'!$I$5,'Parâmetros Gerais'!$F$5,IF(B18='Parâmetros Gerais'!$I$6,'Parâmetros Gerais'!$F$6,0)))","v":0}]
[null,null,{"$f":"IF(B19='Parâmetros Gerais'!$I$4,'Parâmetros Gerais'!$F$4,IF(B19='Parâmetros Gerais'!$I$5,'Parâmetros Gerais'!$F$5,IF(B19='Parâmetros Gerais'!$I$6,'Parâmetros Gerais'!$F$6,0)))","v":0}]
[null,null,{"$f":"IF(B20='Parâmetros Gerais'!$I$4,'Parâmetros Gerais'!$F$4,IF(B20='Parâmetros Gerais'!$I$5,'Parâmetros Gerais'!$F$5,IF(B20='Parâmetros Gerais'!$I$6,'Parâmetros Gerais'!$F$6,0)))","v":0}]
[null,null,{"$f":"IF(B21='Parâmetros Gerais'!$I$4,'Parâmetros Gerais'!$F$4,IF(B21='Parâmetros Gerais'!$I$5,'Parâmetros Gerais'!$F$5,IF(B21='Parâmetros Gerais'!$I$6,'Parâmetros Gerais'!$F$6,0)))","v":0}]
[null,null,{"$f":"IF(B22='Parâmetros Gerais'!$I$4,'Parâmetros Gerais'!$F$4,IF(B22='Parâmetros Gerais'!$I$5,'Parâmetros Gerais'!$F$5,IF(B22='Parâmetros Gerais'!$I$6,'Parâmetros Gerais'!$F$6,0)))","v":0}]
[null,null,null,{"$f":"SUM(D8:D22)","v":0},0,0,0,0,0,0,0,0,0,0,0,0,0,0,0,0,0,0,0,0,0,0,0,0,0,0,0,0,0]
["Insumos",null,null,{"$f":"$C$25*D25+$C$26*D26+$C$27*D27+$C$28*D28+$C$29*D29+$C$30*D30+$C$31*D31+$C$32*D32+$C$33*D33+$C$34*D34+$C$35*D35+$C$36*D36+$C$37*D37+$C$38*D38+$C$39*D39+$C$40*D40+$C$41*D41+$C$42*D42+$C$43*D43+$C$44*D44","v":0},{"$f":"$C$25*E25+$C$26*E26+$C$27*E27+$C$28*E28+$C$29*E29+$C$30*E30+$C$31*E31+$C$32*E32+$C$33*E33+$C$34*E34+$C$35*E35+$C$36*E36+$C$37*E37+$C$38*E38+$C$39*E39+$C$40*E40+$C$41*E41+$C$42*E42+$C$43*E43+$C$44*E44","v":0},0,0,0,0,0,0,0,0,0,0,0,0,0,0,0,0,0,0,0,0,0,0,0,0,0,0,0,0]

{"sheet":"Produto 16","index":22,"n_rows":24,"n_cols":33,"rows_kept":24,"cut":false,"hidden":false,"merged":[]}
[{"$f":"'Parâmetros Gerais'!A1","v":"Análise Financeira de Sistemas Produtivos Integrados (V. 4.16 11/2016)"}]
[{"$f":"IF('Parâmetros Gerais'!B29<>\"\",'Parâmetros Gerais'!B29,\"\")","v":"caixotaria boleira"}]
[null,null,null,{"$f":"Produção!D3","v":"Período"}]
["Descrição","Unidade","Preço",1,2,3,4,5,6,7,8,9,10,11,12,13,14,15,16,17,18,19,20,21,22,23,24,25,26,27,28,29,30]
[]
[]
["Atividades",null,null,{"$f":"$C$8*D8+$C$9*D9+$C$10*D10+$C$11*D11+$C$12*D12+$C$13*D13+$C$14*D14+$C$15*D15+$C$16*D16+$C$17*D17+$C$18*D18+$C$19*D19+$C$20*D20+$C$21*D21+$C$22*D22","v":0},{"$f":"$C$8*E8+$C$9*E9+$C$10*E10+$C$11*E11+$C$12*E12+$C$13*E13+$C$14*E14+$C$15*E15+$C$16*E16+$C$17*E17+$C$18*E18+$C$19*E19+$C$20*E20+$C$21*E21+$C$22*E22","v":0},0,0,0,0,0,0,0,0,0,0,0,0,0,0,0,0,0,0,0,0,0,0,0,0,0,0,0,0]
[null,null,{"$f":"IF(B8='Parâmetros Gerais'!$I$4,'Parâmetros Gerais'!$F$4,IF(B8='Parâmetros Gerais'!$I$5,'Parâmetros Gerais'!$F$5,IF(B8='Parâmetros Gerais'!$I$6,'Parâmetros Gerais'!$F$6,0)))","v":0}]
[null,null,{"$f":"IF(B9='Parâmetros Gerais'!$I$4,'Parâmetros Gerais'!$F$4,IF(B9='Parâmetros Gerais'!$I$5,'Parâmetros Gerais'!$F$5,IF(B9='Parâmetros Gerais'!$I$6,'Parâmetros Gerais'!$F$6,0)))","v":0}]
[null,null,{"$f":"IF(B10='Parâmetros Gerais'!$I$4,'Parâmetros Gerais'!$F$4,IF(B10='Parâmetros Gerais'!$I$5,'Parâmetros Gerais'!$F$5,IF(B10='Parâmetros Gerais'!$I$6,'Parâmetros Gerais'!$F$6,0)))","v":0}]
[null,null,{"$f":"IF(B11='Parâmetros Gerais'!$I$4,'Parâmetros Gerais'!$F$4,IF(B11='Parâmetros Gerais'!$I$5,'Parâmetros Gerais'!$F$5,IF(B11='Parâmetros Gerais'!$I$6,'Parâmetros Gerais'!$F$6,0)))","v":0}]
[null,null,{"$f":"IF(B12='Parâmetros Gerais'!$I$4,'Parâmetros Gerais'!$F$4,IF(B12='Parâmetros Gerais'!$I$5,'Parâmetros Gerais'!$F$5,IF(B12='Parâmetros Gerais'!$I$6,'Parâmetros Gerais'!$F$6,0)))","v":0}]
[null,null,{"$f":"IF(B13='Parâmetros Gerais'!$I$4,'Parâmetros Gerais'!$F$4,IF(B13='Parâmetros Gerais'!$I$5,'Parâmetros Gerais'!$F$5,IF(B13='Parâmetros Gerais'!$I$6,'Parâmetros Gerais'!$F$6,0)))","v":0}]
[null,null,{"$f":"IF(B14='Parâmetros Gerais'!$I$4,'Parâmetros Gerais'!$F$4,IF(B14='Parâmetros Gerais'!$I$5,'Parâmetros Gerais'!$F$5,IF(B14='Parâmetros Gerais'!$I$6,'Parâmetros Gerais'!$F$6,0)))","v":0}]
[null,null,{"$f":"IF(B15='Parâmetros Gerais'!$I$4,'Parâmetros Gerais'!$F$4,IF(B15='Parâmetros Gerais'!$I$5,'Parâmetros Gerais'!$F$5,IF(B15='Parâmetros Gerais'!$I$6,'Parâmetros Gerais'!$F$6,0)))","v":0}]
[null,null,{"$f":"IF(B16='Parâmetros Gerais'!$I$4,'Parâmetros Gerais'!$F$4,IF(B16='Parâmetros Gerais'!$I$5,'Parâmetros Gerais'!$F$5,IF(B16='Parâmetros Gerais'!$I$6,'Parâmetros Gerais'!$F$6,0)))","v":0}]
[null,null,{"$f":"IF(B17='Parâmetros Gerais'!$I$4,'Parâmetros Gerais'!$F$4,IF(B17='Parâmetros Gerais'!$I$5,'Parâmetros Gerais'!$F$5,IF(B17='Parâmetros Gerais'!$I$6,'Parâmetros Gerais'!$F$6,0)))","v":0}]
[null,null,{"$f":"IF(B18='Parâmetros Gerais'!$I$4,'Parâmetros Gerais'!$F$4,IF(B18='Parâmetros Gerais'!$I$5,'Parâmetros Gerais'!$F$5,IF(B18='Parâmetros Gerais'!$I$6,'Parâmetros Gerais'!$F$6,0)))","v":0}]
[null,null,{"$f":"IF(B19='Parâmetros Gerais'!$I$4,'Parâmetros Gerais'!$F$4,IF(B19='Parâmetros Gerais'!$I$5,'Parâmetros Gerais'!$F$5,IF(B19='Parâmetros Gerais'!$I$6,'Parâmetros Gerais'!$F$6,0)))","v":0}]
[null,null,{"$f":"IF(B20='Parâmetros Gerais'!$I$4,'Parâmetros Gerais'!$F$4,IF(B20='Parâmetros Gerais'!$I$5,'Parâmetros Gerais'!$F$5,IF(B20='Parâmetros Gerais'!$I$6,'Parâmetros Gerais'!$F$6,0)))","v":0}]
[null,null,{"$f":"IF(B21='Parâmetros Gerais'!$I$4,'Parâmetros Gerais'!$F$4,IF(B21='Parâmetros Gerais'!$I$5,'Parâmetros Gerais'!$F$5,IF(B21='Parâmetros Gerais'!$I$6,'Parâmetros Gerais'!$F$6,0)))","v":0}]
[null,null,{"$f":"IF(B22='Parâmetros Gerais'!$I$4,'Parâmetros Gerais'!$F$4,IF(B22='Parâmetros Gerais'!$I$5,'Parâmetros Gerais'!$F$5,IF(B22='Parâmetros Gerais'!$I$6,'Parâmetros Gerais'!$F$6,0)))","v":0}]
[null,null,null,{"$f":"SUM(D8:D22)","v":0},0,0,0,0,0,0,0,0,0,0,0,0,0,0,0,0,0,0,0,0,0,0,0,0,0,0,0,0,0]
["Insumos",null,null,{"$f":"$C$25*D25+$C$26*D26+$C$27*D27+$C$28*D28+$C$29*D29+$C$30*D30+$C$31*D31+$C$32*D32+$C$33*D33+$C$34*D34+$C$35*D35+$C$36*D36+$C$37*D37+$C$38*D38+$C$39*D39+$C$40*D40+$C$41*D41+$C$42*D42+$C$43*D43+$C$44*D44","v":0},{"$f":"$C$25*E25+$C$26*E26+$C$27*E27+$C$28*E28+$C$29*E29+$C$30*E30+$C$31*E31+$C$32*E32+$C$33*E33+$C$34*E34+$C$35*E35+$C$36*E36+$C$37*E37+$C$38*E38+$C$39*E39+$C$40*E40+$C$41*E41+$C$42*E42+$C$43*E43+$C$44*E44","v":0},0,0,0,0,0,0,0,0,0,0,0,0,0,0,0,0,0,0,0,0,0,0,0,0,0,0,0,0]

{"sheet":"Produto 17","index":23,"n_rows":24,"n_cols":33,"rows_kept":24,"cut":false,"hidden":false,"merged":[]}
[{"$f":"'Parâmetros Gerais'!A1","v":"Análise Financeira de Sistemas Produtivos Integrados (V. 4.16 11/2016)"}]
[{"$f":"IF('Parâmetros Gerais'!B30<>\"\",'Parâmetros Gerais'!B30,\"\")","v":"madeira angico roxo"}]
[null,null,null,{"$f":"Produção!D3","v":"Período"}]
["Descrição","Unidade","Preço",1,2,3,4,5,6,7,8,9,10,11,12,13,14,15,16,17,18,19,20,21,22,23,24,25,26,27,28,29,30]
[]
[]
["Atividades",null,null,{"$f":"$C$8*D8+$C$9*D9+$C$10*D10+$C$11*D11+$C$12*D12+$C$13*D13+$C$14*D14+$C$15*D15+$C$16*D16+$C$17*D17+$C$18*D18+$C$19*D19+$C$20*D20+$C$21*D21+$C$22*D22","v":0},{"$f":"$C$8*E8+$C$9*E9+$C$10*E10+$C$11*E11+$C$12*E12+$C$13*E13+$C$14*E14+$C$15*E15+$C$16*E16+$C$17*E17+$C$18*E18+$C$19*E19+$C$20*E20+$C$21*E21+$C$22*E22","v":0},0,0,0,0,0,0,0,0,0,0,0,0,0,0,0,0,0,0,0,0,0,0,0,0,0,0,0,0]
[null,null,{"$f":"IF(B8='Parâmetros Gerais'!$I$4,'Parâmetros Gerais'!$F$4,IF(B8='Parâmetros Gerais'!$I$5,'Parâmetros Gerais'!$F$5,IF(B8='Parâmetros Gerais'!$I$6,'Parâmetros Gerais'!$F$6,0)))","v":0}]
[null,null,{"$f":"IF(B9='Parâmetros Gerais'!$I$4,'Parâmetros Gerais'!$F$4,IF(B9='Parâmetros Gerais'!$I$5,'Parâmetros Gerais'!$F$5,IF(B9='Parâmetros Gerais'!$I$6,'Parâmetros Gerais'!$F$6,0)))","v":0}]
[null,null,{"$f":"IF(B10='Parâmetros Gerais'!$I$4,'Parâmetros Gerais'!$F$4,IF(B10='Parâmetros Gerais'!$I$5,'Parâmetros Gerais'!$F$5,IF(B10='Parâmetros Gerais'!$I$6,'Parâmetros Gerais'!$F$6,0)))","v":0}]
[null,null,{"$f":"IF(B11='Parâmetros Gerais'!$I$4,'Parâmetros Gerais'!$F$4,IF(B11='Parâmetros Gerais'!$I$5,'Parâmetros Gerais'!$F$5,IF(B11='Parâmetros Gerais'!$I$6,'Parâmetros Gerais'!$F$6,0)))","v":0}]
[null,null,{"$f":"IF(B12='Parâmetros Gerais'!$I$4,'Parâmetros Gerais'!$F$4,IF(B12='Parâmetros Gerais'!$I$5,'Parâmetros Gerais'!$F$5,IF(B12='Parâmetros Gerais'!$I$6,'Parâmetros Gerais'!$F$6,0)))","v":0}]
[null,null,{"$f":"IF(B13='Parâmetros Gerais'!$I$4,'Parâmetros Gerais'!$F$4,IF(B13='Parâmetros Gerais'!$I$5,'Parâmetros Gerais'!$F$5,IF(B13='Parâmetros Gerais'!$I$6,'Parâmetros Gerais'!$F$6,0)))","v":0}]
[null,null,{"$f":"IF(B14='Parâmetros Gerais'!$I$4,'Parâmetros Gerais'!$F$4,IF(B14='Parâmetros Gerais'!$I$5,'Parâmetros Gerais'!$F$5,IF(B14='Parâmetros Gerais'!$I$6,'Parâmetros Gerais'!$F$6,0)))","v":0}]
[null,null,{"$f":"IF(B15='Parâmetros Gerais'!$I$4,'Parâmetros Gerais'!$F$4,IF(B15='Parâmetros Gerais'!$I$5,'Parâmetros Gerais'!$F$5,IF(B15='Parâmetros Gerais'!$I$6,'Parâmetros Gerais'!$F$6,0)))","v":0}]
[null,null,{"$f":"IF(B16='Parâmetros Gerais'!$I$4,'Parâmetros Gerais'!$F$4,IF(B16='Parâmetros Gerais'!$I$5,'Parâmetros Gerais'!$F$5,IF(B16='Parâmetros Gerais'!$I$6,'Parâmetros Gerais'!$F$6,0)))","v":0}]
[null,null,{"$f":"IF(B17='Parâmetros Gerais'!$I$4,'Parâmetros Gerais'!$F$4,IF(B17='Parâmetros Gerais'!$I$5,'Parâmetros Gerais'!$F$5,IF(B17='Parâmetros Gerais'!$I$6,'Parâmetros Gerais'!$F$6,0)))","v":0}]
[null,null,{"$f":"IF(B18='Parâmetros Gerais'!$I$4,'Parâmetros Gerais'!$F$4,IF(B18='Parâmetros Gerais'!$I$5,'Parâmetros Gerais'!$F$5,IF(B18='Parâmetros Gerais'!$I$6,'Parâmetros Gerais'!$F$6,0)))","v":0}]
[null,null,{"$f":"IF(B19='Parâmetros Gerais'!$I$4,'Parâmetros Gerais'!$F$4,IF(B19='Parâmetros Gerais'!$I$5,'Parâmetros Gerais'!$F$5,IF(B19='Parâmetros Gerais'!$I$6,'Parâmetros Gerais'!$F$6,0)))","v":0}]
[null,null,{"$f":"IF(B20='Parâmetros Gerais'!$I$4,'Parâmetros Gerais'!$F$4,IF(B20='Parâmetros Gerais'!$I$5,'Parâmetros Gerais'!$F$5,IF(B20='Parâmetros Gerais'!$I$6,'Parâmetros Gerais'!$F$6,0)))","v":0}]
[null,null,{"$f":"IF(B21='Parâmetros Gerais'!$I$4,'Parâmetros Gerais'!$F$4,IF(B21='Parâmetros Gerais'!$I$5,'Parâmetros Gerais'!$F$5,IF(B21='Parâmetros Gerais'!$I$6,'Parâmetros Gerais'!$F$6,0)))","v":0}]
[null,null,{"$f":"IF(B22='Parâmetros Gerais'!$I$4,'Parâmetros Gerais'!$F$4,IF(B22='Parâmetros Gerais'!$I$5,'Parâmetros Gerais'!$F$5,IF(B22='Parâmetros Gerais'!$I$6,'Parâmetros Gerais'!$F$6,0)))","v":0}]
[null,null,null,{"$f":"SUM(D8:D22)","v":0},0,0,0,0,0,0,0,0,0,0,0,0,0,0,0,0,0,0,0,0,0,0,0,0,0,0,0,0,0]
["Insumos",null,null,{"$f":"$C$25*D25+$C$26*D26+$C$27*D27+$C$28*D28+$C$29*D29+$C$30*D30+$C$31*D31+$C$32*D32+$C$33*D33+$C$34*D34+$C$35*D35+$C$36*D36+$C$37*D37+$C$38*D38+$C$39*D39+$C$40*D40+$C$41*D41+$C$42*D42+$C$43*D43+$C$44*D44","v":0},{"$f":"$C$25*E25+$C$26*E26+$C$27*E27+$C$28*E28+$C$29*E29+$C$30*E30+$C$31*E31+$C$32*E32+$C$33*E33+$C$34*E34+$C$35*E35+$C$36*E36+$C$37*E37+$C$38*E38+$C$39*E39+$C$40*E40+$C$41*E41+$C$42*E42+$C$43*E43+$C$44*E44","v":0},0,0,0,0,0,0,0,0,0,0,0,0,0,0,0,0,0,0,0,0,0,0,0,0,0,0,0,0]

{"sheet":"Produto 18","index":24,"n_rows":24,"n_cols":33,"rows_kept":24,"cut":false,"hidden":false,"merged":[]}
[{"$f":"'Parâmetros Gerais'!A1","v":"Análise Financeira de Sistemas Produtivos Integrados (V. 4.16 11/2016)"}]
[{"$f":"IF('Parâmetros Gerais'!B31<>\"\",'Parâmetros Gerais'!B31,\"\")","v":"madeira ipê roxo"}]
[null,null,null,{"$f":"Produção!D3","v":"Período"}]
["Descrição","Unidade","Preço",1,2,3,4,5,6,7,8,9,10,11,12,13,14,15,16,17,18,19,20,21,22,23,24,25,26,27,28,29,30]
[]
[]
["Atividades",null,null,{"$f":"$C$8*D8+$C$9*D9+$C$10*D10+$C$11*D11+$C$12*D12+$C$13*D13+$C$14*D14+$C$15*D15+$C$16*D16+$C$17*D17+$C$18*D18+$C$19*D19+$C$20*D20+$C$21*D21+$C$22*D22","v":0},{"$f":"$C$8*E8+$C$9*E9+$C$10*E10+$C$11*E11+$C$12*E12+$C$13*E13+$C$14*E14+$C$15*E15+$C$16*E16+$C$17*E17+$C$18*E18+$C$19*E19+$C$20*E20+$C$21*E21+$C$22*E22","v":0},0,0,0,0,0,0,0,0,0,0,0,0,0,0,0,0,0,0,0,0,0,0,0,0,0,0,0,0]
[null,null,{"$f":"IF(B8='Parâmetros Gerais'!$I$4,'Parâmetros Gerais'!$F$4,IF(B8='Parâmetros Gerais'!$I$5,'Parâmetros Gerais'!$F$5,IF(B8='Parâmetros Gerais'!$I$6,'Parâmetros Gerais'!$F$6,0)))","v":0}]
[null,null,{"$f":"IF(B9='Parâmetros Gerais'!$I$4,'Parâmetros Gerais'!$F$4,IF(B9='Parâmetros Gerais'!$I$5,'Parâmetros Gerais'!$F$5,IF(B9='Parâmetros Gerais'!$I$6,'Parâmetros Gerais'!$F$6,0)))","v":0}]
[null,null,{"$f":"IF(B10='Parâmetros Gerais'!$I$4,'Parâmetros Gerais'!$F$4,IF(B10='Parâmetros Gerais'!$I$5,'Parâmetros Gerais'!$F$5,IF(B10='Parâmetros Gerais'!$I$6,'Parâmetros Gerais'!$F$6,0)))","v":0}]
[null,null,{"$f":"IF(B11='Parâmetros Gerais'!$I$4,'Parâmetros Gerais'!$F$4,IF(B11='Parâmetros Gerais'!$I$5,'Parâmetros Gerais'!$F$5,IF(B11='Parâmetros Gerais'!$I$6,'Parâmetros Gerais'!$F$6,0)))","v":0}]
[null,null,{"$f":"IF(B12='Parâmetros Gerais'!$I$4,'Parâmetros Gerais'!$F$4,IF(B12='Parâmetros Gerais'!$I$5,'Parâmetros Gerais'!$F$5,IF(B12='Parâmetros Gerais'!$I$6,'Parâmetros Gerais'!$F$6,0)))","v":0}]
[null,null,{"$f":"IF(B13='Parâmetros Gerais'!$I$4,'Parâmetros Gerais'!$F$4,IF(B13='Parâmetros Gerais'!$I$5,'Parâmetros Gerais'!$F$5,IF(B13='Parâmetros Gerais'!$I$6,'Parâmetros Gerais'!$F$6,0)))","v":0}]
[null,null,{"$f":"IF(B14='Parâmetros Gerais'!$I$4,'Parâmetros Gerais'!$F$4,IF(B14='Parâmetros Gerais'!$I$5,'Parâmetros Gerais'!$F$5,IF(B14='Parâmetros Gerais'!$I$6,'Parâmetros Gerais'!$F$6,0)))","v":0}]
[null,null,{"$f":"IF(B15='Parâmetros Gerais'!$I$4,'Parâmetros Gerais'!$F$4,IF(B15='Parâmetros Gerais'!$I$5,'Parâmetros Gerais'!$F$5,IF(B15='Parâmetros Gerais'!$I$6,'Parâmetros Gerais'!$F$6,0)))","v":0}]
[null,null,{"$f":"IF(B16='Parâmetros Gerais'!$I$4,'Parâmetros Gerais'!$F$4,IF(B16='Parâmetros Gerais'!$I$5,'Parâmetros Gerais'!$F$5,IF(B16='Parâmetros Gerais'!$I$6,'Parâmetros Gerais'!$F$6,0)))","v":0}]
[null,null,{"$f":"IF(B17='Parâmetros Gerais'!$I$4,'Parâmetros Gerais'!$F$4,IF(B17='Parâmetros Gerais'!$I$5,'Parâmetros Gerais'!$F$5,IF(B17='Parâmetros Gerais'!$I$6,'Parâmetros Gerais'!$F$6,0)))","v":0}]
[null,null,{"$f":"IF(B18='Parâmetros Gerais'!$I$4,'Parâmetros Gerais'!$F$4,IF(B18='Parâmetros Gerais'!$I$5,'Parâmetros Gerais'!$F$5,IF(B18='Parâmetros Gerais'!$I$6,'Parâmetros Gerais'!$F$6,0)))","v":0}]
[null,null,{"$f":"IF(B19='Parâmetros Gerais'!$I$4,'Parâmetros Gerais'!$F$4,IF(B19='Parâmetros Gerais'!$I$5,'Parâmetros Gerais'!$F$5,IF(B19='Parâmetros Gerais'!$I$6,'Parâmetros Gerais'!$F$6,0)))","v":0}]
[null,null,{"$f":"IF(B20='Parâmetros Gerais'!$I$4,'Parâmetros Gerais'!$F$4,IF(B20='Parâmetros Gerais'!$I$5,'Parâmetros Gerais'!$F$5,IF(B20='Parâmetros Gerais'!$I$6,'Parâmetros Gerais'!$F$6,0)))","v":0}]
[null,null,{"$f":"IF(B21='Parâmetros Gerais'!$I$4,'Parâmetros Gerais'!$F$4,IF(B21='Parâmetros Gerais'!$I$5,'Parâmetros Gerais'!$F$5,IF(B21='Parâmetros Gerais'!$I$6,'Parâmetros Gerais'!$F$6,0)))","v":0}]
[null,null,{"$f":"IF(B22='Parâmetros Gerais'!$I$4,'Parâmetros Gerais'!$F$4,IF(B22='Parâmetros Gerais'!$I$5,'Parâmetros Gerais'!$F$5,IF(B22='Parâmetros Gerais'!$I$6,'Parâmetros Gerais'!$F$6,0)))","v":0}]
[null,null,null,{"$f":"SUM(D8:D22)","v":0},0,0,0,0,0,0,0,0,0,0,0,0,0,0,0,0,0,0,0,0,0,0,0,0,0,0,0,0,0]
["Insumos",null,null,{"$f":"$C$25*D25+$C$26*D26+$C$27*D27+$C$28*D28+$C$29*D29+$C$30*D30+$C$31*D31+$C$32*D32+$C$33*D33+$C$34*D34+$C$35*D35+$C$36*D36+$C$37*D37+$C$38*D38+$C$39*D39+$C$40*D40+$C$41*D41+$C$42*D42+$C$43*D43+$C$44*D44","v":0},{"$f":"$C$25*E25+$C$26*E26+$C$27*E27+$C$28*E28+$C$29*E29+$C$30*E30+$C$31*E31+$C$32*E32+$C$33*E33+$C$34*E34+$C$35*E35+$C$36*E36+$C$37*E37+$C$38*E38+$C$39*E39+$C$40*E40+$C$41*E41+$C$42*E42+$C$43*E43+$C$44*E44","v":0},0,0,0,0,0,0,0,0,0,0,0,0,0,0,0,0,0,0,0,0,0,0,0,0,0,0,0,0]

{"sheet":"Produto 19","index":25,"n_rows":24,"n_cols":33,"rows_kept":24,"cut":false,"hidden":false,"merged":[]}
[{"$f":"'Parâmetros Gerais'!A1","v":"Análise Financeira de Sistemas Produtivos Integrados (V. 4.16 11/2016)"}]
[{"$f":"IF('Parâmetros Gerais'!B32<>\"\",'Parâmetros Gerais'!B32,\"\")","v":"madeira ipê amarelo"}]
[null,null,null,{"$f":"Produção!D3","v":"Período"}]
["Descrição","Unidade","Preço",1,2,3,4,5,6,7,8,9,10,11,12,13,14,15,16,17,18,19,20,21,22,23,24,25,26,27,28,29,30]
[]
[]
["Atividades",null,null,{"$f":"$C$8*D8+$C$9*D9+$C$10*D10+$C$11*D11+$C$12*D12+$C$13*D13+$C$14*D14+$C$15*D15+$C$16*D16+$C$17*D17+$C$18*D18+$C$19*D19+$C$20*D20+$C$21*D21+$C$22*D22","v":0},{"$f":"$C$8*E8+$C$9*E9+$C$10*E10+$C$11*E11+$C$12*E12+$C$13*E13+$C$14*E14+$C$15*E15+$C$16*E16+$C$17*E17+$C$18*E18+$C$19*E19+$C$20*E20+$C$21*E21+$C$22*E22","v":0},0,0,0,0,0,0,0,0,0,0,0,0,0,0,0,0,0,0,0,0,0,0,0,0,0,0,0,0]
[null,null,{"$f":"IF(B8='Parâmetros Gerais'!$I$4,'Parâmetros Gerais'!$F$4,IF(B8='Parâmetros Gerais'!$I$5,'Parâmetros Gerais'!$F$5,IF(B8='Parâmetros Gerais'!$I$6,'Parâmetros Gerais'!$F$6,0)))","v":0}]
[null,null,{"$f":"IF(B9='Parâmetros Gerais'!$I$4,'Parâmetros Gerais'!$F$4,IF(B9='Parâmetros Gerais'!$I$5,'Parâmetros Gerais'!$F$5,IF(B9='Parâmetros Gerais'!$I$6,'Parâmetros Gerais'!$F$6,0)))","v":0}]
[null,null,{"$f":"IF(B10='Parâmetros Gerais'!$I$4,'Parâmetros Gerais'!$F$4,IF(B10='Parâmetros Gerais'!$I$5,'Parâmetros Gerais'!$F$5,IF(B10='Parâmetros Gerais'!$I$6,'Parâmetros Gerais'!$F$6,0)))","v":0}]
[null,null,{"$f":"IF(B11='Parâmetros Gerais'!$I$4,'Parâmetros Gerais'!$F$4,IF(B11='Parâmetros Gerais'!$I$5,'Parâmetros Gerais'!$F$5,IF(B11='Parâmetros Gerais'!$I$6,'Parâmetros Gerais'!$F$6,0)))","v":0}]
[null,null,{"$f":"IF(B12='Parâmetros Gerais'!$I$4,'Parâmetros Gerais'!$F$4,IF(B12='Parâmetros Gerais'!$I$5,'Parâmetros Gerais'!$F$5,IF(B12='Parâmetros Gerais'!$I$6,'Parâmetros Gerais'!$F$6,0)))","v":0}]
[null,null,{"$f":"IF(B13='Parâmetros Gerais'!$I$4,'Parâmetros Gerais'!$F$4,IF(B13='Parâmetros Gerais'!$I$5,'Parâmetros Gerais'!$F$5,IF(B13='Parâmetros Gerais'!$I$6,'Parâmetros Gerais'!$F$6,0)))","v":0}]
[null,null,{"$f":"IF(B14='Parâmetros Gerais'!$I$4,'Parâmetros Gerais'!$F$4,IF(B14='Parâmetros Gerais'!$I$5,'Parâmetros Gerais'!$F$5,IF(B14='Parâmetros Gerais'!$I$6,'Parâmetros Gerais'!$F$6,0)))","v":0}]
[null,null,{"$f":"IF(B15='Parâmetros Gerais'!$I$4,'Parâmetros Gerais'!$F$4,IF(B15='Parâmetros Gerais'!$I$5,'Parâmetros Gerais'!$F$5,IF(B15='Parâmetros Gerais'!$I$6,'Parâmetros Gerais'!$F$6,0)))","v":0}]
[null,null,{"$f":"IF(B16='Parâmetros Gerais'!$I$4,'Parâmetros Gerais'!$F$4,IF(B16='Parâmetros Gerais'!$I$5,'Parâmetros Gerais'!$F$5,IF(B16='Parâmetros Gerais'!$I$6,'Parâmetros Gerais'!$F$6,0)))","v":0}]
[null,null,{"$f":"IF(B17='Parâmetros Gerais'!$I$4,'Parâmetros Gerais'!$F$4,IF(B17='Parâmetros Gerais'!$I$5,'Parâmetros Gerais'!$F$5,IF(B17='Parâmetros Gerais'!$I$6,'Parâmetros Gerais'!$F$6,0)))","v":0}]
[null,null,{"$f":"IF(B18='Parâmetros Gerais'!$I$4,'Parâmetros Gerais'!$F$4,IF(B18='Parâmetros Gerais'!$I$5,'Parâmetros Gerais'!$F$5,IF(B18='Parâmetros Gerais'!$I$6,'Parâmetros Gerais'!$F$6,0)))","v":0}]
[null,null,{"$f":"IF(B19='Parâmetros Gerais'!$I$4,'Parâmetros Gerais'!$F$4,IF(B19='Parâmetros Gerais'!$I$5,'Parâmetros Gerais'!$F$5,IF(B19='Parâmetros Gerais'!$I$6,'Parâmetros Gerais'!$F$6,0)))","v":0}]
[null,null,{"$f":"IF(B20='Parâmetros Gerais'!$I$4,'Parâmetros Gerais'!$F$4,IF(B20='Parâmetros Gerais'!$I$5,'Parâmetros Gerais'!$F$5,IF(B20='Parâmetros Gerais'!$I$6,'Parâmetros Gerais'!$F$6,0)))","v":0}]
[null,null,{"$f":"IF(B21='Parâmetros Gerais'!$I$4,'Parâmetros Gerais'!$F$4,IF(B21='Parâmetros Gerais'!$I$5,'Parâmetros Gerais'!$F$5,IF(B21='Parâmetros Gerais'!$I$6,'Parâmetros Gerais'!$F$6,0)))","v":0}]
[null,null,{"$f":"IF(B22='Parâmetros Gerais'!$I$4,'Parâmetros Gerais'!$F$4,IF(B22='Parâmetros Gerais'!$I$5,'Parâmetros Gerais'!$F$5,IF(B22='Parâmetros Gerais'!$I$6,'Parâmetros Gerais'!$F$6,0)))","v":0}]
[null,null,null,{"$f":"SUM(D8:D22)","v":0},0,0,0,0,0,0,0,0,0,0,0,0,0,0,0,0,0,0,0,0,0,0,0,0,0,0,0,0,0]
["Insumos",null,null,{"$f":"$C$25*D25+$C$26*D26+$C$27*D27+$C$28*D28+$C$29*D29+$C$30*D30+$C$31*D31+$C$32*D32+$C$33*D33+$C$34*D34+$C$35*D35+$C$36*D36+$C$37*D37+$C$38*D38+$C$39*D39+$C$40*D40+$C$41*D41+$C$42*D42+$C$43*D43+$C$44*D44","v":0},{"$f":"$C$25*E25+$C$26*E26+$C$27*E27+$C$28*E28+$C$29*E29+$C$30*E30+$C$31*E31+$C$32*E32+$C$33*E33+$C$34*E34+$C$35*E35+$C$36*E36+$C$37*E37+$C$38*E38+$C$39*E39+$C$40*E40+$C$41*E41+$C$42*E42+$C$43*E43+$C$44*E44","v":0},0,0,0,0,0,0,0,0,0,0,0,0,0,0,0,0,0,0,0,0,0,0,0,0,0,0,0,0]

{"sheet":"Produto 20","index":26,"n_rows":24,"n_cols":33,"rows_kept":24,"cut":false,"hidden":false,"merged":[]}
[{"$f":"'Parâmetros Gerais'!A1","v":"Análise Financeira de Sistemas Produtivos Integrados (V. 4.16 11/2016)"}]
[{"$f":"IF('Parâmetros Gerais'!B33<>\"\",'Parâmetros Gerais'!B33,\"\")","v":"madeira gonçalo alves"}]
[null,null,null,{"$f":"Produção!D3","v":"Período"}]
["Descrição","Unidade","Preço",1,2,3,4,5,6,7,8,9,10,11,12,13,14,15,16,17,18,19,20,21,22,23,24,25,26,27,28,29,30]
[]
[]
["Atividades",null,null,{"$f":"$C$8*D8+$C$9*D9+$C$10*D10+$C$11*D11+$C$12*D12+$C$13*D13+$C$14*D14+$C$15*D15+$C$16*D16+$C$17*D17+$C$18*D18+$C$19*D19+$C$20*D20+$C$21*D21+$C$22*D22","v":0},{"$f":"$C$8*E8+$C$9*E9+$C$10*E10+$C$11*E11+$C$12*E12+$C$13*E13+$C$14*E14+$C$15*E15+$C$16*E16+$C$17*E17+$C$18*E18+$C$19*E19+$C$20*E20+$C$21*E21+$C$22*E22","v":0},0,0,0,0,0,0,0,0,0,0,0,0,0,0,0,0,0,0,0,0,0,0,0,0,0,0,0,0]
[null,null,{"$f":"IF(B8='Parâmetros Gerais'!$I$4,'Parâmetros Gerais'!$F$4,IF(B8='Parâmetros Gerais'!$I$5,'Parâmetros Gerais'!$F$5,IF(B8='Parâmetros Gerais'!$I$6,'Parâmetros Gerais'!$F$6,0)))","v":0}]
[null,null,{"$f":"IF(B9='Parâmetros Gerais'!$I$4,'Parâmetros Gerais'!$F$4,IF(B9='Parâmetros Gerais'!$I$5,'Parâmetros Gerais'!$F$5,IF(B9='Parâmetros Gerais'!$I$6,'Parâmetros Gerais'!$F$6,0)))","v":0}]
[null,null,{"$f":"IF(B10='Parâmetros Gerais'!$I$4,'Parâmetros Gerais'!$F$4,IF(B10='Parâmetros Gerais'!$I$5,'Parâmetros Gerais'!$F$5,IF(B10='Parâmetros Gerais'!$I$6,'Parâmetros Gerais'!$F$6,0)))","v":0}]
[null,null,{"$f":"IF(B11='Parâmetros Gerais'!$I$4,'Parâmetros Gerais'!$F$4,IF(B11='Parâmetros Gerais'!$I$5,'Parâmetros Gerais'!$F$5,IF(B11='Parâmetros Gerais'!$I$6,'Parâmetros Gerais'!$F$6,0)))","v":0}]
[null,null,{"$f":"IF(B12='Parâmetros Gerais'!$I$4,'Parâmetros Gerais'!$F$4,IF(B12='Parâmetros Gerais'!$I$5,'Parâmetros Gerais'!$F$5,IF(B12='Parâmetros Gerais'!$I$6,'Parâmetros Gerais'!$F$6,0)))","v":0}]
[null,null,{"$f":"IF(B13='Parâmetros Gerais'!$I$4,'Parâmetros Gerais'!$F$4,IF(B13='Parâmetros Gerais'!$I$5,'Parâmetros Gerais'!$F$5,IF(B13='Parâmetros Gerais'!$I$6,'Parâmetros Gerais'!$F$6,0)))","v":0}]
[null,null,{"$f":"IF(B14='Parâmetros Gerais'!$I$4,'Parâmetros Gerais'!$F$4,IF(B14='Parâmetros Gerais'!$I$5,'Parâmetros Gerais'!$F$5,IF(B14='Parâmetros Gerais'!$I$6,'Parâmetros Gerais'!$F$6,0)))","v":0}]
[null,null,{"$f":"IF(B15='Parâmetros Gerais'!$I$4,'Parâmetros Gerais'!$F$4,IF(B15='Parâmetros Gerais'!$I$5,'Parâmetros Gerais'!$F$5,IF(B15='Parâmetros Gerais'!$I$6,'Parâmetros Gerais'!$F$6,0)))","v":0}]
[null,null,{"$f":"IF(B16='Parâmetros Gerais'!$I$4,'Parâmetros Gerais'!$F$4,IF(B16='Parâmetros Gerais'!$I$5,'Parâmetros Gerais'!$F$5,IF(B16='Parâmetros Gerais'!$I$6,'Parâmetros Gerais'!$F$6,0)))","v":0}]
[null,null,{"$f":"IF(B17='Parâmetros Gerais'!$I$4,'Parâmetros Gerais'!$F$4,IF(B17='Parâmetros Gerais'!$I$5,'Parâmetros Gerais'!$F$5,IF(B17='Parâmetros Gerais'!$I$6,'Parâmetros Gerais'!$F$6,0)))","v":0}]
[null,null,{"$f":"IF(B18='Parâmetros Gerais'!$I$4,'Parâmetros Gerais'!$F$4,IF(B18='Parâmetros Gerais'!$I$5,'Parâmetros Gerais'!$F$5,IF(B18='Parâmetros Gerais'!$I$6,'Parâmetros Gerais'!$F$6,0)))","v":0}]
[null,null,{"$f":"IF(B19='Parâmetros Gerais'!$I$4,'Parâmetros Gerais'!$F$4,IF(B19='Parâmetros Gerais'!$I$5,'Parâmetros Gerais'!$F$5,IF(B19='Parâmetros Gerais'!$I$6,'Parâmetros Gerais'!$F$6,0)))","v":0}]
[null,null,{"$f":"IF(B20='Parâmetros Gerais'!$I$4,'Parâmetros Gerais'!$F$4,IF(B20='Parâmetros Gerais'!$I$5,'Parâmetros Gerais'!$F$5,IF(B20='Parâmetros Gerais'!$I$6,'Parâmetros Gerais'!$F$6,0)))","v":0}]
[null,null,{"$f":"IF(B21='Parâmetros Gerais'!$I$4,'Parâmetros Gerais'!$F$4,IF(B21='Parâmetros Gerais'!$I$5,'Parâmetros Gerais'!$F$5,IF(B21='Parâmetros Gerais'!$I$6,'Parâmetros Gerais'!$F$6,0)))","v":0}]
[null,null,{"$f":"IF(B22='Parâmetros Gerais'!$I$4,'Parâmetros Gerais'!$F$4,IF(B22='Parâmetros Gerais'!$I$5,'Parâmetros Gerais'!$F$5,IF(B22='Parâmetros Gerais'!$I$6,'Parâmetros Gerais'!$F$6,0)))","v":0}]
[null,null,null,{"$f":"SUM(D8:D22)","v":0},0,0,0,0,0,0,0,0,0,0,0,0,0,0,0,0,0,0,0,0,0,0,0,0,0,0,0,0,0]
["Insumos",null,null,{"$f":"$C$25*D25+$C$26*D26+$C$27*D27+$C$28*D28+$C$29*D29+$C$30*D30+$C$31*D31+$C$32*D32+$C$33*D33+$C$34*D34+$C$35*D35+$C$36*D36+$C$37*D37+$C$38*D38+$C$39*D39+$C$40*D40+$C$41*D41+$C$42*D42+$C$43*D43+$C$44*D44","v":0},{"$f":"$C$25*E25+$C$26*E26+$C$27*E27+$C$28*E28+$C$29*E29+$C$30*E30+$C$31*E31+$C$32*E32+$C$33*E33+$C$34*E34+$C$35*E35+$C$36*E36+$C$37*E37+$C$38*E38+$C$39*E39+$C$40*E40+$C$41*E41+$C$42*E42+$C$43*E43+$C$44*E44","v":0},0,0,0,0,0,0,0,0,0,0,0,0,0,0,0,0,0,0,0,0,0,0,0,0,0,0,0,0]

{"sheet":"Produto 21","index":27,"n_rows":24,"n_cols":33,"rows_kept":24,"cut":false,"hidden":false,"merged":[]}
[{"$f":"'Parâmetros Gerais'!A1","v":"Análise Financeira de Sistemas Produtivos Integrados (V. 4.16 11/2016)"}]
[{"$f":"IF('Parâmetros Gerais'!B34<>\"\",'Parâmetros Gerais'!B34,\"\")","v":"madeira vinhatico"}]
[null,null,null,{"$f":"Produção!D3","v":"Período"}]
["Descrição","Unidade","Preço",1,2,3,4,5,6,7,8,9,10,11,12,13,14,15,16,17,18,19,20,21,22,23,24,25,26,27,28,29,30]
[]
[]
["Atividades",null,null,{"$f":"$C$8*D8+$C$9*D9+$C$10*D10+$C$11*D11+$C$12*D12+$C$13*D13+$C$14*D14+$C$15*D15+$C$16*D16+$C$17*D17+$C$18*D18+$C$19*D19+$C$20*D20+$C$21*D21+$C$22*D22","v":0},{"$f":"$C$8*E8+$C$9*E9+$C$10*E10+$C$11*E11+$C$12*E12+$C$13*E13+$C$14*E14+$C$15*E15+$C$16*E16+$C$17*E17+$C$18*E18+$C$19*E19+$C$20*E20+$C$21*E21+$C$22*E22","v":0},0,0,0,0,0,0,0,0,0,0,0,0,0,0,0,0,0,0,0,0,0,0,0,0,0,0,0,0]
[null,null,{"$f":"IF(B8='Parâmetros Gerais'!$I$4,'Parâmetros Gerais'!$F$4,IF(B8='Parâmetros Gerais'!$I$5,'Parâmetros Gerais'!$F$5,IF(B8='Parâmetros Gerais'!$I$6,'Parâmetros Gerais'!$F$6,0)))","v":0}]
[null,null,{"$f":"IF(B9='Parâmetros Gerais'!$I$4,'Parâmetros Gerais'!$F$4,IF(B9='Parâmetros Gerais'!$I$5,'Parâmetros Gerais'!$F$5,IF(B9='Parâmetros Gerais'!$I$6,'Parâmetros Gerais'!$F$6,0)))","v":0}]
[null,null,{"$f":"IF(B10='Parâmetros Gerais'!$I$4,'Parâmetros Gerais'!$F$4,IF(B10='Parâmetros Gerais'!$I$5,'Parâmetros Gerais'!$F$5,IF(B10='Parâmetros Gerais'!$I$6,'Parâmetros Gerais'!$F$6,0)))","v":0}]
[null,null,{"$f":"IF(B11='Parâmetros Gerais'!$I$4,'Parâmetros Gerais'!$F$4,IF(B11='Parâmetros Gerais'!$I$5,'Parâmetros Gerais'!$F$5,IF(B11='Parâmetros Gerais'!$I$6,'Parâmetros Gerais'!$F$6,0)))","v":0}]
[null,null,{"$f":"IF(B12='Parâmetros Gerais'!$I$4,'Parâmetros Gerais'!$F$4,IF(B12='Parâmetros Gerais'!$I$5,'Parâmetros Gerais'!$F$5,IF(B12='Parâmetros Gerais'!$I$6,'Parâmetros Gerais'!$F$6,0)))","v":0}]
[null,null,{"$f":"IF(B13='Parâmetros Gerais'!$I$4,'Parâmetros Gerais'!$F$4,IF(B13='Parâmetros Gerais'!$I$5,'Parâmetros Gerais'!$F$5,IF(B13='Parâmetros Gerais'!$I$6,'Parâmetros Gerais'!$F$6,0)))","v":0}]
[null,null,{"$f":"IF(B14='Parâmetros Gerais'!$I$4,'Parâmetros Gerais'!$F$4,IF(B14='Parâmetros Gerais'!$I$5,'Parâmetros Gerais'!$F$5,IF(B14='Parâmetros Gerais'!$I$6,'Parâmetros Gerais'!$F$6,0)))","v":0}]
[null,null,{"$f":"IF(B15='Parâmetros Gerais'!$I$4,'Parâmetros Gerais'!$F$4,IF(B15='Parâmetros Gerais'!$I$5,'Parâmetros Gerais'!$F$5,IF(B15='Parâmetros Gerais'!$I$6,'Parâmetros Gerais'!$F$6,0)))","v":0}]
[null,null,{"$f":"IF(B16='Parâmetros Gerais'!$I$4,'Parâmetros Gerais'!$F$4,IF(B16='Parâmetros Gerais'!$I$5,'Parâmetros Gerais'!$F$5,IF(B16='Parâmetros Gerais'!$I$6,'Parâmetros Gerais'!$F$6,0)))","v":0}]
[null,null,{"$f":"IF(B17='Parâmetros Gerais'!$I$4,'Parâmetros Gerais'!$F$4,IF(B17='Parâmetros Gerais'!$I$5,'Parâmetros Gerais'!$F$5,IF(B17='Parâmetros Gerais'!$I$6,'Parâmetros Gerais'!$F$6,0)))","v":0}]
[null,null,{"$f":"IF(B18='Parâmetros Gerais'!$I$4,'Parâmetros Gerais'!$F$4,IF(B18='Parâmetros Gerais'!$I$5,'Parâmetros Gerais'!$F$5,IF(B18='Parâmetros Gerais'!$I$6,'Parâmetros Gerais'!$F$6,0)))","v":0}]
[null,null,{"$f":"IF(B19='Parâmetros Gerais'!$I$4,'Parâmetros Gerais'!$F$4,IF(B19='Parâmetros Gerais'!$I$5,'Parâmetros Gerais'!$F$5,IF(B19='Parâmetros Gerais'!$I$6,'Parâmetros Gerais'!$F$6,0)))","v":0}]
[null,null,{"$f":"IF(B20='Parâmetros Gerais'!$I$4,'Parâmetros Gerais'!$F$4,IF(B20='Parâmetros Gerais'!$I$5,'Parâmetros Gerais'!$F$5,IF(B20='Parâmetros Gerais'!$I$6,'Parâmetros Gerais'!$F$6,0)))","v":0}]
[null,null,{"$f":"IF(B21='Parâmetros Gerais'!$I$4,'Parâmetros Gerais'!$F$4,IF(B21='Parâmetros Gerais'!$I$5,'Parâmetros Gerais'!$F$5,IF(B21='Parâmetros Gerais'!$I$6,'Parâmetros Gerais'!$F$6,0)))","v":0}]
[null,null,{"$f":"IF(B22='Parâmetros Gerais'!$I$4,'Parâmetros Gerais'!$F$4,IF(B22='Parâmetros Gerais'!$I$5,'Parâmetros Gerais'!$F$5,IF(B22='Parâmetros Gerais'!$I$6,'Parâmetros Gerais'!$F$6,0)))","v":0}]
[null,null,null,{"$f":"SUM(D8:D22)","v":0},0,0,0,0,0,0,0,0,0,0,0,0,0,0,0,0,0,0,0,0,0,0,0,0,0,0,0,0,0]
["Insumos",null,null,{"$f":"$C$25*D25+$C$26*D26+$C$27*D27+$C$28*D28+$C$29*D29+$C$30*D30+$C$31*D31+$C$32*D32+$C$33*D33+$C$34*D34+$C$35*D35+$C$36*D36+$C$37*D37+$C$38*D38+$C$39*D39+$C$40*D40+$C$41*D41+$C$42*D42+$C$43*D43+$C$44*D44","v":0},{"$f":"$C$25*E25+$C$26*E26+$C$27*E27+$C$28*E28+$C$29*E29+$C$30*E30+$C$31*E31+$C$32*E32+$C$33*E33+$C$34*E34+$C$35*E35+$C$36*E36+$C$37*E37+$C$38*E38+$C$39*E39+$C$40*E40+$C$41*E41+$C$42*E42+$C$43*E43+$C$44*E44","v":0},0,0,0,0,0,0,0,0,0,0,0,0,0,0,0,0,0,0,0,0,0,0,0,0,0,0,0,0]

{"sheet":"Produto 22","index":28,"n_rows":24,"n_cols":33,"rows_kept":24,"cut":false,"hidden":false,"merged":[]}
[{"$f":"'Parâmetros Gerais'!A1","v":"Análise Financeira de Sistemas Produtivos Integrados (V. 4.16 11/2016)"}]
[{"$f":"IF('Parâmetros Gerais'!B35<>\"\",'Parâmetros Gerais'!B35,\"\")","v":"madeira jequitiba"}]
[null,null,null,{"$f":"Produção!D3","v":"Período"}]
["Descrição","Unidade","Preço",1,2,3,4,5,6,7,8,9,10,11,12,13,14,15,16,17,18,19,20,21,22,23,24,25,26,27,28,29,30]
[]
[]
["Atividades",null,null,{"$f":"$C$8*D8+$C$9*D9+$C$10*D10+$C$11*D11+$C$12*D12+$C$13*D13+$C$14*D14+$C$15*D15+$C$16*D16+$C$17*D17+$C$18*D18+$C$19*D19+$C$20*D20+$C$21*D21+$C$22*D22","v":0},{"$f":"$C$8*E8+$C$9*E9+$C$10*E10+$C$11*E11+$C$12*E12+$C$13*E13+$C$14*E14+$C$15*E15+$C$16*E16+$C$17*E17+$C$18*E18+$C$19*E19+$C$20*E20+$C$21*E21+$C$22*E22","v":0},0,0,0,0,0,0,0,0,0,0,0,0,0,0,0,0,0,0,0,0,0,0,0,0,0,0,0,0]
[null,null,{"$f":"IF(B8='Parâmetros Gerais'!$I$4,'Parâmetros Gerais'!$F$4,IF(B8='Parâmetros Gerais'!$I$5,'Parâmetros Gerais'!$F$5,IF(B8='Parâmetros Gerais'!$I$6,'Parâmetros Gerais'!$F$6,0)))","v":0}]
[null,null,{"$f":"IF(B9='Parâmetros Gerais'!$I$4,'Parâmetros Gerais'!$F$4,IF(B9='Parâmetros Gerais'!$I$5,'Parâmetros Gerais'!$F$5,IF(B9='Parâmetros Gerais'!$I$6,'Parâmetros Gerais'!$F$6,0)))","v":0}]
[null,null,{"$f":"IF(B10='Parâmetros Gerais'!$I$4,'Parâmetros Gerais'!$F$4,IF(B10='Parâmetros Gerais'!$I$5,'Parâmetros Gerais'!$F$5,IF(B10='Parâmetros Gerais'!$I$6,'Parâmetros Gerais'!$F$6,0)))","v":0}]
[null,null,{"$f":"IF(B11='Parâmetros Gerais'!$I$4,'Parâmetros Gerais'!$F$4,IF(B11='Parâmetros Gerais'!$I$5,'Parâmetros Gerais'!$F$5,IF(B11='Parâmetros Gerais'!$I$6,'Parâmetros Gerais'!$F$6,0)))","v":0}]
[null,null,{"$f":"IF(B12='Parâmetros Gerais'!$I$4,'Parâmetros Gerais'!$F$4,IF(B12='Parâmetros Gerais'!$I$5,'Parâmetros Gerais'!$F$5,IF(B12='Parâmetros Gerais'!$I$6,'Parâmetros Gerais'!$F$6,0)))","v":0}]
[null,null,{"$f":"IF(B13='Parâmetros Gerais'!$I$4,'Parâmetros Gerais'!$F$4,IF(B13='Parâmetros Gerais'!$I$5,'Parâmetros Gerais'!$F$5,IF(B13='Parâmetros Gerais'!$I$6,'Parâmetros Gerais'!$F$6,0)))","v":0}]
[null,null,{"$f":"IF(B14='Parâmetros Gerais'!$I$4,'Parâmetros Gerais'!$F$4,IF(B14='Parâmetros Gerais'!$I$5,'Parâmetros Gerais'!$F$5,IF(B14='Parâmetros Gerais'!$I$6,'Parâmetros Gerais'!$F$6,0)))","v":0}]
[null,null,{"$f":"IF(B15='Parâmetros Gerais'!$I$4,'Parâmetros Gerais'!$F$4,IF(B15='Parâmetros Gerais'!$I$5,'Parâmetros Gerais'!$F$5,IF(B15='Parâmetros Gerais'!$I$6,'Parâmetros Gerais'!$F$6,0)))","v":0}]
[null,null,{"$f":"IF(B16='Parâmetros Gerais'!$I$4,'Parâmetros Gerais'!$F$4,IF(B16='Parâmetros Gerais'!$I$5,'Parâmetros Gerais'!$F$5,IF(B16='Parâmetros Gerais'!$I$6,'Parâmetros Gerais'!$F$6,0)))","v":0}]
[null,null,{"$f":"IF(B17='Parâmetros Gerais'!$I$4,'Parâmetros Gerais'!$F$4,IF(B17='Parâmetros Gerais'!$I$5,'Parâmetros Gerais'!$F$5,IF(B17='Parâmetros Gerais'!$I$6,'Parâmetros Gerais'!$F$6,0)))","v":0}]
[null,null,{"$f":"IF(B18='Parâmetros Gerais'!$I$4,'Parâmetros Gerais'!$F$4,IF(B18='Parâmetros Gerais'!$I$5,'Parâmetros Gerais'!$F$5,IF(B18='Parâmetros Gerais'!$I$6,'Parâmetros Gerais'!$F$6,0)))","v":0}]
[null,null,{"$f":"IF(B19='Parâmetros Gerais'!$I$4,'Parâmetros Gerais'!$F$4,IF(B19='Parâmetros Gerais'!$I$5,'Parâmetros Gerais'!$F$5,IF(B19='Parâmetros Gerais'!$I$6,'Parâmetros Gerais'!$F$6,0)))","v":0}]
[null,null,{"$f":"IF(B20='Parâmetros Gerais'!$I$4,'Parâmetros Gerais'!$F$4,IF(B20='Parâmetros Gerais'!$I$5,'Parâmetros Gerais'!$F$5,IF(B20='Parâmetros Gerais'!$I$6,'Parâmetros Gerais'!$F$6,0)))","v":0}]
[null,null,{"$f":"IF(B21='Parâmetros Gerais'!$I$4,'Parâmetros Gerais'!$F$4,IF(B21='Parâmetros Gerais'!$I$5,'Parâmetros Gerais'!$F$5,IF(B21='Parâmetros Gerais'!$I$6,'Parâmetros Gerais'!$F$6,0)))","v":0}]
[null,null,{"$f":"IF(B22='Parâmetros Gerais'!$I$4,'Parâmetros Gerais'!$F$4,IF(B22='Parâmetros Gerais'!$I$5,'Parâmetros Gerais'!$F$5,IF(B22='Parâmetros Gerais'!$I$6,'Parâmetros Gerais'!$F$6,0)))","v":0}]
[null,null,null,{"$f":"SUM(D8:D22)","v":0},0,0,0,0,0,0,0,0,0,0,0,0,0,0,0,0,0,0,0,0,0,0,0,0,0,0,0,0,0]
["Insumos",null,null,{"$f":"$C$25*D25+$C$26*D26+$C$27*D27+$C$28*D28+$C$29*D29+$C$30*D30+$C$31*D31+$C$32*D32+$C$33*D33+$C$34*D34+$C$35*D35+$C$36*D36+$C$37*D37+$C$38*D38+$C$39*D39+$C$40*D40+$C$41*D41+$C$42*D42+$C$43*D43+$C$44*D44","v":0},{"$f":"$C$25*E25+$C$26*E26+$C$27*E27+$C$28*E28+$C$29*E29+$C$30*E30+$C$31*E31+$C$32*E32+$C$33*E33+$C$34*E34+$C$35*E35+$C$36*E36+$C$37*E37+$C$38*E38+$C$39*E39+$C$40*E40+$C$41*E41+$C$42*E42+$C$43*E43+$C$44*E44","v":0},0,0,0,0,0,0,0,0,0,0,0,0,0,0,0,0,0,0,0,0,0,0,0,0,0,0,0,0]

{"sheet":"Produto 23","index":29,"n_rows":24,"n_cols":33,"rows_kept":24,"cut":false,"hidden":false,"merged":[]}
[{"$f":"'Parâmetros Gerais'!A1","v":"Análise Financeira de Sistemas Produtivos Integrados (V. 4.16 11/2016)"}]
[{"$f":"IF('Parâmetros Gerais'!B36<>\"\",'Parâmetros Gerais'!B36,\"\")","v":"biomassa"}]
[null,null,null,{"$f":"Produção!D3","v":"Período"}]
["Descrição","Unidade","Preço",1,2,3,4,5,6,7,8,9,10,11,12,13,14,15,16,17,18,19,20,21,22,23,24,25,26,27,28,29,30]
[]
[]
["Atividades",null,null,{"$f":"$C$8*D8+$C$9*D9+$C$10*D10+$C$11*D11+$C$12*D12+$C$13*D13+$C$14*D14+$C$15*D15+$C$16*D16+$C$17*D17+$C$18*D18+$C$19*D19+$C$20*D20+$C$21*D21+$C$22*D22","v":0},{"$f":"$C$8*E8+$C$9*E9+$C$10*E10+$C$11*E11+$C$12*E12+$C$13*E13+$C$14*E14+$C$15*E15+$C$16*E16+$C$17*E17+$C$18*E18+$C$19*E19+$C$20*E20+$C$21*E21+$C$22*E22","v":0},0,0,0,0,0,0,0,0,0,0,0,0,0,0,0,0,0,0,0,0,0,0,0,0,0,0,0,0]
[null,null,{"$f":"IF(B8='Parâmetros Gerais'!$I$4,'Parâmetros Gerais'!$F$4,IF(B8='Parâmetros Gerais'!$I$5,'Parâmetros Gerais'!$F$5,IF(B8='Parâmetros Gerais'!$I$6,'Parâmetros Gerais'!$F$6,0)))","v":0}]
[null,null,{"$f":"IF(B9='Parâmetros Gerais'!$I$4,'Parâmetros Gerais'!$F$4,IF(B9='Parâmetros Gerais'!$I$5,'Parâmetros Gerais'!$F$5,IF(B9='Parâmetros Gerais'!$I$6,'Parâmetros Gerais'!$F$6,0)))","v":0}]
[null,null,{"$f":"IF(B10='Parâmetros Gerais'!$I$4,'Parâmetros Gerais'!$F$4,IF(B10='Parâmetros Gerais'!$I$5,'Parâmetros Gerais'!$F$5,IF(B10='Parâmetros Gerais'!$I$6,'Parâmetros Gerais'!$F$6,0)))","v":0}]
[null,null,{"$f":"IF(B11='Parâmetros Gerais'!$I$4,'Parâmetros Gerais'!$F$4,IF(B11='Parâmetros Gerais'!$I$5,'Parâmetros Gerais'!$F$5,IF(B11='Parâmetros Gerais'!$I$6,'Parâmetros Gerais'!$F$6,0)))","v":0}]
[null,null,{"$f":"IF(B12='Parâmetros Gerais'!$I$4,'Parâmetros Gerais'!$F$4,IF(B12='Parâmetros Gerais'!$I$5,'Parâmetros Gerais'!$F$5,IF(B12='Parâmetros Gerais'!$I$6,'Parâmetros Gerais'!$F$6,0)))","v":0}]
[null,null,{"$f":"IF(B13='Parâmetros Gerais'!$I$4,'Parâmetros Gerais'!$F$4,IF(B13='Parâmetros Gerais'!$I$5,'Parâmetros Gerais'!$F$5,IF(B13='Parâmetros Gerais'!$I$6,'Parâmetros Gerais'!$F$6,0)))","v":0}]
[null,null,{"$f":"IF(B14='Parâmetros Gerais'!$I$4,'Parâmetros Gerais'!$F$4,IF(B14='Parâmetros Gerais'!$I$5,'Parâmetros Gerais'!$F$5,IF(B14='Parâmetros Gerais'!$I$6,'Parâmetros Gerais'!$F$6,0)))","v":0}]
[null,null,{"$f":"IF(B15='Parâmetros Gerais'!$I$4,'Parâmetros Gerais'!$F$4,IF(B15='Parâmetros Gerais'!$I$5,'Parâmetros Gerais'!$F$5,IF(B15='Parâmetros Gerais'!$I$6,'Parâmetros Gerais'!$F$6,0)))","v":0}]
[null,null,{"$f":"IF(B16='Parâmetros Gerais'!$I$4,'Parâmetros Gerais'!$F$4,IF(B16='Parâmetros Gerais'!$I$5,'Parâmetros Gerais'!$F$5,IF(B16='Parâmetros Gerais'!$I$6,'Parâmetros Gerais'!$F$6,0)))","v":0}]
[null,null,{"$f":"IF(B17='Parâmetros Gerais'!$I$4,'Parâmetros Gerais'!$F$4,IF(B17='Parâmetros Gerais'!$I$5,'Parâmetros Gerais'!$F$5,IF(B17='Parâmetros Gerais'!$I$6,'Parâmetros Gerais'!$F$6,0)))","v":0}]
[null,null,{"$f":"IF(B18='Parâmetros Gerais'!$I$4,'Parâmetros Gerais'!$F$4,IF(B18='Parâmetros Gerais'!$I$5,'Parâmetros Gerais'!$F$5,IF(B18='Parâmetros Gerais'!$I$6,'Parâmetros Gerais'!$F$6,0)))","v":0}]
[null,null,{"$f":"IF(B19='Parâmetros Gerais'!$I$4,'Parâmetros Gerais'!$F$4,IF(B19='Parâmetros Gerais'!$I$5,'Parâmetros Gerais'!$F$5,IF(B19='Parâmetros Gerais'!$I$6,'Parâmetros Gerais'!$F$6,0)))","v":0}]
[null,null,{"$f":"IF(B20='Parâmetros Gerais'!$I$4,'Parâmetros Gerais'!$F$4,IF(B20='Parâmetros Gerais'!$I$5,'Parâmetros Gerais'!$F$5,IF(B20='Parâmetros Gerais'!$I$6,'Parâmetros Gerais'!$F$6,0)))","v":0}]
[null,null,{"$f":"IF(B21='Parâmetros Gerais'!$I$4,'Parâmetros Gerais'!$F$4,IF(B21='Parâmetros Gerais'!$I$5,'Parâmetros Gerais'!$F$5,IF(B21='Parâmetros Gerais'!$I$6,'Parâmetros Gerais'!$F$6,0)))","v":0}]
[null,null,{"$f":"IF(B22='Parâmetros Gerais'!$I$4,'Parâmetros Gerais'!$F$4,IF(B22='Parâmetros Gerais'!$I$5,'Parâmetros Gerais'!$F$5,IF(B22='Parâmetros Gerais'!$I$6,'Parâmetros Gerais'!$F$6,0)))","v":0}]
[null,null,null,{"$f":"SUM(D8:D22)","v":0},0,0,0,0,0,0,0,0,0,0,0,0,0,0,0,0,0,0,0,0,0,0,0,0,0,0,0,0,0]
["Insumos",null,null,{"$f":"$C$25*D25+$C$26*D26+$C$27*D27+$C$28*D28+$C$29*D29+$C$30*D30+$C$31*D31+$C$32*D32+$C$33*D33+$C$34*D34+$C$35*D35+$C$36*D36+$C$37*D37+$C$38*D38+$C$39*D39+$C$40*D40+$C$41*D41+$C$42*D42+$C$43*D43+$C$44*D44","v":0},{"$f":"$C$25*E25+$C$26*E26+$C$27*E27+$C$28*E28+$C$29*E29+$C$30*E30+$C$31*E31+$C$32*E32+$C$33*E33+$C$34*E34+$C$35*E35+$C$36*E36+$C$37*E37+$C$38*E38+$C$39*E39+$C$40*E40+$C$41*E41+$C$42*E42+$C$43*E43+$C$44*E44","v":0},0,0,0,0,0,0,0,0,0,0,0,0,0,0,0,0,0,0,0,0,0,0,0,0,0,0,0,0]

{"sheet":"Produto 24","index":30,"n_rows":24,"n_cols":33,"rows_kept":24,"cut":false,"hidden":false,"merged":[]}
[{"$f":"'Parâmetros Gerais'!A1","v":"Análise Financeira de Sistemas Produtivos Integrados (V. 4.16 11/2016)"}]
[{"$f":"IF('Parâmetros Gerais'!B37<>\"\",'Parâmetros Gerais'!B37,\"\")","v":"grão caupi"}]
[null,null,null,{"$f":"Produção!D3","v":"Período"}]
["Descrição","Unidade","Preço",1,2,3,4,5,6,7,8,9,10,11,12,13,14,15,16,17,18,19,20,21,22,23,24,25,26,27,28,29,30]
[]
[]
["Atividades",null,null,{"$f":"$C$8*D8+$C$9*D9+$C$10*D10+$C$11*D11+$C$12*D12+$C$13*D13+$C$14*D14+$C$15*D15+$C$16*D16+$C$17*D17+$C$18*D18+$C$19*D19+$C$20*D20+$C$21*D21+$C$22*D22","v":0},{"$f":"$C$8*E8+$C$9*E9+$C$10*E10+$C$11*E11+$C$12*E12+$C$13*E13+$C$14*E14+$C$15*E15+$C$16*E16+$C$17*E17+$C$18*E18+$C$19*E19+$C$20*E20+$C$21*E21+$C$22*E22","v":0},0,0,0,0,0,0,0,0,0,0,0,0,0,0,0,0,0,0,0,0,0,0,0,0,0,0,0,0]
[null,null,{"$f":"IF(B8='Parâmetros Gerais'!$I$4,'Parâmetros Gerais'!$F$4,IF(B8='Parâmetros Gerais'!$I$5,'Parâmetros Gerais'!$F$5,IF(B8='Parâmetros Gerais'!$I$6,'Parâmetros Gerais'!$F$6,0)))","v":0}]
[null,null,{"$f":"IF(B9='Parâmetros Gerais'!$I$4,'Parâmetros Gerais'!$F$4,IF(B9='Parâmetros Gerais'!$I$5,'Parâmetros Gerais'!$F$5,IF(B9='Parâmetros Gerais'!$I$6,'Parâmetros Gerais'!$F$6,0)))","v":0}]
[null,null,{"$f":"IF(B10='Parâmetros Gerais'!$I$4,'Parâmetros Gerais'!$F$4,IF(B10='Parâmetros Gerais'!$I$5,'Parâmetros Gerais'!$F$5,IF(B10='Parâmetros Gerais'!$I$6,'Parâmetros Gerais'!$F$6,0)))","v":0}]
[null,null,{"$f":"IF(B11='Parâmetros Gerais'!$I$4,'Parâmetros Gerais'!$F$4,IF(B11='Parâmetros Gerais'!$I$5,'Parâmetros Gerais'!$F$5,IF(B11='Parâmetros Gerais'!$I$6,'Parâmetros Gerais'!$F$6,0)))","v":0}]
[null,null,{"$f":"IF(B12='Parâmetros Gerais'!$I$4,'Parâmetros Gerais'!$F$4,IF(B12='Parâmetros Gerais'!$I$5,'Parâmetros Gerais'!$F$5,IF(B12='Parâmetros Gerais'!$I$6,'Parâmetros Gerais'!$F$6,0)))","v":0}]
[null,null,{"$f":"IF(B13='Parâmetros Gerais'!$I$4,'Parâmetros Gerais'!$F$4,IF(B13='Parâmetros Gerais'!$I$5,'Parâmetros Gerais'!$F$5,IF(B13='Parâmetros Gerais'!$I$6,'Parâmetros Gerais'!$F$6,0)))","v":0}]
[null,null,{"$f":"IF(B14='Parâmetros Gerais'!$I$4,'Parâmetros Gerais'!$F$4,IF(B14='Parâmetros Gerais'!$I$5,'Parâmetros Gerais'!$F$5,IF(B14='Parâmetros Gerais'!$I$6,'Parâmetros Gerais'!$F$6,0)))","v":0}]
[null,null,{"$f":"IF(B15='Parâmetros Gerais'!$I$4,'Parâmetros Gerais'!$F$4,IF(B15='Parâmetros Gerais'!$I$5,'Parâmetros Gerais'!$F$5,IF(B15='Parâmetros Gerais'!$I$6,'Parâmetros Gerais'!$F$6,0)))","v":0}]
[null,null,{"$f":"IF(B16='Parâmetros Gerais'!$I$4,'Parâmetros Gerais'!$F$4,IF(B16='Parâmetros Gerais'!$I$5,'Parâmetros Gerais'!$F$5,IF(B16='Parâmetros Gerais'!$I$6,'Parâmetros Gerais'!$F$6,0)))","v":0}]
[null,null,{"$f":"IF(B17='Parâmetros Gerais'!$I$4,'Parâmetros Gerais'!$F$4,IF(B17='Parâmetros Gerais'!$I$5,'Parâmetros Gerais'!$F$5,IF(B17='Parâmetros Gerais'!$I$6,'Parâmetros Gerais'!$F$6,0)))","v":0}]
[null,null,{"$f":"IF(B18='Parâmetros Gerais'!$I$4,'Parâmetros Gerais'!$F$4,IF(B18='Parâmetros Gerais'!$I$5,'Parâmetros Gerais'!$F$5,IF(B18='Parâmetros Gerais'!$I$6,'Parâmetros Gerais'!$F$6,0)))","v":0}]
[null,null,{"$f":"IF(B19='Parâmetros Gerais'!$I$4,'Parâmetros Gerais'!$F$4,IF(B19='Parâmetros Gerais'!$I$5,'Parâmetros Gerais'!$F$5,IF(B19='Parâmetros Gerais'!$I$6,'Parâmetros Gerais'!$F$6,0)))","v":0}]
[null,null,{"$f":"IF(B20='Parâmetros Gerais'!$I$4,'Parâmetros Gerais'!$F$4,IF(B20='Parâmetros Gerais'!$I$5,'Parâmetros Gerais'!$F$5,IF(B20='Parâmetros Gerais'!$I$6,'Parâmetros Gerais'!$F$6,0)))","v":0}]
[null,null,{"$f":"IF(B21='Parâmetros Gerais'!$I$4,'Parâmetros Gerais'!$F$4,IF(B21='Parâmetros Gerais'!$I$5,'Parâmetros Gerais'!$F$5,IF(B21='Parâmetros Gerais'!$I$6,'Parâmetros Gerais'!$F$6,0)))","v":0}]
[null,null,{"$f":"IF(B22='Parâmetros Gerais'!$I$4,'Parâmetros Gerais'!$F$4,IF(B22='Parâmetros Gerais'!$I$5,'Parâmetros Gerais'!$F$5,IF(B22='Parâmetros Gerais'!$I$6,'Parâmetros Gerais'!$F$6,0)))","v":0}]
[null,null,null,{"$f":"SUM(D8:D22)","v":0},0,0,0,0,0,0,0,0,0,0,0,0,0,0,0,0,0,0,0,0,0,0,0,0,0,0,0,0,0]
["Insumos",null,null,{"$f":"$C$25*D25+$C$26*D26+$C$27*D27+$C$28*D28+$C$29*D29+$C$30*D30+$C$31*D31+$C$32*D32+$C$33*D33+$C$34*D34+$C$35*D35+$C$36*D36+$C$37*D37+$C$38*D38+$C$39*D39+$C$40*D40+$C$41*D41+$C$42*D42+$C$43*D43+$C$44*D44","v":0},{"$f":"$C$25*E25+$C$26*E26+$C$27*E27+$C$28*E28+$C$29*E29+$C$30*E30+$C$31*E31+$C$32*E32+$C$33*E33+$C$34*E34+$C$35*E35+$C$36*E36+$C$37*E37+$C$38*E38+$C$39*E39+$C$40*E40+$C$41*E41+$C$42*E42+$C$43*E43+$C$44*E44","v":0},0,0,0,0,0,0,0,0,0,0,0,0,0,0,0,0,0,0,0,0,0,0,0,0,0,0,0,0]

{"sheet":"Resultados Fin","index":31,"n_rows":97,"n_cols":34,"rows_kept":97,"cut":false,"hidden":false,"merged":[]}
[{"$f":"'Parâmetros Gerais'!A1","v":"Análise Financeira de Sistemas Produtivos Integrados (V. 4.16 11/2016)"}]
["Resultados Financeiros"]
[]
[null,"Relativo","Total","Preparo",1,2,3,4,5,6,7,8,9,10,11,12,13,14,15,16,17,18,19,20,21,22,23,24,25,26,27,28,29,30]
[]
["Custos TOTAIS",null,{"$f":"SUM(D6:AH6)","v":0},{"$f":"D8+D38","v":0},0,0,0,0,0,0,0,0,0,0,0,0,0,0,0,0,0,0,0,0,0,0,0,0,0,0,0,0,0,0]
[]
["Custos de mão de obra",{"$f":"C8/$C$6","v":{"$error":"#DIV/0!"}},{"$f":"SUM(D8:AH8)","v":0},{"$f":"D10+D12","v":0},{"$f":"SUM(E13:E36)","v":0},0,0,0,0,0,0,0,0,0,0,0,0,0,0,0,0,0,0,0,0,0,0,0,0,0,0,0,0,0]
[]
["Preparo e Atividades Gerais",null,null,{"$f":"'Preparo e Gerais'!D6","v":0},{"$f":"'Preparo e Gerais'!E6","v":0},{"$f":"'Preparo e Gerais'!F6","v":0},{"$f":"'Preparo e Gerais'!G6","v":0},{"$f":"'Preparo e Gerais'!H6","v":0},{"$f":"'Preparo e Gerais'!I6","v":0},{"$f":"'Preparo e Gerais'!J6","v":0},{"$f":"'Preparo e Gerais'!K6","v":0},{"$f":"'Preparo e Gerais'!L6","v":0},{"$f":"'Preparo e Gerais'!M6","v":0},{"$f":"'Preparo e Gerais'!N6","v":0},{"$f":"'Preparo e Gerais'!O6","v":0},{"$f":"'Preparo e Gerais'!P6","v":0},{"$f":"'Preparo e Gerais'!Q6","v":0},{"$f":"'Preparo e Gerais'!R6","v":0},{"$f":"'Preparo e Gerais'!S6","v":0},{"$f":"'Preparo e Gerais'!T6","v":0},{"$f":"'Preparo e Gerais'!U6","v":0},{"$f":"'Preparo e Gerais'!V6","v":0},{"$f":"'Preparo e Gerais'!W6","v":0},{"$f":"'Preparo e Gerais'!X6","v":0},{"$f":"'Preparo e Gerais'!Y6","v":0},{"$f":"'Preparo e Gerais'!Z6","v":0},{"$f":"'Preparo e Gerais'!AA6","v":0},{"$f":"'Preparo e Gerais'!AB6","v":0},{"$f":"'Preparo e Gerais'!AC6","v":0},{"$f":"'Preparo e Gerais'!AD6","v":0},{"$f":"'Preparo e Gerais'!AE6","v":0},{"$f":"'Preparo e Gerais'!AF6","v":0},{"$f":"'Preparo e Gerais'!AG6","v":0},{"$f":"'Preparo e Gerais'!AH6","v":0}]
[]
["Produtos"]
[{"$f":"IF(LEN('Parâmetros Gerais'!B14)=0,\" \",'Parâmetros Gerais'!B14)","v":"latex"},{"$f":"IF(C13<>0,C13/$C$8,0)","v":0},{"$f":"SUM(D13:AH13)","v":0},null,{"$f":"latex!D7+(E10*'Rateio Custos'!D6)","v":0},{"$f":"latex!E7+(F10*'Rateio Custos'!E6)","v":0},{"$f":"latex!F7+(G10*'Rateio Custos'!F6)","v":0},{"$f":"latex!G7+(H10*'Rateio Custos'!G6)","v":0},{"$f":"latex!H7+(I10*'Rateio Custos'!H6)","v":0},{"$f":"latex!I7+(J10*'Rateio Custos'!I6)","v":0},{"$f":"latex!J7+(K10*'Rateio Custos'!J6)","v":0},{"$f":"latex!K7+(L10*'Rateio Custos'!K6)","v":0},{"$f":"latex!L7+(M10*'Rateio Custos'!L6)","v":0},{"$f":"latex!M7+(N10*'Rateio Custos'!M6)","v":0},{"$f":"latex!N7+(O10*'Rateio Custos'!N6)","v":0},{"$f":"latex!O7+(P10*'Rateio Custos'!O6)","v":0},{"$f":"latex!P7+(Q10*'Rateio Custos'!P6)","v":0},{"$f":"latex!Q7+(R10*'Rateio Custos'!Q6)","v":0},{"$f":"latex!R7+(S10*'Rateio Custos'!R6)","v":0},{"$f":"latex!S7+(T10*'Rateio Custos'!S6)","v":0},{"$f":"latex!T7+(U10*'Rateio Custos'!T6)","v":0},{"$f":"latex!U7+(V10*'Rateio Custos'!U6)","v":0},{"$f":"latex!V7+(W10*'Rateio Custos'!V6)","v":0},{"$f":"latex!W7+(X10*'Rateio Custos'!W6)","v":0},{"$f":"latex!X7+(Y10*'Rateio Custos'!X6)","v":0},{"$f":"latex!Y7+(Z10*'Rateio Custos'!Y6)","v":0},{"$f":"latex!Z7+(AA10*'Rateio Custos'!Z6)","v":0},{"$f":"latex!AA7+(AB10*'Rateio Custos'!AA6)","v":0},{"$f":"latex!AB7+(AC10*'Rateio Custos'!AB6)","v":0},{"$f":"latex!AC7+(AD10*'Rateio Custos'!AC6)","v":0},{"$f":"latex!AD7+(AE10*'Rateio Custos'!AD6)","v":0},{"$f":"latex!AE7+(AF10*'Rateio Custos'!AE6)","v":0},{"$f":"latex!AF7+(AG10*'Rateio Custos'!AF6)","v":0},{"$f":"latex!AG7+(AH10*'Rateio Custos'!AG6)","v":0}]
[{"$f":"IF(LEN('Parâmetros Gerais'!B15)=0,\" \",'Parâmetros Gerais'!B15)","v":"fruto genipapo"},0,0,null,{"$f":"'fruto genipapo'!D7+(E10*'Rateio Custos'!D7)","v":0},{"$f":"'fruto genipapo'!E7+(F10*'Rateio Custos'!E7)","v":0},{"$f":"'fruto genipapo'!F7+(G10*'Rateio Custos'!F7)","v":0},{"$f":"'fruto genipapo'!G7+(H10*'Rateio Custos'!G7)","v":0},{"$f":"'fruto genipapo'!H7+(I10*'Rateio Custos'!H7)","v":0},{"$f":"'fruto genipapo'!I7+(J10*'Rateio Custos'!I7)","v":0},{"$f":"'fruto genipapo'!J7+(K10*'Rateio Custos'!J7)","v":0},{"$f":"'fruto genipapo'!K7+(L10*'Rateio Custos'!K7)","v":0},{"$f":"'fruto genipapo'!L7+(M10*'Rateio Custos'!L7)","v":0},{"$f":"'fruto genipapo'!M7+(N10*'Rateio Custos'!M7)","v":0},{"$f":"'fruto genipapo'!N7+(O10*'Rateio Custos'!N7)","v":0},{"$f":"'fruto genipapo'!O7+(P10*'Rateio Custos'!O7)","v":0},{"$f":"'fruto genipapo'!P7+(Q10*'Rateio Custos'!P7)","v":0},{"$f":"'fruto genipapo'!Q7+(R10*'Rateio Custos'!Q7)","v":0},{"$f":"'fruto genipapo'!R7+(S10*'Rateio Custos'!R7)","v":0},{"$f":"'fruto genipapo'!S7+(T10*'Rateio Custos'!S7)","v":0},{"$f":"'fruto genipapo'!T7+(U10*'Rateio Custos'!T7)","v":0},{"$f":"'fruto genipapo'!U7+(V10*'Rateio Custos'!U7)","v":0},{"$f":"'fruto genipapo'!V7+(W10*'Rateio Custos'!V7)","v":0},{"$f":"'fruto genipapo'!W7+(X10*'Rateio Custos'!W7)","v":0},{"$f":"'fruto genipapo'!X7+(Y10*'Rateio Custos'!X7)","v":0},{"$f":"'fruto genipapo'!Y7+(Z10*'Rateio Custos'!Y7)","v":0},{"$f":"'fruto genipapo'!Z7+(AA10*'Rateio Custos'!Z7)","v":0},{"$f":"'fruto genipapo'!AA7+(AB10*'Rateio Custos'!AA7)","v":0},{"$f":"'fruto genipapo'!AB7+(AC10*'Rateio Custos'!AB7)","v":0},{"$f":"'fruto genipapo'!AC7+(AD10*'Rateio Custos'!AC7)","v":0},{"$f":"'fruto genipapo'!AD7+(AE10*'Rateio Custos'!AD7)","v":0},{"$f":"'fruto genipapo'!AE7+(AF10*'Rateio Custos'!AE7)","v":0},{"$f":"'fruto genipapo'!AF7+(AG10*'Rateio Custos'!AF7)","v":0},{"$f":"'fruto genipapo'!AG7+(AH10*'Rateio Custos'!AG7)","v":0}]
[{"$f":"IF(LEN('Parâmetros Gerais'!B16)=0,\" \",'Parâmetros Gerais'!B16)","v":"fruto araçauna"},0,0,null,{"$f":"'fruto araçauna'!D7+(E10*'Rateio Custos'!D8)","v":0},{"$f":"'fruto araçauna'!E7+(F10*'Rateio Custos'!E8)","v":0},{"$f":"'fruto araçauna'!F7+(G10*'Rateio Custos'!F8)","v":0},{"$f":"'fruto araçauna'!G7+(H10*'Rateio Custos'!G8)","v":0},{"$f":"'fruto araçauna'!H7+(I10*'Rateio Custos'!H8)","v":0},{"$f":"'fruto araçauna'!I7+(J10*'Rateio Custos'!I8)","v":0},{"$f":"'fruto araçauna'!J7+(K10*'Rateio Custos'!J8)","v":0},{"$f":"'fruto araçauna'!K7+(L10*'Rateio Custos'!K8)","v":0},{"$f":"'fruto araçauna'!L7+(M10*'Rateio Custos'!L8)","v":0},{"$f":"'fruto araçauna'!M7+(N10*'Rateio Custos'!M8)","v":0},{"$f":"'fruto araçauna'!N7+(O10*'Rateio Custos'!N8)","v":0},{"$f":"'fruto araçauna'!O7+(P10*'Rateio Custos'!O8)","v":0},{"$f":"'fruto araçauna'!P7+(Q10*'Rateio Custos'!P8)","v":0},{"$f":"'fruto araçauna'!Q7+(R10*'Rateio Custos'!Q8)","v":0},{"$f":"'fruto araçauna'!R7+(S10*'Rateio Custos'!R8)","v":0},{"$f":"'fruto araçauna'!S7+(T10*'Rateio Custos'!S8)","v":0},{"$f":"'fruto araçauna'!T7+(U10*'Rateio Custos'!T8)","v":0},{"$f":"'fruto araçauna'!U7+(V10*'Rateio Custos'!U8)","v":0},{"$f":"'fruto araçauna'!V7+(W10*'Rateio Custos'!V8)","v":0},{"$f":"'fruto araçauna'!W7+(X10*'Rateio Custos'!W8)","v":0},{"$f":"'fruto araçauna'!X7+(Y10*'Rateio Custos'!X8)","v":0},{"$f":"'fruto araçauna'!Y7+(Z10*'Rateio Custos'!Y8)","v":0},{"$f":"'fruto araçauna'!Z7+(AA10*'Rateio Custos'!Z8)","v":0},{"$f":"'fruto araçauna'!AA7+(AB10*'Rateio Custos'!AA8)","v":0},{"$f":"'fruto araçauna'!AB7+(AC10*'Rateio Custos'!AB8)","v":0},{"$f":"'fruto araçauna'!AC7+(AD10*'Rateio Custos'!AC8)","v":0},{"$f":"'fruto araçauna'!AD7+(AE10*'Rateio Custos'!AD8)","v":0},{"$f":"'fruto araçauna'!AE7+(AF10*'Rateio Custos'!AE8)","v":0},{"$f":"'fruto araçauna'!AF7+(AG10*'Rateio Custos'!AF8)","v":0},{"$f":"'fruto araçauna'!AG7+(AH10*'Rateio Custos'!AG8)","v":0}]
[{"$f":"IF(LEN('Parâmetros Gerais'!B17)=0,\" \",'Parâmetros Gerais'!B17)","v":"fruto pitanga"},0,0,null,{"$f":"'fruto pitanga'!D7+(E10*'Rateio Custos'!D9)","v":0},{"$f":"'fruto pitanga'!E7+(F10*'Rateio Custos'!E9)","v":0},{"$f":"'fruto pitanga'!F7+(G10*'Rateio Custos'!F9)","v":0},{"$f":"'fruto pitanga'!G7+(H10*'Rateio Custos'!G9)","v":0},{"$f":"'fruto pitanga'!H7+(I10*'Rateio Custos'!H9)","v":0},{"$f":"'fruto pitanga'!I7+(J10*'Rateio Custos'!I9)","v":0},{"$f":"'fruto pitanga'!J7+(K10*'Rateio Custos'!J9)","v":0},{"$f":"'fruto pitanga'!K7+(L10*'Rateio Custos'!K9)","v":0},{"$f":"'fruto pitanga'!L7+(M10*'Rateio Custos'!L9)","v":0},{"$f":"'fruto pitanga'!M7+(N10*'Rateio Custos'!M9)","v":0},{"$f":"'fruto pitanga'!N7+(O10*'Rateio Custos'!N9)","v":0},{"$f":"'fruto pitanga'!O7+(P10*'Rateio Custos'!O9)","v":0},{"$f":"'fruto pitanga'!P7+(Q10*'Rateio Custos'!P9)","v":0},{"$f":"'fruto pitanga'!Q7+(R10*'Rateio Custos'!Q9)","v":0},{"$f":"'fruto pitanga'!R7+(S10*'Rateio Custos'!R9)","v":0},{"$f":"'fruto pitanga'!S7+(T10*'Rateio Custos'!S9)","v":0},{"$f":"'fruto pitanga'!T7+(U10*'Rateio Custos'!T9)","v":0},{"$f":"'fruto pitanga'!U7+(V10*'Rateio Custos'!U9)","v":0},{"$f":"'fruto pitanga'!V7+(W10*'Rateio Custos'!V9)","v":0},{"$f":"'fruto pitanga'!W7+(X10*'Rateio Custos'!W9)","v":0},{"$f":"'fruto pitanga'!X7+(Y10*'Rateio Custos'!X9)","v":0},{"$f":"'fruto pitanga'!Y7+(Z10*'Rateio Custos'!Y9)","v":0},{"$f":"'fruto pitanga'!Z7+(AA10*'Rateio Custos'!Z9)","v":0},{"$f":"'fruto pitanga'!AA7+(AB10*'Rateio Custos'!AA9)","v":0},{"$f":"'fruto pitanga'!AB7+(AC10*'Rateio Custos'!AB9)","v":0},{"$f":"'fruto pitanga'!AC7+(AD10*'Rateio Custos'!AC9)","v":0},{"$f":"'fruto pitanga'!AD7+(AE10*'Rateio Custos'!AD9)","v":0},{"$f":"'fruto pitanga'!AE7+(AF10*'Rateio Custos'!AE9)","v":0},{"$f":"'fruto pitanga'!AF7+(AG10*'Rateio Custos'!AF9)","v":0},{"$f":"'fruto pitanga'!AG7+(AH10*'Rateio Custos'!AG9)","v":0}]
[{"$f":"IF(LEN('Parâmetros Gerais'!B18)=0,\" \",'Parâmetros Gerais'!B18)","v":"castanha sapucaia"},0,0,null,{"$f":"Castanha!D7+(E10*'Rateio Custos'!D10)","v":0},{"$f":"Castanha!E7+(F10*'Rateio Custos'!E10)","v":0},{"$f":"Castanha!F7+(G10*'Rateio Custos'!F10)","v":0},{"$f":"Castanha!G7+(H10*'Rateio Custos'!G10)","v":0},{"$f":"Castanha!H7+(I10*'Rateio Custos'!H10)","v":0},{"$f":"Castanha!I7+(J10*'Rateio Custos'!I10)","v":0},{"$f":"Castanha!J7+(K10*'Rateio Custos'!J10)","v":0},{"$f":"Castanha!K7+(L10*'Rateio Custos'!K10)","v":0},{"$f":"Castanha!L7+(M10*'Rateio Custos'!L10)","v":0},{"$f":"Castanha!M7+(N10*'Rateio Custos'!M10)","v":0},{"$f":"Castanha!N7+(O10*'Rateio Custos'!N10)","v":0},{"$f":"Castanha!O7+(P10*'Rateio Custos'!O10)","v":0},{"$f":"Castanha!P7+(Q10*'Rateio Custos'!P10)","v":0},{"$f":"Castanha!Q7+(R10*'Rateio Custos'!Q10)","v":0},{"$f":"Castanha!R7+(S10*'Rateio Custos'!R10)","v":0},{"$f":"Castanha!S7+(T10*'Rateio Custos'!S10)","v":0},{"$f":"Castanha!T7+(U10*'Rateio Custos'!T10)","v":0},{"$f":"Castanha!U7+(V10*'Rateio Custos'!U10)","v":0},{"$f":"Castanha!V7+(W10*'Rateio Custos'!V10)","v":0},{"$f":"Castanha!W7+(X10*'Rateio Custos'!W10)","v":0},{"$f":"Castanha!X7+(Y10*'Rateio Custos'!X10)","v":0},{"$f":"Castanha!Y7+(Z10*'Rateio Custos'!Y10)","v":0},{"$f":"Castanha!Z7+(AA10*'Rateio Custos'!Z10)","v":0},{"$f":"Castanha!AA7+(AB10*'Rateio Custos'!AA10)","v":0},{"$f":"Castanha!AB7+(AC10*'Rateio Custos'!AB10)","v":0},{"$f":"Castanha!AC7+(AD10*'Rateio Custos'!AC10)","v":0},{"$f":"Castanha!AD7+(AE10*'Rateio Custos'!AD10)","v":0},{"$f":"Castanha!AE7+(AF10*'Rateio Custos'!AE10)","v":0},{"$f":"Castanha!AF7+(AG10*'Rateio Custos'!AF10)","v":0},{"$f":"Castanha!AG7+(AH10*'Rateio Custos'!AG10)","v":0}]
[{"$f":"IF(LEN('Parâmetros Gerais'!B19)=0,\" \",'Parâmetros Gerais'!B19)","v":"fruto cajá"},0,{"$f":"SUM(D18:AH18)","v":0},null,{"$f":"'fruto cajá'!D7+(E10*'Rateio Custos'!D11)","v":0},{"$f":"'fruto cajá'!E7+(F10*'Rateio Custos'!E11)","v":0},{"$f":"'fruto cajá'!F7+(G10*'Rateio Custos'!F11)","v":0},{"$f":"'fruto cajá'!G7+(H10*'Rateio Custos'!G11)","v":0},{"$f":"'fruto cajá'!H7+(I10*'Rateio Custos'!H11)","v":0},{"$f":"'fruto cajá'!I7+(J10*'Rateio Custos'!I11)","v":0},{"$f":"'fruto cajá'!J7+(K10*'Rateio Custos'!J11)","v":0},{"$f":"'fruto cajá'!K7+(L10*'Rateio Custos'!K11)","v":0},{"$f":"'fruto cajá'!L7+(M10*'Rateio Custos'!L11)","v":0},{"$f":"'fruto cajá'!M7+(N10*'Rateio Custos'!M11)","v":0},{"$f":"'fruto cajá'!N7+(O10*'Rateio Custos'!N11)","v":0},{"$f":"'fruto cajá'!O7+(P10*'Rateio Custos'!O11)","v":0},{"$f":"'fruto cajá'!P7+(Q10*'Rateio Custos'!P11)","v":0},{"$f":"'fruto cajá'!Q7+(R10*'Rateio Custos'!Q11)","v":0},{"$f":"'fruto cajá'!R7+(S10*'Rateio Custos'!R11)","v":0},{"$f":"'fruto cajá'!S7+(T10*'Rateio Custos'!S11)","v":0},{"$f":"'fruto cajá'!T7+(U10*'Rateio Custos'!T11)","v":0},{"$f":"'fruto cajá'!U7+(V10*'Rateio Custos'!U11)","v":0},{"$f":"'fruto cajá'!V7+(W10*'Rateio Custos'!V11)","v":0},{"$f":"'fruto cajá'!W7+(X10*'Rateio Custos'!W11)","v":0},{"$f":"'fruto cajá'!X7+(Y10*'Rateio Custos'!X11)","v":0},{"$f":"'fruto cajá'!Y7+(Z10*'Rateio Custos'!Y11)","v":0},{"$f":"'fruto cajá'!Z7+(AA10*'Rateio Custos'!Z11)","v":0},{"$f":"'fruto cajá'!AA7+(AB10*'Rateio Custos'!AA11)","v":0},{"$f":"'fruto cajá'!AB7+(AC10*'Rateio Custos'!AB11)","v":0},{"$f":"'fruto cajá'!AC7+(AD10*'Rateio Custos'!AC11)","v":0},{"$f":"'fruto cajá'!AD7+(AE10*'Rateio Custos'!AD11)","v":0},{"$f":"'fruto cajá'!AE7+(AF10*'Rateio Custos'!AE11)","v":0},{"$f":"'fruto cajá'!AF7+(AG10*'Rateio Custos'!AF11)","v":0},{"$f":"'fruto cajá'!AG7+(AH10*'Rateio Custos'!AG11)","v":0}]
[{"$f":"IF(LEN('Parâmetros Gerais'!B20)=0,\" \",'Parâmetros Gerais'!B20)","v":"semente urucum"},0,0,null,{"$f":"'semente urucum'!D7+(E10*'Rateio Custos'!D12)","v":0},{"$f":"'semente urucum'!E7+(F10*'Rateio Custos'!E12)","v":0},{"$f":"'semente urucum'!F7+(G10*'Rateio Custos'!F12)","v":0},{"$f":"'semente urucum'!G7+(H10*'Rateio Custos'!G12)","v":0},{"$f":"'semente urucum'!H7+(I10*'Rateio Custos'!H12)","v":0},{"$f":"'semente urucum'!I7+(J10*'Rateio Custos'!I12)","v":0},{"$f":"'semente urucum'!J7+(K10*'Rateio Custos'!J12)","v":0},{"$f":"'semente urucum'!K7+(L10*'Rateio Custos'!K12)","v":0},{"$f":"'semente urucum'!L7+(M10*'Rateio Custos'!L12)","v":0},{"$f":"'semente urucum'!M7+(N10*'Rateio Custos'!M12)","v":0},{"$f":"'semente urucum'!N7+(O10*'Rateio Custos'!N12)","v":0},{"$f":"'semente urucum'!O7+(P10*'Rateio Custos'!O12)","v":0},{"$f":"'semente urucum'!P7+(Q10*'Rateio Custos'!P12)","v":0},{"$f":"'semente urucum'!Q7+(R10*'Rateio Custos'!Q12)","v":0},{"$f":"'semente urucum'!R7+(S10*'Rateio Custos'!R12)","v":0},{"$f":"'semente urucum'!S7+(T10*'Rateio Custos'!S12)","v":0},{"$f":"'semente urucum'!T7+(U10*'Rateio Custos'!T12)","v":0},{"$f":"'semente urucum'!U7+(V10*'Rateio Custos'!U12)","v":0},{"$f":"'semente urucum'!V7+(W10*'Rateio Custos'!V12)","v":0},{"$f":"'semente urucum'!W7+(X10*'Rateio Custos'!W12)","v":0},{"$f":"'semente urucum'!X7+(Y10*'Rateio Custos'!X12)","v":0},{"$f":"'semente urucum'!Y7+(Z10*'Rateio Custos'!Y12)","v":0},{"$f":"'semente urucum'!Z7+(AA10*'Rateio Custos'!Z12)","v":0},{"$f":"'semente urucum'!AA7+(AB10*'Rateio Custos'!AA12)","v":0},{"$f":"'semente urucum'!AB7+(AC10*'Rateio Custos'!AB12)","v":0},{"$f":"'semente urucum'!AC7+(AD10*'Rateio Custos'!AC12)","v":0},{"$f":"'semente urucum'!AD7+(AE10*'Rateio Custos'!AD12)","v":0},{"$f":"'semente urucum'!AE7+(AF10*'Rateio Custos'!AE12)","v":0},{"$f":"'semente urucum'!AF7+(AG10*'Rateio Custos'!AF12)","v":0},{"$f":"'semente urucum'!AG7+(AH10*'Rateio Custos'!AG12)","v":0}]
[{"$f":"IF(LEN('Parâmetros Gerais'!B21)=0,\" \",'Parâmetros Gerais'!B21)","v":"semente aroeira"},0,0,null,{"$f":"'semente aroeira'!D7+(E10*'Rateio Custos'!D13)","v":0},{"$f":"'semente aroeira'!E7+(F10*'Rateio Custos'!E13)","v":0},{"$f":"'semente aroeira'!F7+(G10*'Rateio Custos'!F13)","v":0},{"$f":"'semente aroeira'!G7+(H10*'Rateio Custos'!G13)","v":0},{"$f":"'semente aroeira'!H7+(I10*'Rateio Custos'!H13)","v":0},{"$f":"'semente aroeira'!I7+(J10*'Rateio Custos'!I13)","v":0},{"$f":"'semente aroeira'!J7+(K10*'Rateio Custos'!J13)","v":0},{"$f":"'semente aroeira'!K7+(L10*'Rateio Custos'!K13)","v":0},{"$f":"'semente aroeira'!L7+(M10*'Rateio Custos'!L13)","v":0},{"$f":"'semente aroeira'!M7+(N10*'Rateio Custos'!M13)","v":0},{"$f":"'semente aroeira'!N7+(O10*'Rateio Custos'!N13)","v":0},{"$f":"'semente aroeira'!O7+(P10*'Rateio Custos'!O13)","v":0},{"$f":"'semente aroeira'!P7+(Q10*'Rateio Custos'!P13)","v":0},{"$f":"'semente aroeira'!Q7+(R10*'Rateio Custos'!Q13)","v":0},{"$f":"'semente aroeira'!R7+(S10*'Rateio Custos'!R13)","v":0},{"$f":"'semente aroeira'!S7+(T10*'Rateio Custos'!S13)","v":0},{"$f":"'semente aroeira'!T7+(U10*'Rateio Custos'!T13)","v":0},{"$f":"'semente aroeira'!U7+(V10*'Rateio Custos'!U13)","v":0},{"$f":"'semente aroeira'!V7+(W10*'Rateio Custos'!V13)","v":0},{"$f":"'semente aroeira'!W7+(X10*'Rateio Custos'!W13)","v":0},{"$f":"'semente aroeira'!X7+(Y10*'Rateio Custos'!X13)","v":0},{"$f":"'semente aroeira'!Y7+(Z10*'Rateio Custos'!Y13)","v":0},{"$f":"'semente aroeira'!Z7+(AA10*'Rateio Custos'!Z13)","v":0},{"$f":"'semente aroeira'!AA7+(AB10*'Rateio Custos'!AA13)","v":0},{"$f":"'semente aroeira'!AB7+(AC10*'Rateio Custos'!AB13)","v":0},{"$f":"'semente aroeira'!AC7+(AD10*'Rateio Custos'!AC13)","v":0},{"$f":"'semente aroeira'!AD7+(AE10*'Rateio Custos'!AD13)","v":0},{"$f":"'semente aroeira'!AE7+(AF10*'Rateio Custos'!AE13)","v":0},{"$f":"'semente aroeira'!AF7+(AG10*'Rateio Custos'!AF13)","v":0},{"$f":"'semente aroeira'!AG7+(AH10*'Rateio Custos'!AG13)","v":0}]
[{"$f":"IF(LEN('Parâmetros Gerais'!B22)=0,\" \",'Parâmetros Gerais'!B22)","v":"raiz mandioca"},0,0,null,{"$f":"'raiz mandioca'!D7+(E10*'Rateio Custos'!D14)","v":0},{"$f":"'raiz mandioca'!E7+(F10*'Rateio Custos'!E14)","v":0},{"$f":"'raiz mandioca'!F7+(G10*'Rateio Custos'!F14)","v":0},{"$f":"'raiz mandioca'!G7+(H10*'Rateio Custos'!G14)","v":0},{"$f":"'raiz mandioca'!H7+(I10*'Rateio Custos'!H14)","v":0},{"$f":"'raiz mandioca'!I7+(J10*'Rateio Custos'!I14)","v":0},{"$f":"'raiz mandioca'!J7+(K10*'Rateio Custos'!J14)","v":0},{"$f":"'raiz mandioca'!K7+(L10*'Rateio Custos'!K14)","v":0},{"$f":"'raiz mandioca'!L7+(M10*'Rateio Custos'!L14)","v":0},{"$f":"'raiz mandioca'!M7+(N10*'Rateio Custos'!M14)","v":0},{"$f":"'raiz mandioca'!N7+(O10*'Rateio Custos'!N14)","v":0},{"$f":"'raiz mandioca'!O7+(P10*'Rateio Custos'!O14)","v":0},{"$f":"'raiz mandioca'!P7+(Q10*'Rateio Custos'!P14)","v":0},{"$f":"'raiz mandioca'!Q7+(R10*'Rateio Custos'!Q14)","v":0},{"$f":"'raiz mandioca'!R7+(S10*'Rateio Custos'!R14)","v":0},{"$f":"'raiz mandioca'!S7+(T10*'Rateio Custos'!S14)","v":0},{"$f":"'raiz mandioca'!T7+(U10*'Rateio Custos'!T14)","v":0},{"$f":"'raiz mandioca'!U7+(V10*'Rateio Custos'!U14)","v":0},{"$f":"'raiz mandioca'!V7+(W10*'Rateio Custos'!V14)","v":0},{"$f":"'raiz mandioca'!W7+(X10*'Rateio Custos'!W14)","v":0},{"$f":"'raiz mandioca'!X7+(Y10*'Rateio Custos'!X14)","v":0},{"$f":"'raiz mandioca'!Y7+(Z10*'Rateio Custos'!Y14)","v":0},{"$f":"'raiz mandioca'!Z7+(AA10*'Rateio Custos'!Z14)","v":0},{"$f":"'raiz mandioca'!AA7+(AB10*'Rateio Custos'!AA14)","v":0},{"$f":"'raiz mandioca'!AB7+(AC10*'Rateio Custos'!AB14)","v":0},{"$f":"'raiz mandioca'!AC7+(AD10*'Rateio Custos'!AC14)","v":0},{"$f":"'raiz mandioca'!AD7+(AE10*'Rateio Custos'!AD14)","v":0},{"$f":"'raiz mandioca'!AE7+(AF10*'Rateio Custos'!AE14)","v":0},{"$f":"'raiz mandioca'!AF7+(AG10*'Rateio Custos'!AF14)","v":0},{"$f":"'raiz mandioca'!AG7+(AH10*'Rateio Custos'!AG14)","v":0}]
[{"$f":"IF(LEN('Parâmetros Gerais'!B23)=0,\" \",'Parâmetros Gerais'!B23)","v":"fruto abacaxi"},{"$f":"IF(C22<>0,C22/$C$8,0)","v":0},{"$f":"SUM(D22:AH22)","v":0},null,{"$f":"abacaxi!D7+(E10*'Rateio Custos'!D15)","v":0},{"$f":"abacaxi!E7+(F10*'Rateio Custos'!E15)","v":0},{"$f":"abacaxi!F7+(G10*'Rateio Custos'!F15)","v":0},{"$f":"abacaxi!G7+(H10*'Rateio Custos'!G15)","v":0},{"$f":"abacaxi!H7+(I10*'Rateio Custos'!H15)","v":0},{"$f":"abacaxi!I7+(J10*'Rateio Custos'!I15)","v":0},{"$f":"abacaxi!J7+(K10*'Rateio Custos'!J15)","v":0},{"$f":"abacaxi!K7+(L10*'Rateio Custos'!K15)","v":0},{"$f":"abacaxi!L7+(M10*'Rateio Custos'!L15)","v":0},{"$f":"abacaxi!M7+(N10*'Rateio Custos'!M15)","v":0},{"$f":"abacaxi!N7+(O10*'Rateio Custos'!N15)","v":0},{"$f":"abacaxi!O7+(P10*'Rateio Custos'!O15)","v":0},{"$f":"abacaxi!P7+(Q10*'Rateio Custos'!P15)","v":0},{"$f":"abacaxi!Q7+(R10*'Rateio Custos'!Q15)","v":0},{"$f":"abacaxi!R7+(S10*'Rateio Custos'!R15)","v":0},{"$f":"abacaxi!S7+(T10*'Rateio Custos'!S15)","v":0},{"$f":"abacaxi!T7+(U10*'Rateio Custos'!T15)","v":0},{"$f":"abacaxi!U7+(V10*'Rateio Custos'!U15)","v":0},{"$f":"abacaxi!V7+(W10*'Rateio Custos'!V15)","v":0},{"$f":"abacaxi!W7+(X10*'Rateio Custos'!W15)","v":0},{"$f":"abacaxi!X7+(Y10*'Rateio Custos'!X15)","v":0},{"$f":"abacaxi!Y7+(Z10*'Rateio Custos'!Y15)","v":0},{"$f":"abacaxi!Z7+(AA10*'Rateio Custos'!Z15)","v":0},{"$f":"abacaxi!AA7+(AB10*'Rateio Custos'!AA15)","v":0},{"$f":"abacaxi!AB7+(AC10*'Rateio Custos'!AB15)","v":0},{"$f":"abacaxi!AC7+(AD10*'Rateio Custos'!AC15)","v":0},{"$f":"abacaxi!AD7+(AE10*'Rateio Custos'!AD15)","v":0},{"$f":"abacaxi!AE7+(AF10*'Rateio Custos'!AE15)","v":0},{"$f":"abacaxi!AF7+(AG10*'Rateio Custos'!AF15)","v":0},{"$f":"abacaxi!AG7+(AH10*'Rateio Custos'!AG15)","v":0}]
[{"$f":"IF(LEN('Parâmetros Gerais'!B24)=0,\" \",'Parâmetros Gerais'!B24)","v":"espigas milho"},0,0,null,{"$f":"espigas!D7+(E10*'Rateio Custos'!D16)","v":0},{"$f":"espigas!E7+(F10*'Rateio Custos'!E16)","v":0},{"$f":"espigas!F7+(G10*'Rateio Custos'!F16)","v":0},{"$f":"espigas!G7+(H10*'Rateio Custos'!G16)","v":0},{"$f":"espigas!H7+(I10*'Rateio Custos'!H16)","v":0},{"$f":"espigas!I7+(J10*'Rateio Custos'!I16)","v":0},{"$f":"espigas!J7+(K10*'Rateio Custos'!J16)","v":0},{"$f":"espigas!K7+(L10*'Rateio Custos'!K16)","v":0},{"$f":"espigas!L7+(M10*'Rateio Custos'!L16)","v":0},{"$f":"espigas!M7+(N10*'Rateio Custos'!M16)","v":0},{"$f":"espigas!N7+(O10*'Rateio Custos'!N16)","v":0},{"$f":"espigas!O7+(P10*'Rateio Custos'!O16)","v":0},{"$f":"espigas!P7+(Q10*'Rateio Custos'!P16)","v":0},{"$f":"espigas!Q7+(R10*'Rateio Custos'!Q16)","v":0},{"$f":"espigas!R7+(S10*'Rateio Custos'!R16)","v":0},{"$f":"espigas!S7+(T10*'Rateio Custos'!S16)","v":0},{"$f":"espigas!T7+(U10*'Rateio Custos'!T16)","v":0},{"$f":"espigas!U7+(V10*'Rateio Custos'!U16)","v":0},{"$f":"espigas!V7+(W10*'Rateio Custos'!V16)","v":0},{"$f":"espigas!W7+(X10*'Rateio Custos'!W16)","v":0},{"$f":"espigas!X7+(Y10*'Rateio Custos'!X16)","v":0},{"$f":"espigas!Y7+(Z10*'Rateio Custos'!Y16)","v":0},{"$f":"espigas!Z7+(AA10*'Rateio Custos'!Z16)","v":0},{"$f":"espigas!AA7+(AB10*'Rateio Custos'!AA16)","v":0},{"$f":"espigas!AB7+(AC10*'Rateio Custos'!AB16)","v":0},{"$f":"espigas!AC7+(AD10*'Rateio Custos'!AC16)","v":0},{"$f":"espigas!AD7+(AE10*'Rateio Custos'!AD16)","v":0},{"$f":"espigas!AE7+(AF10*'Rateio Custos'!AE16)","v":0},{"$f":"espigas!AF7+(AG10*'Rateio Custos'!AF16)","v":0},{"$f":"espigas!AG7+(AH10*'Rateio Custos'!AG16)","v":0}]
[{"$f":"IF(LEN('Parâmetros Gerais'!B25)=0,\" \",'Parâmetros Gerais'!B25)","v":"estaca sansão do campo"},0,0,null,{"$f":"'semente caupi'!D7+(E10*'Rateio Custos'!D17)","v":0},{"$f":"'semente caupi'!E7+(F10*'Rateio Custos'!E17)","v":0},{"$f":"'semente caupi'!F7+(G10*'Rateio Custos'!F17)","v":0},{"$f":"'semente caupi'!G7+(H10*'Rateio Custos'!G17)","v":0},{"$f":"'semente caupi'!H7+(I10*'Rateio Custos'!H17)","v":0},{"$f":"'semente caupi'!I7+(J10*'Rateio Custos'!I17)","v":0},{"$f":"'semente caupi'!J7+(K10*'Rateio Custos'!J17)","v":0},{"$f":"'semente caupi'!K7+(L10*'Rateio Custos'!K17)","v":0},{"$f":"'semente caupi'!L7+(M10*'Rateio Custos'!L17)","v":0},{"$f":"'semente caupi'!M7+(N10*'Rateio Custos'!M17)","v":0},{"$f":"'semente caupi'!N7+(O10*'Rateio Custos'!N17)","v":0},{"$f":"'semente caupi'!O7+(P10*'Rateio Custos'!O17)","v":0},{"$f":"'semente caupi'!P7+(Q10*'Rateio Custos'!P17)","v":0},{"$f":"'semente caupi'!Q7+(R10*'Rateio Custos'!Q17)","v":0},{"$f":"'semente caupi'!R7+(S10*'Rateio Custos'!R17)","v":0},{"$f":"'semente caupi'!S7+(T10*'Rateio Custos'!S17)","v":0},{"$f":"'semente caupi'!T7+(U10*'Rateio Custos'!T17)","v":0},{"$f":"'semente caupi'!U7+(V10*'Rateio Custos'!U17)","v":0},{"$f":"'semente caupi'!V7+(W10*'Rateio Custos'!V17)","v":0},{"$f":"'semente caupi'!W7+(X10*'Rateio Custos'!W17)","v":0},{"$f":"'semente caupi'!X7+(Y10*'Rateio Custos'!X17)","v":0},{"$f":"'semente caupi'!Y7+(Z10*'Rateio Custos'!Y17)","v":0},{"$f":"'semente caupi'!Z7+(AA10*'Rateio Custos'!Z17)","v":0},{"$f":"'semente caupi'!AA7+(AB10*'Rateio Custos'!AA17)","v":0},{"$f":"'semente caupi'!AB7+(AC10*'Rateio Custos'!AB17)","v":0},{"$f":"'semente caupi'!AC7+(AD10*'Rateio Custos'!AC17)","v":0},{"$f":"'semente caupi'!AD7+(AE10*'Rateio Custos'!AD17)","v":0},{"$f":"'semente caupi'!AE7+(AF10*'Rateio Custos'!AE17)","v":0},{"$f":"'semente caupi'!AF7+(AG10*'Rateio Custos'!AF17)","v":0},{"$f":"'semente caupi'!AG7+(AH10*'Rateio Custos'!AG17)","v":0}]
[{"$f":"IF(LEN('Parâmetros Gerais'!B26)=0,\" \",'Parâmetros Gerais'!B26)","v":"madeira madeira nova"},0,0,null,{"$f":"biomassa!D7+(E10*'Rateio Custos'!D18)","v":0},{"$f":"biomassa!E7+(F10*'Rateio Custos'!E18)","v":0},{"$f":"biomassa!F7+(G10*'Rateio Custos'!F18)","v":0},{"$f":"biomassa!G7+(H10*'Rateio Custos'!G18)","v":0},{"$f":"biomassa!H7+(I10*'Rateio Custos'!H18)","v":0},{"$f":"biomassa!I7+(J10*'Rateio Custos'!I18)","v":0},{"$f":"biomassa!J7+(K10*'Rateio Custos'!J18)","v":0},{"$f":"biomassa!K7+(L10*'Rateio Custos'!K18)","v":0},{"$f":"biomassa!L7+(M10*'Rateio Custos'!L18)","v":0},{"$f":"biomassa!M7+(N10*'Rateio Custos'!M18)","v":0},{"$f":"biomassa!N7+(O10*'Rateio Custos'!N18)","v":0},{"$f":"biomassa!O7+(P10*'Rateio Custos'!O18)","v":0},{"$f":"biomassa!P7+(Q10*'Rateio Custos'!P18)","v":0},{"$f":"biomassa!Q7+(R10*'Rateio Custos'!Q18)","v":0},{"$f":"biomassa!R7+(S10*'Rateio Custos'!R18)","v":0},{"$f":"biomassa!S7+(T10*'Rateio Custos'!S18)","v":0},{"$f":"biomassa!T7+(U10*'Rateio Custos'!T18)","v":0},{"$f":"biomassa!U7+(V10*'Rateio Custos'!U18)","v":0},{"$f":"biomassa!V7+(W10*'Rateio Custos'!V18)","v":0},{"$f":"biomassa!W7+(X10*'Rateio Custos'!W18)","v":0},{"$f":"biomassa!X7+(Y10*'Rateio Custos'!X18)","v":0},{"$f":"biomassa!Y7+(Z10*'Rateio Custos'!Y18)","v":0},{"$f":"biomassa!Z7+(AA10*'Rateio Custos'!Z18)","v":0},{"$f":"biomassa!AA7+(AB10*'Rateio Custos'!AA18)","v":0},{"$f":"biomassa!AB7+(AC10*'Rateio Custos'!AB18)","v":0},{"$f":"biomassa!AC7+(AD10*'Rateio Custos'!AC18)","v":0},{"$f":"biomassa!AD7+(AE10*'Rateio Custos'!AD18)","v":0},{"$f":"biomassa!AE7+(AF10*'Rateio Custos'!AE18)","v":0},{"$f":"biomassa!AF7+(AG10*'Rateio Custos'!AF18)","v":0},{"$f":"biomassa!AG7+(AH10*'Rateio Custos'!AG18)","v":0}]
[{"$f":"IF(LEN('Parâmetros Gerais'!B27)=0,\" \",'Parâmetros Gerais'!B27)","v":"lenha fedegoso"},0,0,null,{"$f":"madeira!D7+(E10*'Rateio Custos'!D19)","v":0},{"$f":"madeira!E7+(F10*'Rateio Custos'!E19)","v":0},{"$f":"madeira!F7+(G10*'Rateio Custos'!F19)","v":0},{"$f":"madeira!G7+(H10*'Rateio Custos'!G19)","v":0},{"$f":"madeira!H7+(I10*'Rateio Custos'!H19)","v":0},{"$f":"madeira!I7+(J10*'Rateio Custos'!I19)","v":0},{"$f":"madeira!J7+(K10*'Rateio Custos'!J19)","v":0},{"$f":"madeira!K7+(L10*'Rateio Custos'!K19)","v":0},{"$f":"madeira!L7+(M10*'Rateio Custos'!L19)","v":0},{"$f":"madeira!M7+(N10*'Rateio Custos'!M19)","v":0},{"$f":"madeira!N7+(O10*'Rateio Custos'!N19)","v":0},{"$f":"madeira!O7+(P10*'Rateio Custos'!O19)","v":0},{"$f":"madeira!P7+(Q10*'Rateio Custos'!P19)","v":0},{"$f":"madeira!Q7+(R10*'Rateio Custos'!Q19)","v":0},{"$f":"madeira!R7+(S10*'Rateio Custos'!R19)","v":0},{"$f":"madeira!S7+(T10*'Rateio Custos'!S19)","v":0},{"$f":"madeira!T7+(U10*'Rateio Custos'!T19)","v":0},{"$f":"madeira!U7+(V10*'Rateio Custos'!U19)","v":0},{"$f":"madeira!V7+(W10*'Rateio Custos'!V19)","v":0},{"$f":"madeira!W7+(X10*'Rateio Custos'!W19)","v":0},{"$f":"madeira!X7+(Y10*'Rateio Custos'!X19)","v":0},{"$f":"madeira!Y7+(Z10*'Rateio Custos'!Y19)","v":0},{"$f":"madeira!Z7+(AA10*'Rateio Custos'!Z19)","v":0},{"$f":"madeira!AA7+(AB10*'Rateio Custos'!AA19)","v":0},{"$f":"madeira!AB7+(AC10*'Rateio Custos'!AB19)","v":0},{"$f":"madeira!AC7+(AD10*'Rateio Custos'!AC19)","v":0},{"$f":"madeira!AD7+(AE10*'Rateio Custos'!AD19)","v":0},{"$f":"madeira!AE7+(AF10*'Rateio Custos'!AE19)","v":0},{"$f":"madeira!AF7+(AG10*'Rateio Custos'!AF19)","v":0},{"$f":"madeira!AG7+(AH10*'Rateio Custos'!AG19)","v":0}]
[{"$f":"IF(LEN('Parâmetros Gerais'!B28)=0,\" \",'Parâmetros Gerais'!B28)","v":"estaca pau d'alho"},0,0,null,{"$f":"'Produto 15'!D7+(E10*'Rateio Custos'!D20)","v":0},{"$f":"'Produto 15'!E7+(F10*'Rateio Custos'!E20)","v":0},{"$f":"'Produto 15'!F7+(G10*'Rateio Custos'!F20)","v":0},{"$f":"'Produto 15'!G7+(H10*'Rateio Custos'!G20)","v":0},{"$f":"'Produto 15'!H7+(I10*'Rateio Custos'!H20)","v":0},{"$f":"'Produto 15'!I7+(J10*'Rateio Custos'!I20)","v":0},{"$f":"'Produto 15'!J7+(K10*'Rateio Custos'!J20)","v":0},{"$f":"'Produto 15'!K7+(L10*'Rateio Custos'!K20)","v":0},{"$f":"'Produto 15'!L7+(M10*'Rateio Custos'!L20)","v":0},{"$f":"'Produto 15'!M7+(N10*'Rateio Custos'!M20)","v":0},{"$f":"'Produto 15'!N7+(O10*'Rateio Custos'!N20)","v":0},{"$f":"'Produto 15'!O7+(P10*'Rateio Custos'!O20)","v":0},{"$f":"'Produto 15'!P7+(Q10*'Rateio Custos'!P20)","v":0},{"$f":"'Produto 15'!Q7+(R10*'Rateio Custos'!Q20)","v":0},{"$f":"'Produto 15'!R7+(S10*'Rateio Custos'!R20)","v":0},{"$f":"'Produto 15'!S7+(T10*'Rateio Custos'!S20)","v":0},{"$f":"'Produto 15'!T7+(U10*'Rateio Custos'!T20)","v":0},{"$f":"'Produto 15'!U7+(V10*'Rateio Custos'!U20)","v":0},{"$f":"'Produto 15'!V7+(W10*'Rateio Custos'!V20)","v":0},{"$f":"'Produto 15'!W7+(X10*'Rateio Custos'!W20)","v":0},{"$f":"'Produto 15'!X7+(Y10*'Rateio Custos'!X20)","v":0},{"$f":"'Produto 15'!Y7+(Z10*'Rateio Custos'!Y20)","v":0},{"$f":"'Produto 15'!Z7+(AA10*'Rateio Custos'!Z20)","v":0},{"$f":"'Produto 15'!AA7+(AB10*'Rateio Custos'!AA20)","v":0},{"$f":"'Produto 15'!AB7+(AC10*'Rateio Custos'!AB20)","v":0},{"$f":"'Produto 15'!AC7+(AD10*'Rateio Custos'!AC20)","v":0},{"$f":"'Produto 15'!AD7+(AE10*'Rateio Custos'!AD20)","v":0},{"$f":"'Produto 15'!AE7+(AF10*'Rateio Custos'!AE20)","v":0},{"$f":"'Produto 15'!AF7+(AG10*'Rateio Custos'!AF20)","v":0},{"$f":"'Produto 15'!AG7+(AH10*'Rateio Custos'!AG20)","v":0}]
[{"$f":"IF(LEN('Parâmetros Gerais'!B29)=0,\" \",'Parâmetros Gerais'!B29)","v":"caixotaria boleira"},0,0,null,{"$f":"'Produto 16'!D7+(E10*'Rateio Custos'!D21)","v":0},{"$f":"'Produto 16'!E7+(F10*'Rateio Custos'!E21)","v":0},{"$f":"'Produto 16'!F7+(G10*'Rateio Custos'!F21)","v":0},{"$f":"'Produto 16'!G7+(H10*'Rateio Custos'!G21)","v":0},{"$f":"'Produto 16'!H7+(I10*'Rateio Custos'!H21)","v":0},{"$f":"'Produto 16'!I7+(J10*'Rateio Custos'!I21)","v":0},{"$f":"'Produto 16'!J7+(K10*'Rateio Custos'!J21)","v":0},{"$f":"'Produto 16'!K7+(L10*'Rateio Custos'!K21)","v":0},{"$f":"'Produto 16'!L7+(M10*'Rateio Custos'!L21)","v":0},{"$f":"'Produto 16'!M7+(N10*'Rateio Custos'!M21)","v":0},{"$f":"'Produto 16'!N7+(O10*'Rateio Custos'!N21)","v":0},{"$f":"'Produto 16'!O7+(P10*'Rateio Custos'!O21)","v":0},{"$f":"'Produto 16'!P7+(Q10*'Rateio Custos'!P21)","v":0},{"$f":"'Produto 16'!Q7+(R10*'Rateio Custos'!Q21)","v":0},{"$f":"'Produto 16'!R7+(S10*'Rateio Custos'!R21)","v":0},{"$f":"'Produto 16'!S7+(T10*'Rateio Custos'!S21)","v":0},{"$f":"'Produto 16'!T7+(U10*'Rateio Custos'!T21)","v":0},{"$f":"'Produto 16'!U7+(V10*'Rateio Custos'!U21)","v":0},{"$f":"'Produto 16'!V7+(W10*'Rateio Custos'!V21)","v":0},{"$f":"'Produto 16'!W7+(X10*'Rateio Custos'!W21)","v":0},{"$f":"'Produto 16'!X7+(Y10*'Rateio Custos'!X21)","v":0},{"$f":"'Produto 16'!Y7+(Z10*'Rateio Custos'!Y21)","v":0},{"$f":"'Produto 16'!Z7+(AA10*'Rateio Custos'!Z21)","v":0},{"$f":"'Produto 16'!AA7+(AB10*'Rateio Custos'!AA21)","v":0},{"$f":"'Produto 16'!AB7+(AC10*'Rateio Custos'!AB21)","v":0},{"$f":"'Produto 16'!AC7+(AD10*'Rateio Custos'!AC21)","v":0},{"$f":"'Produto 16'!AD7+(AE10*'Rateio Custos'!AD21)","v":0},{"$f":"'Produto 16'!AE7+(AF10*'Rateio Custos'!AE21)","v":0},{"$f":"'Produto 16'!AF7+(AG10*'Rateio Custos'!AF21)","v":0},{"$f":"'Produto 16'!AG7+(AH10*'Rateio Custos'!AG21)","v":0}]
[{"$f":"IF(LEN('Parâmetros Gerais'!B30)=0,\" \",'Parâmetros Gerais'!B30)","v":"madeira angico roxo"},{"$f":"IF(C29<>0,C29/$C$8,0)","v":0},{"$f":"SUM(D29:AH29)","v":0},null,{"$f":"'Produto 17'!D7+(E10*'Rateio Custos'!D22)","v":0},{"$f":"'Produto 17'!E7+(F10*'Rateio Custos'!E22)","v":0},{"$f":"'Produto 17'!F7+(G10*'Rateio Custos'!F22)","v":0},{"$f":"'Produto 17'!G7+(H10*'Rateio Custos'!G22)","v":0},{"$f":"'Produto 17'!H7+(I10*'Rateio Custos'!H22)","v":0},{"$f":"'Produto 17'!I7+(J10*'Rateio Custos'!I22)","v":0},{"$f":"'Produto 17'!J7+(K10*'Rateio Custos'!J22)","v":0},{"$f":"'Produto 17'!K7+(L10*'Rateio Custos'!K22)","v":0},{"$f":"'Produto 17'!L7+(M10*'Rateio Custos'!L22)","v":0},{"$f":"'Produto 17'!M7+(N10*'Rateio Custos'!M22)","v":0},{"$f":"'Produto 17'!N7+(O10*'Rateio Custos'!N22)","v":0},{"$f":"'Produto 17'!O7+(P10*'Rateio Custos'!O22)","v":0},{"$f":"'Produto 17'!P7+(Q10*'Rateio Custos'!P22)","v":0},{"$f":"'Produto 17'!Q7+(R10*'Rateio Custos'!Q22)","v":0},{"$f":"'Produto 17'!R7+(S10*'Rateio Custos'!R22)","v":0},{"$f":"'Produto 17'!S7+(T10*'Rateio Custos'!S22)","v":0},{"$f":"'Produto 17'!T7+(U10*'Rateio Custos'!T22)","v":0},{"$f":"'Produto 17'!U7+(V10*'Rateio Custos'!U22)","v":0},{"$f":"'Produto 17'!V7+(W10*'Rateio Custos'!V22)","v":0},{"$f":"'Produto 17'!W7+(X10*'Rateio Custos'!W22)","v":0},{"$f":"'Produto 17'!X7+(Y10*'Rateio Custos'!X22)","v":0},{"$f":"'Produto 17'!Y7+(Z10*'Rateio Custos'!Y22)","v":0},{"$f":"'Produto 17'!Z7+(AA10*'Rateio Custos'!Z22)","v":0},{"$f":"'Produto 17'!AA7+(AB10*'Rateio Custos'!AA22)","v":0},{"$f":"'Produto 17'!AB7+(AC10*'Rateio Custos'!AB22)","v":0},{"$f":"'Produto 17'!AC7+(AD10*'Rateio Custos'!AC22)","v":0},{"$f":"'Produto 17'!AD7+(AE10*'Rateio Custos'!AD22)","v":0},{"$f":"'Produto 17'!AE7+(AF10*'Rateio Custos'!AE22)","v":0},{"$f":"'Produto 17'!AF7+(AG10*'Rateio Custos'!AF22)","v":0},{"$f":"'Produto 17'!AG7+(AH10*'Rateio Custos'!AG22)","v":0}]
[{"$f":"IF(LEN('Parâmetros Gerais'!B31)=0,\" \",'Parâmetros Gerais'!B31)","v":"madeira ipê roxo"},0,0,null,{"$f":"'Produto 18'!D7+(E10*'Rateio Custos'!D23)","v":0},{"$f":"'Produto 18'!E7+(F10*'Rateio Custos'!E23)","v":0},{"$f":"'Produto 18'!F7+(G10*'Rateio Custos'!F23)","v":0},{"$f":"'Produto 18'!G7+(H10*'Rateio Custos'!G23)","v":0},{"$f":"'Produto 18'!H7+(I10*'Rateio Custos'!H23)","v":0},{"$f":"'Produto 18'!I7+(J10*'Rateio Custos'!I23)","v":0},{"$f":"'Produto 18'!J7+(K10*'Rateio Custos'!J23)","v":0},{"$f":"'Produto 18'!K7+(L10*'Rateio Custos'!K23)","v":0},{"$f":"'Produto 18'!L7+(M10*'Rateio Custos'!L23)","v":0},{"$f":"'Produto 18'!M7+(N10*'Rateio Custos'!M23)","v":0},{"$f":"'Produto 18'!N7+(O10*'Rateio Custos'!N23)","v":0},{"$f":"'Produto 18'!O7+(P10*'Rateio Custos'!O23)","v":0},{"$f":"'Produto 18'!P7+(Q10*'Rateio Custos'!P23)","v":0},{"$f":"'Produto 18'!Q7+(R10*'Rateio Custos'!Q23)","v":0},{"$f":"'Produto 18'!R7+(S10*'Rateio Custos'!R23)","v":0},{"$f":"'Produto 18'!S7+(T10*'Rateio Custos'!S23)","v":0},{"$f":"'Produto 18'!T7+(U10*'Rateio Custos'!T23)","v":0},{"$f":"'Produto 18'!U7+(V10*'Rateio Custos'!U23)","v":0},{"$f":"'Produto 18'!V7+(W10*'Rateio Custos'!V23)","v":0},{"$f":"'Produto 18'!W7+(X10*'Rateio Custos'!W23)","v":0},{"$f":"'Produto 18'!X7+(Y10*'Rateio Custos'!X23)","v":0},{"$f":"'Produto 18'!Y7+(Z10*'Rateio Custos'!Y23)","v":0},{"$f":"'Produto 18'!Z7+(AA10*'Rateio Custos'!Z23)","v":0},{"$f":"'Produto 18'!AA7+(AB10*'Rateio Custos'!AA23)","v":0},{"$f":"'Produto 18'!AB7+(AC10*'Rateio Custos'!AB23)","v":0},{"$f":"'Produto 18'!AC7+(AD10*'Rateio Custos'!AC23)","v":0},{"$f":"'Produto 18'!AD7+(AE10*'Rateio Custos'!AD23)","v":0},{"$f":"'Produto 18'!AE7+(AF10*'Rateio Custos'!AE23)","v":0},{"$f":"'Produto 18'!AF7+(AG10*'Rateio Custos'!AF23)","v":0},{"$f":"'Produto 18'!AG7+(AH10*'Rateio Custos'!AG23)","v":0}]
[{"$f":"IF(LEN('Parâmetros Gerais'!B32)=0,\" \",'Parâmetros Gerais'!B32)","v":"madeira ipê amarelo"},0,0,null,{"$f":"'Produto 19'!D7+(E10*'Rateio Custos'!D24)","v":0},{"$f":"'Produto 19'!E7+(F10*'Rateio Custos'!E24)","v":0},{"$f":"'Produto 19'!F7+(G10*'Rateio Custos'!F24)","v":0},{"$f":"'Produto 19'!G7+(H10*'Rateio Custos'!G24)","v":0},{"$f":"'Produto 19'!H7+(I10*'Rateio Custos'!H24)","v":0},{"$f":"'Produto 19'!I7+(J10*'Rateio Custos'!I24)","v":0},{"$f":"'Produto 19'!J7+(K10*'Rateio Custos'!J24)","v":0},{"$f":"'Produto 19'!K7+(L10*'Rateio Custos'!K24)","v":0},{"$f":"'Produto 19'!L7+(M10*'Rateio Custos'!L24)","v":0},{"$f":"'Produto 19'!M7+(N10*'Rateio Custos'!M24)","v":0},{"$f":"'Produto 19'!N7+(O10*'Rateio Custos'!N24)","v":0},{"$f":"'Produto 19'!O7+(P10*'Rateio Custos'!O24)","v":0},{"$f":"'Produto 19'!P7+(Q10*'Rateio Custos'!P24)","v":0},{"$f":"'Produto 19'!Q7+(R10*'Rateio Custos'!Q24)","v":0},{"$f":"'Produto 19'!R7+(S10*'Rateio Custos'!R24)","v":0},{"$f":"'Produto 19'!S7+(T10*'Rateio Custos'!S24)","v":0},{"$f":"'Produto 19'!T7+(U10*'Rateio Custos'!T24)","v":0},{"$f":"'Produto 19'!U7+(V10*'Rateio Custos'!U24)","v":0},{"$f":"'Produto 19'!V7+(W10*'Rateio Custos'!V24)","v":0},{"$f":"'Produto 19'!W7+(X10*'Rateio Custos'!W24)","v":0},{"$f":"'Produto 19'!X7+(Y10*'Rateio Custos'!X24)","v":0},{"$f":"'Produto 19'!Y7+(Z10*'Rateio Custos'!Y24)","v":0},{"$f":"'Produto 19'!Z7+(AA10*'Rateio Custos'!Z24)","v":0},{"$f":"'Produto 19'!AA7+(AB10*'Rateio Custos'!AA24)","v":0},{"$f":"'Produto 19'!AB7+(AC10*'Rateio Custos'!AB24)","v":0},{"$f":"'Produto 19'!AC7+(AD10*'Rateio Custos'!AC24)","v":0},{"$f":"'Produto 19'!AD7+(AE10*'Rateio Custos'!AD24)","v":0},{"$f":"'Produto 19'!AE7+(AF10*'Rateio Custos'!AE24)","v":0},{"$f":"'Produto 19'!AF7+(AG10*'Rateio Custos'!AF24)","v":0},{"$f":"'Produto 19'!AG7+(AH10*'Rateio Custos'!AG24)","v":0}]
[{"$f":"IF(LEN('Parâmetros Gerais'!B33)=0,\" \",'Parâmetros Gerais'!B33)","v":"madeira gonçalo alves"},0,0,null,{"$f":"'Produto 20'!D7+(E10*'Rateio Custos'!D25)","v":0},{"$f":"'Produto 20'!E7+(F10*'Rateio Custos'!E25)","v":0},{"$f":"'Produto 20'!F7+(G10*'Rateio Custos'!F25)","v":0},{"$f":"'Produto 20'!G7+(H10*'Rateio Custos'!G25)","v":0},{"$f":"'Produto 20'!H7+(I10*'Rateio Custos'!H25)","v":0},{"$f":"'Produto 20'!I7+(J10*'Rateio Custos'!I25)","v":0},{"$f":"'Produto 20'!J7+(K10*'Rateio Custos'!J25)","v":0},{"$f":"'Produto 20'!K7+(L10*'Rateio Custos'!K25)","v":0},{"$f":"'Produto 20'!L7+(M10*'Rateio Custos'!L25)","v":0},{"$f":"'Produto 20'!M7+(N10*'Rateio Custos'!M25)","v":0},{"$f":"'Produto 20'!N7+(O10*'Rateio Custos'!N25)","v":0},{"$f":"'Produto 20'!O7+(P10*'Rateio Custos'!O25)","v":0},{"$f":"'Produto 20'!P7+(Q10*'Rateio Custos'!P25)","v":0},{"$f":"'Produto 20'!Q7+(R10*'Rateio Custos'!Q25)","v":0},{"$f":"'Produto 20'!R7+(S10*'Rateio Custos'!R25)","v":0},{"$f":"'Produto 20'!S7+(T10*'Rateio Custos'!S25)","v":0},{"$f":"'Produto 20'!T7+(U10*'Rateio Custos'!T25)","v":0},{"$f":"'Produto 20'!U7+(V10*'Rateio Custos'!U25)","v":0},{"$f":"'Produto 20'!V7+(W10*'Rateio Custos'!V25)","v":0},{"$f":"'Produto 20'!W7+(X10*'Rateio Custos'!W25)","v":0},{"$f":"'Produto 20'!X7+(Y10*'Rateio Custos'!X25)","v":0},{"$f":"'Produto 20'!Y7+(Z10*'Rateio Custos'!Y25)","v":0},{"$f":"'Produto 20'!Z7+(AA10*'Rateio Custos'!Z25)","v":0},{"$f":"'Produto 20'!AA7+(AB10*'Rateio Custos'!AA25)","v":0},{"$f":"'Produto 20'!AB7+(AC10*'Rateio Custos'!AB25)","v":0},{"$f":"'Produto 20'!AC7+(AD10*'Rateio Custos'!AC25)","v":0},{"$f":"'Produto 20'!AD7+(AE10*'Rateio Custos'!AD25)","v":0},{"$f":"'Produto 20'!AE7+(AF10*'Rateio Custos'!AE25)","v":0},{"$f":"'Produto 20'!AF7+(AG10*'Rateio Custos'!AF25)","v":0},{"$f":"'Produto 20'!AG7+(AH10*'Rateio Custos'!AG25)","v":0}]
[{"$f":"IF(LEN('Parâmetros Gerais'!B34)=0,\" \",'Parâmetros Gerais'!B34)","v":"madeira vinhatico"},0,0,null,{"$f":"'Produto 21'!D7+(E10*'Rateio Custos'!D26)","v":0},{"$f":"'Produto 21'!E7+(F10*'Rateio Custos'!E26)","v":0},{"$f":"'Produto 21'!F7+(G10*'Rateio Custos'!F26)","v":0},{"$f":"'Produto 21'!G7+(H10*'Rateio Custos'!G26)","v":0},{"$f":"'Produto 21'!H7+(I10*'Rateio Custos'!H26)","v":0},{"$f":"'Produto 21'!I7+(J10*'Rateio Custos'!I26)","v":0},{"$f":"'Produto 21'!J7+(K10*'Rateio Custos'!J26)","v":0},{"$f":"'Produto 21'!K7+(L10*'Rateio Custos'!K26)","v":0},{"$f":"'Produto 21'!L7+(M10*'Rateio Custos'!L26)","v":0},{"$f":"'Produto 21'!M7+(N10*'Rateio Custos'!M26)","v":0},{"$f":"'Produto 21'!N7+(O10*'Rateio Custos'!N26)","v":0},{"$f":"'Produto 21'!O7+(P10*'Rateio Custos'!O26)","v":0},{"$f":"'Produto 21'!P7+(Q10*'Rateio Custos'!P26)","v":0},{"$f":"'Produto 21'!Q7+(R10*'Rateio Custos'!Q26)","v":0},{"$f":"'Produto 21'!R7+(S10*'Rateio Custos'!R26)","v":0},{"$f":"'Produto 21'!S7+(T10*'Rateio Custos'!S26)","v":0},{"$f":"'Produto 21'!T7+(U10*'Rateio Custos'!T26)","v":0},{"$f":"'Produto 21'!U7+(V10*'Rateio Custos'!U26)","v":0},{"$f":"'Produto 21'!V7+(W10*'Rateio Custos'!V26)","v":0},{"$f":"'Produto 21'!W7+(X10*'Rateio Custos'!W26)","v":0},{"$f":"'Produto 21'!X7+(Y10*'Rateio Custos'!X26)","v":0},{"$f":"'Produto 21'!Y7+(Z10*'Rateio Custos'!Y26)","v":0},{"$f":"'Produto 21'!Z7+(AA10*'Rateio Custos'!Z26)","v":0},{"$f":"'Produto 21'!AA7+(AB10*'Rateio Custos'!AA26)","v":0},{"$f":"'Produto 21'!AB7+(AC10*'Rateio Custos'!AB26)","v":0},{"$f":"'Produto 21'!AC7+(AD10*'Rateio Custos'!AC26)","v":0},{"$f":"'Produto 21'!AD7+(AE10*'Rateio Custos'!AD26)","v":0},{"$f":"'Produto 21'!AE7+(AF10*'Rateio Custos'!AE26)","v":0},{"$f":"'Produto 21'!AF7+(AG10*'Rateio Custos'!AF26)","v":0},{"$f":"'Produto 21'!AG7+(AH10*'Rateio Custos'!AG26)","v":0}]
[{"$f":"IF(LEN('Parâmetros Gerais'!B35)=0,\" \",'Parâmetros Gerais'!B35)","v":"madeira jequitiba"},0,0,null,{"$f":"'Produto 22'!D7+(E10*'Rateio Custos'!D27)","v":0},{"$f":"'Produto 22'!E7+(F10*'Rateio Custos'!E27)","v":0},{"$f":"'Produto 22'!F7+(G10*'Rateio Custos'!F27)","v":0},{"$f":"'Produto 22'!G7+(H10*'Rateio Custos'!G27)","v":0},{"$f":"'Produto 22'!H7+(I10*'Rateio Custos'!H27)","v":0},{"$f":"'Produto 22'!I7+(J10*'Rateio Custos'!I27)","v":0},{"$f":"'Produto 22'!J7+(K10*'Rateio Custos'!J27)","v":0},{"$f":"'Produto 22'!K7+(L10*'Rateio Custos'!K27)","v":0},{"$f":"'Produto 22'!L7+(M10*'Rateio Custos'!L27)","v":0},{"$f":"'Produto 22'!M7+(N10*'Rateio Custos'!M27)","v":0},{"$f":"'Produto 22'!N7+(O10*'Rateio Custos'!N27)","v":0},{"$f":"'Produto 22'!O7+(P10*'Rateio Custos'!O27)","v":0},{"$f":"'Produto 22'!P7+(Q10*'Rateio Custos'!P27)","v":0},{"$f":"'Produto 22'!Q7+(R10*'Rateio Custos'!Q27)","v":0},{"$f":"'Produto 22'!R7+(S10*'Rateio Custos'!R27)","v":0},{"$f":"'Produto 22'!S7+(T10*'Rateio Custos'!S27)","v":0},{"$f":"'Produto 22'!T7+(U10*'Rateio Custos'!T27)","v":0},{"$f":"'Produto 22'!U7+(V10*'Rateio Custos'!U27)","v":0},{"$f":"'Produto 22'!V7+(W10*'Rateio Custos'!V27)","v":0},{"$f":"'Produto 22'!W7+(X10*'Rateio Custos'!W27)","v":0},{"$f":"'Produto 22'!X7+(Y10*'Rateio Custos'!X27)","v":0},{"$f":"'Produto 22'!Y7+(Z10*'Rateio Custos'!Y27)","v":0},{"$f":"'Produto 22'!Z7+(AA10*'Rateio Custos'!Z27)","v":0},{"$f":"'Produto 22'!AA7+(AB10*'Rateio Custos'!AA27)","v":0},{"$f":"'Produto 22'!AB7+(AC10*'Rateio Custos'!AB27)","v":0},{"$f":"'Produto 22'!AC7+(AD10*'Rateio Custos'!AC27)","v":0},{"$f":"'Produto 22'!AD7+(AE10*'Rateio Custos'!AD27)","v":0},{"$f":"'Produto 22'!AE7+(AF10*'Rateio Custos'!AE27)","v":0},{"$f":"'Produto 22'!AF7+(AG10*'Rateio Custos'!AF27)","v":0},{"$f":"'Produto 22'!AG7+(AH10*'Rateio Custos'!AG27)","v":0}]
[{"$f":"IF(LEN('Parâmetros Gerais'!B36)=0,\" \",'Parâmetros Gerais'!B36)","v":"biomassa"},0,0,null,{"$f":"'Produto 23'!D7+(E10*'Rateio Custos'!D28)","v":0},{"$f":"'Produto 23'!E7+(F10*'Rateio Custos'!E28)","v":0},{"$f":"'Produto 23'!F7+(G10*'Rateio Custos'!F28)","v":0},{"$f":"'Produto 23'!G7+(H10*'Rateio Custos'!G28)","v":0},{"$f":"'Produto 23'!H7+(I10*'Rateio Custos'!H28)","v":0},{"$f":"'Produto 23'!I7+(J10*'Rateio Custos'!I28)","v":0},{"$f":"'Produto 23'!J7+(K10*'Rateio Custos'!J28)","v":0},{"$f":"'Produto 23'!K7+(L10*'Rateio Custos'!K28)","v":0},{"$f":"'Produto 23'!L7+(M10*'Rateio Custos'!L28)","v":0},{"$f":"'Produto 23'!M7+(N10*'Rateio Custos'!M28)","v":0},{"$f":"'Produto 23'!N7+(O10*'Rateio Custos'!N28)","v":0},{"$f":"'Produto 23'!O7+(P10*'Rateio Custos'!O28)","v":0},{"$f":"'Produto 23'!P7+(Q10*'Rateio Custos'!P28)","v":0},{"$f":"'Produto 23'!Q7+(R10*'Rateio Custos'!Q28)","v":0},{"$f":"'Produto 23'!R7+(S10*'Rateio Custos'!R28)","v":0},{"$f":"'Produto 23'!S7+(T10*'Rateio Custos'!S28)","v":0},{"$f":"'Produto 23'!T7+(U10*'Rateio Custos'!T28)","v":0},{"$f":"'Produto 23'!U7+(V10*'Rateio Custos'!U28)","v":0},{"$f":"'Produto 23'!V7+(W10*'Rateio Custos'!V28)","v":0},{"$f":"'Produto 23'!W7+(X10*'Rateio Custos'!W28)","v":0},{"$f":"'Produto 23'!X7+(Y10*'Rateio Custos'!X28)","v":0},{"$f":"'Produto 23'!Y7+(Z10*'Rateio Custos'!Y28)","v":0},{"$f":"'Produto 23'!Z7+(AA10*'Rateio Custos'!Z28)","v":0},{"$f":"'Produto 23'!AA7+(AB10*'Rateio Custos'!AA28)","v":0},{"$f":"'Produto 23'!AB7+(AC10*'Rateio Custos'!AB28)","v":0},{"$f":"'Produto 23'!AC7+(AD10*'Rateio Custos'!AC28)","v":0},{"$f":"'Produto 23'!AD7+(AE10*'Rateio Custos'!AD28)","v":0},{"$f":"'Produto 23'!AE7+(AF10*'Rateio Custos'!AE28)","v":0},{"$f":"'Produto 23'!AF7+(AG10*'Rateio Custos'!AF28)","v":0},{"$f":"'Produto 23'!AG7+(AH10*'Rateio Custos'!AG28)","v":0}]
[{"$f":"IF(LEN('Parâmetros Gerais'!B37)=0,\" \",'Parâmetros Gerais'!B37)","v":"grão caupi"},{"$f":"IF(C36<>0,C36/$C$8,0)","v":0},{"$f":"SUM(D36:AH36)","v":0},null,{"$f":"'Produto 24'!D7+(E10*'Rateio Custos'!D29)","v":0},{"$f":"'Produto 24'!E7+(F10*'Rateio Custos'!E29)","v":0},{"$f":"'Produto 24'!F7+(G10*'Rateio Custos'!F29)","v":0},{"$f":"'Produto 24'!G7+(H10*'Rateio Custos'!G29)","v":0},{"$f":"'Produto 24'!H7+(I10*'Rateio Custos'!H29)","v":0},{"$f":"'Produto 24'!I7+(J10*'Rateio Custos'!I29)","v":0},{"$f":"'Produto 24'!J7+(K10*'Rateio Custos'!J29)","v":0},{"$f":"'Produto 24'!K7+(L10*'Rateio Custos'!K29)","v":0},{"$f":"'Produto 24'!L7+(M10*'Rateio Custos'!L29)","v":0},{"$f":"'Produto 24'!M7+(N10*'Rateio Custos'!M29)","v":0},{"$f":"'Produto 24'!N7+(O10*'Rateio Custos'!N29)","v":0},{"$f":"'Produto 24'!O7+(P10*'Rateio Custos'!O29)","v":0},{"$f":"'Produto 24'!P7+(Q10*'Rateio Custos'!P29)","v":0},{"$f":"'Produto 24'!Q7+(R10*'Rateio Custos'!Q29)","v":0},{"$f":"'Produto 24'!R7+(S10*'Rateio Custos'!R29)","v":0},{"$f":"'Produto 24'!S7+(T10*'Rateio Custos'!S29)","v":0},{"$f":"'Produto 24'!T7+(U10*'Rateio Custos'!T29)","v":0},{"$f":"'Produto 24'!U7+(V10*'Rateio Custos'!U29)","v":0},{"$f":"'Produto 24'!V7+(W10*'Rateio Custos'!V29)","v":0},{"$f":"'Produto 24'!W7+(X10*'Rateio Custos'!W29)","v":0},{"$f":"'Produto 24'!X7+(Y10*'Rateio Custos'!X29)","v":0},{"$f":"'Produto 24'!Y7+(Z10*'Rateio Custos'!Y29)","v":0},{"$f":"'Produto 24'!Z7+(AA10*'Rateio Custos'!Z29)","v":0},{"$f":"'Produto 24'!AA7+(AB10*'Rateio Custos'!AA29)","v":0},{"$f":"'Produto 24'!AB7+(AC10*'Rateio Custos'!AB29)","v":0},{"$f":"'Produto 24'!AC7+(AD10*'Rateio Custos'!AC29)","v":0},{"$f":"'Produto 24'!AD7+(AE10*'Rateio Custos'!AD29)","v":0},{"$f":"'Produto 24'!AE7+(AF10*'Rateio Custos'!AE29)","v":0},{"$f":"'Produto 24'!AF7+(AG10*'Rateio Custos'!AF29)","v":0},{"$f":"'Produto 24'!AG7+(AH10*'Rateio Custos'!AG29)","v":0}]
[]
["Custos de Insumos",{"$f":"C38/$C$6","v":{"$error":"#DIV/0!"}},{"$f":"SUM(D38:AH38)","v":0},{"$f":"D40","v":0},{"$f":"SUM(E43:E66)","v":0},0,0,0,0,0,0,0,0,0,0,0,0,0,0,0,0,0,0,0,0,0,0,0,0,0,0,0,0,0]
[]
["   Preparo e Insumos Gerais",null,null,{"$f":"'Preparo e Gerais'!D20","v":0},{"$f":"'Preparo e Gerais'!E20","v":0},{"$f":"'Preparo e Gerais'!F20","v":0},{"$f":"'Preparo e Gerais'!G20","v":0},{"$f":"'Preparo e Gerais'!H20","v":0},{"$f":"'Preparo e Gerais'!I20","v":0},{"$f":"'Preparo e Gerais'!J20","v":0},{"$f":"'Preparo e Gerais'!K20","v":0},{"$f":"'Preparo e Gerais'!L20","v":0},{"$f":"'Preparo e Gerais'!M20","v":0},{"$f":"'Preparo e Gerais'!N20","v":0},{"$f":"'Preparo e Gerais'!O20","v":0},{"$f":"'Preparo e Gerais'!P20","v":0},{"$f":"'Preparo e Gerais'!Q20","v":0},{"$f":"'Preparo e Gerais'!R20","v":0},{"$f":"'Preparo e Gerais'!S20","v":0},{"$f":"'Preparo e Gerais'!T20","v":0},{"$f":"'Preparo e Gerais'!U20","v":0},{"$f":"'Preparo e Gerais'!V20","v":0},{"$f":"'Preparo e Gerais'!W20","v":0},{"$f":"'Preparo e Gerais'!X20","v":0},{"$f":"'Preparo e Gerais'!Y20","v":0},{"$f":"'Preparo e Gerais'!Z20","v":0},{"$f":"'Preparo e Gerais'!AA20","v":0},{"$f":"'Preparo e Gerais'!AB20","v":0},{"$f":"'Preparo e Gerais'!AC20","v":0},{"$f":"'Preparo e Gerais'!AD20","v":0},{"$f":"'Preparo e Gerais'!AE20","v":0},{"$f":"'Preparo e Gerais'!AF20","v":0},{"$f":"'Preparo e Gerais'!AG20","v":0},{"$f":"'Preparo e Gerais'!AH20","v":0}]
[]
["Produtos"]
[{"$f":"IF(LEN('Parâmetros Gerais'!B14)=0,\" \",'Parâmetros Gerais'!B14)","v":"latex"},{"$f":"IF(C43<>0,C43/$C$38,0)","v":0},{"$f":"SUM(D43:AH43)","v":0},null,{"$f":"latex!D24+(E40*Descrição!$P$13)","v":0},{"$f":"latex!E24+(F40*Descrição!$P$13)","v":0},{"$f":"latex!F24+(G40*Descrição!$P$13)","v":0},{"$f":"latex!G24+(H40*Descrição!$P$13)","v":0},{"$f":"latex!H24+(I40*Descrição!$P$13)","v":0},{"$f":"latex!I24+(J40*Descrição!$P$13)","v":0},{"$f":"latex!J24+(K40*Descrição!$P$13)","v":0},{"$f":"latex!K24+(L40*Descrição!$P$13)","v":0},{"$f":"latex!L24+(M40*Descrição!$P$13)","v":0},{"$f":"latex!M24+(N40*Descrição!$P$13)","v":0},{"$f":"latex!N24+(O40*Descrição!$P$13)","v":0},{"$f":"latex!O24+(P40*Descrição!$P$13)","v":0},{"$f":"latex!P24+(Q40*Descrição!$P$13)","v":0},{"$f":"latex!Q24+(R40*Descrição!$P$13)","v":0},{"$f":"latex!R24+(S40*Descrição!$P$13)","v":0},{"$f":"latex!S24+(T40*Descrição!$P$13)","v":0},{"$f":"latex!T24+(U40*Descrição!$P$13)","v":0},{"$f":"latex!U24+(V40*Descrição!$P$13)","v":0},{"$f":"latex!V24+(W40*Descrição!$P$13)","v":0},{"$f":"latex!W24+(X40*Descrição!$P$13)","v":0},{"$f":"latex!X24+(Y40*Descrição!$P$13)","v":0},{"$f":"latex!Y24+(Z40*Descrição!$P$13)","v":0},{"$f":"latex!Z24+(AA40*Descrição!$P$13)","v":0},{"$f":"latex!AA24+(AB40*Descrição!$P$13)","v":0},{"$f":"latex!AB24+(AC40*Descrição!$P$13)","v":0},{"$f":"latex!AC24+(AD40*Descrição!$P$13)","v":0},{"$f":"latex!AD24+(AE40*Descrição!$P$13)","v":0},{"$f":"latex!AE24+(AF40*Descrição!$P$13)","v":0},{"$f":"latex!AF24+(AG40*Descrição!$P$13)","v":0},{"$f":"latex!AG24+(AH40*Descrição!$P$13)","v":0}]
[{"$f":"IF(LEN('Parâmetros Gerais'!B15)=0,\" \",'Parâmetros Gerais'!B15)","v":"fruto genipapo"},{"$f":"IF(C44<>0,C44/$C$38,0)","v":0},0,null,{"$f":"'fruto genipapo'!D24+(E40*Descrição!$P$14)","v":0},{"$f":"'fruto genipapo'!E24+(F40*Descrição!$P$14)","v":0},{"$f":"'fruto genipapo'!F24+(G40*Descrição!$P$14)","v":0},{"$f":"'fruto genipapo'!G24+(H40*Descrição!$P$14)","v":0},{"$f":"'fruto genipapo'!H24+(I40*Descrição!$P$14)","v":0},{"$f":"'fruto genipapo'!I24+(J40*Descrição!$P$14)","v":0},{"$f":"'fruto genipapo'!J24+(K40*Descrição!$P$14)","v":0},{"$f":"'fruto genipapo'!K24+(L40*Descrição!$P$14)","v":0},{"$f":"'fruto genipapo'!L24+(M40*Descrição!$P$14)","v":0},{"$f":"'fruto genipapo'!M24+(N40*Descrição!$P$14)","v":0},{"$f":"'fruto genipapo'!N24+(O40*Descrição!$P$14)","v":0},{"$f":"'fruto genipapo'!O24+(P40*Descrição!$P$14)","v":0},{"$f":"'fruto genipapo'!P24+(Q40*Descrição!$P$14)","v":0},{"$f":"'fruto genipapo'!Q24+(R40*Descrição!$P$14)","v":0},{"$f":"'fruto genipapo'!R24+(S40*Descrição!$P$14)","v":0},{"$f":"'fruto genipapo'!S24+(T40*Descrição!$P$14)","v":0},{"$f":"'fruto genipapo'!T24+(U40*Descrição!$P$14)","v":0},{"$f":"'fruto genipapo'!U24+(V40*Descrição!$P$14)","v":0},{"$f":"'fruto genipapo'!V24+(W40*Descrição!$P$14)","v":0},{"$f":"'fruto genipapo'!W24+(X40*Descrição!$P$14)","v":0},{"$f":"'fruto genipapo'!X24+(Y40*Descrição!$P$14)","v":0},{"$f":"'fruto genipapo'!Y24+(Z40*Descrição!$P$14)","v":0},{"$f":"'fruto genipapo'!Z24+(AA40*Descrição!$P$14)","v":0},{"$f":"'fruto genipapo'!AA24+(AB40*Descrição!$P$14)","v":0},{"$f":"'fruto genipapo'!AB24+(AC40*Descrição!$P$14)","v":0},{"$f":"'fruto genipapo'!AC24+(AD40*Descrição!$P$14)","v":0},{"$f":"'fruto genipapo'!AD24+(AE40*Descrição!$P$14)","v":0},{"$f":"'fruto genipapo'!AE24+(AF40*Descrição!$P$14)","v":0},{"$f":"'fruto genipapo'!AF24+(AG40*Descrição!$P$14)","v":0},{"$f":"'fruto genipapo'!AG24+(AH40*Descrição!$P$14)","v":0}]
[{"$f":"IF(LEN('Parâmetros Gerais'!B16)=0,\" \",'Parâmetros Gerais'!B16)","v":"fruto araçauna"},0,0,null,{"$f":"'fruto araçauna'!D24+(E40*Descrição!$P$15)","v":0},{"$f":"'fruto araçauna'!E24+(F40*Descrição!$P$15)","v":0},{"$f":"'fruto araçauna'!F24+(G40*Descrição!$P$15)","v":0},{"$f":"'fruto araçauna'!G24+(H40*Descrição!$P$15)","v":0},{"$f":"'fruto araçauna'!H24+(I40*Descrição!$P$15)","v":0},{"$f":"'fruto araçauna'!I24+(J40*Descrição!$P$15)","v":0},{"$f":"'fruto araçauna'!J24+(K40*Descrição!$P$15)","v":0},{"$f":"'fruto araçauna'!K24+(L40*Descrição!$P$15)","v":0},{"$f":"'fruto araçauna'!L24+(M40*Descrição!$P$15)","v":0},{"$f":"'fruto araçauna'!M24+(N40*Descrição!$P$15)","v":0},{"$f":"'fruto araçauna'!N24+(O40*Descrição!$P$15)","v":0},{"$f":"'fruto araçauna'!O24+(P40*Descrição!$P$15)","v":0},{"$f":"'fruto araçauna'!P24+(Q40*Descrição!$P$15)","v":0},{"$f":"'fruto araçauna'!Q24+(R40*Descrição!$P$15)","v":0},{"$f":"'fruto araçauna'!R24+(S40*Descrição!$P$15)","v":0},{"$f":"'fruto araçauna'!S24+(T40*Descrição!$P$15)","v":0},{"$f":"'fruto araçauna'!T24+(U40*Descrição!$P$15)","v":0},{"$f":"'fruto araçauna'!U24+(V40*Descrição!$P$15)","v":0},{"$f":"'fruto araçauna'!V24+(W40*Descrição!$P$15)","v":0},{"$f":"'fruto araçauna'!W24+(X40*Descrição!$P$15)","v":0},{"$f":"'fruto araçauna'!X24+(Y40*Descrição!$P$15)","v":0},{"$f":"'fruto araçauna'!Y24+(Z40*Descrição!$P$15)","v":0},{"$f":"'fruto araçauna'!Z24+(AA40*Descrição!$P$15)","v":0},{"$f":"'fruto araçauna'!AA24+(AB40*Descrição!$P$15)","v":0},{"$f":"'fruto araçauna'!AB24+(AC40*Descrição!$P$15)","v":0},{"$f":"'fruto araçauna'!AC24+(AD40*Descrição!$P$15)","v":0},{"$f":"'fruto araçauna'!AD24+(AE40*Descrição!$P$15)","v":0},{"$f":"'fruto araçauna'!AE24+(AF40*Descrição!$P$15)","v":0},{"$f":"'fruto araçauna'!AF24+(AG40*Descrição!$P$15)","v":0},{"$f":"'fruto araçauna'!AG24+(AH40*Descrição!$P$15)","v":0}]
[{"$f":"IF(LEN('Parâmetros Gerais'!B17)=0,\" \",'Parâmetros Gerais'!B17)","v":"fruto pitanga"},0,0,null,{"$f":"'fruto pitanga'!D24+(E40*Descrição!$P$16)","v":0},{"$f":"'fruto pitanga'!E24+(F40*Descrição!$P$16)","v":0},{"$f":"'fruto pitanga'!F24+(G40*Descrição!$P$16)","v":0},{"$f":"'fruto pitanga'!G24+(H40*Descrição!$P$16)","v":0},{"$f":"'fruto pitanga'!H24+(I40*Descrição!$P$16)","v":0},{"$f":"'fruto pitanga'!I24+(J40*Descrição!$P$16)","v":0},{"$f":"'fruto pitanga'!J24+(K40*Descrição!$P$16)","v":0},{"$f":"'fruto pitanga'!K24+(L40*Descrição!$P$16)","v":0},{"$f":"'fruto pitanga'!L24+(M40*Descrição!$P$16)","v":0},{"$f":"'fruto pitanga'!M24+(N40*Descrição!$P$16)","v":0},{"$f":"'fruto pitanga'!N24+(O40*Descrição!$P$16)","v":0},{"$f":"'fruto pitanga'!O24+(P40*Descrição!$P$16)","v":0},{"$f":"'fruto pitanga'!P24+(Q40*Descrição!$P$16)","v":0},{"$f":"'fruto pitanga'!Q24+(R40*Descrição!$P$16)","v":0},{"$f":"'fruto pitanga'!R24+(S40*Descrição!$P$16)","v":0},{"$f":"'fruto pitanga'!S24+(T40*Descrição!$P$16)","v":0},{"$f":"'fruto pitanga'!T24+(U40*Descrição!$P$16)","v":0},{"$f":"'fruto pitanga'!U24+(V40*Descrição!$P$16)","v":0},{"$f":"'fruto pitanga'!V24+(W40*Descrição!$P$16)","v":0},{"$f":"'fruto pitanga'!W24+(X40*Descrição!$P$16)","v":0},{"$f":"'fruto pitanga'!X24+(Y40*Descrição!$P$16)","v":0},{"$f":"'fruto pitanga'!Y24+(Z40*Descrição!$P$16)","v":0},{"$f":"'fruto pitanga'!Z24+(AA40*Descrição!$P$16)","v":0},{"$f":"'fruto pitanga'!AA24+(AB40*Descrição!$P$16)","v":0},{"$f":"'fruto pitanga'!AB24+(AC40*Descrição!$P$16)","v":0},{"$f":"'fruto pitanga'!AC24+(AD40*Descrição!$P$16)","v":0},{"$f":"'fruto pitanga'!AD24+(AE40*Descrição!$P$16)","v":0},{"$f":"'fruto pitanga'!AE24+(AF40*Descrição!$P$16)","v":0},{"$f":"'fruto pitanga'!AF24+(AG40*Descrição!$P$16)","v":0},{"$f":"'fruto pitanga'!AG24+(AH40*Descrição!$P$16)","v":0}]
[{"$f":"IF(LEN('Parâmetros Gerais'!B18)=0,\" \",'Parâmetros Gerais'!B18)","v":"castanha sapucaia"},0,0,null,{"$f":"Castanha!D24+(E40*Descrição!$P$17)","v":0},{"$f":"Castanha!E24+(F40*Descrição!$P$17)","v":0},{"$f":"Castanha!F24+(G40*Descrição!$P$17)","v":0},{"$f":"Castanha!G24+(H40*Descrição!$P$17)","v":0},{"$f":"Castanha!H24+(I40*Descrição!$P$17)","v":0},{"$f":"Castanha!I24+(J40*Descrição!$P$17)","v":0},{"$f":"Castanha!J24+(K40*Descrição!$P$17)","v":0},{"$f":"Castanha!K24+(L40*Descrição!$P$17)","v":0},{"$f":"Castanha!L24+(M40*Descrição!$P$17)","v":0},{"$f":"Castanha!M24+(N40*Descrição!$P$17)","v":0},{"$f":"Castanha!N24+(O40*Descrição!$P$17)","v":0},{"$f":"Castanha!O24+(P40*Descrição!$P$17)","v":0},{"$f":"Castanha!P24+(Q40*Descrição!$P$17)","v":0},{"$f":"Castanha!Q24+(R40*Descrição!$P$17)","v":0},{"$f":"Castanha!R24+(S40*Descrição!$P$17)","v":0},{"$f":"Castanha!S24+(T40*Descrição!$P$17)","v":0},{"$f":"Castanha!T24+(U40*Descrição!$P$17)","v":0},{"$f":"Castanha!U24+(V40*Descrição!$P$17)","v":0},{"$f":"Castanha!V24+(W40*Descrição!$P$17)","v":0},{"$f":"Castanha!W24+(X40*Descrição!$P$17)","v":0},{"$f":"Castanha!X24+(Y40*Descrição!$P$17)","v":0},{"$f":"Castanha!Y24+(Z40*Descrição!$P$17)","v":0},{"$f":"Castanha!Z24+(AA40*Descrição!$P$17)","v":0},{"$f":"Castanha!AA24+(AB40*Descrição!$P$17)","v":0},{"$f":"Castanha!AB24+(AC40*Descrição!$P$17)","v":0},{"$f":"Castanha!AC24+(AD40*Descrição!$P$17)","v":0},{"$f":"Castanha!AD24+(AE40*Descrição!$P$17)","v":0},{"$f":"Castanha!AE24+(AF40*Descrição!$P$17)","v":0},{"$f":"Castanha!AF24+(AG40*Descrição!$P$17)","v":0},{"$f":"Castanha!AG24+(AH40*Descrição!$P$17)","v":0}]
[{"$f":"IF(LEN('Parâmetros Gerais'!B19)=0,\" \",'Parâmetros Gerais'!B19)","v":"fruto cajá"},0,{"$f":"SUM(D48:AH48)","v":0},null,{"$f":"'fruto cajá'!D24+(E40*Descrição!$P$18)","v":0},{"$f":"'fruto cajá'!E24+(F40*Descrição!$P$18)","v":0},{"$f":"'fruto cajá'!F24+(G40*Descrição!$P$18)","v":0},{"$f":"'fruto cajá'!G24+(H40*Descrição!$P$18)","v":0},{"$f":"'fruto cajá'!H24+(I40*Descrição!$P$18)","v":0},{"$f":"'fruto cajá'!I24+(J40*Descrição!$P$18)","v":0},{"$f":"'fruto cajá'!J24+(K40*Descrição!$P$18)","v":0},{"$f":"'fruto cajá'!K24+(L40*Descrição!$P$18)","v":0},{"$f":"'fruto cajá'!L24+(M40*Descrição!$P$18)","v":0},{"$f":"'fruto cajá'!M24+(N40*Descrição!$P$18)","v":0},{"$f":"'fruto cajá'!N24+(O40*Descrição!$P$18)","v":0},{"$f":"'fruto cajá'!O24+(P40*Descrição!$P$18)","v":0},{"$f":"'fruto cajá'!P24+(Q40*Descrição!$P$18)","v":0},{"$f":"'fruto cajá'!Q24+(R40*Descrição!$P$18)","v":0},{"$f":"'fruto cajá'!R24+(S40*Descrição!$P$18)","v":0},{"$f":"'fruto cajá'!S24+(T40*Descrição!$P$18)","v":0},{"$f":"'fruto cajá'!T24+(U40*Descrição!$P$18)","v":0},{"$f":"'fruto cajá'!U24+(V40*Descrição!$P$18)","v":0},{"$f":"'fruto cajá'!V24+(W40*Descrição!$P$18)","v":0},{"$f":"'fruto cajá'!W24+(X40*Descrição!$P$18)","v":0},{"$f":"'fruto cajá'!X24+(Y40*Descrição!$P$18)","v":0},{"$f":"'fruto cajá'!Y24+(Z40*Descrição!$P$18)","v":0},{"$f":"'fruto cajá'!Z24+(AA40*Descrição!$P$18)","v":0},{"$f":"'fruto cajá'!AA24+(AB40*Descrição!$P$18)","v":0},{"$f":"'fruto cajá'!AB24+(AC40*Descrição!$P$18)","v":0},{"$f":"'fruto cajá'!AC24+(AD40*Descrição!$P$18)","v":0},{"$f":"'fruto cajá'!AD24+(AE40*Descrição!$P$18)","v":0},{"$f":"'fruto cajá'!AE24+(AF40*Descrição!$P$18)","v":0},{"$f":"'fruto cajá'!AF24+(AG40*Descrição!$P$18)","v":0},{"$f":"'fruto cajá'!AG24+(AH40*Descrição!$P$18)","v":0}]
[{"$f":"IF(LEN('Parâmetros Gerais'!B20)=0,\" \",'Parâmetros Gerais'!B20)","v":"semente urucum"},0,0,null,{"$f":"'semente urucum'!D24+(E40*Descrição!$P$19)","v":0},{"$f":"'semente urucum'!E24+(F40*Descrição!$P$19)","v":0},{"$f":"'semente urucum'!F24+(G40*Descrição!$P$19)","v":0},{"$f":"'semente urucum'!G24+(H40*Descrição!$P$19)","v":0},{"$f":"'semente urucum'!H24+(I40*Descrição!$P$19)","v":0},{"$f":"'semente urucum'!I24+(J40*Descrição!$P$19)","v":0},{"$f":"'semente urucum'!J24+(K40*Descrição!$P$19)","v":0},{"$f":"'semente urucum'!K24+(L40*Descrição!$P$19)","v":0},{"$f":"'semente urucum'!L24+(M40*Descrição!$P$19)","v":0},{"$f":"'semente urucum'!M24+(N40*Descrição!$P$19)","v":0},{"$f":"'semente urucum'!N24+(O40*Descrição!$P$19)","v":0},{"$f":"'semente urucum'!O24+(P40*Descrição!$P$19)","v":0},{"$f":"'semente urucum'!P24+(Q40*Descrição!$P$19)","v":0},{"$f":"'semente urucum'!Q24+(R40*Descrição!$P$19)","v":0},{"$f":"'semente urucum'!R24+(S40*Descrição!$P$19)","v":0},{"$f":"'semente urucum'!S24+(T40*Descrição!$P$19)","v":0},{"$f":"'semente urucum'!T24+(U40*Descrição!$P$19)","v":0},{"$f":"'semente urucum'!U24+(V40*Descrição!$P$19)","v":0},{"$f":"'semente urucum'!V24+(W40*Descrição!$P$19)","v":0},{"$f":"'semente urucum'!W24+(X40*Descrição!$P$19)","v":0},{"$f":"'semente urucum'!X24+(Y40*Descrição!$P$19)","v":0},{"$f":"'semente urucum'!Y24+(Z40*Descrição!$P$19)","v":0},{"$f":"'semente urucum'!Z24+(AA40*Descrição!$P$19)","v":0},{"$f":"'semente urucum'!AA24+(AB40*Descrição!$P$19)","v":0},{"$f":"'semente urucum'!AB24+(AC40*Descrição!$P$19)","v":0},{"$f":"'semente urucum'!AC24+(AD40*Descrição!$P$19)","v":0},{"$f":"'semente urucum'!AD24+(AE40*Descrição!$P$19)","v":0},{"$f":"'semente urucum'!AE24+(AF40*Descrição!$P$19)","v":0},{"$f":"'semente urucum'!AF24+(AG40*Descrição!$P$19)","v":0},{"$f":"'semente urucum'!AG24+(AH40*Descrição!$P$19)","v":0}]
[{"$f":"IF(LEN('Parâmetros Gerais'!B21)=0,\" \",'Parâmetros Gerais'!B21)","v":"semente aroeira"},0,0,null,{"$f":"'semente aroeira'!D24+(E40*Descrição!$P$20)","v":0},{"$f":"'semente aroeira'!E24+(F40*Descrição!$P$20)","v":0},{"$f":"'semente aroeira'!F24+(G40*Descrição!$P$20)","v":0},{"$f":"'semente aroeira'!G24+(H40*Descrição!$P$20)","v":0},{"$f":"'semente aroeira'!H24+(I40*Descrição!$P$20)","v":0},{"$f":"'semente aroeira'!I24+(J40*Descrição!$P$20)","v":0},{"$f":"'semente aroeira'!J24+(K40*Descrição!$P$20)","v":0},{"$f":"'semente aroeira'!K24+(L40*Descrição!$P$20)","v":0},{"$f":"'semente aroeira'!L24+(M40*Descrição!$P$20)","v":0},{"$f":"'semente aroeira'!M24+(N40*Descrição!$P$20)","v":0},{"$f":"'semente aroeira'!N24+(O40*Descrição!$P$20)","v":0},{"$f":"'semente aroeira'!O24+(P40*Descrição!$P$20)","v":0},{"$f":"'semente aroeira'!P24+(Q40*Descrição!$P$20)","v":0},{"$f":"'semente aroeira'!Q24+(R40*Descrição!$P$20)","v":0},{"$f":"'semente aroeira'!R24+(S40*Descrição!$P$20)","v":0},{"$f":"'semente aroeira'!S24+(T40*Descrição!$P$20)","v":0},{"$f":"'semente aroeira'!T24+(U40*Descrição!$P$20)","v":0},{"$f":"'semente aroeira'!U24+(V40*Descrição!$P$20)","v":0},{"$f":"'semente aroeira'!V24+(W40*Descrição!$P$20)","v":0},{"$f":"'semente aroeira'!W24+(X40*Descrição!$P$20)","v":0},{"$f":"'semente aroeira'!X24+(Y40*Descrição!$P$20)","v":0},{"$f":"'semente aroeira'!Y24+(Z40*Descrição!$P$20)","v":0},{"$f":"'semente aroeira'!Z24+(AA40*Descrição!$P$20)","v":0},{"$f":"'semente aroeira'!AA24+(AB40*Descrição!$P$20)","v":0},{"$f":"'semente aroeira'!AB24+(AC40*Descrição!$P$20)","v":0},{"$f":"'semente aroeira'!AC24+(AD40*Descrição!$P$20)","v":0},{"$f":"'semente aroeira'!AD24+(AE40*Descrição!$P$20)","v":0},{"$f":"'semente aroeira'!AE24+(AF40*Descrição!$P$20)","v":0},{"$f":"'semente aroeira'!AF24+(AG40*Descrição!$P$20)","v":0},{"$f":"'semente aroeira'!AG24+(AH40*Descrição!$P$20)","v":0}]
[{"$f":"IF(LEN('Parâmetros Gerais'!B22)=0,\" \",'Parâmetros Gerais'!B22)","v":"raiz mandioca"},0,0,null,{"$f":"'raiz mandioca'!D24+(E40*Descrição!$P$21)","v":0},{"$f":"'raiz mandioca'!E24+(F40*Descrição!$P$21)","v":0},{"$f":"'raiz mandioca'!F24+(G40*Descrição!$P$21)","v":0},{"$f":"'raiz mandioca'!G24+(H40*Descrição!$P$21)","v":0},{"$f":"'raiz mandioca'!H24+(I40*Descrição!$P$21)","v":0},{"$f":"'raiz mandioca'!I24+(J40*Descrição!$P$21)","v":0},{"$f":"'raiz mandioca'!J24+(K40*Descrição!$P$21)","v":0},{"$f":"'raiz mandioca'!K24+(L40*Descrição!$P$21)","v":0},{"$f":"'raiz mandioca'!L24+(M40*Descrição!$P$21)","v":0},{"$f":"'raiz mandioca'!M24+(N40*Descrição!$P$21)","v":0},{"$f":"'raiz mandioca'!N24+(O40*Descrição!$P$21)","v":0},{"$f":"'raiz mandioca'!O24+(P40*Descrição!$P$21)","v":0},{"$f":"'raiz mandioca'!P24+(Q40*Descrição!$P$21)","v":0},{"$f":"'raiz mandioca'!Q24+(R40*Descrição!$P$21)","v":0},{"$f":"'raiz mandioca'!R24+(S40*Descrição!$P$21)","v":0},{"$f":"'raiz mandioca'!S24+(T40*Descrição!$P$21)","v":0},{"$f":"'raiz mandioca'!T24+(U40*Descrição!$P$21)","v":0},{"$f":"'raiz mandioca'!U24+(V40*Descrição!$P$21)","v":0},{"$f":"'raiz mandioca'!V24+(W40*Descrição!$P$21)","v":0},{"$f":"'raiz mandioca'!W24+(X40*Descrição!$P$21)","v":0},{"$f":"'raiz mandioca'!X24+(Y40*Descrição!$P$21)","v":0},{"$f":"'raiz mandioca'!Y24+(Z40*Descrição!$P$21)","v":0},{"$f":"'raiz mandioca'!Z24+(AA40*Descrição!$P$21)","v":0},{"$f":"'raiz mandioca'!AA24+(AB40*Descrição!$P$21)","v":0},{"$f":"'raiz mandioca'!AB24+(AC40*Descrição!$P$21)","v":0},{"$f":"'raiz mandioca'!AC24+(AD40*Descrição!$P$21)","v":0},{"$f":"'raiz mandioca'!AD24+(AE40*Descrição!$P$21)","v":0},{"$f":"'raiz mandioca'!AE24+(AF40*Descrição!$P$21)","v":0},{"$f":"'raiz mandioca'!AF24+(AG40*Descrição!$P$21)","v":0},{"$f":"'raiz mandioca'!AG24+(AH40*Descrição!$P$21)","v":0}]
[{"$f":"IF(LEN('Parâmetros Gerais'!B23)=0,\" \",'Parâmetros Gerais'!B23)","v":"fruto abacaxi"},0,{"$f":"SUM(D52:AH52)","v":0},null,{"$f":"abacaxi!D24+(E40*Descrição!$P$22)","v":0},{"$f":"abacaxi!E24+(F40*Descrição!$P$22)","v":0},{"$f":"abacaxi!F24+(G40*Descrição!$P$22)","v":0},{"$f":"abacaxi!G24+(H40*Descrição!$P$22)","v":0},{"$f":"abacaxi!H24+(I40*Descrição!$P$22)","v":0},{"$f":"abacaxi!I24+(J40*Descrição!$P$22)","v":0},{"$f":"abacaxi!J24+(K40*Descrição!$P$22)","v":0},{"$f":"abacaxi!K24+(L40*Descrição!$P$22)","v":0},{"$f":"abacaxi!L24+(M40*Descrição!$P$22)","v":0},{"$f":"abacaxi!M24+(N40*Descrição!$P$22)","v":0},{"$f":"abacaxi!N24+(O40*Descrição!$P$22)","v":0},{"$f":"abacaxi!O24+(P40*Descrição!$P$22)","v":0},{"$f":"abacaxi!P24+(Q40*Descrição!$P$22)","v":0},{"$f":"abacaxi!Q24+(R40*Descrição!$P$22)","v":0},{"$f":"abacaxi!R24+(S40*Descrição!$P$22)","v":0},{"$f":"abacaxi!S24+(T40*Descrição!$P$22)","v":0},{"$f":"abacaxi!T24+(U40*Descrição!$P$22)","v":0},{"$f":"abacaxi!U24+(V40*Descrição!$P$22)","v":0},{"$f":"abacaxi!V24+(W40*Descrição!$P$22)","v":0},{"$f":"abacaxi!W24+(X40*Descrição!$P$22)","v":0},{"$f":"abacaxi!X24+(Y40*Descrição!$P$22)","v":0},{"$f":"abacaxi!Y24+(Z40*Descrição!$P$22)","v":0},{"$f":"abacaxi!Z24+(AA40*Descrição!$P$22)","v":0},{"$f":"abacaxi!AA24+(AB40*Descrição!$P$22)","v":0},{"$f":"abacaxi!AB24+(AC40*Descrição!$P$22)","v":0},{"$f":"abacaxi!AC24+(AD40*Descrição!$P$22)","v":0},{"$f":"abacaxi!AD24+(AE40*Descrição!$P$22)","v":0},{"$f":"abacaxi!AE24+(AF40*Descrição!$P$22)","v":0},{"$f":"abacaxi!AF24+(AG40*Descrição!$P$22)","v":0},{"$f":"abacaxi!AG24+(AH40*Descrição!$P$22)","v":0}]
[{"$f":"IF(LEN('Parâmetros Gerais'!B24)=0,\" \",'Parâmetros Gerais'!B24)","v":"espigas milho"},0,0,null,{"$f":"espigas!D24+(E40*Descrição!$P$23)","v":0},{"$f":"espigas!E24+(F40*Descrição!$P$23)","v":0},{"$f":"espigas!F24+(G40*Descrição!$P$23)","v":0},{"$f":"espigas!G24+(H40*Descrição!$P$23)","v":0},{"$f":"espigas!H24+(I40*Descrição!$P$23)","v":0},{"$f":"espigas!I24+(J40*Descrição!$P$23)","v":0},{"$f":"espigas!J24+(K40*Descrição!$P$23)","v":0},{"$f":"espigas!K24+(L40*Descrição!$P$23)","v":0},{"$f":"espigas!L24+(M40*Descrição!$P$23)","v":0},{"$f":"espigas!M24+(N40*Descrição!$P$23)","v":0},{"$f":"espigas!N24+(O40*Descrição!$P$23)","v":0},{"$f":"espigas!O24+(P40*Descrição!$P$23)","v":0},{"$f":"espigas!P24+(Q40*Descrição!$P$23)","v":0},{"$f":"espigas!Q24+(R40*Descrição!$P$23)","v":0},{"$f":"espigas!R24+(S40*Descrição!$P$23)","v":0},{"$f":"espigas!S24+(T40*Descrição!$P$23)","v":0},{"$f":"espigas!T24+(U40*Descrição!$P$23)","v":0},{"$f":"espigas!U24+(V40*Descrição!$P$23)","v":0},{"$f":"espigas!V24+(W40*Descrição!$P$23)","v":0},{"$f":"espigas!W24+(X40*Descrição!$P$23)","v":0},{"$f":"espigas!X24+(Y40*Descrição!$P$23)","v":0},{"$f":"espigas!Y24+(Z40*Descrição!$P$23)","v":0},{"$f":"espigas!Z24+(AA40*Descrição!$P$23)","v":0},{"$f":"espigas!AA24+(AB40*Descrição!$P$23)","v":0},{"$f":"espigas!AB24+(AC40*Descrição!$P$23)","v":0},{"$f":"espigas!AC24+(AD40*Descrição!$P$23)","v":0},{"$f":"espigas!AD24+(AE40*Descrição!$P$23)","v":0},{"$f":"espigas!AE24+(AF40*Descrição!$P$23)","v":0},{"$f":"espigas!AF24+(AG40*Descrição!$P$23)","v":0},{"$f":"espigas!AG24+(AH40*Descrição!$P$23)","v":0}]
[{"$f":"IF(LEN('Parâmetros Gerais'!B25)=0,\" \",'Parâmetros Gerais'!B25)","v":"estaca sansão do campo"},0,0,null,{"$f":"'semente caupi'!D24+(E40*Descrição!$P$24)","v":0},{"$f":"'semente caupi'!E24+(F40*Descrição!$P$24)","v":0},{"$f":"'semente caupi'!F24+(G40*Descrição!$P$24)","v":0},{"$f":"'semente caupi'!G24+(H40*Descrição!$P$24)","v":0},{"$f":"'semente caupi'!H24+(I40*Descrição!$P$24)","v":0},{"$f":"'semente caupi'!I24+(J40*Descrição!$P$24)","v":0},{"$f":"'semente caupi'!J24+(K40*Descrição!$P$24)","v":0},{"$f":"'semente caupi'!K24+(L40*Descrição!$P$24)","v":0},{"$f":"'semente caupi'!L24+(M40*Descrição!$P$24)","v":0},{"$f":"'semente caupi'!M24+(N40*Descrição!$P$24)","v":0},{"$f":"'semente caupi'!N24+(O40*Descrição!$P$24)","v":0},{"$f":"'semente caupi'!O24+(P40*Descrição!$P$24)","v":0},{"$f":"'semente caupi'!P24+(Q40*Descrição!$P$24)","v":0},{"$f":"'semente caupi'!Q24+(R40*Descrição!$P$24)","v":0},{"$f":"'semente caupi'!R24+(S40*Descrição!$P$24)","v":0},{"$f":"'semente caupi'!S24+(T40*Descrição!$P$24)","v":0},{"$f":"'semente caupi'!T24+(U40*Descrição!$P$24)","v":0},{"$f":"'semente caupi'!U24+(V40*Descrição!$P$24)","v":0},{"$f":"'semente caupi'!V24+(W40*Descrição!$P$24)","v":0},{"$f":"'semente caupi'!W24+(X40*Descrição!$P$24)","v":0},{"$f":"'semente caupi'!X24+(Y40*Descrição!$P$24)","v":0},{"$f":"'semente caupi'!Y24+(Z40*Descrição!$P$24)","v":0},{"$f":"'semente caupi'!Z24+(AA40*Descrição!$P$24)","v":0},{"$f":"'semente caupi'!AA24+(AB40*Descrição!$P$24)","v":0},{"$f":"'semente caupi'!AB24+(AC40*Descrição!$P$24)","v":0},{"$f":"'semente caupi'!AC24+(AD40*Descrição!$P$24)","v":0},{"$f":"'semente caupi'!AD24+(AE40*Descrição!$P$24)","v":0},{"$f":"'semente caupi'!AE24+(AF40*Descrição!$P$24)","v":0},{"$f":"'semente caupi'!AF24+(AG40*Descrição!$P$24)","v":0},{"$f":"'semente caupi'!AG24+(AH40*Descrição!$P$24)","v":0}]
[{"$f":"IF(LEN('Parâmetros Gerais'!B26)=0,\" \",'Parâmetros Gerais'!B26)","v":"madeira madeira nova"},0,0,null,{"$f":"biomassa!D24+(E40*Descrição!$P$25)","v":0},{"$f":"biomassa!E24+(F40*Descrição!$P$25)","v":0},{"$f":"biomassa!F24+(G40*Descrição!$P$25)","v":0},{"$f":"biomassa!G24+(H40*Descrição!$P$25)","v":0},{"$f":"biomassa!H24+(I40*Descrição!$P$25)","v":0},{"$f":"biomassa!I24+(J40*Descrição!$P$25)","v":0},{"$f":"biomassa!J24+(K40*Descrição!$P$25)","v":0},{"$f":"biomassa!K24+(L40*Descrição!$P$25)","v":0},{"$f":"biomassa!L24+(M40*Descrição!$P$25)","v":0},{"$f":"biomassa!M24+(N40*Descrição!$P$25)","v":0},{"$f":"biomassa!N24+(O40*Descrição!$P$25)","v":0},{"$f":"biomassa!O24+(P40*Descrição!$P$25)","v":0},{"$f":"biomassa!P24+(Q40*Descrição!$P$25)","v":0},{"$f":"biomassa!Q24+(R40*Descrição!$P$25)","v":0},{"$f":"biomassa!R24+(S40*Descrição!$P$25)","v":0},{"$f":"biomassa!S24+(T40*Descrição!$P$25)","v":0},{"$f":"biomassa!T24+(U40*Descrição!$P$25)","v":0},{"$f":"biomassa!U24+(V40*Descrição!$P$25)","v":0},{"$f":"biomassa!V24+(W40*Descrição!$P$25)","v":0},{"$f":"biomassa!W24+(X40*Descrição!$P$25)","v":0},{"$f":"biomassa!X24+(Y40*Descrição!$P$25)","v":0},{"$f":"biomassa!Y24+(Z40*Descrição!$P$25)","v":0},{"$f":"biomassa!Z24+(AA40*Descrição!$P$25)","v":0},{"$f":"biomassa!AA24+(AB40*Descrição!$P$25)","v":0},{"$f":"biomassa!AB24+(AC40*Descrição!$P$25)","v":0},{"$f":"biomassa!AC24+(AD40*Descrição!$P$25)","v":0},{"$f":"biomassa!AD24+(AE40*Descrição!$P$25)","v":0},{"$f":"biomassa!AE24+(AF40*Descrição!$P$25)","v":0},{"$f":"biomassa!AF24+(AG40*Descrição!$P$25)","v":0},{"$f":"biomassa!AG24+(AH40*Descrição!$P$25)","v":0}]
[{"$f":"IF(LEN('Parâmetros Gerais'!B27)=0,\" \",'Parâmetros Gerais'!B27)","v":"lenha fedegoso"},0,0,null,{"$f":"madeira!D24+(E40*Descrição!$P$26)","v":0},{"$f":"madeira!E24+(F40*Descrição!$P$26)","v":0},{"$f":"madeira!F24+(G40*Descrição!$P$26)","v":0},{"$f":"madeira!G24+(H40*Descrição!$P$26)","v":0},{"$f":"madeira!H24+(I40*Descrição!$P$26)","v":0},{"$f":"madeira!I24+(J40*Descrição!$P$26)","v":0},{"$f":"madeira!J24+(K40*Descrição!$P$26)","v":0},{"$f":"madeira!K24+(L40*Descrição!$P$26)","v":0},{"$f":"madeira!L24+(M40*Descrição!$P$26)","v":0},{"$f":"madeira!M24+(N40*Descrição!$P$26)","v":0},{"$f":"madeira!N24+(O40*Descrição!$P$26)","v":0},{"$f":"madeira!O24+(P40*Descrição!$P$26)","v":0},{"$f":"madeira!P24+(Q40*Descrição!$P$26)","v":0},{"$f":"madeira!Q24+(R40*Descrição!$P$26)","v":0},{"$f":"madeira!R24+(S40*Descrição!$P$26)","v":0},{"$f":"madeira!S24+(T40*Descrição!$P$26)","v":0},{"$f":"madeira!T24+(U40*Descrição!$P$26)","v":0},{"$f":"madeira!U24+(V40*Descrição!$P$26)","v":0},{"$f":"madeira!V24+(W40*Descrição!$P$26)","v":0},{"$f":"madeira!W24+(X40*Descrição!$P$26)","v":0},{"$f":"madeira!X24+(Y40*Descrição!$P$26)","v":0},{"$f":"madeira!Y24+(Z40*Descrição!$P$26)","v":0},{"$f":"madeira!Z24+(AA40*Descrição!$P$26)","v":0},{"$f":"madeira!AA24+(AB40*Descrição!$P$26)","v":0},{"$f":"madeira!AB24+(AC40*Descrição!$P$26)","v":0},{"$f":"madeira!AC24+(AD40*Descrição!$P$26)","v":0},{"$f":"madeira!AD24+(AE40*Descrição!$P$26)","v":0},{"$f":"madeira!AE24+(AF40*Descrição!$P$26)","v":0},{"$f":"madeira!AF24+(AG40*Descrição!$P$26)","v":0},{"$f":"madeira!AG24+(AH40*Descrição!$P$26)","v":0}]
[{"$f":"IF(LEN('Parâmetros Gerais'!B28)=0,\" \",'Parâmetros Gerais'!B28)","v":"estaca pau d'alho"},0,0,null,{"$f":"'Produto 15'!D24+(E40*Descrição!$P$27)","v":0},{"$f":"'Produto 15'!E24+(F40*Descrição!$P$27)","v":0},{"$f":"'Produto 15'!F24+(G40*Descrição!$P$27)","v":0},{"$f":"'Produto 15'!G24+(H40*Descrição!$P$27)","v":0},{"$f":"'Produto 15'!H24+(I40*Descrição!$P$27)","v":0},{"$f":"'Produto 15'!I24+(J40*Descrição!$P$27)","v":0},{"$f":"'Produto 15'!J24+(K40*Descrição!$P$27)","v":0},{"$f":"'Produto 15'!K24+(L40*Descrição!$P$27)","v":0},{"$f":"'Produto 15'!L24+(M40*Descrição!$P$27)","v":0},{"$f":"'Produto 15'!M24+(N40*Descrição!$P$27)","v":0},{"$f":"'Produto 15'!N24+(O40*Descrição!$P$27)","v":0},{"$f":"'Produto 15'!O24+(P40*Descrição!$P$27)","v":0},{"$f":"'Produto 15'!P24+(Q40*Descrição!$P$27)","v":0},{"$f":"'Produto 15'!Q24+(R40*Descrição!$P$27)","v":0},{"$f":"'Produto 15'!R24+(S40*Descrição!$P$27)","v":0},{"$f":"'Produto 15'!S24+(T40*Descrição!$P$27)","v":0},{"$f":"'Produto 15'!T24+(U40*Descrição!$P$27)","v":0},{"$f":"'Produto 15'!U24+(V40*Descrição!$P$27)","v":0},{"$f":"'Produto 15'!V24+(W40*Descrição!$P$27)","v":0},{"$f":"'Produto 15'!W24+(X40*Descrição!$P$27)","v":0},{"$f":"'Produto 15'!X24+(Y40*Descrição!$P$27)","v":0},{"$f":"'Produto 15'!Y24+(Z40*Descrição!$P$27)","v":0},{"$f":"'Produto 15'!Z24+(AA40*Descrição!$P$27)","v":0},{"$f":"'Produto 15'!AA24+(AB40*Descrição!$P$27)","v":0},{"$f":"'Produto 15'!AB24+(AC40*Descrição!$P$27)","v":0},{"$f":"'Produto 15'!AC24+(AD40*Descrição!$P$27)","v":0},{"$f":"'Produto 15'!AD24+(AE40*Descrição!$P$27)","v":0},{"$f":"'Produto 15'!AE24+(AF40*Descrição!$P$27)","v":0},{"$f":"'Produto 15'!AF24+(AG40*Descrição!$P$27)","v":0},{"$f":"'Produto 15'!AG24+(AH40*Descrição!$P$27)","v":0}]
[{"$f":"IF(LEN('Parâmetros Gerais'!B29)=0,\" \",'Parâmetros Gerais'!B29)","v":"caixotaria boleira"},0,0,null,{"$f":"'Produto 16'!D24+(E40*Descrição!$P$28)","v":0},{"$f":"'Produto 16'!E24+(F40*Descrição!$P$28)","v":0},{"$f":"'Produto 16'!F24+(G40*Descrição!$P$28)","v":0},{"$f":"'Produto 16'!G24+(H40*Descrição!$P$28)","v":0},{"$f":"'Produto 16'!H24+(I40*Descrição!$P$28)","v":0},{"$f":"'Produto 16'!I24+(J40*Descrição!$P$28)","v":0},{"$f":"'Produto 16'!J24+(K40*Descrição!$P$28)","v":0},{"$f":"'Produto 16'!K24+(L40*Descrição!$P$28)","v":0},{"$f":"'Produto 16'!L24+(M40*Descrição!$P$28)","v":0},{"$f":"'Produto 16'!M24+(N40*Descrição!$P$28)","v":0},{"$f":"'Produto 16'!N24+(O40*Descrição!$P$28)","v":0},{"$f":"'Produto 16'!O24+(P40*Descrição!$P$28)","v":0},{"$f":"'Produto 16'!P24+(Q40*Descrição!$P$28)","v":0},{"$f":"'Produto 16'!Q24+(R40*Descrição!$P$28)","v":0},{"$f":"'Produto 16'!R24+(S40*Descrição!$P$28)","v":0},{"$f":"'Produto 16'!S24+(T40*Descrição!$P$28)","v":0},{"$f":"'Produto 16'!T24+(U40*Descrição!$P$28)","v":0},{"$f":"'Produto 16'!U24+(V40*Descrição!$P$28)","v":0},{"$f":"'Produto 16'!V24+(W40*Descrição!$P$28)","v":0},{"$f":"'Produto 16'!W24+(X40*Descrição!$P$28)","v":0},{"$f":"'Produto 16'!X24+(Y40*Descrição!$P$28)","v":0},{"$f":"'Produto 16'!Y24+(Z40*Descrição!$P$28)","v":0},{"$f":"'Produto 16'!Z24+(AA40*Descrição!$P$28)","v":0},{"$f":"'Produto 16'!AA24+(AB40*Descrição!$P$28)","v":0},{"$f":"'Produto 16'!AB24+(AC40*Descrição!$P$28)","v":0},{"$f":"'Produto 16'!AC24+(AD40*Descrição!$P$28)","v":0},{"$f":"'Produto 16'!AD24+(AE40*Descrição!$P$28)","v":0},{"$f":"'Produto 16'!AE24+(AF40*Descrição!$P$28)","v":0},{"$f":"'Produto 16'!AF24+(AG40*Descrição!$P$28)","v":0},{"$f":"'Produto 16'!AG24+(AH40*Descrição!$P$28)","v":0}]
[{"$f":"IF(LEN('Parâmetros Gerais'!B30)=0,\" \",'Parâmetros Gerais'!B30)","v":"madeira angico roxo"},0,{"$f":"SUM(D59:AH59)","v":0},null,{"$f":"'Produto 17'!D24+(E40*Descrição!$P$29)","v":0},{"$f":"'Produto 17'!E24+(F40*Descrição!$P$29)","v":0},{"$f":"'Produto 17'!F24+(G40*Descrição!$P$29)","v":0},{"$f":"'Produto 17'!G24+(H40*Descrição!$P$29)","v":0},{"$f":"'Produto 17'!H24+(I40*Descrição!$P$29)","v":0},{"$f":"'Produto 17'!I24+(J40*Descrição!$P$29)","v":0},{"$f":"'Produto 17'!J24+(K40*Descrição!$P$29)","v":0},{"$f":"'Produto 17'!K24+(L40*Descrição!$P$29)","v":0},{"$f":"'Produto 17'!L24+(M40*Descrição!$P$29)","v":0},{"$f":"'Produto 17'!M24+(N40*Descrição!$P$29)","v":0},{"$f":"'Produto 17'!N24+(O40*Descrição!$P$29)","v":0},{"$f":"'Produto 17'!O24+(P40*Descrição!$P$29)","v":0},{"$f":"'Produto 17'!P24+(Q40*Descrição!$P$29)","v":0},{"$f":"'Produto 17'!Q24+(R40*Descrição!$P$29)","v":0},{"$f":"'Produto 17'!R24+(S40*Descrição!$P$29)","v":0},{"$f":"'Produto 17'!S24+(T40*Descrição!$P$29)","v":0},{"$f":"'Produto 17'!T24+(U40*Descrição!$P$29)","v":0},{"$f":"'Produto 17'!U24+(V40*Descrição!$P$29)","v":0},{"$f":"'Produto 17'!V24+(W40*Descrição!$P$29)","v":0},{"$f":"'Produto 17'!W24+(X40*Descrição!$P$29)","v":0},{"$f":"'Produto 17'!X24+(Y40*Descrição!$P$29)","v":0},{"$f":"'Produto 17'!Y24+(Z40*Descrição!$P$29)","v":0},{"$f":"'Produto 17'!Z24+(AA40*Descrição!$P$29)","v":0},{"$f":"'Produto 17'!AA24+(AB40*Descrição!$P$29)","v":0},{"$f":"'Produto 17'!AB24+(AC40*Descrição!$P$29)","v":0},{"$f":"'Produto 17'!AC24+(AD40*Descrição!$P$29)","v":0},{"$f":"'Produto 17'!AD24+(AE40*Descrição!$P$29)","v":0},{"$f":"'Produto 17'!AE24+(AF40*Descrição!$P$29)","v":0},{"$f":"'Produto 17'!AF24+(AG40*Descrição!$P$29)","v":0},{"$f":"'Produto 17'!AG24+(AH40*Descrição!$P$29)","v":0}]
[{"$f":"IF(LEN('Parâmetros Gerais'!B31)=0,\" \",'Parâmetros Gerais'!B31)","v":"madeira ipê roxo"},0,0,null,{"$f":"'Produto 18'!D24+(E40*Descrição!$P$30)","v":0},{"$f":"'Produto 18'!E24+(F40*Descrição!$P$30)","v":0},{"$f":"'Produto 18'!F24+(G40*Descrição!$P$30)","v":0},{"$f":"'Produto 18'!G24+(H40*Descrição!$P$30)","v":0},{"$f":"'Produto 18'!H24+(I40*Descrição!$P$30)","v":0},{"$f":"'Produto 18'!I24+(J40*Descrição!$P$30)","v":0},{"$f":"'Produto 18'!J24+(K40*Descrição!$P$30)","v":0},{"$f":"'Produto 18'!K24+(L40*Descrição!$P$30)","v":0},{"$f":"'Produto 18'!L24+(M40*Descrição!$P$30)","v":0},{"$f":"'Produto 18'!M24+(N40*Descrição!$P$30)","v":0},{"$f":"'Produto 18'!N24+(O40*Descrição!$P$30)","v":0},{"$f":"'Produto 18'!O24+(P40*Descrição!$P$30)","v":0},{"$f":"'Produto 18'!P24+(Q40*Descrição!$P$30)","v":0},{"$f":"'Produto 18'!Q24+(R40*Descrição!$P$30)","v":0},{"$f":"'Produto 18'!R24+(S40*Descrição!$P$30)","v":0},{"$f":"'Produto 18'!S24+(T40*Descrição!$P$30)","v":0},{"$f":"'Produto 18'!T24+(U40*Descrição!$P$30)","v":0},{"$f":"'Produto 18'!U24+(V40*Descrição!$P$30)","v":0},{"$f":"'Produto 18'!V24+(W40*Descrição!$P$30)","v":0},{"$f":"'Produto 18'!W24+(X40*Descrição!$P$30)","v":0},{"$f":"'Produto 18'!X24+(Y40*Descrição!$P$30)","v":0},{"$f":"'Produto 18'!Y24+(Z40*Descrição!$P$30)","v":0},{"$f":"'Produto 18'!Z24+(AA40*Descrição!$P$30)","v":0},{"$f":"'Produto 18'!AA24+(AB40*Descrição!$P$30)","v":0},{"$f":"'Produto 18'!AB24+(AC40*Descrição!$P$30)","v":0},{"$f":"'Produto 18'!AC24+(AD40*Descrição!$P$30)","v":0},{"$f":"'Produto 18'!AD24+(AE40*Descrição!$P$30)","v":0},{"$f":"'Produto 18'!AE24+(AF40*Descrição!$P$30)","v":0},{"$f":"'Produto 18'!AF24+(AG40*Descrição!$P$30)","v":0},{"$f":"'Produto 18'!AG24+(AH40*Descrição!$P$30)","v":0}]
[{"$f":"IF(LEN('Parâmetros Gerais'!B32)=0,\" \",'Parâmetros Gerais'!B32)","v":"madeira ipê amarelo"},0,0,null,{"$f":"'Produto 19'!D24+(E40*Descrição!$P$31)","v":0},{"$f":"'Produto 19'!E24+(F40*Descrição!$P$31)","v":0},{"$f":"'Produto 19'!F24+(G40*Descrição!$P$31)","v":0},{"$f":"'Produto 19'!G24+(H40*Descrição!$P$31)","v":0},{"$f":"'Produto 19'!H24+(I40*Descrição!$P$31)","v":0},{"$f":"'Produto 19'!I24+(J40*Descrição!$P$31)","v":0},{"$f":"'Produto 19'!J24+(K40*Descrição!$P$31)","v":0},{"$f":"'Produto 19'!K24+(L40*Descrição!$P$31)","v":0},{"$f":"'Produto 19'!L24+(M40*Descrição!$P$31)","v":0},{"$f":"'Produto 19'!M24+(N40*Descrição!$P$31)","v":0},{"$f":"'Produto 19'!N24+(O40*Descrição!$P$31)","v":0},{"$f":"'Produto 19'!O24+(P40*Descrição!$P$31)","v":0},{"$f":"'Produto 19'!P24+(Q40*Descrição!$P$31)","v":0},{"$f":"'Produto 19'!Q24+(R40*Descrição!$P$31)","v":0},{"$f":"'Produto 19'!R24+(S40*Descrição!$P$31)","v":0},{"$f":"'Produto 19'!S24+(T40*Descrição!$P$31)","v":0},{"$f":"'Produto 19'!T24+(U40*Descrição!$P$31)","v":0},{"$f":"'Produto 19'!U24+(V40*Descrição!$P$31)","v":0},{"$f":"'Produto 19'!V24+(W40*Descrição!$P$31)","v":0},{"$f":"'Produto 19'!W24+(X40*Descrição!$P$31)","v":0},{"$f":"'Produto 19'!X24+(Y40*Descrição!$P$31)","v":0},{"$f":"'Produto 19'!Y24+(Z40*Descrição!$P$31)","v":0},{"$f":"'Produto 19'!Z24+(AA40*Descrição!$P$31)","v":0},{"$f":"'Produto 19'!AA24+(AB40*Descrição!$P$31)","v":0},{"$f":"'Produto 19'!AB24+(AC40*Descrição!$P$31)","v":0},{"$f":"'Produto 19'!AC24+(AD40*Descrição!$P$31)","v":0},{"$f":"'Produto 19'!AD24+(AE40*Descrição!$P$31)","v":0},{"$f":"'Produto 19'!AE24+(AF40*Descrição!$P$31)","v":0},{"$f":"'Produto 19'!AF24+(AG40*Descrição!$P$31)","v":0},{"$f":"'Produto 19'!AG24+(AH40*Descrição!$P$31)","v":0}]
[{"$f":"IF(LEN('Parâmetros Gerais'!B33)=0,\" \",'Parâmetros Gerais'!B33)","v":"madeira gonçalo alves"},0,0,null,{"$f":"'Produto 20'!D24+(E40*Descrição!$P$32)","v":0},{"$f":"'Produto 20'!E24+(F40*Descrição!$P$32)","v":0},{"$f":"'Produto 20'!F24+(G40*Descrição!$P$32)","v":0},{"$f":"'Produto 20'!G24+(H40*Descrição!$P$32)","v":0},{"$f":"'Produto 20'!H24+(I40*Descrição!$P$32)","v":0},{"$f":"'Produto 20'!I24+(J40*Descrição!$P$32)","v":0},{"$f":"'Produto 20'!J24+(K40*Descrição!$P$32)","v":0},{"$f":"'Produto 20'!K24+(L40*Descrição!$P$32)","v":0},{"$f":"'Produto 20'!L24+(M40*Descrição!$P$32)","v":0},{"$f":"'Produto 20'!M24+(N40*Descrição!$P$32)","v":0},{"$f":"'Produto 20'!N24+(O40*Descrição!$P$32)","v":0},{"$f":"'Produto 20'!O24+(P40*Descrição!$P$32)","v":0},{"$f":"'Produto 20'!P24+(Q40*Descrição!$P$32)","v":0},{"$f":"'Produto 20'!Q24+(R40*Descrição!$P$32)","v":0},{"$f":"'Produto 20'!R24+(S40*Descrição!$P$32)","v":0},{"$f":"'Produto 20'!S24+(T40*Descrição!$P$32)","v":0},{"$f":"'Produto 20'!T24+(U40*Descrição!$P$32)","v":0},{"$f":"'Produto 20'!U24+(V40*Descrição!$P$32)","v":0},{"$f":"'Produto 20'!V24+(W40*Descrição!$P$32)","v":0},{"$f":"'Produto 20'!W24+(X40*Descrição!$P$32)","v":0},{"$f":"'Produto 20'!X24+(Y40*Descrição!$P$32)","v":0},{"$f":"'Produto 20'!Y24+(Z40*Descrição!$P$32)","v":0},{"$f":"'Produto 20'!Z24+(AA40*Descrição!$P$32)","v":0},{"$f":"'Produto 20'!AA24+(AB40*Descrição!$P$32)","v":0},{"$f":"'Produto 20'!AB24+(AC40*Descrição!$P$32)","v":0},{"$f":"'Produto 20'!AC24+(AD40*Descrição!$P$32)","v":0},{"$f":"'Produto 20'!AD24+(AE40*Descrição!$P$32)","v":0},{"$f":"'Produto 20'!AE24+(AF40*Descrição!$P$32)","v":0},{"$f":"'Produto 20'!AF24+(AG40*Descrição!$P$32)","v":0},{"$f":"'Produto 20'!AG24+(AH40*Descrição!$P$32)","v":0}]
[{"$f":"IF(LEN('Parâmetros Gerais'!B34)=0,\" \",'Parâmetros Gerais'!B34)","v":"madeira vinhatico"},0,0,null,{"$f":"'Produto 21'!D24+(E40*Descrição!$P$33)","v":0},{"$f":"'Produto 21'!E24+(F40*Descrição!$P$33)","v":0},{"$f":"'Produto 21'!F24+(G40*Descrição!$P$33)","v":0},{"$f":"'Produto 21'!G24+(H40*Descrição!$P$33)","v":0},{"$f":"'Produto 21'!H24+(I40*Descrição!$P$33)","v":0},{"$f":"'Produto 21'!I24+(J40*Descrição!$P$33)","v":0},{"$f":"'Produto 21'!J24+(K40*Descrição!$P$33)","v":0},{"$f":"'Produto 21'!K24+(L40*Descrição!$P$33)","v":0},{"$f":"'Produto 21'!L24+(M40*Descrição!$P$33)","v":0},{"$f":"'Produto 21'!M24+(N40*Descrição!$P$33)","v":0},{"$f":"'Produto 21'!N24+(O40*Descrição!$P$33)","v":0},{"$f":"'Produto 21'!O24+(P40*Descrição!$P$33)","v":0},{"$f":"'Produto 21'!P24+(Q40*Descrição!$P$33)","v":0},{"$f":"'Produto 21'!Q24+(R40*Descrição!$P$33)","v":0},{"$f":"'Produto 21'!R24+(S40*Descrição!$P$33)","v":0},{"$f":"'Produto 21'!S24+(T40*Descrição!$P$33)","v":0},{"$f":"'Produto 21'!T24+(U40*Descrição!$P$33)","v":0},{"$f":"'Produto 21'!U24+(V40*Descrição!$P$33)","v":0},{"$f":"'Produto 21'!V24+(W40*Descrição!$P$33)","v":0},{"$f":"'Produto 21'!W24+(X40*Descrição!$P$33)","v":0},{"$f":"'Produto 21'!X24+(Y40*Descrição!$P$33)","v":0},{"$f":"'Produto 21'!Y24+(Z40*Descrição!$P$33)","v":0},{"$f":"'Produto 21'!Z24+(AA40*Descrição!$P$33)","v":0},{"$f":"'Produto 21'!AA24+(AB40*Descrição!$P$33)","v":0},{"$f":"'Produto 21'!AB24+(AC40*Descrição!$P$33)","v":0},{"$f":"'Produto 21'!AC24+(AD40*Descrição!$P$33)","v":0},{"$f":"'Produto 21'!AD24+(AE40*Descrição!$P$33)","v":0},{"$f":"'Produto 21'!AE24+(AF40*Descrição!$P$33)","v":0},{"$f":"'Produto 21'!AF24+(AG40*Descrição!$P$33)","v":0},{"$f":"'Produto 21'!AG24+(AH40*Descrição!$P$33)","v":0}]
[{"$f":"IF(LEN('Parâmetros Gerais'!B35)=0,\" \",'Parâmetros Gerais'!B35)","v":"madeira jequitiba"},0,0,null,{"$f":"'Produto 22'!D24+(E40*Descrição!$P$34)","v":0},{"$f":"'Produto 22'!E24+(F40*Descrição!$P$34)","v":0},{"$f":"'Produto 22'!F24+(G40*Descrição!$P$34)","v":0},{"$f":"'Produto 22'!G24+(H40*Descrição!$P$34)","v":0},{"$f":"'Produto 22'!H24+(I40*Descrição!$P$34)","v":0},{"$f":"'Produto 22'!I24+(J40*Descrição!$P$34)","v":0},{"$f":"'Produto 22'!J24+(K40*Descrição!$P$34)","v":0},{"$f":"'Produto 22'!K24+(L40*Descrição!$P$34)","v":0},{"$f":"'Produto 22'!L24+(M40*Descrição!$P$34)","v":0},{"$f":"'Produto 22'!M24+(N40*Descrição!$P$34)","v":0},{"$f":"'Produto 22'!N24+(O40*Descrição!$P$34)","v":0},{"$f":"'Produto 22'!O24+(P40*Descrição!$P$34)","v":0},{"$f":"'Produto 22'!P24+(Q40*Descrição!$P$34)","v":0},{"$f":"'Produto 22'!Q24+(R40*Descrição!$P$34)","v":0},{"$f":"'Produto 22'!R24+(S40*Descrição!$P$34)","v":0},{"$f":"'Produto 22'!S24+(T40*Descrição!$P$34)","v":0},{"$f":"'Produto 22'!T24+(U40*Descrição!$P$34)","v":0},{"$f":"'Produto 22'!U24+(V40*Descrição!$P$34)","v":0},{"$f":"'Produto 22'!V24+(W40*Descrição!$P$34)","v":0},{"$f":"'Produto 22'!W24+(X40*Descrição!$P$34)","v":0},{"$f":"'Produto 22'!X24+(Y40*Descrição!$P$34)","v":0},{"$f":"'Produto 22'!Y24+(Z40*Descrição!$P$34)","v":0},{"$f":"'Produto 22'!Z24+(AA40*Descrição!$P$34)","v":0},{"$f":"'Produto 22'!AA24+(AB40*Descrição!$P$34)","v":0},{"$f":"'Produto 22'!AB24+(AC40*Descrição!$P$34)","v":0},{"$f":"'Produto 22'!AC24+(AD40*Descrição!$P$34)","v":0},{"$f":"'Produto 22'!AD24+(AE40*Descrição!$P$34)","v":0},{"$f":"'Produto 22'!AE24+(AF40*Descrição!$P$34)","v":0},{"$f":"'Produto 22'!AF24+(AG40*Descrição!$P$34)","v":0},{"$f":"'Produto 22'!AG24+(AH40*Descrição!$P$34)","v":0}]
[{"$f":"IF(LEN('Parâmetros Gerais'!B36)=0,\" \",'Parâmetros Gerais'!B36)","v":"biomassa"},0,0,null,{"$f":"'Produto 23'!D24+(E40*Descrição!$P$35)","v":0},{"$f":"'Produto 23'!E24+(F40*Descrição!$P$35)","v":0},{"$f":"'Produto 23'!F24+(G40*Descrição!$P$35)","v":0},{"$f":"'Produto 23'!G24+(H40*Descrição!$P$35)","v":0},{"$f":"'Produto 23'!H24+(I40*Descrição!$P$35)","v":0},{"$f":"'Produto 23'!I24+(J40*Descrição!$P$35)","v":0},{"$f":"'Produto 23'!J24+(K40*Descrição!$P$35)","v":0},{"$f":"'Produto 23'!K24+(L40*Descrição!$P$35)","v":0},{"$f":"'Produto 23'!L24+(M40*Descrição!$P$35)","v":0},{"$f":"'Produto 23'!M24+(N40*Descrição!$P$35)","v":0},{"$f":"'Produto 23'!N24+(O40*Descrição!$P$35)","v":0},{"$f":"'Produto 23'!O24+(P40*Descrição!$P$35)","v":0},{"$f":"'Produto 23'!P24+(Q40*Descrição!$P$35)","v":0},{"$f":"'Produto 23'!Q24+(R40*Descrição!$P$35)","v":0},{"$f":"'Produto 23'!R24+(S40*Descrição!$P$35)","v":0},{"$f":"'Produto 23'!S24+(T40*Descrição!$P$35)","v":0},{"$f":"'Produto 23'!T24+(U40*Descrição!$P$35)","v":0},{"$f":"'Produto 23'!U24+(V40*Descrição!$P$35)","v":0},{"$f":"'Produto 23'!V24+(W40*Descrição!$P$35)","v":0},{"$f":"'Produto 23'!W24+(X40*Descrição!$P$35)","v":0},{"$f":"'Produto 23'!X24+(Y40*Descrição!$P$35)","v":0},{"$f":"'Produto 23'!Y24+(Z40*Descrição!$P$35)","v":0},{"$f":"'Produto 23'!Z24+(AA40*Descrição!$P$35)","v":0},{"$f":"'Produto 23'!AA24+(AB40*Descrição!$P$35)","v":0},{"$f":"'Produto 23'!AB24+(AC40*Descrição!$P$35)","v":0},{"$f":"'Produto 23'!AC24+(AD40*Descrição!$P$35)","v":0},{"$f":"'Produto 23'!AD24+(AE40*Descrição!$P$35)","v":0},{"$f":"'Produto 23'!AE24+(AF40*Descrição!$P$35)","v":0},{"$f":"'Produto 23'!AF24+(AG40*Descrição!$P$35)","v":0},{"$f":"'Produto 23'!AG24+(AH40*Descrição!$P$35)","v":0}]
[{"$f":"IF(LEN('Parâmetros Gerais'!B37)=0,\" \",'Parâmetros Gerais'!B37)","v":"grão caupi"},0,{"$f":"SUM(D66:AH66)","v":0},null,{"$f":"'Produto 24'!D24+(E40*Descrição!$P$36)","v":0},{"$f":"'Produto 24'!E24+(F40*Descrição!$P$36)","v":0},{"$f":"'Produto 24'!F24+(G40*Descrição!$P$36)","v":0},{"$f":"'Produto 24'!G24+(H40*Descrição!$P$36)","v":0},{"$f":"'Produto 24'!H24+(I40*Descrição!$P$36)","v":0},{"$f":"'Produto 24'!I24+(J40*Descrição!$P$36)","v":0},{"$f":"'Produto 24'!J24+(K40*Descrição!$P$36)","v":0},{"$f":"'Produto 24'!K24+(L40*Descrição!$P$36)","v":0},{"$f":"'Produto 24'!L24+(M40*Descrição!$P$36)","v":0},{"$f":"'Produto 24'!M24+(N40*Descrição!$P$36)","v":0},{"$f":"'Produto 24'!N24+(O40*Descrição!$P$36)","v":0},{"$f":"'Produto 24'!O24+(P40*Descrição!$P$36)","v":0},{"$f":"'Produto 24'!P24+(Q40*Descrição!$P$36)","v":0},{"$f":"'Produto 24'!Q24+(R40*Descrição!$P$36)","v":0},{"$f":"'Produto 24'!R24+(S40*Descrição!$P$36)","v":0},{"$f":"'Produto 24'!S24+(T40*Descrição!$P$36)","v":0},{"$f":"'Produto 24'!T24+(U40*Descrição!$P$36)","v":0},{"$f":"'Produto 24'!U24+(V40*Descrição!$P$36)","v":0},{"$f":"'Produto 24'!V24+(W40*Descrição!$P$36)","v":0},{"$f":"'Produto 24'!W24+(X40*Descrição!$P$36)","v":0},{"$f":"'Produto 24'!X24+(Y40*Descrição!$P$36)","v":0},{"$f":"'Produto 24'!Y24+(Z40*Descrição!$P$36)","v":0},{"$f":"'Produto 24'!Z24+(AA40*Descrição!$P$36)","v":0},{"$f":"'Produto 24'!AA24+(AB40*Descrição!$P$36)","v":0},{"$f":"'Produto 24'!AB24+(AC40*Descrição!$P$36)","v":0},{"$f":"'Produto 24'!AC24+(AD40*Descrição!$P$36)","v":0},{"$f":"'Produto 24'!AD24+(AE40*Descrição!$P$36)","v":0},{"$f":"'Produto 24'!AE24+(AF40*Descrição!$P$36)","v":0},{"$f":"'Produto 24'!AF24+(AG40*Descrição!$P$36)","v":0},{"$f":"'Produto 24'!AG24+(AH40*Descrição!$P$36)","v":0}]
[]
["Receitas",null,{"$f":"SUM(D68:AH68)","v":259094},{"$f":"SUM(D71:D93)","v":0},4275,20420,7300,11264,12080,5060,3669.5,4839,4165,5758.5,4358.5,8418.5,9542.5,13838.5,21794.5,20194.5,20194.5,20890.5,20890.5,40140.5,0,0,0,0,0,0,0,0,0,0]
[]
["Culturas"]
[{"$f":"IF(LEN('Parâmetros Gerais'!B14)=0,\" \",'Parâmetros Gerais'!B14)","v":"latex"},{"$f":"IF(C71<>0,C71/$C$68,0)","v":4.7345750962970966E-2},{"$f":"SUM(D71:AH71)","v":12267},null,{"$f":"'Parâmetros Gerais'!$F$14*Produção!D6","v":0},{"$f":"'Parâmetros Gerais'!$F$14*Produção!E6","v":0},{"$f":"'Parâmetros Gerais'!$F$14*Produção!F6","v":0},{"$f":"'Parâmetros Gerais'!$F$14*Produção!G6","v":0},{"$f":"'Parâmetros Gerais'!$F$14*Produção!H6","v":0},{"$f":"'Parâmetros Gerais'!$F$14*Produção!I6","v":0},{"$f":"'Parâmetros Gerais'!$F$14*Produção!J6","v":319.5},{"$f":"'Parâmetros Gerais'!$F$14*Produção!K6","v":639},{"$f":"'Parâmetros Gerais'!$F$14*Produção!L6","v":765},{"$f":"'Parâmetros Gerais'!$F$14*Produção!M6","v":958.5},{"$f":"'Parâmetros Gerais'!$F$14*Produção!N6","v":958.5},{"$f":"'Parâmetros Gerais'!$F$14*Produção!O6","v":958.5},{"$f":"'Parâmetros Gerais'!$F$14*Produção!P6","v":958.5},{"$f":"'Parâmetros Gerais'!$F$14*Produção!Q6","v":958.5},{"$f":"'Parâmetros Gerais'!$F$14*Produção!R6","v":958.5},{"$f":"'Parâmetros Gerais'!$F$14*Produção!S6","v":958.5},{"$f":"'Parâmetros Gerais'!$F$14*Produção!T6","v":958.5},{"$f":"'Parâmetros Gerais'!$F$14*Produção!U6","v":958.5},{"$f":"'Parâmetros Gerais'!$F$14*Produção!V6","v":958.5},{"$f":"'Parâmetros Gerais'!$F$14*Produção!W6","v":958.5},{"$f":"'Parâmetros Gerais'!$F$14*Produção!X6","v":0},{"$f":"'Parâmetros Gerais'!$F$14*Produção!Y6","v":0},{"$f":"'Parâmetros Gerais'!$F$14*Produção!Z6","v":0},{"$f":"'Parâmetros Gerais'!$F$14*Produção!AA6","v":0},{"$f":"'Parâmetros Gerais'!$F$14*Produção!AB6","v":0},{"$f":"'Parâmetros Gerais'!$F$14*Produção!AC6","v":0},{"$f":"'Parâmetros Gerais'!$F$14*Produção!AD6","v":0},{"$f":"'Parâmetros Gerais'!$F$14*Produção!AE6","v":0},{"$f":"'Parâmetros Gerais'!$F$14*Produção!AF6","v":0},{"$f":"'Parâmetros Gerais'!$F$14*Produção!AG6","v":0}]
[{"$f":"IF(LEN('Parâmetros Gerais'!B15)=0,\" \",'Parâmetros Gerais'!B15)","v":"fruto genipapo"},{"$f":"IF(C72<>0,C72/$C$68,0)","v":0.164758736211568},{"$f":"SUM(D72:AH72)","v":42688},null,{"$f":"'Parâmetros Gerais'!$F$15*Produção!D7","v":0},{"$f":"'Parâmetros Gerais'!$F$15*Produção!E7","v":0},{"$f":"'Parâmetros Gerais'!$F$15*Produção!F7","v":0},{"$f":"'Parâmetros Gerais'!$F$15*Produção!G7","v":0},{"$f":"'Parâmetros Gerais'!$F$15*Produção!H7","v":0},{"$f":"'Parâmetros Gerais'!$F$15*Produção!I7","v":0},{"$f":"'Parâmetros Gerais'!$F$15*Produção!J7","v":0},{"$f":"'Parâmetros Gerais'!$F$15*Produção!K7","v":0},{"$f":"'Parâmetros Gerais'!$F$15*Produção!L7","v":0},{"$f":"'Parâmetros Gerais'!$F$15*Produção!M7","v":0},{"$f":"'Parâmetros Gerais'!$F$15*Produção!N7","v":0},{"$f":"'Parâmetros Gerais'!$F$15*Produção!O7","v":2320},{"$f":"'Parâmetros Gerais'!$F$15*Produção!P7","v":2784},{"$f":"'Parâmetros Gerais'!$F$15*Produção!Q7","v":3480},{"$f":"'Parâmetros Gerais'!$F$15*Produção!R7","v":5336},{"$f":"'Parâmetros Gerais'!$F$15*Produção!S7","v":5336},{"$f":"'Parâmetros Gerais'!$F$15*Produção!T7","v":5336},{"$f":"'Parâmetros Gerais'!$F$15*Produção!U7","v":6032},{"$f":"'Parâmetros Gerais'!$F$15*Produção!V7","v":6032},{"$f":"'Parâmetros Gerais'!$F$15*Produção!W7","v":6032},{"$f":"'Parâmetros Gerais'!$F$15*Produção!X7","v":0},{"$f":"'Parâmetros Gerais'!$F$15*Produção!Y7","v":0},{"$f":"'Parâmetros Gerais'!$F$15*Produção!Z7","v":0},{"$f":"'Parâmetros Gerais'!$F$15*Produção!AA7","v":0},{"$f":"'Parâmetros Gerais'!$F$15*Produção!AB7","v":0},{"$f":"'Parâmetros Gerais'!$F$15*Produção!AC7","v":0},{"$f":"'Parâmetros Gerais'!$F$15*Produção!AD7","v":0},{"$f":"'Parâmetros Gerais'!$F$15*Produção!AE7","v":0},{"$f":"'Parâmetros Gerais'!$F$15*Produção!AF7","v":0},{"$f":"'Parâmetros Gerais'!$F$15*Produção!AG7","v":0}]
[{"$f":"IF(LEN('Parâmetros Gerais'!B16)=0,\" \",'Parâmetros Gerais'!B16)","v":"fruto araçauna"},1.5129644067404108E-2,3920,null,{"$f":"'Parâmetros Gerais'!$F$16*Produção!D8","v":0},{"$f":"'Parâmetros Gerais'!$F$16*Produção!E8","v":0},{"$f":"'Parâmetros Gerais'!$F$16*Produção!F8","v":920},{"$f":"'Parâmetros Gerais'!$F$16*Produção!G8","v":920},{"$f":"'Parâmetros Gerais'!$F$16*Produção!H8","v":1160},{"$f":"'Parâmetros Gerais'!$F$16*Produção!I8","v":920},{"$f":"'Parâmetros Gerais'!$F$16*Produção!J8","v":0},{"$f":"'Parâmetros Gerais'!$F$16*Produção!K8","v":0},{"$f":"'Parâmetros Gerais'!$F$16*Produção!L8","v":0},{"$f":"'Parâmetros Gerais'!$F$16*Produção!M8","v":0},{"$f":"'Parâmetros Gerais'!$F$16*Produção!N8","v":0},{"$f":"'Parâmetros Gerais'!$F$16*Produção!O8","v":0},{"$f":"'Parâmetros Gerais'!$F$16*Produção!P8","v":0},{"$f":"'Parâmetros Gerais'!$F$16*Produção!Q8","v":0},{"$f":"'Parâmetros Gerais'!$F$16*Produção!R8","v":0},{"$f":"'Parâmetros Gerais'!$F$16*Produção!S8","v":0},{"$f":"'Parâmetros Gerais'!$F$16*Produção!T8","v":0},{"$f":"'Parâmetros Gerais'!$F$16*Produção!U8","v":0},{"$f":"'Parâmetros Gerais'!$F$16*Produção!V8","v":0},{"$f":"'Parâmetros Gerais'!$F$16*Produção!W8","v":0},{"$f":"'Parâmetros Gerais'!$F$16*Produção!X8","v":0},{"$f":"'Parâmetros Gerais'!$F$16*Produção!Y8","v":0},{"$f":"'Parâmetros Gerais'!$F$16*Produção!Z8","v":0},{"$f":"'Parâmetros Gerais'!$F$16*Produção!AA8","v":0},{"$f":"'Parâmetros Gerais'!$F$16*Produção!AB8","v":0},{"$f":"'Parâmetros Gerais'!$F$16*Produção!AC8","v":0},{"$f":"'Parâmetros Gerais'!$F$16*Produção!AD8","v":0},{"$f":"'Parâmetros Gerais'!$F$16*Produção!AE8","v":0},{"$f":"'Parâmetros Gerais'!$F$16*Produção!AF8","v":0},{"$f":"'Parâmetros Gerais'!$F$16*Produção!AG8","v":0}]
[{"$f":"IF(LEN('Parâmetros Gerais'!B17)=0,\" \",'Parâmetros Gerais'!B17)","v":"fruto pitanga"},1.5399816282893468E-2,3990,null,{"$f":"'Parâmetros Gerais'!$F$17*Produção!D9","v":0},{"$f":"'Parâmetros Gerais'!$F$17*Produção!E9","v":570},{"$f":"'Parâmetros Gerais'!$F$17*Produção!F9","v":1140},{"$f":"'Parâmetros Gerais'!$F$17*Produção!G9","v":1140},{"$f":"'Parâmetros Gerais'!$F$17*Produção!H9","v":1140},{"$f":"'Parâmetros Gerais'!$F$17*Produção!I9","v":0},{"$f":"'Parâmetros Gerais'!$F$17*Produção!J9","v":0},{"$f":"'Parâmetros Gerais'!$F$17*Produção!K9","v":0},{"$f":"'Parâmetros Gerais'!$F$17*Produção!L9","v":0},{"$f":"'Parâmetros Gerais'!$F$17*Produção!M9","v":0},{"$f":"'Parâmetros Gerais'!$F$17*Produção!N9","v":0},{"$f":"'Parâmetros Gerais'!$F$17*Produção!O9","v":0},{"$f":"'Parâmetros Gerais'!$F$17*Produção!P9","v":0},{"$f":"'Parâmetros Gerais'!$F$17*Produção!Q9","v":0},{"$f":"'Parâmetros Gerais'!$F$17*Produção!R9","v":0},{"$f":"'Parâmetros Gerais'!$F$17*Produção!S9","v":0},{"$f":"'Parâmetros Gerais'!$F$17*Produção!T9","v":0},{"$f":"'Parâmetros Gerais'!$F$17*Produção!U9","v":0},{"$f":"'Parâmetros Gerais'!$F$17*Produção!V9","v":0},{"$f":"'Parâmetros Gerais'!$F$17*Produção!W9","v":0},{"$f":"'Parâmetros Gerais'!$F$17*Produção!X9","v":0},{"$f":"'Parâmetros Gerais'!$F$17*Produção!Y9","v":0},{"$f":"'Parâmetros Gerais'!$F$17*Produção!Z9","v":0},{"$f":"'Parâmetros Gerais'!$F$17*Produção!AA9","v":0},{"$f":"'Parâmetros Gerais'!$F$17*Produção!AB9","v":0},{"$f":"'Parâmetros Gerais'!$F$17*Produção!AC9","v":0},{"$f":"'Parâmetros Gerais'!$F$17*Produção!AD9","v":0},{"$f":"'Parâmetros Gerais'!$F$17*Produção!AE9","v":0},{"$f":"'Parâmetros Gerais'!$F$17*Produção!AF9","v":0},{"$f":"'Parâmetros Gerais'!$F$17*Produção!AG9","v":0}]
[{"$f":"IF(LEN('Parâmetros Gerais'!B18)=0,\" \",'Parâmetros Gerais'!B18)","v":"castanha sapucaia"},0.27881772638501856,72240,null,{"$f":"'Parâmetros Gerais'!$F$18*Produção!D10","v":0},{"$f":"'Parâmetros Gerais'!$F$18*Produção!E10","v":0},{"$f":"'Parâmetros Gerais'!$F$18*Produção!F10","v":0},{"$f":"'Parâmetros Gerais'!$F$18*Produção!G10","v":0},{"$f":"'Parâmetros Gerais'!$F$18*Produção!H10","v":0},{"$f":"'Parâmetros Gerais'!$F$18*Produção!I10","v":0},{"$f":"'Parâmetros Gerais'!$F$18*Produção!J10","v":0},{"$f":"'Parâmetros Gerais'!$F$18*Produção!K10","v":0},{"$f":"'Parâmetros Gerais'!$F$18*Produção!L10","v":0},{"$f":"'Parâmetros Gerais'!$F$18*Produção!M10","v":0},{"$f":"'Parâmetros Gerais'!$F$18*Produção!N10","v":0},{"$f":"'Parâmetros Gerais'!$F$18*Produção!O10","v":1740},{"$f":"'Parâmetros Gerais'!$F$18*Produção!P10","v":2400},{"$f":"'Parâmetros Gerais'!$F$18*Produção!Q10","v":6000},{"$f":"'Parâmetros Gerais'!$F$18*Produção!R10","v":9600},{"$f":"'Parâmetros Gerais'!$F$18*Produção!S10","v":10500},{"$f":"'Parâmetros Gerais'!$F$18*Produção!T10","v":10500},{"$f":"'Parâmetros Gerais'!$F$18*Produção!U10","v":10500},{"$f":"'Parâmetros Gerais'!$F$18*Produção!V10","v":10500},{"$f":"'Parâmetros Gerais'!$F$18*Produção!W10","v":10500},{"$f":"'Parâmetros Gerais'!$F$18*Produção!X10","v":0},{"$f":"'Parâmetros Gerais'!$F$18*Produção!Y10","v":0},{"$f":"'Parâmetros Gerais'!$F$18*Produção!Z10","v":0},{"$f":"'Parâmetros Gerais'!$F$18*Produção!AA10","v":0},{"$f":"'Parâmetros Gerais'!$F$18*Produção!AB10","v":0},{"$f":"'Parâmetros Gerais'!$F$18*Produção!AC10","v":0},{"$f":"'Parâmetros Gerais'!$F$18*Produção!AD10","v":0},{"$f":"'Parâmetros Gerais'!$F$18*Produção!AE10","v":0},{"$f":"'Parâmetros Gerais'!$F$18*Produção!AF10","v":0},{"$f":"'Parâmetros Gerais'!$F$18*Produção!AG10","v":0}]
[{"$f":"IF(LEN('Parâmetros Gerais'!B19)=0,\" \",'Parâmetros Gerais'!B19)","v":"fruto cajá"},{"$f":"IF(C76<>0,C76/$C$68,0)","v":0.20140952704423878},{"$f":"SUM(D76:AH76)","v":52184},null,{"$f":"'Parâmetros Gerais'!$F$19*Produção!D11","v":0},{"$f":"'Parâmetros Gerais'!$F$19*Produção!E11","v":0},{"$f":"'Parâmetros Gerais'!$F$19*Produção!F11","v":0},{"$f":"'Parâmetros Gerais'!$F$19*Produção!G11","v":1344},{"$f":"'Parâmetros Gerais'!$F$19*Produção!H11","v":1920},{"$f":"'Parâmetros Gerais'!$F$19*Produção!I11","v":2400},{"$f":"'Parâmetros Gerais'!$F$19*Produção!J11","v":2600},{"$f":"'Parâmetros Gerais'!$F$19*Produção!K11","v":3120},{"$f":"'Parâmetros Gerais'!$F$19*Produção!L11","v":3400},{"$f":"'Parâmetros Gerais'!$F$19*Produção!M11","v":3400},{"$f":"'Parâmetros Gerais'!$F$19*Produção!N11","v":3400},{"$f":"'Parâmetros Gerais'!$F$19*Produção!O11","v":3400},{"$f":"'Parâmetros Gerais'!$F$19*Produção!P11","v":3400},{"$f":"'Parâmetros Gerais'!$F$19*Produção!Q11","v":3400},{"$f":"'Parâmetros Gerais'!$F$19*Produção!R11","v":3400},{"$f":"'Parâmetros Gerais'!$F$19*Produção!S11","v":3400},{"$f":"'Parâmetros Gerais'!$F$19*Produção!T11","v":3400},{"$f":"'Parâmetros Gerais'!$F$19*Produção!U11","v":3400},{"$f":"'Parâmetros Gerais'!$F$19*Produção!V11","v":3400},{"$f":"'Parâmetros Gerais'!$F$19*Produção!W11","v":3400},{"$f":"'Parâmetros Gerais'!$F$19*Produção!X11","v":0},{"$f":"'Parâmetros Gerais'!$F$19*Produção!Y11","v":0},{"$f":"'Parâmetros Gerais'!$F$19*Produção!Z11","v":0},{"$f":"'Parâmetros Gerais'!$F$19*Produção!AA11","v":0},{"$f":"'Parâmetros Gerais'!$F$19*Produção!AB11","v":0},{"$f":"'Parâmetros Gerais'!$F$19*Produção!AC11","v":0},{"$f":"'Parâmetros Gerais'!$F$19*Produção!AD11","v":0},{"$f":"'Parâmetros Gerais'!$F$19*Produção!AE11","v":0},{"$f":"'Parâmetros Gerais'!$F$19*Produção!AF11","v":0},{"$f":"'Parâmetros Gerais'!$F$19*Produção!AG11","v":0}]
[{"$f":"IF(LEN('Parâmetros Gerais'!B20)=0,\" \",'Parâmetros Gerais'!B20)","v":"semente urucum"},8.7690181941689122E-2,22720,null,{"$f":"'Parâmetros Gerais'!$F$20*Produção!D12","v":0},{"$f":"'Parâmetros Gerais'!$F$20*Produção!E12","v":4544},{"$f":"'Parâmetros Gerais'!$F$20*Produção!F12","v":4544},{"$f":"'Parâmetros Gerais'!$F$20*Produção!G12","v":6816},{"$f":"'Parâmetros Gerais'!$F$20*Produção!H12","v":6816},{"$f":"'Parâmetros Gerais'!$F$20*Produção!I12","v":0},{"$f":"'Parâmetros Gerais'!$F$20*Produção!J12","v":0},{"$f":"'Parâmetros Gerais'!$F$20*Produção!K12","v":0},{"$f":"'Parâmetros Gerais'!$F$20*Produção!L12","v":0},{"$f":"'Parâmetros Gerais'!$F$20*Produção!M12","v":0},{"$f":"'Parâmetros Gerais'!$F$20*Produção!N12","v":0},{"$f":"'Parâmetros Gerais'!$F$20*Produção!O12","v":0},{"$f":"'Parâmetros Gerais'!$F$20*Produção!P12","v":0},{"$f":"'Parâmetros Gerais'!$F$20*Produção!Q12","v":0},{"$f":"'Parâmetros Gerais'!$F$20*Produção!R12","v":0},{"$f":"'Parâmetros Gerais'!$F$20*Produção!S12","v":0},{"$f":"'Parâmetros Gerais'!$F$20*Produção!T12","v":0},{"$f":"'Parâmetros Gerais'!$F$20*Produção!U12","v":0},{"$f":"'Parâmetros Gerais'!$F$20*Produção!V12","v":0},{"$f":"'Parâmetros Gerais'!$F$20*Produção!W12","v":0},{"$f":"'Parâmetros Gerais'!$F$20*Produção!X12","v":0},{"$f":"'Parâmetros Gerais'!$F$20*Produção!Y12","v":0},{"$f":"'Parâmetros Gerais'!$F$20*Produção!Z12","v":0},{"$f":"'Parâmetros Gerais'!$F$20*Produção!AA12","v":0},{"$f":"'Parâmetros Gerais'!$F$20*Produção!AB12","v":0},{"$f":"'Parâmetros Gerais'!$F$20*Produção!AC12","v":0},{"$f":"'Parâmetros Gerais'!$F$20*Produção!AD12","v":0},{"$f":"'Parâmetros Gerais'!$F$20*Produção!AE12","v":0},{"$f":"'Parâmetros Gerais'!$F$20*Produção!AF12","v":0},{"$f":"'Parâmetros Gerais'!$F$20*Produção!AG12","v":0}]
[{"$f":"IF(LEN('Parâmetros Gerais'!B21)=0,\" \",'Parâmetros Gerais'!B21)","v":"semente aroeira"},2.0147128069349349E-2,5220,null,{"$f":"'Parâmetros Gerais'!$F$21*Produção!D13","v":0},{"$f":"'Parâmetros Gerais'!$F$21*Produção!E13","v":696},{"$f":"'Parâmetros Gerais'!$F$21*Produção!F13","v":696},{"$f":"'Parâmetros Gerais'!$F$21*Produção!G13","v":1044},{"$f":"'Parâmetros Gerais'!$F$21*Produção!H13","v":1044},{"$f":"'Parâmetros Gerais'!$F$21*Produção!I13","v":1740},{"$f":"'Parâmetros Gerais'!$F$21*Produção!J13","v":0},{"$f":"'Parâmetros Gerais'!$F$21*Produção!K13","v":0},{"$f":"'Parâmetros Gerais'!$F$21*Produção!L13","v":0},{"$f":"'Parâmetros Gerais'!$F$21*Produção!M13","v":0},{"$f":"'Parâmetros Gerais'!$F$21*Produção!N13","v":0},{"$f":"'Parâmetros Gerais'!$F$21*Produção!O13","v":0},{"$f":"'Parâmetros Gerais'!$F$21*Produção!P13","v":0},{"$f":"'Parâmetros Gerais'!$F$21*Produção!Q13","v":0},{"$f":"'Parâmetros Gerais'!$F$21*Produção!R13","v":0},{"$f":"'Parâmetros Gerais'!$F$21*Produção!S13","v":0},{"$f":"'Parâmetros Gerais'!$F$21*Produção!T13","v":0},{"$f":"'Parâmetros Gerais'!$F$21*Produção!U13","v":0},{"$f":"'Parâmetros Gerais'!$F$21*Produção!V13","v":0},{"$f":"'Parâmetros Gerais'!$F$21*Produção!W13","v":0},{"$f":"'Parâmetros Gerais'!$F$21*Produção!X13","v":0},{"$f":"'Parâmetros Gerais'!$F$21*Produção!Y13","v":0},{"$f":"'Parâmetros Gerais'!$F$21*Produção!Z13","v":0},{"$f":"'Parâmetros Gerais'!$F$21*Produção!AA13","v":0},{"$f":"'Parâmetros Gerais'!$F$21*Produção!AB13","v":0},{"$f":"'Parâmetros Gerais'!$F$21*Produção!AC13","v":0},{"$f":"'Parâmetros Gerais'!$F$21*Produção!AD13","v":0},{"$f":"'Parâmetros Gerais'!$F$21*Produção!AE13","v":0},{"$f":"'Parâmetros Gerais'!$F$21*Produção!AF13","v":0},{"$f":"'Parâmetros Gerais'!$F$21*Produção!AG13","v":0}]
[{"$f":"IF(LEN('Parâmetros Gerais'!B22)=0,\" \",'Parâmetros Gerais'!B22)","v":"raiz mandioca"},3.5199580075185068E-2,9120,null,{"$f":"'Parâmetros Gerais'!$F$22*Produção!D14","v":0},{"$f":"'Parâmetros Gerais'!$F$22*Produção!E14","v":9120},{"$f":"'Parâmetros Gerais'!$F$22*Produção!F14","v":0},{"$f":"'Parâmetros Gerais'!$F$22*Produção!G14","v":0},{"$f":"'Parâmetros Gerais'!$F$22*Produção!H14","v":0},{"$f":"'Parâmetros Gerais'!$F$22*Produção!I14","v":0},{"$f":"'Parâmetros Gerais'!$F$22*Produção!J14","v":0},{"$f":"'Parâmetros Gerais'!$F$22*Produção!K14","v":0},{"$f":"'Parâmetros Gerais'!$F$22*Produção!L14","v":0},{"$f":"'Parâmetros Gerais'!$F$22*Produção!M14","v":0},{"$f":"'Parâmetros Gerais'!$F$22*Produção!N14","v":0},{"$f":"'Parâmetros Gerais'!$F$22*Produção!O14","v":0},{"$f":"'Parâmetros Gerais'!$F$22*Produção!P14","v":0},{"$f":"'Parâmetros Gerais'!$F$22*Produção!Q14","v":0},{"$f":"'Parâmetros Gerais'!$F$22*Produção!R14","v":0},{"$f":"'Parâmetros Gerais'!$F$22*Produção!S14","v":0},{"$f":"'Parâmetros Gerais'!$F$22*Produção!T14","v":0},{"$f":"'Parâmetros Gerais'!$F$22*Produção!U14","v":0},{"$f":"'Parâmetros Gerais'!$F$22*Produção!V14","v":0},{"$f":"'Parâmetros Gerais'!$F$22*Produção!W14","v":0},{"$f":"'Parâmetros Gerais'!$F$22*Produção!X14","v":0},{"$f":"'Parâmetros Gerais'!$F$22*Produção!Y14","v":0},{"$f":"'Parâmetros Gerais'!$F$22*Produção!Z14","v":0},{"$f":"'Parâmetros Gerais'!$F$22*Produção!AA14","v":0},{"$f":"'Parâmetros Gerais'!$F$22*Produção!AB14","v":0},{"$f":"'Parâmetros Gerais'!$F$22*Produção!AC14","v":0},{"$f":"'Parâmetros Gerais'!$F$22*Produção!AD14","v":0},{"$f":"'Parâmetros Gerais'!$F$22*Produção!AE14","v":0},{"$f":"'Parâmetros Gerais'!$F$22*Produção!AF14","v":0},{"$f":"'Parâmetros Gerais'!$F$22*Produção!AG14","v":0}]
[{"$f":"IF(LEN('Parâmetros Gerais'!B23)=0,\" \",'Parâmetros Gerais'!B23)","v":"fruto abacaxi"},{"$f":"IF(C80<>0,C80/$C$68,0)","v":2.1189220900522589E-2},{"$f":"SUM(D80:AH80)","v":5490},null,{"$f":"'Parâmetros Gerais'!$F$23*Produção!D15","v":0},{"$f":"'Parâmetros Gerais'!$F$23*Produção!E15","v":5490},{"$f":"'Parâmetros Gerais'!$F$23*Produção!F15","v":0},{"$f":"'Parâmetros Gerais'!$F$23*Produção!G15","v":0},{"$f":"'Parâmetros Gerais'!$F$23*Produção!H15","v":0},{"$f":"'Parâmetros Gerais'!$F$23*Produção!I15","v":0},{"$f":"'Parâmetros Gerais'!$F$23*Produção!J15","v":0},{"$f":"'Parâmetros Gerais'!$F$23*Produção!K15","v":0},{"$f":"'Parâmetros Gerais'!$F$23*Produção!L15","v":0},{"$f":"'Parâmetros Gerais'!$F$23*Produção!M15","v":0},{"$f":"'Parâmetros Gerais'!$F$23*Produção!N15","v":0},{"$f":"'Parâmetros Gerais'!$F$23*Produção!O15","v":0},{"$f":"'Parâmetros Gerais'!$F$23*Produção!P15","v":0},{"$f":"'Parâmetros Gerais'!$F$23*Produção!Q15","v":0},{"$f":"'Parâmetros Gerais'!$F$23*Produção!R15","v":0},{"$f":"'Parâmetros Gerais'!$F$23*Produção!S15","v":0},{"$f":"'Parâmetros Gerais'!$F$23*Produção!T15","v":0},{"$f":"'Parâmetros Gerais'!$F$23*Produção!U15","v":0},{"$f":"'Parâmetros Gerais'!$F$23*Produção!V15","v":0},{"$f":"'Parâmetros Gerais'!$F$23*Produção!W15","v":0},{"$f":"'Parâmetros Gerais'!$F$23*Produção!X15","v":0},{"$f":"'Parâmetros Gerais'!$F$23*Produção!Y15","v":0},{"$f":"'Parâmetros Gerais'!$F$23*Produção!Z15","v":0},{"$f":"'Parâmetros Gerais'!$F$23*Produção!AA15","v":0},{"$f":"'Parâmetros Gerais'!$F$23*Produção!AB15","v":0},{"$f":"'Parâmetros Gerais'!$F$23*Produção!AC15","v":0},{"$f":"'Parâmetros Gerais'!$F$23*Produção!AD15","v":0},{"$f":"'Parâmetros Gerais'!$F$23*Produção!AE15","v":0},{"$f":"'Parâmetros Gerais'!$F$23*Produção!AF15","v":0},{"$f":"'Parâmetros Gerais'!$F$23*Produção!AG15","v":0}]
[{"$f":"IF(LEN('Parâmetros Gerais'!B24)=0,\" \",'Parâmetros Gerais'!B24)","v":"espigas milho"},1.6499803160243E-2,4275,null,{"$f":"'Parâmetros Gerais'!$F$24*Produção!D16","v":4275},{"$f":"'Parâmetros Gerais'!$F$24*Produção!E16","v":0},{"$f":"'Parâmetros Gerais'!$F$24*Produção!F16","v":0},{"$f":"'Parâmetros Gerais'!$F$24*Produção!G16","v":0},{"$f":"'Parâmetros Gerais'!$F$24*Produção!H16","v":0},{"$f":"'Parâmetros Gerais'!$F$24*Produção!I16","v":0},{"$f":"'Parâmetros Gerais'!$F$24*Produção!J16","v":0},{"$f":"'Parâmetros Gerais'!$F$24*Produção!K16","v":0},{"$f":"'Parâmetros Gerais'!$F$24*Produção!L16","v":0},{"$f":"'Parâmetros Gerais'!$F$24*Produção!M16","v":0},{"$f":"'Parâmetros Gerais'!$F$24*Produção!N16","v":0},{"$f":"'Parâmetros Gerais'!$F$24*Produção!O16","v":0},{"$f":"'Parâmetros Gerais'!$F$24*Produção!P16","v":0},{"$f":"'Parâmetros Gerais'!$F$24*Produção!Q16","v":0},{"$f":"'Parâmetros Gerais'!$F$24*Produção!R16","v":0},{"$f":"'Parâmetros Gerais'!$F$24*Produção!S16","v":0},{"$f":"'Parâmetros Gerais'!$F$24*Produção!T16","v":0},{"$f":"'Parâmetros Gerais'!$F$24*Produção!U16","v":0},{"$f":"'Parâmetros Gerais'!$F$24*Produção!V16","v":0},{"$f":"'Parâmetros Gerais'!$F$24*Produção!W16","v":0},{"$f":"'Parâmetros Gerais'!$F$24*Produção!X16","v":0},{"$f":"'Parâmetros Gerais'!$F$24*Produção!Y16","v":0},{"$f":"'Parâmetros Gerais'!$F$24*Produção!Z16","v":0},{"$f":"'Parâmetros Gerais'!$F$24*Produção!AA16","v":0},{"$f":"'Parâmetros Gerais'!$F$24*Produção!AB16","v":0},{"$f":"'Parâmetros Gerais'!$F$24*Produção!AC16","v":0},{"$f":"'Parâmetros Gerais'!$F$24*Produção!AD16","v":0},{"$f":"'Parâmetros Gerais'!$F$24*Produção!AE16","v":0},{"$f":"'Parâmetros Gerais'!$F$24*Produção!AF16","v":0},{"$f":"'Parâmetros Gerais'!$F$24*Produção!AG16","v":0}]
[{"$f":"IF(LEN('Parâmetros Gerais'!B25)=0,\" \",'Parâmetros Gerais'!B25)","v":"estaca sansão do campo"},4.1683713246929684E-3,1080,null,{"$f":"'Parâmetros Gerais'!$F$25*Produção!D17","v":0},{"$f":"'Parâmetros Gerais'!$F$25*Produção!E17","v":0},{"$f":"'Parâmetros Gerais'!$F$25*Produção!F17","v":0},{"$f":"'Parâmetros Gerais'!$F$25*Produção!G17","v":0},{"$f":"'Parâmetros Gerais'!$F$25*Produção!H17","v":0},{"$f":"'Parâmetros Gerais'!$F$25*Produção!I17","v":0},{"$f":"'Parâmetros Gerais'!$F$25*Produção!J17","v":0},{"$f":"'Parâmetros Gerais'!$F$25*Produção!K17","v":1080},{"$f":"'Parâmetros Gerais'!$F$25*Produção!L17","v":0},{"$f":"'Parâmetros Gerais'!$F$25*Produção!M17","v":0},{"$f":"'Parâmetros Gerais'!$F$25*Produção!N17","v":0},{"$f":"'Parâmetros Gerais'!$F$25*Produção!O17","v":0},{"$f":"'Parâmetros Gerais'!$F$25*Produção!P17","v":0},{"$f":"'Parâmetros Gerais'!$F$25*Produção!Q17","v":0},{"$f":"'Parâmetros Gerais'!$F$25*Produção!R17","v":0},{"$f":"'Parâmetros Gerais'!$F$25*Produção!S17","v":0},{"$f":"'Parâmetros Gerais'!$F$25*Produção!T17","v":0},{"$f":"'Parâmetros Gerais'!$F$25*Produção!U17","v":0},{"$f":"'Parâmetros Gerais'!$F$25*Produção!V17","v":0},{"$f":"'Parâmetros Gerais'!$F$25*Produção!W17","v":0},{"$f":"'Parâmetros Gerais'!$F$25*Produção!X17","v":0},{"$f":"'Parâmetros Gerais'!$F$25*Produção!Y17","v":0},{"$f":"'Parâmetros Gerais'!$F$25*Produção!Z17","v":0},{"$f":"'Parâmetros Gerais'!$F$25*Produção!AA17","v":0},{"$f":"'Parâmetros Gerais'!$F$25*Produção!AB17","v":0},{"$f":"'Parâmetros Gerais'!$F$25*Produção!AC17","v":0},{"$f":"'Parâmetros Gerais'!$F$25*Produção!AD17","v":0},{"$f":"'Parâmetros Gerais'!$F$25*Produção!AE17","v":0},{"$f":"'Parâmetros Gerais'!$F$25*Produção!AF17","v":0},{"$f":"'Parâmetros Gerais'!$F$25*Produção!AG17","v":0}]
[{"$f":"IF(LEN('Parâmetros Gerais'!B26)=0,\" \",'Parâmetros Gerais'!B26)","v":"madeira madeira nova"},9.6490076960485376E-3,2500,null,{"$f":"'Parâmetros Gerais'!$F$26*Produção!D18","v":0},{"$f":"'Parâmetros Gerais'!$F$26*Produção!E18","v":0},{"$f":"'Parâmetros Gerais'!$F$26*Produção!F18","v":0},{"$f":"'Parâmetros Gerais'!$F$26*Produção!G18","v":0},{"$f":"'Parâmetros Gerais'!$F$26*Produção!H18","v":0},{"$f":"'Parâmetros Gerais'!$F$26*Produção!I18","v":0},{"$f":"'Parâmetros Gerais'!$F$26*Produção!J18","v":0},{"$f":"'Parâmetros Gerais'!$F$26*Produção!K18","v":0},{"$f":"'Parâmetros Gerais'!$F$26*Produção!L18","v":0},{"$f":"'Parâmetros Gerais'!$F$26*Produção!M18","v":0},{"$f":"'Parâmetros Gerais'!$F$26*Produção!N18","v":0},{"$f":"'Parâmetros Gerais'!$F$26*Produção!O18","v":0},{"$f":"'Parâmetros Gerais'!$F$26*Produção!P18","v":0},{"$f":"'Parâmetros Gerais'!$F$26*Produção!Q18","v":0},{"$f":"'Parâmetros Gerais'!$F$26*Produção!R18","v":2500},{"$f":"'Parâmetros Gerais'!$F$26*Produção!S18","v":0},{"$f":"'Parâmetros Gerais'!$F$26*Produção!T18","v":0},{"$f":"'Parâmetros Gerais'!$F$26*Produção!U18","v":0},{"$f":"'Parâmetros Gerais'!$F$26*Produção!V18","v":0},{"$f":"'Parâmetros Gerais'!$F$26*Produção!W18","v":0},{"$f":"'Parâmetros Gerais'!$F$26*Produção!X18","v":0},{"$f":"'Parâmetros Gerais'!$F$26*Produção!Y18","v":0},{"$f":"'Parâmetros Gerais'!$F$26*Produção!Z18","v":0},{"$f":"'Parâmetros Gerais'!$F$26*Produção!AA18","v":0},{"$f":"'Parâmetros Gerais'!$F$26*Produção!AB18","v":0},{"$f":"'Parâmetros Gerais'!$F$26*Produção!AC18","v":0},{"$f":"'Parâmetros Gerais'!$F$26*Produção!AD18","v":0},{"$f":"'Parâmetros Gerais'!$F$26*Produção!AE18","v":0},{"$f":"'Parâmetros Gerais'!$F$26*Produção!AF18","v":0},{"$f":"'Parâmetros Gerais'!$F$26*Produção!AG18","v":0}]
[{"$f":"IF(LEN('Parâmetros Gerais'!B27)=0,\" \",'Parâmetros Gerais'!B27)","v":"lenha fedegoso"},9.6490076960485378E-4,250,null,{"$f":"'Parâmetros Gerais'!$F$27*Produção!D19","v":0},{"$f":"'Parâmetros Gerais'!$F$27*Produção!E19","v":0},{"$f":"'Parâmetros Gerais'!$F$27*Produção!F19","v":0},{"$f":"'Parâmetros Gerais'!$F$27*Produção!G19","v":0},{"$f":"'Parâmetros Gerais'!$F$27*Produção!H19","v":0},{"$f":"'Parâmetros Gerais'!$F$27*Produção!I19","v":0},{"$f":"'Parâmetros Gerais'!$F$27*Produção!J19","v":250},{"$f":"'Parâmetros Gerais'!$F$27*Produção!K19","v":0},{"$f":"'Parâmetros Gerais'!$F$27*Produção!L19","v":0},{"$f":"'Parâmetros Gerais'!$F$27*Produção!M19","v":0},{"$f":"'Parâmetros Gerais'!$F$27*Produção!N19","v":0},{"$f":"'Parâmetros Gerais'!$F$27*Produção!O19","v":0},{"$f":"'Parâmetros Gerais'!$F$27*Produção!P19","v":0},{"$f":"'Parâmetros Gerais'!$F$27*Produção!Q19","v":0},{"$f":"'Parâmetros Gerais'!$F$27*Produção!R19","v":0},{"$f":"'Parâmetros Gerais'!$F$27*Produção!S19","v":0},{"$f":"'Parâmetros Gerais'!$F$27*Produção!T19","v":0},{"$f":"'Parâmetros Gerais'!$F$27*Produção!U19","v":0},{"$f":"'Parâmetros Gerais'!$F$27*Produção!V19","v":0},{"$f":"'Parâmetros Gerais'!$F$27*Produção!W19","v":0},{"$f":"'Parâmetros Gerais'!$F$27*Produção!X19","v":0},{"$f":"'Parâmetros Gerais'!$F$27*Produção!Y19","v":0},{"$f":"'Parâmetros Gerais'!$F$27*Produção!Z19","v":0},{"$f":"'Parâmetros Gerais'!$F$27*Produção!AA19","v":0},{"$f":"'Parâmetros Gerais'!$F$27*Produção!AB19","v":0},{"$f":"'Parâmetros Gerais'!$F$27*Produção!AC19","v":0},{"$f":"'Parâmetros Gerais'!$F$27*Produção!AD19","v":0},{"$f":"'Parâmetros Gerais'!$F$27*Produção!AE19","v":0},{"$f":"'Parâmetros Gerais'!$F$27*Produção!AF19","v":0},{"$f":"'Parâmetros Gerais'!$F$27*Produção!AG19","v":0}]
[{"$f":"IF(LEN('Parâmetros Gerais'!B28)=0,\" \",'Parâmetros Gerais'!B28)","v":"estaca pau d'alho"},0,0,null,{"$f":"'Parâmetros Gerais'!$F$28*Produção!D20","v":0},{"$f":"'Parâmetros Gerais'!$F$28*Produção!E20","v":0},{"$f":"'Parâmetros Gerais'!$F$28*Produção!F20","v":0},{"$f":"'Parâmetros Gerais'!$F$28*Produção!G20","v":0},{"$f":"'Parâmetros Gerais'!$F$28*Produção!H20","v":0},{"$f":"'Parâmetros Gerais'!$F$28*Produção!I20","v":0},{"$f":"'Parâmetros Gerais'!$F$28*Produção!J20","v":0},{"$f":"'Parâmetros Gerais'!$F$28*Produção!K20","v":0},{"$f":"'Parâmetros Gerais'!$F$28*Produção!L20","v":0},{"$f":"'Parâmetros Gerais'!$F$28*Produção!M20","v":0},{"$f":"'Parâmetros Gerais'!$F$28*Produção!N20","v":0},{"$f":"'Parâmetros Gerais'!$F$28*Produção!O20","v":0},{"$f":"'Parâmetros Gerais'!$F$28*Produção!P20","v":0},{"$f":"'Parâmetros Gerais'!$F$28*Produção!Q20","v":0},{"$f":"'Parâmetros Gerais'!$F$28*Produção!R20","v":0},{"$f":"'Parâmetros Gerais'!$F$28*Produção!S20","v":0},{"$f":"'Parâmetros Gerais'!$F$28*Produção!T20","v":0},{"$f":"'Parâmetros Gerais'!$F$28*Produção!U20","v":0},{"$f":"'Parâmetros Gerais'!$F$28*Produção!V20","v":0},{"$f":"'Parâmetros Gerais'!$F$28*Produção!W20","v":0},{"$f":"'Parâmetros Gerais'!$F$28*Produção!X20","v":0},{"$f":"'Parâmetros Gerais'!$F$28*Produção!Y20","v":0},{"$f":"'Parâmetros Gerais'!$F$28*Produção!Z20","v":0},{"$f":"'Parâmetros Gerais'!$F$28*Produção!AA20","v":0},{"$f":"'Parâmetros Gerais'!$F$28*Produção!AB20","v":0},{"$f":"'Parâmetros Gerais'!$F$28*Produção!AC20","v":0},{"$f":"'Parâmetros Gerais'!$F$28*Produção!AD20","v":0},{"$f":"'Parâmetros Gerais'!$F$28*Produção!AE20","v":0},{"$f":"'Parâmetros Gerais'!$F$28*Produção!AF20","v":0},{"$f":"'Parâmetros Gerais'!$F$28*Produção!AG20","v":0}]
[{"$f":"IF(LEN('Parâmetros Gerais'!B29)=0,\" \",'Parâmetros Gerais'!B29)","v":"caixotaria boleira"},1.9298015392097076E-3,500,null,{"$f":"'Parâmetros Gerais'!$F$29*Produção!D21","v":0},{"$f":"'Parâmetros Gerais'!$F$29*Produção!E21","v":0},{"$f":"'Parâmetros Gerais'!$F$29*Produção!F21","v":0},{"$f":"'Parâmetros Gerais'!$F$29*Produção!G21","v":0},{"$f":"'Parâmetros Gerais'!$F$29*Produção!H21","v":0},{"$f":"'Parâmetros Gerais'!$F$29*Produção!I21","v":0},{"$f":"'Parâmetros Gerais'!$F$29*Produção!J21","v":500},{"$f":"'Parâmetros Gerais'!$F$29*Produção!K21","v":0},{"$f":"'Parâmetros Gerais'!$F$29*Produção!L21","v":0},{"$f":"'Parâmetros Gerais'!$F$29*Produção!M21","v":0},{"$f":"'Parâmetros Gerais'!$F$29*Produção!N21","v":0},{"$f":"'Parâmetros Gerais'!$F$29*Produção!O21","v":0},{"$f":"'Parâmetros Gerais'!$F$29*Produção!P21","v":0},{"$f":"'Parâmetros Gerais'!$F$29*Produção!Q21","v":0},{"$f":"'Parâmetros Gerais'!$F$29*Produção!R21","v":0},{"$f":"'Parâmetros Gerais'!$F$29*Produção!S21","v":0},{"$f":"'Parâmetros Gerais'!$F$29*Produção!T21","v":0},{"$f":"'Parâmetros Gerais'!$F$29*Produção!U21","v":0},{"$f":"'Parâmetros Gerais'!$F$29*Produção!V21","v":0},{"$f":"'Parâmetros Gerais'!$F$29*Produção!W21","v":0},{"$f":"'Parâmetros Gerais'!$F$29*Produção!X21","v":0},{"$f":"'Parâmetros Gerais'!$F$29*Produção!Y21","v":0},{"$f":"'Parâmetros Gerais'!$F$29*Produção!Z21","v":0},{"$f":"'Parâmetros Gerais'!$F$29*Produção!AA21","v":0},{"$f":"'Parâmetros Gerais'!$F$29*Produção!AB21","v":0},{"$f":"'Parâmetros Gerais'!$F$29*Produção!AC21","v":0},{"$f":"'Parâmetros Gerais'!$F$29*Produção!AD21","v":0},{"$f":"'Parâmetros Gerais'!$F$29*Produção!AE21","v":0},{"$f":"'Parâmetros Gerais'!$F$29*Produção!AF21","v":0},{"$f":"'Parâmetros Gerais'!$F$29*Produção!AG21","v":0}]
[{"$f":"IF(LEN('Parâmetros Gerais'!B30)=0,\" \",'Parâmetros Gerais'!B30)","v":"madeira angico roxo"},{"$f":"IF(C87<>0,C87/$C$68,0)","v":1.2157749697021158E-2},{"$f":"SUM(D87:AH87)","v":3150},null,{"$f":"'Parâmetros Gerais'!$F$30*Produção!D22","v":0},{"$f":"'Parâmetros Gerais'!$F$30*Produção!E22","v":0},{"$f":"'Parâmetros Gerais'!$F$30*Produção!F22","v":0},{"$f":"'Parâmetros Gerais'!$F$30*Produção!G22","v":0},{"$f":"'Parâmetros Gerais'!$F$30*Produção!H22","v":0},{"$f":"'Parâmetros Gerais'!$F$30*Produção!I22","v":0},{"$f":"'Parâmetros Gerais'!$F$30*Produção!J22","v":0},{"$f":"'Parâmetros Gerais'!$F$30*Produção!K22","v":0},{"$f":"'Parâmetros Gerais'!$F$30*Produção!L22","v":0},{"$f":"'Parâmetros Gerais'!$F$30*Produção!M22","v":1400},{"$f":"'Parâmetros Gerais'!$F$30*Produção!N22","v":0},{"$f":"'Parâmetros Gerais'!$F$30*Produção!O22","v":0},{"$f":"'Parâmetros Gerais'!$F$30*Produção!P22","v":0},{"$f":"'Parâmetros Gerais'!$F$30*Produção!Q22","v":0},{"$f":"'Parâmetros Gerais'!$F$30*Produção!R22","v":0},{"$f":"'Parâmetros Gerais'!$F$30*Produção!S22","v":0},{"$f":"'Parâmetros Gerais'!$F$30*Produção!T22","v":0},{"$f":"'Parâmetros Gerais'!$F$30*Produção!U22","v":0},{"$f":"'Parâmetros Gerais'!$F$30*Produção!V22","v":0},{"$f":"'Parâmetros Gerais'!$F$30*Produção!W22","v":1750},{"$f":"'Parâmetros Gerais'!$F$30*Produção!X22","v":0},{"$f":"'Parâmetros Gerais'!$F$30*Produção!Y22","v":0},{"$f":"'Parâmetros Gerais'!$F$30*Produção!Z22","v":0},{"$f":"'Parâmetros Gerais'!$F$30*Produção!AA22","v":0},{"$f":"'Parâmetros Gerais'!$F$30*Produção!AB22","v":0},{"$f":"'Parâmetros Gerais'!$F$30*Produção!AC22","v":0},{"$f":"'Parâmetros Gerais'!$F$30*Produção!AD22","v":0},{"$f":"'Parâmetros Gerais'!$F$30*Produção!AE22","v":0},{"$f":"'Parâmetros Gerais'!$F$30*Produção!AF22","v":0},{"$f":"'Parâmetros Gerais'!$F$30*Produção!AG22","v":0}]
[{"$f":"IF(LEN('Parâmetros Gerais'!B31)=0,\" \",'Parâmetros Gerais'!B31)","v":"madeira ipê roxo"},0,0,null,{"$f":"'Parâmetros Gerais'!$F$31*Produção!D23","v":0},{"$f":"'Parâmetros Gerais'!$F$31*Produção!E23","v":0},{"$f":"'Parâmetros Gerais'!$F$31*Produção!F23","v":0},{"$f":"'Parâmetros Gerais'!$F$31*Produção!G23","v":0},{"$f":"'Parâmetros Gerais'!$F$31*Produção!H23","v":0},{"$f":"'Parâmetros Gerais'!$F$31*Produção!I23","v":0},{"$f":"'Parâmetros Gerais'!$F$31*Produção!J23","v":0},{"$f":"'Parâmetros Gerais'!$F$31*Produção!K23","v":0},{"$f":"'Parâmetros Gerais'!$F$31*Produção!L23","v":0},{"$f":"'Parâmetros Gerais'!$F$31*Produção!M23","v":0},{"$f":"'Parâmetros Gerais'!$F$31*Produção!N23","v":0},{"$f":"'Parâmetros Gerais'!$F$31*Produção!O23","v":0},{"$f":"'Parâmetros Gerais'!$F$31*Produção!P23","v":0},{"$f":"'Parâmetros Gerais'!$F$31*Produção!Q23","v":0},{"$f":"'Parâmetros Gerais'!$F$31*Produção!R23","v":0},{"$f":"'Parâmetros Gerais'!$F$31*Produção!S23","v":0},{"$f":"'Parâmetros Gerais'!$F$31*Produção!T23","v":0},{"$f":"'Parâmetros Gerais'!$F$31*Produção!U23","v":0},{"$f":"'Parâmetros Gerais'!$F$31*Produção!V23","v":0},{"$f":"'Parâmetros Gerais'!$F$31*Produção!W23","v":0},{"$f":"'Parâmetros Gerais'!$F$31*Produção!X23","v":0},{"$f":"'Parâmetros Gerais'!$F$31*Produção!Y23","v":0},{"$f":"'Parâmetros Gerais'!$F$31*Produção!Z23","v":0},{"$f":"'Parâmetros Gerais'!$F$31*Produção!AA23","v":0},{"$f":"'Parâmetros Gerais'!$F$31*Produção!AB23","v":0},{"$f":"'Parâmetros Gerais'!$F$31*Produção!AC23","v":0},{"$f":"'Parâmetros Gerais'!$F$31*Produção!AD23","v":0},{"$f":"'Parâmetros Gerais'!$F$31*Produção!AE23","v":0},{"$f":"'Parâmetros Gerais'!$F$31*Produção!AF23","v":0},{"$f":"'Parâmetros Gerais'!$F$31*Produção!AG23","v":0}]
[{"$f":"IF(LEN('Parâmetros Gerais'!B32)=0,\" \",'Parâmetros Gerais'!B32)","v":"madeira ipê amarelo"},4.8630998788084634E-2,12600,null,{"$f":"'Parâmetros Gerais'!$F$32*Produção!D24","v":0},{"$f":"'Parâmetros Gerais'!$F$32*Produção!E24","v":0},{"$f":"'Parâmetros Gerais'!$F$32*Produção!F24","v":0},{"$f":"'Parâmetros Gerais'!$F$32*Produção!G24","v":0},{"$f":"'Parâmetros Gerais'!$F$32*Produção!H24","v":0},{"$f":"'Parâmetros Gerais'!$F$32*Produção!I24","v":0},{"$f":"'Parâmetros Gerais'!$F$32*Produção!J24","v":0},{"$f":"'Parâmetros Gerais'!$F$32*Produção!K24","v":0},{"$f":"'Parâmetros Gerais'!$F$32*Produção!L24","v":0},{"$f":"'Parâmetros Gerais'!$F$32*Produção!M24","v":0},{"$f":"'Parâmetros Gerais'!$F$32*Produção!N24","v":0},{"$f":"'Parâmetros Gerais'!$F$32*Produção!O24","v":0},{"$f":"'Parâmetros Gerais'!$F$32*Produção!P24","v":0},{"$f":"'Parâmetros Gerais'!$F$32*Produção!Q24","v":0},{"$f":"'Parâmetros Gerais'!$F$32*Produção!R24","v":0},{"$f":"'Parâmetros Gerais'!$F$32*Produção!S24","v":0},{"$f":"'Parâmetros Gerais'!$F$32*Produção!T24","v":0},{"$f":"'Parâmetros Gerais'!$F$32*Produção!U24","v":0},{"$f":"'Parâmetros Gerais'!$F$32*Produção!V24","v":0},{"$f":"'Parâmetros Gerais'!$F$32*Produção!W24","v":12600},{"$f":"'Parâmetros Gerais'!$F$32*Produção!X24","v":0},{"$f":"'Parâmetros Gerais'!$F$32*Produção!Y24","v":0},{"$f":"'Parâmetros Gerais'!$F$32*Produção!Z24","v":0},{"$f":"'Parâmetros Gerais'!$F$32*Produção!AA24","v":0},{"$f":"'Parâmetros Gerais'!$F$32*Produção!AB24","v":0},{"$f":"'Parâmetros Gerais'!$F$32*Produção!AC24","v":0},{"$f":"'Parâmetros Gerais'!$F$32*Produção!AD24","v":0},{"$f":"'Parâmetros Gerais'!$F$32*Produção!AE24","v":0},{"$f":"'Parâmetros Gerais'!$F$32*Produção!AF24","v":0},{"$f":"'Parâmetros Gerais'!$F$32*Produção!AG24","v":0}]
[{"$f":"IF(LEN('Parâmetros Gerais'!B33)=0,\" \",'Parâmetros Gerais'!B33)","v":"madeira gonçalo alves"},0,0,null,{"$f":"'Parâmetros Gerais'!$F$33*Produção!D25","v":0},{"$f":"'Parâmetros Gerais'!$F$33*Produção!E25","v":0},{"$f":"'Parâmetros Gerais'!$F$33*Produção!F25","v":0},{"$f":"'Parâmetros Gerais'!$F$33*Produção!G25","v":0},{"$f":"'Parâmetros Gerais'!$F$33*Produção!H25","v":0},{"$f":"'Parâmetros Gerais'!$F$33*Produção!I25","v":0},{"$f":"'Parâmetros Gerais'!$F$33*Produção!J25","v":0},{"$f":"'Parâmetros Gerais'!$F$33*Produção!K25","v":0},{"$f":"'Parâmetros Gerais'!$F$33*Produção!L25","v":0},{"$f":"'Parâmetros Gerais'!$F$33*Produção!M25","v":0},{"$f":"'Parâmetros Gerais'!$F$33*Produção!N25","v":0},{"$f":"'Parâmetros Gerais'!$F$33*Produção!O25","v":0},{"$f":"'Parâmetros Gerais'!$F$33*Produção!P25","v":0},{"$f":"'Parâmetros Gerais'!$F$33*Produção!Q25","v":0},{"$f":"'Parâmetros Gerais'!$F$33*Produção!R25","v":0},{"$f":"'Parâmetros Gerais'!$F$33*Produção!S25","v":0},{"$f":"'Parâmetros Gerais'!$F$33*Produção!T25","v":0},{"$f":"'Parâmetros Gerais'!$F$33*Produção!U25","v":0},{"$f":"'Parâmetros Gerais'!$F$33*Produção!V25","v":0},{"$f":"'Parâmetros Gerais'!$F$33*Produção!W25","v":0},{"$f":"'Parâmetros Gerais'!$F$33*Produção!X25","v":0},{"$f":"'Parâmetros Gerais'!$F$33*Produção!Y25","v":0},{"$f":"'Parâmetros Gerais'!$F$33*Produção!Z25","v":0},{"$f":"'Parâmetros Gerais'!$F$33*Produção!AA25","v":0},{"$f":"'Parâmetros Gerais'!$F$33*Produção!AB25","v":0},{"$f":"'Parâmetros Gerais'!$F$33*Produção!AC25","v":0},{"$f":"'Parâmetros Gerais'!$F$33*Produção!AD25","v":0},{"$f":"'Parâmetros Gerais'!$F$33*Produção!AE25","v":0},{"$f":"'Parâmetros Gerais'!$F$33*Produção!AF25","v":0},{"$f":"'Parâmetros Gerais'!$F$33*Produção!AG25","v":0}]
[{"$f":"IF(LEN('Parâmetros Gerais'!B34)=0,\" \",'Parâmetros Gerais'!B34)","v":"madeira vinhatico"},1.3508610774467954E-2,3500,null,{"$f":"'Parâmetros Gerais'!$F$34*Produção!D26","v":0},{"$f":"'Parâmetros Gerais'!$F$34*Produção!E26","v":0},{"$f":"'Parâmetros Gerais'!$F$34*Produção!F26","v":0},{"$f":"'Parâmetros Gerais'!$F$34*Produção!G26","v":0},{"$f":"'Parâmetros Gerais'!$F$34*Produção!H26","v":0},{"$f":"'Parâmetros Gerais'!$F$34*Produção!I26","v":0},{"$f":"'Parâmetros Gerais'!$F$34*Produção!J26","v":0},{"$f":"'Parâmetros Gerais'!$F$34*Produção!K26","v":0},{"$f":"'Parâmetros Gerais'!$F$34*Produção!L26","v":0},{"$f":"'Parâmetros Gerais'!$F$34*Produção!M26","v":0},{"$f":"'Parâmetros Gerais'!$F$34*Produção!N26","v":0},{"$f":"'Parâmetros Gerais'!$F$34*Produção!O26","v":0},{"$f":"'Parâmetros Gerais'!$F$34*Produção!P26","v":0},{"$f":"'Parâmetros Gerais'!$F$34*Produção!Q26","v":0},{"$f":"'Parâmetros Gerais'!$F$34*Produção!R26","v":0},{"$f":"'Parâmetros Gerais'!$F$34*Produção!S26","v":0},{"$f":"'Parâmetros Gerais'!$F$34*Produção!T26","v":0},{"$f":"'Parâmetros Gerais'!$F$34*Produção!U26","v":0},{"$f":"'Parâmetros Gerais'!$F$34*Produção!V26","v":0},{"$f":"'Parâmetros Gerais'!$F$34*Produção!W26","v":3500},{"$f":"'Parâmetros Gerais'!$F$34*Produção!X26","v":0},{"$f":"'Parâmetros Gerais'!$F$34*Produção!Y26","v":0},{"$f":"'Parâmetros Gerais'!$F$34*Produção!Z26","v":0},{"$f":"'Parâmetros Gerais'!$F$34*Produção!AA26","v":0},{"$f":"'Parâmetros Gerais'!$F$34*Produção!AB26","v":0},{"$f":"'Parâmetros Gerais'!$F$34*Produção!AC26","v":0},{"$f":"'Parâmetros Gerais'!$F$34*Produção!AD26","v":0},{"$f":"'Parâmetros Gerais'!$F$34*Produção!AE26","v":0},{"$f":"'Parâmetros Gerais'!$F$34*Produção!AF26","v":0},{"$f":"'Parâmetros Gerais'!$F$34*Produção!AG26","v":0}]
[{"$f":"IF(LEN('Parâmetros Gerais'!B35)=0,\" \",'Parâmetros Gerais'!B35)","v":"madeira jequitiba"},5.4034443097871815E-3,1400,null,{"$f":"'Parâmetros Gerais'!$F$35*Produção!D27","v":0},{"$f":"'Parâmetros Gerais'!$F$35*Produção!E27","v":0},{"$f":"'Parâmetros Gerais'!$F$35*Produção!F27","v":0},{"$f":"'Parâmetros Gerais'!$F$35*Produção!G27","v":0},{"$f":"'Parâmetros Gerais'!$F$35*Produção!H27","v":0},{"$f":"'Parâmetros Gerais'!$F$35*Produção!I27","v":0},{"$f":"'Parâmetros Gerais'!$F$35*Produção!J27","v":0},{"$f":"'Parâmetros Gerais'!$F$35*Produção!K27","v":0},{"$f":"'Parâmetros Gerais'!$F$35*Produção!L27","v":0},{"$f":"'Parâmetros Gerais'!$F$35*Produção!M27","v":0},{"$f":"'Parâmetros Gerais'!$F$35*Produção!N27","v":0},{"$f":"'Parâmetros Gerais'!$F$35*Produção!O27","v":0},{"$f":"'Parâmetros Gerais'!$F$35*Produção!P27","v":0},{"$f":"'Parâmetros Gerais'!$F$35*Produção!Q27","v":0},{"$f":"'Parâmetros Gerais'!$F$35*Produção!R27","v":0},{"$f":"'Parâmetros Gerais'!$F$35*Produção!S27","v":0},{"$f":"'Parâmetros Gerais'!$F$35*Produção!T27","v":0},{"$f":"'Parâmetros Gerais'!$F$35*Produção!U27","v":0},{"$f":"'Parâmetros Gerais'!$F$35*Produção!V27","v":0},{"$f":"'Parâmetros Gerais'!$F$35*Produção!W27","v":1400},{"$f":"'Parâmetros Gerais'!$F$35*Produção!X27","v":0},{"$f":"'Parâmetros Gerais'!$F$35*Produção!Y27","v":0},{"$f":"'Parâmetros Gerais'!$F$35*Produção!Z27","v":0},{"$f":"'Parâmetros Gerais'!$F$35*Produção!AA27","v":0},{"$f":"'Parâmetros Gerais'!$F$35*Produção!AB27","v":0},{"$f":"'Parâmetros Gerais'!$F$35*Produção!AC27","v":0},{"$f":"'Parâmetros Gerais'!$F$35*Produção!AD27","v":0},{"$f":"'Parâmetros Gerais'!$F$35*Produção!AE27","v":0},{"$f":"'Parâmetros Gerais'!$F$35*Produção!AF27","v":0},{"$f":"'Parâmetros Gerais'!$F$35*Produção!AG27","v":0}]
[{"$f":"IF(LEN('Parâmetros Gerais'!B36)=0,\" \",'Parâmetros Gerais'!B36)","v":"biomassa"},0,0,null,{"$f":"'Parâmetros Gerais'!$F$36*Produção!D29","v":0},{"$f":"'Parâmetros Gerais'!$F$36*Produção!E29","v":0},{"$f":"'Parâmetros Gerais'!$F$36*Produção!F29","v":0},{"$f":"'Parâmetros Gerais'!$F$36*Produção!G29","v":0},{"$f":"'Parâmetros Gerais'!$F$36*Produção!H29","v":0},{"$f":"'Parâmetros Gerais'!$F$36*Produção!I29","v":0},{"$f":"'Parâmetros Gerais'!$F$36*Produção!J29","v":0},{"$f":"'Parâmetros Gerais'!$F$36*Produção!K29","v":0},{"$f":"'Parâmetros Gerais'!$F$36*Produção!L29","v":0},{"$f":"'Parâmetros Gerais'!$F$36*Produção!M29","v":0},{"$f":"'Parâmetros Gerais'!$F$36*Produção!N29","v":0},{"$f":"'Parâmetros Gerais'!$F$36*Produção!O29","v":0},{"$f":"'Parâmetros Gerais'!$F$36*Produção!P29","v":0},{"$f":"'Parâmetros Gerais'!$F$36*Produção!Q29","v":0},{"$f":"'Parâmetros Gerais'!$F$36*Produção!R29","v":0},{"$f":"'Parâmetros Gerais'!$F$36*Produção!S29","v":0},{"$f":"'Parâmetros Gerais'!$F$36*Produção!T29","v":0},{"$f":"'Parâmetros Gerais'!$F$36*Produção!U29","v":0},{"$f":"'Parâmetros Gerais'!$F$36*Produção!V29","v":0},{"$f":"'Parâmetros Gerais'!$F$36*Produção!W29","v":0},{"$f":"'Parâmetros Gerais'!$F$36*Produção!X29","v":0},{"$f":"'Parâmetros Gerais'!$F$36*Produção!Y29","v":0},{"$f":"'Parâmetros Gerais'!$F$36*Produção!Z29","v":0},{"$f":"'Parâmetros Gerais'!$F$36*Produção!AA29","v":0},{"$f":"'Parâmetros Gerais'!$F$36*Produção!AB29","v":0},{"$f":"'Parâmetros Gerais'!$F$36*Produção!AC29","v":0},{"$f":"'Parâmetros Gerais'!$F$36*Produção!AD29","v":0},{"$f":"'Parâmetros Gerais'!$F$36*Produção!AE29","v":0},{"$f":"'Parâmetros Gerais'!$F$36*Produção!AF29","v":0},{"$f":"'Parâmetros Gerais'!$F$36*Produção!AG29","v":0}]
[{"$f":"IF(LEN('Parâmetros Gerais'!B37)=0,\" \",'Parâmetros Gerais'!B37)","v":"grão caupi"},{"$f":"IF(C94<>0,C94/$C$68,0)","v":0},{"$f":"SUM(D94:AH94)","v":0},null,{"$f":"'Parâmetros Gerais'!$F$36*Produção!D30","v":0},{"$f":"'Parâmetros Gerais'!$F$36*Produção!E30","v":0},{"$f":"'Parâmetros Gerais'!$F$36*Produção!F30","v":0},{"$f":"'Parâmetros Gerais'!$F$36*Produção!G30","v":0},{"$f":"'Parâmetros Gerais'!$F$36*Produção!H30","v":0},{"$f":"'Parâmetros Gerais'!$F$36*Produção!I30","v":0},{"$f":"'Parâmetros Gerais'!$F$36*Produção!J30","v":0},{"$f":"'Parâmetros Gerais'!$F$36*Produção!K30","v":0},{"$f":"'Parâmetros Gerais'!$F$36*Produção!L30","v":0},{"$f":"'Parâmetros Gerais'!$F$36*Produção!M30","v":0},{"$f":"'Parâmetros Gerais'!$F$36*Produção!N30","v":0},{"$f":"'Parâmetros Gerais'!$F$36*Produção!O30","v":0},{"$f":"'Parâmetros Gerais'!$F$36*Produção!P30","v":0},{"$f":"'Parâmetros Gerais'!$F$36*Produção!Q30","v":0},{"$f":"'Parâmetros Gerais'!$F$36*Produção!R30","v":0},{"$f":"'Parâmetros Gerais'!$F$36*Produção!S30","v":0},{"$f":"'Parâmetros Gerais'!$F$36*Produção!T30","v":0},{"$f":"'Parâmetros Gerais'!$F$36*Produção!U30","v":0},{"$f":"'Parâmetros Gerais'!$F$36*Produção!V30","v":0},{"$f":"'Parâmetros Gerais'!$F$36*Produção!W30","v":0},{"$f":"'Parâmetros Gerais'!$F$36*Produção!X30","v":0},{"$f":"'Parâmetros Gerais'!$F$36*Produção!Y30","v":0},{"$f":"'Parâmetros Gerais'!$F$36*Produção!Z30","v":0},{"$f":"'Parâmetros Gerais'!$F$36*Produção!AA30","v":0},{"$f":"'Parâmetros Gerais'!$F$36*Produção!AB30","v":0},{"$f":"'Parâmetros Gerais'!$F$36*Produção!AC30","v":0},{"$f":"'Parâmetros Gerais'!$F$36*Produção!AD30","v":0},{"$f":"'Parâmetros Gerais'!$F$36*Produção!AE30","v":0},{"$f":"'Parâmetros Gerais'!$F$36*Produção!AF30","v":0},{"$f":"'Parâmetros Gerais'!$F$36*Produção!AG30","v":0}]
[]
["LAJIR",null,null,{"$f":"D68-D8","v":0},4275,20420,7300,11264,12080,5060,3669.5,4839,4165,5758.5,4358.5,8418.5,9542.5,13838.5,21794.5,20194.5,20194.5,20890.5,20890.5,40140.5,0,0,0,0,0,0,0,0,0,0]
["(Lucro Antes dos Juros e Impostos sobre a Renda)"]

{"sheet":"Fluxo de Caixa","index":32,"n_rows":28,"n_cols":32,"rows_kept":28,"cut":false,"hidden":false,"merged":[[1,0,1,2]]}
[{"$f":"'Parâmetros Gerais'!A1","v":"Análise Financeira de Sistemas Produtivos Integrados (V. 4.16 11/2016)"}]
["Diagrama de Fluxo de Caixa"]
[]
[]
["Entradas Aj",null,{"$f":"C6/((1+'Parâmetros Gerais'!$F$7)^C11)","v":4275},{"$f":"D6/((1+'Parâmetros Gerais'!$F$7)^D11)","v":20420},{"$f":"E6/((1+'Parâmetros Gerais'!$F$7)^E11)","v":7300},{"$f":"F6/((1+'Parâmetros Gerais'!$F$7)^F11)","v":11264},{"$f":"G6/((1+'Parâmetros Gerais'!$F$7)^G11)","v":12080},{"$f":"H6/((1+'Parâmetros Gerais'!$F$7)^H11)","v":5060},{"$f":"I6/((1+'Parâmetros Gerais'!$F$7)^I11)","v":3669.5},{"$f":"J6/((1+'Parâmetros Gerais'!$F$7)^J11)","v":4839},{"$f":"K6/((1+'Parâmetros Gerais'!$F$7)^K11)","v":4165},{"$f":"L6/((1+'Parâmetros Gerais'!$F$7)^L11)","v":5758.5},{"$f":"M6/((1+'Parâmetros Gerais'!$F$7)^M11)","v":4358.5},{"$f":"N6/((1+'Parâmetros Gerais'!$F$7)^N11)","v":8418.5},{"$f":"O6/((1+'Parâmetros Gerais'!$F$7)^O11)","v":9542.5},{"$f":"P6/((1+'Parâmetros Gerais'!$F$7)^P11)","v":13838.5},{"$f":"Q6/((1+'Parâmetros Gerais'!$F$7)^Q11)","v":21794.5},{"$f":"R6/((1+'Parâmetros Gerais'!$F$7)^R11)","v":20194.5},{"$f":"S6/((1+'Parâmetros Gerais'!$F$7)^S11)","v":20194.5},{"$f":"T6/((1+'Parâmetros Gerais'!$F$7)^T11)","v":20890.5},{"$f":"U6/((1+'Parâmetros Gerais'!$F$7)^U11)","v":20890.5},{"$f":"V6/((1+'Parâmetros Gerais'!$F$7)^V11)","v":40140.5},{"$f":"W6/((1+'Parâmetros Gerais'!$F$7)^W11)","v":0},{"$f":"X6/((1+'Parâmetros Gerais'!$F$7)^X11)","v":0},{"$f":"Y6/((1+'Parâmetros Gerais'!$F$7)^Y11)","v":0},{"$f":"Z6/((1+'Parâmetros Gerais'!$F$7)^Z11)","v":0},{"$f":"AA6/((1+'Parâmetros Gerais'!$F$7)^AA11)","v":0},{"$f":"AB6/((1+'Parâmetros Gerais'!$F$7)^AB11)","v":0},{"$f":"AC6/((1+'Parâmetros Gerais'!$F$7)^AC11)","v":0},{"$f":"AD6/((1+'Parâmetros Gerais'!$F$7)^AD11)","v":0},{"$f":"AE6/((1+'Parâmetros Gerais'!$F$7)^AE11)","v":0},{"$f":"AF6/((1+'Parâmetros Gerais'!$F$7)^AF11)","v":0}]
["Entradas",null,{"$f":"'Resultados Fin'!E68","v":4275},{"$f":"'Resultados Fin'!F68","v":20420},{"$f":"'Resultados Fin'!G68","v":7300},{"$f":"'Resultados Fin'!H68","v":11264},{"$f":"'Resultados Fin'!I68","v":12080},{"$f":"'Resultados Fin'!J68","v":5060},{"$f":"'Resultados Fin'!K68","v":3669.5},{"$f":"'Resultados Fin'!L68","v":4839},{"$f":"'Resultados Fin'!M68","v":4165},{"$f":"'Resultados Fin'!N68","v":5758.5},{"$f":"'Resultados Fin'!O68","v":4358.5},{"$f":"'Resultados Fin'!P68","v":8418.5},{"$f":"'Resultados Fin'!Q68","v":9542.5},{"$f":"'Resultados Fin'!R68","v":13838.5},{"$f":"'Resultados Fin'!S68","v":21794.5},{"$f":"'Resultados Fin'!T68","v":20194.5},{"$f":"'Resultados Fin'!U68","v":20194.5},{"$f":"'Resultados Fin'!V68","v":20890.5},{"$f":"'Resultados Fin'!W68","v":20890.5},{"$f":"'Resultados Fin'!X68","v":40140.5},{"$f":"'Resultados Fin'!Y68","v":0},{"$f":"'Resultados Fin'!Z68","v":0},{"$f":"'Resultados Fin'!AA68","v":0},{"$f":"'Resultados Fin'!AB68","v":0},{"$f":"'Resultados Fin'!AC68","v":0},{"$f":"'Resultados Fin'!AD68","v":0},{"$f":"'Resultados Fin'!AE68","v":0},{"$f":"'Resultados Fin'!AF68","v":0},{"$f":"'Resultados Fin'!AG68","v":0},{"$f":"'Resultados Fin'!AH68","v":0}]
[]
[]
[]
[]
[{"$f":"Produção!D3","v":"Período"},0,1,2,3,4,5,6,7,8,9,10,11,12,13,14,15,16,17,18,19,20,21,22,23,24,25,26,27,28,29,30]
[]
[]
[]
[]
["Saídas",{"$f":"'Resultados Fin'!D6","v":0},{"$f":"'Resultados Fin'!E6","v":0},{"$f":"'Resultados Fin'!F6","v":0},{"$f":"'Resultados Fin'!G6","v":0},{"$f":"'Resultados Fin'!H6","v":0},{"$f":"'Resultados Fin'!I6","v":0},{"$f":"'Resultados Fin'!J6","v":0},{"$f":"'Resultados Fin'!K6","v":0},{"$f":"'Resultados Fin'!L6","v":0},{"$f":"'Resultados Fin'!M6","v":0},{"$f":"'Resultados Fin'!N6","v":0},{"$f":"'Resultados Fin'!O6","v":0},{"$f":"'Resultados Fin'!P6","v":0},{"$f":"'Resultados Fin'!Q6","v":0},{"$f":"'Resultados Fin'!R6","v":0},{"$f":"'Resultados Fin'!S6","v":0},{"$f":"'Resultados Fin'!T6","v":0},{"$f":"'Resultados Fin'!U6","v":0},{"$f":"'Resultados Fin'!V6","v":0},{"$f":"'Resultados Fin'!W6","v":0},{"$f":"'Resultados Fin'!X6","v":0},{"$f":"'Resultados Fin'!Y6","v":0},{"$f":"'Resultados Fin'!Z6","v":0},{"$f":"'Resultados Fin'!AA6","v":0},{"$f":"'Resultados Fin'!AB6","v":0},{"$f":"'Resultados Fin'!AC6","v":0},{"$f":"'Resultados Fin'!AD6","v":0},{"$f":"'Resultados Fin'!AE6","v":0},{"$f":"'Resultados Fin'!AF6","v":0},{"$f":"'Resultados Fin'!AG6","v":0},{"$f":"'Resultados Fin'!AH6","v":0}]
["Saídas Aj",{"$f":"B16","v":0},{"$f":"C16/((1+'Parâmetros Gerais'!$F$7)^C11)","v":0},{"$f":"D16/((1+'Parâmetros Gerais'!$F$7)^D11)","v":0},{"$f":"E16/((1+'Parâmetros Gerais'!$F$7)^E11)","v":0},{"$f":"F16/((1+'Parâmetros Gerais'!$F$7)^F11)","v":0},{"$f":"G16/((1+'Parâmetros Gerais'!$F$7)^G11)","v":0},{"$f":"H16/((1+'Parâmetros Gerais'!$F$7)^H11)","v":0},{"$f":"I16/((1+'Parâmetros Gerais'!$F$7)^I11)","v":0},{"$f":"J16/((1+'Parâmetros Gerais'!$F$7)^J11)","v":0},{"$f":"K16/((1+'Parâmetros Gerais'!$F$7)^K11)","v":0},{"$f":"L16/((1+'Parâmetros Gerais'!$F$7)^L11)","v":0},{"$f":"M16/((1+'Parâmetros Gerais'!$F$7)^M11)","v":0},{"$f":"N16/((1+'Parâmetros Gerais'!$F$7)^N11)","v":0},{"$f":"O16/((1+'Parâmetros Gerais'!$F$7)^O11)","v":0},{"$f":"P16/((1+'Parâmetros Gerais'!$F$7)^P11)","v":0},{"$f":"Q16/((1+'Parâmetros Gerais'!$F$7)^Q11)","v":0},{"$f":"R16/((1+'Parâmetros Gerais'!$F$7)^R11)","v":0},{"$f":"S16/((1+'Parâmetros Gerais'!$F$7)^S11)","v":0},{"$f":"T16/((1+'Parâmetros Gerais'!$F$7)^T11)","v":0},{"$f":"U16/((1+'Parâmetros Gerais'!$F$7)^U11)","v":0},{"$f":"V16/((1+'Parâmetros Gerais'!$F$7)^V11)","v":0},{"$f":"W16/((1+'Parâmetros Gerais'!$F$7)^W11)","v":0},{"$f":"X16/((1+'Parâmetros Gerais'!$F$7)^X11)","v":0},{"$f":"Y16/((1+'Parâmetros Gerais'!$F$7)^Y11)","v":0},{"$f":"Z16/((1+'Parâmetros Gerais'!$F$7)^Z11)","v":0},{"$f":"AA16/((1+'Parâmetros Gerais'!$F$7)^AA11)","v":0},{"$f":"AB16/((1+'Parâmetros Gerais'!$F$7)^AB11)","v":0},{"$f":"AC16/((1+'Parâmetros Gerais'!$F$7)^AC11)","v":0},{"$f":"AD16/((1+'Parâmetros Gerais'!$F$7)^AD11)","v":0},{"$f":"AE16/((1+'Parâmetros Gerais'!$F$7)^AE11)","v":0},{"$f":"AF16/((1+'Parâmetros Gerais'!$F$7)^AF11)","v":0}]
[]
["Fl Cx",{"$f":"B6-B16","v":0},{"$f":"C6-C16","v":4275},20420,7300,11264,12080,5060,3669.5,4839,4165,5758.5,4358.5,8418.5,9542.5,13838.5,21794.5,20194.5,20194.5,20890.5,20890.5,40140.5,{"$f":"W6-W16","v":0},0,0,0,0,0,0,0,0,0]
[]
["Fl Cx Acum",{"$f":"B19","v":0},{"$f":"B21+C19","v":4275},{"$f":"C21+D19","v":24695},{"$f":"D21+E19","v":31995},43259,55339,60399,64068.5,68907.5,73072.5,78831,83189.5,91608,101150.5,114989,136783.5,156978,177172.5,198063,218953.5,259094,259094,259094,259094,259094,259094,259094,259094,259094,259094,259094]
[]
["Fl Cx Aj",{"$f":"B5-B17","v":0},4275,20420,7300,11264,12080,{"$f":"H5-H17","v":5060},3669.5,4839,4165,5758.5,4358.5,8418.5,9542.5,13838.5,21794.5,20194.5,20194.5,20890.5,20890.5,40140.5,{"$f":"W5-W17","v":0},0,0,0,0,0,0,0,0,0]
[]
["Fl Cx Acum Aj",{"$f":"B23","v":0},{"$f":"B25+C23","v":4275},{"$f":"C25+D23","v":24695},{"$f":"D25+E23","v":31995},43259,55339,60399,64068.5,68907.5,73072.5,78831,83189.5,91608,101150.5,114989,136783.5,156978,177172.5,198063,218953.5,259094,259094,259094,259094,259094,259094,259094,259094,259094,259094,259094]
[]
["Entr Acum Aj",{"$f":"B5","v":0},{"$f":"B27+C5","v":4275},{"$f":"C27+D5","v":24695},31995,43259,55339,60399,64068.5,68907.5,73072.5,78831,83189.5,91608,101150.5,114989,136783.5,156978,177172.5,198063,218953.5,259094,259094,259094,259094,259094,259094,259094,259094,259094,259094,259094]
["Said Acum Aj",{"$f":"B17","v":0},{"$f":"B28+C17","v":0},{"$f":"C28+D17","v":0},0,0,0,0,0,0,0,0,0,0,0,0,0,0,0,0,0,0,0,0,0,0,0,0,0,0,0,0]

{"sheet":"Ind Financeiros","index":33,"n_rows":19,"n_cols":13,"rows_kept":19,"cut":false,"hidden":false,"merged":[[11,1,12,1],[11,2,12,2],[1,0,1,5],[3,1,4,2],[10,8,10,9],[8,8,8,9],[7,8,7,9],[3,3,4,3],[5,8,5,9],[6,8,6,9],[4,8,4,9],[3,8,3,9]]}
[{"$f":"'Parâmetros Gerais'!A1","v":"Análise Financeira de Sistemas Produtivos Integrados (V. 4.16 11/2016)"}]
["Resumo do Projeto, Indicadores Financeiros e Sensibilidade"]
[]
[null,"Resumo do Projeto",null,"Não Ajustado",null,"Ajustado (por período)",null,null,"Avaliação Financeira",null,10,20,30]
[null,null,null,null,10,20,30,null,"TMA do Projeto:",null,{"$f":"'Parâmetros Gerais'!F9","v":0},{"$f":"K5","v":0},{"$f":"K5","v":0}]
[null,"Receitas:",null,{"$f":"SUM('Fluxo de Caixa'!B6:AF6)","v":259094},{"$f":"NPV('Parâmetros Gerais'!$F$7,'Fluxo de Caixa'!$C$6:$L$6)","v":78831},{"$f":"NPV('Parâmetros Gerais'!$F$7,'Fluxo de Caixa'!$C$6:$V$6)","v":259094},{"$f":"NPV('Parâmetros Gerais'!$F$7,'Fluxo de Caixa'!$C$6:$AF$6)","v":259094},null,"TIR do Projeto:",null,{"$f":"IRR('Fluxo de Caixa'!B19:L19)","v":{"$error":"#NUM!"}},{"$f":"IRR('Fluxo de Caixa'!B19:V19)","v":{"$error":"#NUM!"}},{"$f":"IRR('Fluxo de Caixa'!B19:AF19)","v":{"$error":"#NUM!"}}]
[null,"Despesas:",null,{"$f":"SUM('Fluxo de Caixa'!B16:AF16)","v":0},{"$f":"NPV('Parâmetros Gerais'!$F$7,'Fluxo de Caixa'!$C$16:$L$16)+'Fluxo de Caixa'!$B$16","v":0},{"$f":"NPV('Parâmetros Gerais'!$F$7,'Fluxo de Caixa'!$C$16:$V$16)+'Fluxo de Caixa'!$B$16","v":0},{"$f":"NPV('Parâmetros Gerais'!$F$7,'Fluxo de Caixa'!$C$16:$AF$16)+'Fluxo de Caixa'!$B$16","v":0},null,"VPL do Projeto:",null,{"$f":"NPV($K$5,'Fluxo de Caixa'!$C$19:$L$19)+'Fluxo de Caixa'!$B$19","v":78831},{"$f":"NPV($K$5,'Fluxo de Caixa'!$C$19:$V$19)+'Fluxo de Caixa'!$B$19","v":259094},{"$f":"NPV($K$5,'Fluxo de Caixa'!$C$19:$AF$19)+'Fluxo de Caixa'!$B$19","v":259094}]
[null,"Saldo Final:",null,{"$f":"D6-D7","v":259094},{"$f":"E6-E7","v":78831},{"$f":"F6-F7","v":259094},{"$f":"G6-G7","v":259094},null,"Payback Simples:",null,{"$f":"COUNTIF('Fluxo de Caixa'!C21:AF21,\"<0\")+1","v":1},{"$f":"K8","v":1},{"$f":"K8","v":1}]
[null,null,null,null,null,null,null,null,"Payback Descontado:",null,{"$f":"COUNTIF('Fluxo de Caixa'!C25:AF25,\"<0\")+1","v":1},{"$f":"K9","v":1},{"$f":"K9","v":1}]
[null,null,null,null,null,null,null,null,"VAE do Projeto:",null,{"$f":"(K7*K5)/(1-(1+K5)^(-10))","v":{"$error":"#DIV/0!"}},{"$f":"(L7*L5)/(1-(1+L5)^(-20))","v":{"$error":"#DIV/0!"}},{"$f":"(M7*M5)/(1-(1+M5)^(-30))","v":{"$error":"#DIV/0!"}}]
[null,null,null,null,null,null,null,null,"Relação B/C:",null,{"$f":"E6/E7","v":{"$error":"#DIV/0!"}},{"$f":"F6/F7","v":{"$error":"#DIV/0!"}},{"$f":"G6/G7","v":{"$error":"#DIV/0!"}}]
[null,"Taxa de Desconto","VPL"]
[]
[null,{"$f":"B15/2","v":0},{"$f":"NPV(B14,'Fluxo de Caixa'!$C$19:$V$19)+'Fluxo de Caixa'!$B$19","v":259094}]
[null,{"$f":"K5","v":0},{"$f":"NPV(B15,'Fluxo de Caixa'!$C$19:$V$19)+'Fluxo de Caixa'!$B$19","v":259094}]
[null,{"$f":"B15*2","v":0},{"$f":"NPV(B16,'Fluxo de Caixa'!$C$19:$V$19)+'Fluxo de Caixa'!$B$19","v":259094}]
[null,{"$f":"B16*2","v":0},{"$f":"NPV(B17,'Fluxo de Caixa'!$C$19:$V$19)+'Fluxo de Caixa'!$B$19","v":259094}]
[null,{"$f":"B17*2","v":0},{"$f":"NPV(B18,'Fluxo de Caixa'!$C$19:$V$19)+'Fluxo de Caixa'!$B$19","v":259094}]
[null,{"$f":"B18*2","v":0},{"$f":"NPV(B19,'Fluxo de Caixa'!$C$19:$V$19)+'Fluxo de Caixa'!$B$19","v":259094}]

{"sheet":"Gráficos 10","index":34,"n_rows":112,"n_cols":49,"rows_kept":112,"cut":false,"hidden":false,"merged":[]}
[]
[null,null,null,null,null,null,null,null,null,null,null,null,null,null,null,null,0,1,2,3,4,5,6,7,8,9,10,11,12,13,14,15,16,17,18,19,20,21,22,23,24,25,26,27,28,29,30]
[null,null,null,null,null,null,null,null,null,null,null,null,null,null,null,"Uso de MO",{"$f":"SUM(Q4:Q28)","v":0},0,0,0,0,0,0,0,0,0,0,0,0,0,0,0,0,0,0,0,0,0,0,0,0,0,0,0,0,0,0]
[null,null,null,null,null,null,null,null,null,null,null,null,null,null,null,"Atividades Gerais",{"$f":"'Preparo e Gerais'!D19","v":0}]
[null,null,null,null,null,null,null,null,null,null,null,null,null,null,null,{"$f":"Produção!$A$6","v":"latex"},null,{"$f":"IF(latex!D$23<>0,latex!D$23,\"\")","v":""},{"$f":"IF(latex!E$23<>0,latex!E$23,\"\")","v":""},{"$f":"IF(latex!F$23<>0,latex!F$23,\"\")","v":""},{"$f":"IF(latex!G$23<>0,latex!G$23,\"\")","v":""},{"$f":"IF(latex!H$23<>0,latex!H$23,\"\")","v":""},{"$f":"IF(latex!I$23<>0,latex!I$23,\"\")","v":""},{"$f":"IF(latex!J$23<>0,latex!J$23,\"\")","v":""},{"$f":"IF(latex!K$23<>0,latex!K$23,\"\")","v":""},{"$f":"IF(latex!L$23<>0,latex!L$23,\"\")","v":""},{"$f":"IF(latex!M$23<>0,latex!M$23,\"\")","v":""},{"$f":"IF(latex!N$23<>0,latex!N$23,\"\")","v":""},{"$f":"IF(latex!O$23<>0,latex!O$23,\"\")","v":""},{"$f":"IF(latex!P$23<>0,latex!P$23,\"\")","v":""},{"$f":"IF(latex!Q$23<>0,latex!Q$23,\"\")","v":""},{"$f":"IF(latex!R$23<>0,latex!R$23,\"\")","v":""},{"$f":"IF(latex!S$23<>0,latex!S$23,\"\")","v":""},{"$f":"IF(latex!T$23<>0,latex!T$23,\"\")","v":""},{"$f":"IF(latex!U$23<>0,latex!U$23,\"\")","v":""},{"$f":"IF(latex!V$23<>0,latex!V$23,\"\")","v":""},{"$f":"IF(latex!W$23<>0,latex!W$23,\"\")","v":""},{"$f":"IF(latex!X$23<>0,latex!X$23,\"\")","v":""},{"$f":"IF(latex!Y$23<>0,latex!Y$23,\"\")","v":""},{"$f":"IF(latex!Z$23<>0,latex!Z$23,\"\")","v":""},{"$f":"IF(latex!AA$23<>0,latex!AA$23,\"\")","v":""},{"$f":"IF(latex!AB$23<>0,latex!AB$23,\"\")","v":""},{"$f":"IF(latex!AC$23<>0,latex!AC$23,\"\")","v":""},{"$f":"IF(latex!AD$23<>0,latex!AD$23,\"\")","v":""},{"$f":"IF(latex!AE$23<>0,latex!AE$23,\"\")","v":""},{"$f":"IF(latex!AF$23<>0,latex!AF$23,\"\")","v":""},{"$f":"IF(latex!AG$23<>0,latex!AG$23,\"\")","v":""}]
[null,null,null,null,null,null,null,null,null,null,null,null,null,null,null,{"$f":"Produção!$A$7","v":"fruto genipapo"},null,{"$f":"IF('fruto genipapo'!D$23<>0,'fruto genipapo'!D$23,\"\")","v":""},{"$f":"IF('fruto genipapo'!E$23<>0,'fruto genipapo'!E$23,\"\")","v":""},{"$f":"IF('fruto genipapo'!F$23<>0,'fruto genipapo'!F$23,\"\")","v":""},{"$f":"IF('fruto genipapo'!G$23<>0,'fruto genipapo'!G$23,\"\")","v":""},{"$f":"IF('fruto genipapo'!H$23<>0,'fruto genipapo'!H$23,\"\")","v":""},{"$f":"IF('fruto genipapo'!I$23<>0,'fruto genipapo'!I$23,\"\")","v":""},{"$f":"IF('fruto genipapo'!J$23<>0,'fruto genipapo'!J$23,\"\")","v":""},{"$f":"IF('fruto genipapo'!K$23<>0,'fruto genipapo'!K$23,\"\")","v":""},{"$f":"IF('fruto genipapo'!L$23<>0,'fruto genipapo'!L$23,\"\")","v":""},{"$f":"IF('fruto genipapo'!M$23<>0,'fruto genipapo'!M$23,\"\")","v":""},{"$f":"IF('fruto genipapo'!N$23<>0,'fruto genipapo'!N$23,\"\")","v":""},{"$f":"IF('fruto genipapo'!O$23<>0,'fruto genipapo'!O$23,\"\")","v":""},{"$f":"IF('fruto genipapo'!P$23<>0,'fruto genipapo'!P$23,\"\")","v":""},{"$f":"IF('fruto genipapo'!Q$23<>0,'fruto genipapo'!Q$23,\"\")","v":""},{"$f":"IF('fruto genipapo'!R$23<>0,'fruto genipapo'!R$23,\"\")","v":""},{"$f":"IF('fruto genipapo'!S$23<>0,'fruto genipapo'!S$23,\"\")","v":""},{"$f":"IF('fruto genipapo'!T$23<>0,'fruto genipapo'!T$23,\"\")","v":""},{"$f":"IF('fruto genipapo'!U$23<>0,'fruto genipapo'!U$23,\"\")","v":""},{"$f":"IF('fruto genipapo'!V$23<>0,'fruto genipapo'!V$23,\"\")","v":""},{"$f":"IF('fruto genipapo'!W$23<>0,'fruto genipapo'!W$23,\"\")","v":""},{"$f":"IF('fruto genipapo'!X$23<>0,'fruto genipapo'!X$23,\"\")","v":""},{"$f":"IF('fruto genipapo'!Y$23<>0,'fruto genipapo'!Y$23,\"\")","v":""},{"$f":"IF('fruto genipapo'!Z$23<>0,'fruto genipapo'!Z$23,\"\")","v":""},{"$f":"IF('fruto genipapo'!AA$23<>0,'fruto genipapo'!AA$23,\"\")","v":""},{"$f":"IF('fruto genipapo'!AB$23<>0,'fruto genipapo'!AB$23,\"\")","v":""},{"$f":"IF('fruto genipapo'!AC$23<>0,'fruto genipapo'!AC$23,\"\")","v":""},{"$f":"IF('fruto genipapo'!AD$23<>0,'fruto genipapo'!AD$23,\"\")","v":""},{"$f":"IF('fruto genipapo'!AE$23<>0,'fruto genipapo'!AE$23,\"\")","v":""},{"$f":"IF('fruto genipapo'!AF$23<>0,'fruto genipapo'!AF$23,\"\")","v":""},{"$f":"IF('fruto genipapo'!AG$23<>0,'fruto genipapo'!AG$23,\"\")","v":""}]
[null,null,null,null,null,null,null,null,null,null,null,null,null,null,null,{"$f":"Produção!$A$8","v":"fruto araçauna"},null,{"$f":"IF('fruto araçauna'!D$23<>0,'fruto araçauna'!D$23,\"\")","v":""},{"$f":"IF('fruto araçauna'!E$23<>0,'fruto araçauna'!E$23,\"\")","v":""},{"$f":"IF('fruto araçauna'!F$23<>0,'fruto araçauna'!F$23,\"\")","v":""},{"$f":"IF('fruto araçauna'!G$23<>0,'fruto araçauna'!G$23,\"\")","v":""},{"$f":"IF('fruto araçauna'!H$23<>0,'fruto araçauna'!H$23,\"\")","v":""},{"$f":"IF('fruto araçauna'!I$23<>0,'fruto araçauna'!I$23,\"\")","v":""},{"$f":"IF('fruto araçauna'!J$23<>0,'fruto araçauna'!J$23,\"\")","v":""},{"$f":"IF('fruto araçauna'!K$23<>0,'fruto araçauna'!K$23,\"\")","v":""},{"$f":"IF('fruto araçauna'!L$23<>0,'fruto araçauna'!L$23,\"\")","v":""},{"$f":"IF('fruto araçauna'!M$23<>0,'fruto araçauna'!M$23,\"\")","v":""},{"$f":"IF('fruto araçauna'!N$23<>0,'fruto araçauna'!N$23,\"\")","v":""},{"$f":"IF('fruto araçauna'!O$23<>0,'fruto araçauna'!O$23,\"\")","v":""},{"$f":"IF('fruto araçauna'!P$23<>0,'fruto araçauna'!P$23,\"\")","v":""},{"$f":"IF('fruto araçauna'!Q$23<>0,'fruto araçauna'!Q$23,\"\")","v":""},{"$f":"IF('fruto araçauna'!R$23<>0,'fruto araçauna'!R$23,\"\")","v":""},{"$f":"IF('fruto araçauna'!S$23<>0,'fruto araçauna'!S$23,\"\")","v":""},{"$f":"IF('fruto araçauna'!T$23<>0,'fruto araçauna'!T$23,\"\")","v":""},{"$f":"IF('fruto araçauna'!U$23<>0,'fruto araçauna'!U$23,\"\")","v":""},{"$f":"IF('fruto araçauna'!V$23<>0,'fruto araçauna'!V$23,\"\")","v":""},{"$f":"IF('fruto araçauna'!W$23<>0,'fruto araçauna'!W$23,\"\")","v":""},{"$f":"IF('fruto araçauna'!X$23<>0,'fruto araçauna'!X$23,\"\")","v":""},{"$f":"IF('fruto araçauna'!Y$23<>0,'fruto araçauna'!Y$23,\"\")","v":""},{"$f":"IF('fruto araçauna'!Z$23<>0,'fruto araçauna'!Z$23,\"\")","v":""},{"$f":"IF('fruto araçauna'!AA$23<>0,'fruto araçauna'!AA$23,\"\")","v":""},{"$f":"IF('fruto araçauna'!AB$23<>0,'fruto araçauna'!AB$23,\"\")","v":""},{"$f":"IF('fruto araçauna'!AC$23<>0,'fruto araçauna'!AC$23,\"\")","v":""},{"$f":"IF('fruto araçauna'!AD$23<>0,'fruto araçauna'!AD$23,\"\")","v":""},{"$f":"IF('fruto araçauna'!AE$23<>0,'fruto araçauna'!AE$23,\"\")","v":""},{"$f":"IF('fruto araçauna'!AF$23<>0,'fruto araçauna'!AF$23,\"\")","v":""},{"$f":"IF('fruto araçauna'!AG$23<>0,'fruto araçauna'!AG$23,\"\")","v":""}]
[null,null,null,null,null,null,null,null,null,null,null,null,null,null,null,{"$f":"Produção!$A$9","v":"fruto pitanga"},null,{"$f":"IF('fruto pitanga'!D$23<>0,'fruto pitanga'!D$23,\"\")","v":""},{"$f":"IF('fruto pitanga'!E$23<>0,'fruto pitanga'!E$23,\"\")","v":""},{"$f":"IF('fruto pitanga'!F$23<>0,'fruto pitanga'!F$23,\"\")","v":""},{"$f":"IF('fruto pitanga'!G$23<>0,'fruto pitanga'!G$23,\"\")","v":""},{"$f":"IF('fruto pitanga'!H$23<>0,'fruto pitanga'!H$23,\"\")","v":""},{"$f":"IF('fruto pitanga'!I$23<>0,'fruto pitanga'!I$23,\"\")","v":""},{"$f":"IF('fruto pitanga'!J$23<>0,'fruto pitanga'!J$23,\"\")","v":""},{"$f":"IF('fruto pitanga'!K$23<>0,'fruto pitanga'!K$23,\"\")","v":""},{"$f":"IF('fruto pitanga'!L$23<>0,'fruto pitanga'!L$23,\"\")","v":""},{"$f":"IF('fruto pitanga'!M$23<>0,'fruto pitanga'!M$23,\"\")","v":""},{"$f":"IF('fruto pitanga'!N$23<>0,'fruto pitanga'!N$23,\"\")","v":""},{"$f":"IF('fruto pitanga'!O$23<>0,'fruto pitanga'!O$23,\"\")","v":""},{"$f":"IF('fruto pitanga'!P$23<>0,'fruto pitanga'!P$23,\"\")","v":""},{"$f":"IF('fruto pitanga'!Q$23<>0,'fruto pitanga'!Q$23,\"\")","v":""},{"$f":"IF('fruto pitanga'!R$23<>0,'fruto pitanga'!R$23,\"\")","v":""},{"$f":"IF('fruto pitanga'!S$23<>0,'fruto pitanga'!S$23,\"\")","v":""},{"$f":"IF('fruto pitanga'!T$23<>0,'fruto pitanga'!T$23,\"\")","v":""},{"$f":"IF('fruto pitanga'!U$23<>0,'fruto pitanga'!U$23,\"\")","v":""},{"$f":"IF('fruto pitanga'!V$23<>0,'fruto pitanga'!V$23,\"\")","v":""},{"$f":"IF('fruto pitanga'!W$23<>0,'fruto pitanga'!W$23,\"\")","v":""},{"$f":"IF('fruto pitanga'!X$23<>0,'fruto pitanga'!X$23,\"\")","v":""},{"$f":"IF('fruto pitanga'!Y$23<>0,'fruto pitanga'!Y$23,\"\")","v":""},{"$f":"IF('fruto pitanga'!Z$23<>0,'fruto pitanga'!Z$23,\"\")","v":""},{"$f":"IF('fruto pitanga'!AA$23<>0,'fruto pitanga'!AA$23,\"\")","v":""},{"$f":"IF('fruto pitanga'!AB$23<>0,'fruto pitanga'!AB$23,\"\")","v":""},{"$f":"IF('fruto pitanga'!AC$23<>0,'fruto pitanga'!AC$23,\"\")","v":""},{"$f":"IF('fruto pitanga'!AD$23<>0,'fruto pitanga'!AD$23,\"\")","v":""},{"$f":"IF('fruto pitanga'!AE$23<>0,'fruto pitanga'!AE$23,\"\")","v":""},{"$f":"IF('fruto pitanga'!AF$23<>0,'fruto pitanga'!AF$23,\"\")","v":""},{"$f":"IF('fruto pitanga'!AG$23<>0,'fruto pitanga'!AG$23,\"\")","v":""}]
[null,null,null,null,null,null,null,null,null,null,null,null,null,null,null,{"$f":"Produção!$A$10","v":"castanha sapucaia"},null,{"$f":"IF(Castanha!D$23<>0,Castanha!D$23,\"\")","v":""},{"$f":"IF(Castanha!E$23<>0,Castanha!E$23,\"\")","v":""},{"$f":"IF(Castanha!F$23<>0,Castanha!F$23,\"\")","v":""},{"$f":"IF(Castanha!G$23<>0,Castanha!G$23,\"\")","v":""},{"$f":"IF(Castanha!H$23<>0,Castanha!H$23,\"\")","v":""},{"$f":"IF(Castanha!I$23<>0,Castanha!I$23,\"\")","v":""},{"$f":"IF(Castanha!J$23<>0,Castanha!J$23,\"\")","v":""},{"$f":"IF(Castanha!K$23<>0,Castanha!K$23,\"\")","v":""},{"$f":"IF(Castanha!L$23<>0,Castanha!L$23,\"\")","v":""},{"$f":"IF(Castanha!M$23<>0,Castanha!M$23,\"\")","v":""},{"$f":"IF(Castanha!N$23<>0,Castanha!N$23,\"\")","v":""},{"$f":"IF(Castanha!O$23<>0,Castanha!O$23,\"\")","v":""},{"$f":"IF(Castanha!P$23<>0,Castanha!P$23,\"\")","v":""},{"$f":"IF(Castanha!Q$23<>0,Castanha!Q$23,\"\")","v":""},{"$f":"IF(Castanha!R$23<>0,Castanha!R$23,\"\")","v":""},{"$f":"IF(Castanha!S$23<>0,Castanha!S$23,\"\")","v":""},{"$f":"IF(Castanha!T$23<>0,Castanha!T$23,\"\")","v":""},{"$f":"IF(Castanha!U$23<>0,Castanha!U$23,\"\")","v":""},{"$f":"IF(Castanha!V$23<>0,Castanha!V$23,\"\")","v":""},{"$f":"IF(Castanha!W$23<>0,Castanha!W$23,\"\")","v":""},{"$f":"IF(Castanha!X$23<>0,Castanha!X$23,\"\")","v":""},{"$f":"IF(Castanha!Y$23<>0,Castanha!Y$23,\"\")","v":""},{"$f":"IF(Castanha!Z$23<>0,Castanha!Z$23,\"\")","v":""},{"$f":"IF(Castanha!AA$23<>0,Castanha!AA$23,\"\")","v":""},{"$f":"IF(Castanha!AB$23<>0,Castanha!AB$23,\"\")","v":""},{"$f":"IF(Castanha!AC$23<>0,Castanha!AC$23,\"\")","v":""},{"$f":"IF(Castanha!AD$23<>0,Castanha!AD$23,\"\")","v":""},{"$f":"IF(Castanha!AE$23<>0,Castanha!AE$23,\"\")","v":""},{"$f":"IF(Castanha!AF$23<>0,Castanha!AF$23,\"\")","v":""},{"$f":"IF(Castanha!AG$23<>0,Castanha!AG$23,\"\")","v":""}]
[null,null,null,null,null,null,null,null,null,null,null,null,null,null,null,{"$f":"Produção!$A$11","v":"fruto cajá"},null,{"$f":"IF('fruto cajá'!D$23<>0,'fruto cajá'!D$23,\"\")","v":""},{"$f":"IF('fruto cajá'!E$23<>0,'fruto cajá'!E$23,\"\")","v":""},{"$f":"IF('fruto cajá'!F$23<>0,'fruto cajá'!F$23,\"\")","v":""},{"$f":"IF('fruto cajá'!G$23<>0,'fruto cajá'!G$23,\"\")","v":""},{"$f":"IF('fruto cajá'!H$23<>0,'fruto cajá'!H$23,\"\")","v":""},{"$f":"IF('fruto cajá'!I$23<>0,'fruto cajá'!I$23,\"\")","v":""},{"$f":"IF('fruto cajá'!J$23<>0,'fruto cajá'!J$23,\"\")","v":""},{"$f":"IF('fruto cajá'!K$23<>0,'fruto cajá'!K$23,\"\")","v":""},{"$f":"IF('fruto cajá'!L$23<>0,'fruto cajá'!L$23,\"\")","v":""},{"$f":"IF('fruto cajá'!M$23<>0,'fruto cajá'!M$23,\"\")","v":""},{"$f":"IF('fruto cajá'!N$23<>0,'fruto cajá'!N$23,\"\")","v":""},{"$f":"IF('fruto cajá'!O$23<>0,'fruto cajá'!O$23,\"\")","v":""},{"$f":"IF('fruto cajá'!P$23<>0,'fruto cajá'!P$23,\"\")","v":""},{"$f":"IF('fruto cajá'!Q$23<>0,'fruto cajá'!Q$23,\"\")","v":""},{"$f":"IF('fruto cajá'!R$23<>0,'fruto cajá'!R$23,\"\")","v":""},{"$f":"IF('fruto cajá'!S$23<>0,'fruto cajá'!S$23,\"\")","v":""},{"$f":"IF('fruto cajá'!T$23<>0,'fruto cajá'!T$23,\"\")","v":""},{"$f":"IF('fruto cajá'!U$23<>0,'fruto cajá'!U$23,\"\")","v":""},{"$f":"IF('fruto cajá'!V$23<>0,'fruto cajá'!V$23,\"\")","v":""},{"$f":"IF('fruto cajá'!W$23<>0,'fruto cajá'!W$23,\"\")","v":""},{"$f":"IF('fruto cajá'!X$23<>0,'fruto cajá'!X$23,\"\")","v":""},{"$f":"IF('fruto cajá'!Y$23<>0,'fruto cajá'!Y$23,\"\")","v":""},{"$f":"IF('fruto cajá'!Z$23<>0,'fruto cajá'!Z$23,\"\")","v":""},{"$f":"IF('fruto cajá'!AA$23<>0,'fruto cajá'!AA$23,\"\")","v":""},{"$f":"IF('fruto cajá'!AB$23<>0,'fruto cajá'!AB$23,\"\")","v":""},{"$f":"IF('fruto cajá'!AC$23<>0,'fruto cajá'!AC$23,\"\")","v":""},{"$f":"IF('fruto cajá'!AD$23<>0,'fruto cajá'!AD$23,\"\")","v":""},{"$f":"IF('fruto cajá'!AE$23<>0,'fruto cajá'!AE$23,\"\")","v":""},{"$f":"IF('fruto cajá'!AF$23<>0,'fruto cajá'!AF$23,\"\")","v":""},{"$f":"IF('fruto cajá'!AG$23<>0,'fruto cajá'!AG$23,\"\")","v":""}]
[null,null,null,null,null,null,null,null,null,null,null,null,null,null,null,{"$f":"Produção!$A$12","v":"semente urucum"},null,{"$f":"IF('semente urucum'!D$23<>0,'semente urucum'!D$23,\"\")","v":""},{"$f":"IF('semente urucum'!E$23<>0,'semente urucum'!E$23,\"\")","v":""},{"$f":"IF('semente urucum'!F$23<>0,'semente urucum'!F$23,\"\")","v":""},{"$f":"IF('semente urucum'!G$23<>0,'semente urucum'!G$23,\"\")","v":""},{"$f":"IF('semente urucum'!H$23<>0,'semente urucum'!H$23,\"\")","v":""},{"$f":"IF('semente urucum'!I$23<>0,'semente urucum'!I$23,\"\")","v":""},{"$f":"IF('semente urucum'!J$23<>0,'semente urucum'!J$23,\"\")","v":""},{"$f":"IF('semente urucum'!K$23<>0,'semente urucum'!K$23,\"\")","v":""},{"$f":"IF('semente urucum'!L$23<>0,'semente urucum'!L$23,\"\")","v":""},{"$f":"IF('semente urucum'!M$23<>0,'semente urucum'!M$23,\"\")","v":""},{"$f":"IF('semente urucum'!N$23<>0,'semente urucum'!N$23,\"\")","v":""},{"$f":"IF('semente urucum'!O$23<>0,'semente urucum'!O$23,\"\")","v":""},{"$f":"IF('semente urucum'!P$23<>0,'semente urucum'!P$23,\"\")","v":""},{"$f":"IF('semente urucum'!Q$23<>0,'semente urucum'!Q$23,\"\")","v":""},{"$f":"IF('semente urucum'!R$23<>0,'semente urucum'!R$23,\"\")","v":""},{"$f":"IF('semente urucum'!S$23<>0,'semente urucum'!S$23,\"\")","v":""},{"$f":"IF('semente urucum'!T$23<>0,'semente urucum'!T$23,\"\")","v":""},{"$f":"IF('semente urucum'!U$23<>0,'semente urucum'!U$23,\"\")","v":""},{"$f":"IF('semente urucum'!V$23<>0,'semente urucum'!V$23,\"\")","v":""},{"$f":"IF('semente urucum'!W$23<>0,'semente urucum'!W$23,\"\")","v":""},{"$f":"IF('semente urucum'!X$23<>0,'semente urucum'!X$23,\"\")","v":""},{"$f":"IF('semente urucum'!Y$23<>0,'semente urucum'!Y$23,\"\")","v":""},{"$f":"IF('semente urucum'!Z$23<>0,'semente urucum'!Z$23,\"\")","v":""},{"$f":"IF('semente urucum'!AA$23<>0,'semente urucum'!AA$23,\"\")","v":""},{"$f":"IF('semente urucum'!AB$23<>0,'semente urucum'!AB$23,\"\")","v":""},{"$f":"IF('semente urucum'!AC$23<>0,'semente urucum'!AC$23,\"\")","v":""},{"$f":"IF('semente urucum'!AD$23<>0,'semente urucum'!AD$23,\"\")","v":""},{"$f":"IF('semente urucum'!AE$23<>0,'semente urucum'!AE$23,\"\")","v":""},{"$f":"IF('semente urucum'!AF$23<>0,'semente urucum'!AF$23,\"\")","v":""},{"$f":"IF('semente urucum'!AG$23<>0,'semente urucum'!AG$23,\"\")","v":""}]
[null,null,null,null,null,null,null,null,null,null,null,null,null,null,null,{"$f":"Produção!$A$13","v":"semente aroeira"},null,{"$f":"IF('semente aroeira'!D$23<>0,'semente aroeira'!D$23,\"\")","v":""},{"$f":"IF('semente aroeira'!E$23<>0,'semente aroeira'!E$23,\"\")","v":""},{"$f":"IF('semente aroeira'!F$23<>0,'semente aroeira'!F$23,\"\")","v":""},{"$f":"IF('semente aroeira'!G$23<>0,'semente aroeira'!G$23,\"\")","v":""},{"$f":"IF('semente aroeira'!H$23<>0,'semente aroeira'!H$23,\"\")","v":""},{"$f":"IF('semente aroeira'!I$23<>0,'semente aroeira'!I$23,\"\")","v":""},{"$f":"IF('semente aroeira'!J$23<>0,'semente aroeira'!J$23,\"\")","v":""},{"$f":"IF('semente aroeira'!K$23<>0,'semente aroeira'!K$23,\"\")","v":""},{"$f":"IF('semente aroeira'!L$23<>0,'semente aroeira'!L$23,\"\")","v":""},{"$f":"IF('semente aroeira'!M$23<>0,'semente aroeira'!M$23,\"\")","v":""},{"$f":"IF('semente aroeira'!N$23<>0,'semente aroeira'!N$23,\"\")","v":""},{"$f":"IF('semente aroeira'!O$23<>0,'semente aroeira'!O$23,\"\")","v":""},{"$f":"IF('semente aroeira'!P$23<>0,'semente aroeira'!P$23,\"\")","v":""},{"$f":"IF('semente aroeira'!Q$23<>0,'semente aroeira'!Q$23,\"\")","v":""},{"$f":"IF('semente aroeira'!R$23<>0,'semente aroeira'!R$23,\"\")","v":""},{"$f":"IF('semente aroeira'!S$23<>0,'semente aroeira'!S$23,\"\")","v":""},{"$f":"IF('semente aroeira'!T$23<>0,'semente aroeira'!T$23,\"\")","v":""},{"$f":"IF('semente aroeira'!U$23<>0,'semente aroeira'!U$23,\"\")","v":""},{"$f":"IF('semente aroeira'!V$23<>0,'semente aroeira'!V$23,\"\")","v":""},{"$f":"IF('semente aroeira'!W$23<>0,'semente aroeira'!W$23,\"\")","v":""},{"$f":"IF('semente aroeira'!X$23<>0,'semente aroeira'!X$23,\"\")","v":""},{"$f":"IF('semente aroeira'!Y$23<>0,'semente aroeira'!Y$23,\"\")","v":""},{"$f":"IF('semente aroeira'!Z$23<>0,'semente aroeira'!Z$23,\"\")","v":""},{"$f":"IF('semente aroeira'!AA$23<>0,'semente aroeira'!AA$23,\"\")","v":""},{"$f":"IF('semente aroeira'!AB$23<>0,'semente aroeira'!AB$23,\"\")","v":""},{"$f":"IF('semente aroeira'!AC$23<>0,'semente aroeira'!AC$23,\"\")","v":""},{"$f":"IF('semente aroeira'!AD$23<>0,'semente aroeira'!AD$23,\"\")","v":""},{"$f":"IF('semente aroeira'!AE$23<>0,'semente aroeira'!AE$23,\"\")","v":""},{"$f":"IF('semente aroeira'!AF$23<>0,'semente aroeira'!AF$23,\"\")","v":""},{"$f":"IF('semente aroeira'!AG$23<>0,'semente aroeira'!AG$23,\"\")","v":""}]
[null,null,null,null,null,null,null,null,null,null,null,null,null,null,null,{"$f":"Produção!$A$14","v":"raiz mandioca"},null,{"$f":"IF('semente aroeira'!D$23<>0,'semente aroeira'!D$23,\"\")","v":""},{"$f":"IF('semente aroeira'!E$23<>0,'semente aroeira'!E$23,\"\")","v":""},{"$f":"IF('semente aroeira'!F$23<>0,'semente aroeira'!F$23,\"\")","v":""},{"$f":"IF('semente aroeira'!G$23<>0,'semente aroeira'!G$23,\"\")","v":""},{"$f":"IF('semente aroeira'!H$23<>0,'semente aroeira'!H$23,\"\")","v":""},{"$f":"IF('semente aroeira'!I$23<>0,'semente aroeira'!I$23,\"\")","v":""},{"$f":"IF('semente aroeira'!J$23<>0,'semente aroeira'!J$23,\"\")","v":""},{"$f":"IF('semente aroeira'!K$23<>0,'semente aroeira'!K$23,\"\")","v":""},{"$f":"IF('semente aroeira'!L$23<>0,'semente aroeira'!L$23,\"\")","v":""},{"$f":"IF('semente aroeira'!M$23<>0,'semente aroeira'!M$23,\"\")","v":""},{"$f":"IF('semente aroeira'!N$23<>0,'semente aroeira'!N$23,\"\")","v":""},{"$f":"IF('semente aroeira'!O$23<>0,'semente aroeira'!O$23,\"\")","v":""},{"$f":"IF('semente aroeira'!P$23<>0,'semente aroeira'!P$23,\"\")","v":""},{"$f":"IF('semente aroeira'!Q$23<>0,'semente aroeira'!Q$23,\"\")","v":""},{"$f":"IF('semente aroeira'!R$23<>0,'semente aroeira'!R$23,\"\")","v":""},{"$f":"IF('semente aroeira'!S$23<>0,'semente aroeira'!S$23,\"\")","v":""},{"$f":"IF('semente aroeira'!T$23<>0,'semente aroeira'!T$23,\"\")","v":""},{"$f":"IF('semente aroeira'!U$23<>0,'semente aroeira'!U$23,\"\")","v":""},{"$f":"IF('semente aroeira'!V$23<>0,'semente aroeira'!V$23,\"\")","v":""},{"$f":"IF('semente aroeira'!W$23<>0,'semente aroeira'!W$23,\"\")","v":""},{"$f":"IF('semente aroeira'!X$23<>0,'semente aroeira'!X$23,\"\")","v":""},{"$f":"IF('semente aroeira'!Y$23<>0,'semente aroeira'!Y$23,\"\")","v":""},{"$f":"IF('semente aroeira'!Z$23<>0,'semente aroeira'!Z$23,\"\")","v":""},{"$f":"IF('semente aroeira'!AA$23<>0,'semente aroeira'!AA$23,\"\")","v":""},{"$f":"IF('semente aroeira'!AB$23<>0,'semente aroeira'!AB$23,\"\")","v":""},{"$f":"IF('semente aroeira'!AC$23<>0,'semente aroeira'!AC$23,\"\")","v":""},{"$f":"IF('semente aroeira'!AD$23<>0,'semente aroeira'!AD$23,\"\")","v":""},{"$f":"IF('semente aroeira'!AE$23<>0,'semente aroeira'!AE$23,\"\")","v":""},{"$f":"IF('semente aroeira'!AF$23<>0,'semente aroeira'!AF$23,\"\")","v":""},{"$f":"IF('semente aroeira'!AG$23<>0,'semente aroeira'!AG$23,\"\")","v":""}]
[null,null,null,null,null,null,null,null,null,null,null,null,null,null,null,{"$f":"Produção!$A$15","v":"fruto abacaxi"},null,{"$f":"IF('semente aroeira'!D$23<>0,'semente aroeira'!D$23,\"\")","v":""},{"$f":"IF('semente aroeira'!E$23<>0,'semente aroeira'!E$23,\"\")","v":""},{"$f":"IF('semente aroeira'!F$23<>0,'semente aroeira'!F$23,\"\")","v":""},{"$f":"IF('semente aroeira'!G$23<>0,'semente aroeira'!G$23,\"\")","v":""},{"$f":"IF('semente aroeira'!H$23<>0,'semente aroeira'!H$23,\"\")","v":""},{"$f":"IF('semente aroeira'!I$23<>0,'semente aroeira'!I$23,\"\")","v":""},{"$f":"IF('semente aroeira'!J$23<>0,'semente aroeira'!J$23,\"\")","v":""},{"$f":"IF('semente aroeira'!K$23<>0,'semente aroeira'!K$23,\"\")","v":""},{"$f":"IF('semente aroeira'!L$23<>0,'semente aroeira'!L$23,\"\")","v":""},{"$f":"IF('semente aroeira'!M$23<>0,'semente aroeira'!M$23,\"\")","v":""},{"$f":"IF('semente aroeira'!N$23<>0,'semente aroeira'!N$23,\"\")","v":""},{"$f":"IF('semente aroeira'!O$23<>0,'semente aroeira'!O$23,\"\")","v":""},{"$f":"IF('semente aroeira'!P$23<>0,'semente aroeira'!P$23,\"\")","v":""},{"$f":"IF('semente aroeira'!Q$23<>0,'semente aroeira'!Q$23,\"\")","v":""},{"$f":"IF('semente aroeira'!R$23<>0,'semente aroeira'!R$23,\"\")","v":""},{"$f":"IF('semente aroeira'!S$23<>0,'semente aroeira'!S$23,\"\")","v":""},{"$f":"IF('semente aroeira'!T$23<>0,'semente aroeira'!T$23,\"\")","v":""},{"$f":"IF('semente aroeira'!U$23<>0,'semente aroeira'!U$23,\"\")","v":""},{"$f":"IF('semente aroeira'!V$23<>0,'semente aroeira'!V$23,\"\")","v":""},{"$f":"IF('semente aroeira'!W$23<>0,'semente aroeira'!W$23,\"\")","v":""},{"$f":"IF('semente aroeira'!X$23<>0,'semente aroeira'!X$23,\"\")","v":""},{"$f":"IF('semente aroeira'!Y$23<>0,'semente aroeira'!Y$23,\"\")","v":""},{"$f":"IF('semente aroeira'!Z$23<>0,'semente aroeira'!Z$23,\"\")","v":""},{"$f":"IF('semente aroeira'!AA$23<>0,'semente aroeira'!AA$23,\"\")","v":""},{"$f":"IF('semente aroeira'!AB$23<>0,'semente aroeira'!AB$23,\"\")","v":""},{"$f":"IF('semente aroeira'!AC$23<>0,'semente aroeira'!AC$23,\"\")","v":""},{"$f":"IF('semente aroeira'!AD$23<>0,'semente aroeira'!AD$23,\"\")","v":""},{"$f":"IF('semente aroeira'!AE$23<>0,'semente aroeira'!AE$23,\"\")","v":""},{"$f":"IF('semente aroeira'!AF$23<>0,'semente aroeira'!AF$23,\"\")","v":""},{"$f":"IF('semente aroeira'!AG$23<>0,'semente aroeira'!AG$23,\"\")","v":""}]
[null,null,null,null,null,null,null,null,null,null,null,null,null,null,null,{"$f":"Produção!$A$16","v":"espigas milho"},null,{"$f":"IF('semente aroeira'!D$23<>0,'semente aroeira'!D$23,\"\")","v":""},{"$f":"IF('semente aroeira'!E$23<>0,'semente aroeira'!E$23,\"\")","v":""},{"$f":"IF('semente aroeira'!F$23<>0,'semente aroeira'!F$23,\"\")","v":""},{"$f":"IF('semente aroeira'!G$23<>0,'semente aroeira'!G$23,\"\")","v":""},{"$f":"IF('semente aroeira'!H$23<>0,'semente aroeira'!H$23,\"\")","v":""},{"$f":"IF('semente aroeira'!I$23<>0,'semente aroeira'!I$23,\"\")","v":""},{"$f":"IF('semente aroeira'!J$23<>0,'semente aroeira'!J$23,\"\")","v":""},{"$f":"IF('semente aroeira'!K$23<>0,'semente aroeira'!K$23,\"\")","v":""},{"$f":"IF('semente aroeira'!L$23<>0,'semente aroeira'!L$23,\"\")","v":""},{"$f":"IF('semente aroeira'!M$23<>0,'semente aroeira'!M$23,\"\")","v":""},{"$f":"IF('semente aroeira'!N$23<>0,'semente aroeira'!N$23,\"\")","v":""},{"$f":"IF('semente aroeira'!O$23<>0,'semente aroeira'!O$23,\"\")","v":""},{"$f":"IF('semente aroeira'!P$23<>0,'semente aroeira'!P$23,\"\")","v":""},{"$f":"IF('semente aroeira'!Q$23<>0,'semente aroeira'!Q$23,\"\")","v":""},{"$f":"IF('semente aroeira'!R$23<>0,'semente aroeira'!R$23,\"\")","v":""},{"$f":"IF('semente aroeira'!S$23<>0,'semente aroeira'!S$23,\"\")","v":""},{"$f":"IF('semente aroeira'!T$23<>0,'semente aroeira'!T$23,\"\")","v":""},{"$f":"IF('semente aroeira'!U$23<>0,'semente aroeira'!U$23,\"\")","v":""},{"$f":"IF('semente aroeira'!V$23<>0,'semente aroeira'!V$23,\"\")","v":""},{"$f":"IF('semente aroeira'!W$23<>0,'semente aroeira'!W$23,\"\")","v":""},{"$f":"IF('semente aroeira'!X$23<>0,'semente aroeira'!X$23,\"\")","v":""},{"$f":"IF('semente aroeira'!Y$23<>0,'semente aroeira'!Y$23,\"\")","v":""},{"$f":"IF('semente aroeira'!Z$23<>0,'semente aroeira'!Z$23,\"\")","v":""},{"$f":"IF('semente aroeira'!AA$23<>0,'semente aroeira'!AA$23,\"\")","v":""},{"$f":"IF('semente aroeira'!AB$23<>0,'semente aroeira'!AB$23,\"\")","v":""},{"$f":"IF('semente aroeira'!AC$23<>0,'semente aroeira'!AC$23,\"\")","v":""},{"$f":"IF('semente aroeira'!AD$23<>0,'semente aroeira'!AD$23,\"\")","v":""},{"$f":"IF('semente aroeira'!AE$23<>0,'semente aroeira'!AE$23,\"\")","v":""},{"$f":"IF('semente aroeira'!AF$23<>0,'semente aroeira'!AF$23,\"\")","v":""},{"$f":"IF('semente aroeira'!AG$23<>0,'semente aroeira'!AG$23,\"\")","v":""}]
[null,null,null,null,null,null,null,null,null,null,null,null,null,null,null,{"$f":"Produção!$A$17","v":"estaca sansão do campo"},null,{"$f":"IF('semente aroeira'!D$23<>0,'semente aroeira'!D$23,\"\")","v":""},{"$f":"IF('semente aroeira'!E$23<>0,'semente aroeira'!E$23,\"\")","v":""},{"$f":"IF('semente aroeira'!F$23<>0,'semente aroeira'!F$23,\"\")","v":""},{"$f":"IF('semente aroeira'!G$23<>0,'semente aroeira'!G$23,\"\")","v":""},{"$f":"IF('semente aroeira'!H$23<>0,'semente aroeira'!H$23,\"\")","v":""},{"$f":"IF('semente aroeira'!I$23<>0,'semente aroeira'!I$23,\"\")","v":""},{"$f":"IF('semente aroeira'!J$23<>0,'semente aroeira'!J$23,\"\")","v":""},{"$f":"IF('semente aroeira'!K$23<>0,'semente aroeira'!K$23,\"\")","v":""},{"$f":"IF('semente aroeira'!L$23<>0,'semente aroeira'!L$23,\"\")","v":""},{"$f":"IF('semente aroeira'!M$23<>0,'semente aroeira'!M$23,\"\")","v":""},{"$f":"IF('semente aroeira'!N$23<>0,'semente aroeira'!N$23,\"\")","v":""},{"$f":"IF('semente aroeira'!O$23<>0,'semente aroeira'!O$23,\"\")","v":""},{"$f":"IF('semente aroeira'!P$23<>0,'semente aroeira'!P$23,\"\")","v":""},{"$f":"IF('semente aroeira'!Q$23<>0,'semente aroeira'!Q$23,\"\")","v":""},{"$f":"IF('semente aroeira'!R$23<>0,'semente aroeira'!R$23,\"\")","v":""},{"$f":"IF('semente aroeira'!S$23<>0,'semente aroeira'!S$23,\"\")","v":""},{"$f":"IF('semente aroeira'!T$23<>0,'semente aroeira'!T$23,\"\")","v":""},{"$f":"IF('semente aroeira'!U$23<>0,'semente aroeira'!U$23,\"\")","v":""},{"$f":"IF('semente aroeira'!V$23<>0,'semente aroeira'!V$23,\"\")","v":""},{"$f":"IF('semente aroeira'!W$23<>0,'semente aroeira'!W$23,\"\")","v":""},{"$f":"IF('semente aroeira'!X$23<>0,'semente aroeira'!X$23,\"\")","v":""},{"$f":"IF('semente aroeira'!Y$23<>0,'semente aroeira'!Y$23,\"\")","v":""},{"$f":"IF('semente aroeira'!Z$23<>0,'semente aroeira'!Z$23,\"\")","v":""},{"$f":"IF('semente aroeira'!AA$23<>0,'semente aroeira'!AA$23,\"\")","v":""},{"$f":"IF('semente aroeira'!AB$23<>0,'semente aroeira'!AB$23,\"\")","v":""},{"$f":"IF('semente aroeira'!AC$23<>0,'semente aroeira'!AC$23,\"\")","v":""},{"$f":"IF('semente aroeira'!AD$23<>0,'semente aroeira'!AD$23,\"\")","v":""},{"$f":"IF('semente aroeira'!AE$23<>0,'semente aroeira'!AE$23,\"\")","v":""},{"$f":"IF('semente aroeira'!AF$23<>0,'semente aroeira'!AF$23,\"\")","v":""},{"$f":"IF('semente aroeira'!AG$23<>0,'semente aroeira'!AG$23,\"\")","v":""}]
[null,null,null,null,null,null,null,null,null,null,null,null,null,null,null,{"$f":"Produção!$A$18","v":"madeira madeira nova"},null,{"$f":"IF('semente aroeira'!D$23<>0,'semente aroeira'!D$23,\"\")","v":""},{"$f":"IF('semente aroeira'!E$23<>0,'semente aroeira'!E$23,\"\")","v":""},{"$f":"IF('semente aroeira'!F$23<>0,'semente aroeira'!F$23,\"\")","v":""},{"$f":"IF('semente aroeira'!G$23<>0,'semente aroeira'!G$23,\"\")","v":""},{"$f":"IF('semente aroeira'!H$23<>0,'semente aroeira'!H$23,\"\")","v":""},{"$f":"IF('semente aroeira'!I$23<>0,'semente aroeira'!I$23,\"\")","v":""},{"$f":"IF('semente aroeira'!J$23<>0,'semente aroeira'!J$23,\"\")","v":""},{"$f":"IF('semente aroeira'!K$23<>0,'semente aroeira'!K$23,\"\")","v":""},{"$f":"IF('semente aroeira'!L$23<>0,'semente aroeira'!L$23,\"\")","v":""},{"$f":"IF('semente aroeira'!M$23<>0,'semente aroeira'!M$23,\"\")","v":""},{"$f":"IF('semente aroeira'!N$23<>0,'semente aroeira'!N$23,\"\")","v":""},{"$f":"IF('semente aroeira'!O$23<>0,'semente aroeira'!O$23,\"\")","v":""},{"$f":"IF('semente aroeira'!P$23<>0,'semente aroeira'!P$23,\"\")","v":""},{"$f":"IF('semente aroeira'!Q$23<>0,'semente aroeira'!Q$23,\"\")","v":""},{"$f":"IF('semente aroeira'!R$23<>0,'semente aroeira'!R$23,\"\")","v":""},{"$f":"IF('semente aroeira'!S$23<>0,'semente aroeira'!S$23,\"\")","v":""},{"$f":"IF('semente aroeira'!T$23<>0,'semente aroeira'!T$23,\"\")","v":""},{"$f":"IF('semente aroeira'!U$23<>0,'semente aroeira'!U$23,\"\")","v":""},{"$f":"IF('semente aroeira'!V$23<>0,'semente aroeira'!V$23,\"\")","v":""},{"$f":"IF('semente aroeira'!W$23<>0,'semente aroeira'!W$23,\"\")","v":""},{"$f":"IF('semente aroeira'!X$23<>0,'semente aroeira'!X$23,\"\")","v":""},{"$f":"IF('semente aroeira'!Y$23<>0,'semente aroeira'!Y$23,\"\")","v":""},{"$f":"IF('semente aroeira'!Z$23<>0,'semente aroeira'!Z$23,\"\")","v":""},{"$f":"IF('semente aroeira'!AA$23<>0,'semente aroeira'!AA$23,\"\")","v":""},{"$f":"IF('semente aroeira'!AB$23<>0,'semente aroeira'!AB$23,\"\")","v":""},{"$f":"IF('semente aroeira'!AC$23<>0,'semente aroeira'!AC$23,\"\")","v":""},{"$f":"IF('semente aroeira'!AD$23<>0,'semente aroeira'!AD$23,\"\")","v":""},{"$f":"IF('semente aroeira'!AE$23<>0,'semente aroeira'!AE$23,\"\")","v":""},{"$f":"IF('semente aroeira'!AF$23<>0,'semente aroeira'!AF$23,\"\")","v":""},{"$f":"IF('semente aroeira'!AG$23<>0,'semente aroeira'!AG$23,\"\")","v":""}]
[null,null,null,null,null,null,null,null,null,null,null,null,null,null,null,{"$f":"Produção!$A$19","v":"lenha fedegoso"},null,{"$f":"IF('semente aroeira'!D$23<>0,'semente aroeira'!D$23,\"\")","v":""},{"$f":"IF('semente aroeira'!E$23<>0,'semente aroeira'!E$23,\"\")","v":""},{"$f":"IF('semente aroeira'!F$23<>0,'semente aroeira'!F$23,\"\")","v":""},{"$f":"IF('semente aroeira'!G$23<>0,'semente aroeira'!G$23,\"\")","v":""},{"$f":"IF('semente aroeira'!H$23<>0,'semente aroeira'!H$23,\"\")","v":""},{"$f":"IF('semente aroeira'!I$23<>0,'semente aroeira'!I$23,\"\")","v":""},{"$f":"IF('semente aroeira'!J$23<>0,'semente aroeira'!J$23,\"\")","v":""},{"$f":"IF('semente aroeira'!K$23<>0,'semente aroeira'!K$23,\"\")","v":""},{"$f":"IF('semente aroeira'!L$23<>0,'semente aroeira'!L$23,\"\")","v":""},{"$f":"IF('semente aroeira'!M$23<>0,'semente aroeira'!M$23,\"\")","v":""},{"$f":"IF('semente aroeira'!N$23<>0,'semente aroeira'!N$23,\"\")","v":""},{"$f":"IF('semente aroeira'!O$23<>0,'semente aroeira'!O$23,\"\")","v":""},{"$f":"IF('semente aroeira'!P$23<>0,'semente aroeira'!P$23,\"\")","v":""},{"$f":"IF('semente aroeira'!Q$23<>0,'semente aroeira'!Q$23,\"\")","v":""},{"$f":"IF('semente aroeira'!R$23<>0,'semente aroeira'!R$23,\"\")","v":""},{"$f":"IF('semente aroeira'!S$23<>0,'semente aroeira'!S$23,\"\")","v":""},{"$f":"IF('semente aroeira'!T$23<>0,'semente aroeira'!T$23,\"\")","v":""},{"$f":"IF('semente aroeira'!U$23<>0,'semente aroeira'!U$23,\"\")","v":""},{"$f":"IF('semente aroeira'!V$23<>0,'semente aroeira'!V$23,\"\")","v":""},{"$f":"IF('semente aroeira'!W$23<>0,'semente aroeira'!W$23,\"\")","v":""},{"$f":"IF('semente aroeira'!X$23<>0,'semente aroeira'!X$23,\"\")","v":""},{"$f":"IF('semente aroeira'!Y$23<>0,'semente aroeira'!Y$23,\"\")","v":""},{"$f":"IF('semente aroeira'!Z$23<>0,'semente aroeira'!Z$23,\"\")","v":""},{"$f":"IF('semente aroeira'!AA$23<>0,'semente aroeira'!AA$23,\"\")","v":""},{"$f":"IF('semente aroeira'!AB$23<>0,'semente aroeira'!AB$23,\"\")","v":""},{"$f":"IF('semente aroeira'!AC$23<>0,'semente aroeira'!AC$23,\"\")","v":""},{"$f":"IF('semente aroeira'!AD$23<>0,'semente aroeira'!AD$23,\"\")","v":""},{"$f":"IF('semente aroeira'!AE$23<>0,'semente aroeira'!AE$23,\"\")","v":""},{"$f":"IF('semente aroeira'!AF$23<>0,'semente aroeira'!AF$23,\"\")","v":""},{"$f":"IF('semente aroeira'!AG$23<>0,'semente aroeira'!AG$23,\"\")","v":""}]
[null,null,null,null,null,null,null,null,null,null,null,null,null,null,null,{"$f":"Produção!$A$20","v":"estaca pau d'alho"},null,{"$f":"IF('semente aroeira'!D$23<>0,'semente aroeira'!D$23,\"\")","v":""},{"$f":"IF('semente aroeira'!E$23<>0,'semente aroeira'!E$23,\"\")","v":""},{"$f":"IF('semente aroeira'!F$23<>0,'semente aroeira'!F$23,\"\")","v":""},{"$f":"IF('semente aroeira'!G$23<>0,'semente aroeira'!G$23,\"\")","v":""},{"$f":"IF('semente aroeira'!H$23<>0,'semente aroeira'!H$23,\"\")","v":""},{"$f":"IF('semente aroeira'!I$23<>0,'semente aroeira'!I$23,\"\")","v":""},{"$f":"IF('semente aroeira'!J$23<>0,'semente aroeira'!J$23,\"\")","v":""},{"$f":"IF('semente aroeira'!K$23<>0,'semente aroeira'!K$23,\"\")","v":""},{"$f":"IF('semente aroeira'!L$23<>0,'semente aroeira'!L$23,\"\")","v":""},{"$f":"IF('semente aroeira'!M$23<>0,'semente aroeira'!M$23,\"\")","v":""},{"$f":"IF('semente aroeira'!N$23<>0,'semente aroeira'!N$23,\"\")","v":""},{"$f":"IF('semente aroeira'!O$23<>0,'semente aroeira'!O$23,\"\")","v":""},{"$f":"IF('semente aroeira'!P$23<>0,'semente aroeira'!P$23,\"\")","v":""},{"$f":"IF('semente aroeira'!Q$23<>0,'semente aroeira'!Q$23,\"\")","v":""},{"$f":"IF('semente aroeira'!R$23<>0,'semente aroeira'!R$23,\"\")","v":""},{"$f":"IF('semente aroeira'!S$23<>0,'semente aroeira'!S$23,\"\")","v":""},{"$f":"IF('semente aroeira'!T$23<>0,'semente aroeira'!T$23,\"\")","v":""},{"$f":"IF('semente aroeira'!U$23<>0,'semente aroeira'!U$23,\"\")","v":""},{"$f":"IF('semente aroeira'!V$23<>0,'semente aroeira'!V$23,\"\")","v":""},{"$f":"IF('semente aroeira'!W$23<>0,'semente aroeira'!W$23,\"\")","v":""},{"$f":"IF('semente aroeira'!X$23<>0,'semente aroeira'!X$23,\"\")","v":""},{"$f":"IF('semente aroeira'!Y$23<>0,'semente aroeira'!Y$23,\"\")","v":""},{"$f":"IF('semente aroeira'!Z$23<>0,'semente aroeira'!Z$23,\"\")","v":""},{"$f":"IF('semente aroeira'!AA$23<>0,'semente aroeira'!AA$23,\"\")","v":""},{"$f":"IF('semente aroeira'!AB$23<>0,'semente aroeira'!AB$23,\"\")","v":""},{"$f":"IF('semente aroeira'!AC$23<>0,'semente aroeira'!AC$23,\"\")","v":""},{"$f":"IF('semente aroeira'!AD$23<>0,'semente aroeira'!AD$23,\"\")","v":""},{"$f":"IF('semente aroeira'!AE$23<>0,'semente aroeira'!AE$23,\"\")","v":""},{"$f":"IF('semente aroeira'!AF$23<>0,'semente aroeira'!AF$23,\"\")","v":""},{"$f":"IF('semente aroeira'!AG$23<>0,'semente aroeira'!AG$23,\"\")","v":""}]
[null,null,null,null,null,null,null,null,null,null,null,null,null,null,null,{"$f":"Produção!$A$21","v":"caixotaria boleira"},null,{"$f":"IF('semente aroeira'!D$23<>0,'semente aroeira'!D$23,\"\")","v":""},{"$f":"IF('semente aroeira'!E$23<>0,'semente aroeira'!E$23,\"\")","v":""},{"$f":"IF('semente aroeira'!F$23<>0,'semente aroeira'!F$23,\"\")","v":""},{"$f":"IF('semente aroeira'!G$23<>0,'semente aroeira'!G$23,\"\")","v":""},{"$f":"IF('semente aroeira'!H$23<>0,'semente aroeira'!H$23,\"\")","v":""},{"$f":"IF('semente aroeira'!I$23<>0,'semente aroeira'!I$23,\"\")","v":""},{"$f":"IF('semente aroeira'!J$23<>0,'semente aroeira'!J$23,\"\")","v":""},{"$f":"IF('semente aroeira'!K$23<>0,'semente aroeira'!K$23,\"\")","v":""},{"$f":"IF('semente aroeira'!L$23<>0,'semente aroeira'!L$23,\"\")","v":""},{"$f":"IF('semente aroeira'!M$23<>0,'semente aroeira'!M$23,\"\")","v":""},{"$f":"IF('semente aroeira'!N$23<>0,'semente aroeira'!N$23,\"\")","v":""},{"$f":"IF('semente aroeira'!O$23<>0,'semente aroeira'!O$23,\"\")","v":""},{"$f":"IF('semente aroeira'!P$23<>0,'semente aroeira'!P$23,\"\")","v":""},{"$f":"IF('semente aroeira'!Q$23<>0,'semente aroeira'!Q$23,\"\")","v":""},{"$f":"IF('semente aroeira'!R$23<>0,'semente aroeira'!R$23,\"\")","v":""},{"$f":"IF('semente aroeira'!S$23<>0,'semente aroeira'!S$23,\"\")","v":""},{"$f":"IF('semente aroeira'!T$23<>0,'semente aroeira'!T$23,\"\")","v":""},{"$f":"IF('semente aroeira'!U$23<>0,'semente aroeira'!U$23,\"\")","v":""},{"$f":"IF('semente aroeira'!V$23<>0,'semente aroeira'!V$23,\"\")","v":""},{"$f":"IF('semente aroeira'!W$23<>0,'semente aroeira'!W$23,\"\")","v":""},{"$f":"IF('semente aroeira'!X$23<>0,'semente aroeira'!X$23,\"\")","v":""},{"$f":"IF('semente aroeira'!Y$23<>0,'semente aroeira'!Y$23,\"\")","v":""},{"$f":"IF('semente aroeira'!Z$23<>0,'semente aroeira'!Z$23,\"\")","v":""},{"$f":"IF('semente aroeira'!AA$23<>0,'semente aroeira'!AA$23,\"\")","v":""},{"$f":"IF('semente aroeira'!AB$23<>0,'semente aroeira'!AB$23,\"\")","v":""},{"$f":"IF('semente aroeira'!AC$23<>0,'semente aroeira'!AC$23,\"\")","v":""},{"$f":"IF('semente aroeira'!AD$23<>0,'semente aroeira'!AD$23,\"\")","v":""},{"$f":"IF('semente aroeira'!AE$23<>0,'semente aroeira'!AE$23,\"\")","v":""},{"$f":"IF('semente aroeira'!AF$23<>0,'semente aroeira'!AF$23,\"\")","v":""},{"$f":"IF('semente aroeira'!AG$23<>0,'semente aroeira'!AG$23,\"\")","v":""}]
[null,null,null,null,null,null,null,null,null,null,null,null,null,null,null,{"$f":"Produção!$A$22","v":"madeira angico roxo"},null,{"$f":"IF('semente aroeira'!D$23<>0,'semente aroeira'!D$23,\"\")","v":""},{"$f":"IF('semente aroeira'!E$23<>0,'semente aroeira'!E$23,\"\")","v":""},{"$f":"IF('semente aroeira'!F$23<>0,'semente aroeira'!F$23,\"\")","v":""},{"$f":"IF('semente aroeira'!G$23<>0,'semente aroeira'!G$23,\"\")","v":""},{"$f":"IF('semente aroeira'!H$23<>0,'semente aroeira'!H$23,\"\")","v":""},{"$f":"IF('semente aroeira'!I$23<>0,'semente aroeira'!I$23,\"\")","v":""},{"$f":"IF('semente aroeira'!J$23<>0,'semente aroeira'!J$23,\"\")","v":""},{"$f":"IF('semente aroeira'!K$23<>0,'semente aroeira'!K$23,\"\")","v":""},{"$f":"IF('semente aroeira'!L$23<>0,'semente aroeira'!L$23,\"\")","v":""},{"$f":"IF('semente aroeira'!M$23<>0,'semente aroeira'!M$23,\"\")","v":""},{"$f":"IF('semente aroeira'!N$23<>0,'semente aroeira'!N$23,\"\")","v":""},{"$f":"IF('semente aroeira'!O$23<>0,'semente aroeira'!O$23,\"\")","v":""},{"$f":"IF('semente aroeira'!P$23<>0,'semente aroeira'!P$23,\"\")","v":""},{"$f":"IF('semente aroeira'!Q$23<>0,'semente aroeira'!Q$23,\"\")","v":""},{"$f":"IF('semente aroeira'!R$23<>0,'semente aroeira'!R$23,\"\")","v":""},{"$f":"IF('semente aroeira'!S$23<>0,'semente aroeira'!S$23,\"\")","v":""},{"$f":"IF('semente aroeira'!T$23<>0,'semente aroeira'!T$23,\"\")","v":""},{"$f":"IF('semente aroeira'!U$23<>0,'semente aroeira'!U$23,\"\")","v":""},{"$f":"IF('semente aroeira'!V$23<>0,'semente aroeira'!V$23,\"\")","v":""},{"$f":"IF('semente aroeira'!W$23<>0,'semente aroeira'!W$23,\"\")","v":""},{"$f":"IF('semente aroeira'!X$23<>0,'semente aroeira'!X$23,\"\")","v":""},{"$f":"IF('semente aroeira'!Y$23<>0,'semente aroeira'!Y$23,\"\")","v":""},{"$f":"IF('semente aroeira'!Z$23<>0,'semente aroeira'!Z$23,\"\")","v":""},{"$f":"IF('semente aroeira'!AA$23<>0,'semente aroeira'!AA$23,\"\")","v":""},{"$f":"IF('semente aroeira'!AB$23<>0,'semente aroeira'!AB$23,\"\")","v":""},{"$f":"IF('semente aroeira'!AC$23<>0,'semente aroeira'!AC$23,\"\")","v":""},{"$f":"IF('semente aroeira'!AD$23<>0,'semente aroeira'!AD$23,\"\")","v":""},{"$f":"IF('semente aroeira'!AE$23<>0,'semente aroeira'!AE$23,\"\")","v":""},{"$f":"IF('semente aroeira'!AF$23<>0,'semente aroeira'!AF$23,\"\")","v":""},{"$f":"IF('semente aroeira'!AG$23<>0,'semente aroeira'!AG$23,\"\")","v":""}]
[null,null,null,null,null,null,null,null,null,null,null,null,null,null,null,{"$f":"Produção!$A$23","v":"madeira ipê roxo"},null,{"$f":"IF('semente aroeira'!D$23<>0,'semente aroeira'!D$23,\"\")","v":""},{"$f":"IF('semente aroeira'!E$23<>0,'semente aroeira'!E$23,\"\")","v":""},{"$f":"IF('semente aroeira'!F$23<>0,'semente aroeira'!F$23,\"\")","v":""},{"$f":"IF('semente aroeira'!G$23<>0,'semente aroeira'!G$23,\"\")","v":""},{"$f":"IF('semente aroeira'!H$23<>0,'semente aroeira'!H$23,\"\")","v":""},{"$f":"IF('semente aroeira'!I$23<>0,'semente aroeira'!I$23,\"\")","v":""},{"$f":"IF('semente aroeira'!J$23<>0,'semente aroeira'!J$23,\"\")","v":""},{"$f":"IF('semente aroeira'!K$23<>0,'semente aroeira'!K$23,\"\")","v":""},{"$f":"IF('semente aroeira'!L$23<>0,'semente aroeira'!L$23,\"\")","v":""},{"$f":"IF('semente aroeira'!M$23<>0,'semente aroeira'!M$23,\"\")","v":""},{"$f":"IF('semente aroeira'!N$23<>0,'semente aroeira'!N$23,\"\")","v":""},{"$f":"IF('semente aroeira'!O$23<>0,'semente aroeira'!O$23,\"\")","v":""},{"$f":"IF('semente aroeira'!P$23<>0,'semente aroeira'!P$23,\"\")","v":""},{"$f":"IF('semente aroeira'!Q$23<>0,'semente aroeira'!Q$23,\"\")","v":""},{"$f":"IF('semente aroeira'!R$23<>0,'semente aroeira'!R$23,\"\")","v":""},{"$f":"IF('semente aroeira'!S$23<>0,'semente aroeira'!S$23,\"\")","v":""},{"$f":"IF('semente aroeira'!T$23<>0,'semente aroeira'!T$23,\"\")","v":""},{"$f":"IF('semente aroeira'!U$23<>0,'semente aroeira'!U$23,\"\")","v":""},{"$f":"IF('semente aroeira'!V$23<>0,'semente aroeira'!V$23,\"\")","v":""},{"$f":"IF('semente aroeira'!W$23<>0,'semente aroeira'!W$23,\"\")","v":""},{"$f":"IF('semente aroeira'!X$23<>0,'semente aroeira'!X$23,\"\")","v":""},{"$f":"IF('semente aroeira'!Y$23<>0,'semente aroeira'!Y$23,\"\")","v":""},{"$f":"IF('semente aroeira'!Z$23<>0,'semente aroeira'!Z$23,\"\")","v":""},{"$f":"IF('semente aroeira'!AA$23<>0,'semente aroeira'!AA$23,\"\")","v":""},{"$f":"IF('semente aroeira'!AB$23<>0,'semente aroeira'!AB$23,\"\")","v":""},{"$f":"IF('semente aroeira'!AC$23<>0,'semente aroeira'!AC$23,\"\")","v":""},{"$f":"IF('semente aroeira'!AD$23<>0,'semente aroeira'!AD$23,\"\")","v":""},{"$f":"IF('semente aroeira'!AE$23<>0,'semente aroeira'!AE$23,\"\")","v":""},{"$f":"IF('semente aroeira'!AF$23<>0,'semente aroeira'!AF$23,\"\")","v":""},{"$f":"IF('semente aroeira'!AG$23<>0,'semente aroeira'!AG$23,\"\")","v":""}]
[null,null,null,null,null,null,null,null,null,null,null,null,null,null,null,{"$f":"Produção!$A$24","v":"madeira ipê amarelo"},null,{"$f":"IF('semente aroeira'!D$23<>0,'semente aroeira'!D$23,\"\")","v":""},{"$f":"IF('semente aroeira'!E$23<>0,'semente aroeira'!E$23,\"\")","v":""},{"$f":"IF('semente aroeira'!F$23<>0,'semente aroeira'!F$23,\"\")","v":""},{"$f":"IF('semente aroeira'!G$23<>0,'semente aroeira'!G$23,\"\")","v":""},{"$f":"IF('semente aroeira'!H$23<>0,'semente aroeira'!H$23,\"\")","v":""},{"$f":"IF('semente aroeira'!I$23<>0,'semente aroeira'!I$23,\"\")","v":""},{"$f":"IF('semente aroeira'!J$23<>0,'semente aroeira'!J$23,\"\")","v":""},{"$f":"IF('semente aroeira'!K$23<>0,'semente aroeira'!K$23,\"\")","v":""},{"$f":"IF('semente aroeira'!L$23<>0,'semente aroeira'!L$23,\"\")","v":""},{"$f":"IF('semente aroeira'!M$23<>0,'semente aroeira'!M$23,\"\")","v":""},{"$f":"IF('semente aroeira'!N$23<>0,'semente aroeira'!N$23,\"\")","v":""},{"$f":"IF('semente aroeira'!O$23<>0,'semente aroeira'!O$23,\"\")","v":""},{"$f":"IF('semente aroeira'!P$23<>0,'semente aroeira'!P$23,\"\")","v":""},{"$f":"IF('semente aroeira'!Q$23<>0,'semente aroeira'!Q$23,\"\")","v":""},{"$f":"IF('semente aroeira'!R$23<>0,'semente aroeira'!R$23,\"\")","v":""},{"$f":"IF('semente aroeira'!S$23<>0,'semente aroeira'!S$23,\"\")","v":""},{"$f":"IF('semente aroeira'!T$23<>0,'semente aroeira'!T$23,\"\")","v":""},{"$f":"IF('semente aroeira'!U$23<>0,'semente aroeira'!U$23,\"\")","v":""},{"$f":"IF('semente aroeira'!V$23<>0,'semente aroeira'!V$23,\"\")","v":""},{"$f":"IF('semente aroeira'!W$23<>0,'semente aroeira'!W$23,\"\")","v":""},{"$f":"IF('semente aroeira'!X$23<>0,'semente aroeira'!X$23,\"\")","v":""},{"$f":"IF('semente aroeira'!Y$23<>0,'semente aroeira'!Y$23,\"\")","v":""},{"$f":"IF('semente aroeira'!Z$23<>0,'semente aroeira'!Z$23,\"\")","v":""},{"$f":"IF('semente aroeira'!AA$23<>0,'semente aroeira'!AA$23,\"\")","v":""},{"$f":"IF('semente aroeira'!AB$23<>0,'semente aroeira'!AB$23,\"\")","v":""},{"$f":"IF('semente aroeira'!AC$23<>0,'semente aroeira'!AC$23,\"\")","v":""},{"$f":"IF('semente aroeira'!AD$23<>0,'semente aroeira'!AD$23,\"\")","v":""},{"$f":"IF('semente aroeira'!AE$23<>0,'semente aroeira'!AE$23,\"\")","v":""},{"$f":"IF('semente aroeira'!AF$23<>0,'semente aroeira'!AF$23,\"\")","v":""},{"$f":"IF('semente aroeira'!AG$23<>0,'semente aroeira'!AG$23,\"\")","v":""}]
[null,null,null,null,null,null,null,null,null,null,null,null,null,null,null,{"$f":"Produção!$A$25","v":"madeira gonçalo alves"},null,{"$f":"IF('semente aroeira'!D$23<>0,'semente aroeira'!D$23,\"\")","v":""},{"$f":"IF('semente aroeira'!E$23<>0,'semente aroeira'!E$23,\"\")","v":""},{"$f":"IF('semente aroeira'!F$23<>0,'semente aroeira'!F$23,\"\")","v":""},{"$f":"IF('semente aroeira'!G$23<>0,'semente aroeira'!G$23,\"\")","v":""},{"$f":"IF('semente aroeira'!H$23<>0,'semente aroeira'!H$23,\"\")","v":""},{"$f":"IF('semente aroeira'!I$23<>0,'semente aroeira'!I$23,\"\")","v":""},{"$f":"IF('semente aroeira'!J$23<>0,'semente aroeira'!J$23,\"\")","v":""},{"$f":"IF('semente aroeira'!K$23<>0,'semente aroeira'!K$23,\"\")","v":""},{"$f":"IF('semente aroeira'!L$23<>0,'semente aroeira'!L$23,\"\")","v":""},{"$f":"IF('semente aroeira'!M$23<>0,'semente aroeira'!M$23,\"\")","v":""},{"$f":"IF('semente aroeira'!N$23<>0,'semente aroeira'!N$23,\"\")","v":""},{"$f":"IF('semente aroeira'!O$23<>0,'semente aroeira'!O$23,\"\")","v":""},{"$f":"IF('semente aroeira'!P$23<>0,'semente aroeira'!P$23,\"\")","v":""},{"$f":"IF('semente aroeira'!Q$23<>0,'semente aroeira'!Q$23,\"\")","v":""},{"$f":"IF('semente aroeira'!R$23<>0,'semente aroeira'!R$23,\"\")","v":""},{"$f":"IF('semente aroeira'!S$23<>0,'semente aroeira'!S$23,\"\")","v":""},{"$f":"IF('semente aroeira'!T$23<>0,'semente aroeira'!T$23,\"\")","v":""},{"$f":"IF('semente aroeira'!U$23<>0,'semente aroeira'!U$23,\"\")","v":""},{"$f":"IF('semente aroeira'!V$23<>0,'semente aroeira'!V$23,\"\")","v":""},{"$f":"IF('semente aroeira'!W$23<>0,'semente aroeira'!W$23,\"\")","v":""},{"$f":"IF('semente aroeira'!X$23<>0,'semente aroeira'!X$23,\"\")","v":""},{"$f":"IF('semente aroeira'!Y$23<>0,'semente aroeira'!Y$23,\"\")","v":""},{"$f":"IF('semente aroeira'!Z$23<>0,'semente aroeira'!Z$23,\"\")","v":""},{"$f":"IF('semente aroeira'!AA$23<>0,'semente aroeira'!AA$23,\"\")","v":""},{"$f":"IF('semente aroeira'!AB$23<>0,'semente aroeira'!AB$23,\"\")","v":""},{"$f":"IF('semente aroeira'!AC$23<>0,'semente aroeira'!AC$23,\"\")","v":""},{"$f":"IF('semente aroeira'!AD$23<>0,'semente aroeira'!AD$23,\"\")","v":""},{"$f":"IF('semente aroeira'!AE$23<>0,'semente aroeira'!AE$23,\"\")","v":""},{"$f":"IF('semente aroeira'!AF$23<>0,'semente aroeira'!AF$23,\"\")","v":""},{"$f":"IF('semente aroeira'!AG$23<>0,'semente aroeira'!AG$23,\"\")","v":""}]
[null,null,null,null,null,null,null,null,null,null,null,null,null,null,null,{"$f":"Produção!$A$26","v":"madeira vinhatico"},null,{"$f":"IF('semente aroeira'!D$23<>0,'semente aroeira'!D$23,\"\")","v":""},{"$f":"IF('semente aroeira'!E$23<>0,'semente aroeira'!E$23,\"\")","v":""},{"$f":"IF('semente aroeira'!F$23<>0,'semente aroeira'!F$23,\"\")","v":""},{"$f":"IF('semente aroeira'!G$23<>0,'semente aroeira'!G$23,\"\")","v":""},{"$f":"IF('semente aroeira'!H$23<>0,'semente aroeira'!H$23,\"\")","v":""},{"$f":"IF('semente aroeira'!I$23<>0,'semente aroeira'!I$23,\"\")","v":""},{"$f":"IF('semente aroeira'!J$23<>0,'semente aroeira'!J$23,\"\")","v":""},{"$f":"IF('semente aroeira'!K$23<>0,'semente aroeira'!K$23,\"\")","v":""},{"$f":"IF('semente aroeira'!L$23<>0,'semente aroeira'!L$23,\"\")","v":""},{"$f":"IF('semente aroeira'!M$23<>0,'semente aroeira'!M$23,\"\")","v":""},{"$f":"IF('semente aroeira'!N$23<>0,'semente aroeira'!N$23,\"\")","v":""},{"$f":"IF('semente aroeira'!O$23<>0,'semente aroeira'!O$23,\"\")","v":""},{"$f":"IF('semente aroeira'!P$23<>0,'semente aroeira'!P$23,\"\")","v":""},{"$f":"IF('semente aroeira'!Q$23<>0,'semente aroeira'!Q$23,\"\")","v":""},{"$f":"IF('semente aroeira'!R$23<>0,'semente aroeira'!R$23,\"\")","v":""},{"$f":"IF('semente aroeira'!S$23<>0,'semente aroeira'!S$23,\"\")","v":""},{"$f":"IF('semente aroeira'!T$23<>0,'semente aroeira'!T$23,\"\")","v":""},{"$f":"IF('semente aroeira'!U$23<>0,'semente aroeira'!U$23,\"\")","v":""},{"$f":"IF('semente aroeira'!V$23<>0,'semente aroeira'!V$23,\"\")","v":""},{"$f":"IF('semente aroeira'!W$23<>0,'semente aroeira'!W$23,\"\")","v":""},{"$f":"IF('semente aroeira'!X$23<>0,'semente aroeira'!X$23,\"\")","v":""},{"$f":"IF('semente aroeira'!Y$23<>0,'semente aroeira'!Y$23,\"\")","v":""},{"$f":"IF('semente aroeira'!Z$23<>0,'semente aroeira'!Z$23,\"\")","v":""},{"$f":"IF('semente aroeira'!AA$23<>0,'semente aroeira'!AA$23,\"\")","v":""},{"$f":"IF('semente aroeira'!AB$23<>0,'semente aroeira'!AB$23,\"\")","v":""},{"$f":"IF('semente aroeira'!AC$23<>0,'semente aroeira'!AC$23,\"\")","v":""},{"$f":"IF('semente aroeira'!AD$23<>0,'semente aroeira'!AD$23,\"\")","v":""},{"$f":"IF('semente aroeira'!AE$23<>0,'semente aroeira'!AE$23,\"\")","v":""},{"$f":"IF('semente aroeira'!AF$23<>0,'semente aroeira'!AF$23,\"\")","v":""},{"$f":"IF('semente aroeira'!AG$23<>0,'semente aroeira'!AG$23,\"\")","v":""}]
[null,null,null,null,null,null,null,null,null,null,null,null,null,null,null,{"$f":"Produção!$A$27","v":"madeira jequitiba"},null,{"$f":"IF('semente aroeira'!D$23<>0,'semente aroeira'!D$23,\"\")","v":""},{"$f":"IF('semente aroeira'!E$23<>0,'semente aroeira'!E$23,\"\")","v":""},{"$f":"IF('semente aroeira'!F$23<>0,'semente aroeira'!F$23,\"\")","v":""},{"$f":"IF('semente aroeira'!G$23<>0,'semente aroeira'!G$23,\"\")","v":""},{"$f":"IF('semente aroeira'!H$23<>0,'semente aroeira'!H$23,\"\")","v":""},{"$f":"IF('semente aroeira'!I$23<>0,'semente aroeira'!I$23,\"\")","v":""},{"$f":"IF('semente aroeira'!J$23<>0,'semente aroeira'!J$23,\"\")","v":""},{"$f":"IF('semente aroeira'!K$23<>0,'semente aroeira'!K$23,\"\")","v":""},{"$f":"IF('semente aroeira'!L$23<>0,'semente aroeira'!L$23,\"\")","v":""},{"$f":"IF('semente aroeira'!M$23<>0,'semente aroeira'!M$23,\"\")","v":""},{"$f":"IF('semente aroeira'!N$23<>0,'semente aroeira'!N$23,\"\")","v":""},{"$f":"IF('semente aroeira'!O$23<>0,'semente aroeira'!O$23,\"\")","v":""},{"$f":"IF('semente aroeira'!P$23<>0,'semente aroeira'!P$23,\"\")","v":""},{"$f":"IF('semente aroeira'!Q$23<>0,'semente aroeira'!Q$23,\"\")","v":""},{"$f":"IF('semente aroeira'!R$23<>0,'semente aroeira'!R$23,\"\")","v":""},{"$f":"IF('semente aroeira'!S$23<>0,'semente aroeira'!S$23,\"\")","v":""},{"$f":"IF('semente aroeira'!T$23<>0,'semente aroeira'!T$23,\"\")","v":""},{"$f":"IF('semente aroeira'!U$23<>0,'semente aroeira'!U$23,\"\")","v":""},{"$f":"IF('semente aroeira'!V$23<>0,'semente aroeira'!V$23,\"\")","v":""},{"$f":"IF('semente aroeira'!W$23<>0,'semente aroeira'!W$23,\"\")","v":""},{"$f":"IF('semente aroeira'!X$23<>0,'semente aroeira'!X$23,\"\")","v":""},{"$f":"IF('semente aroeira'!Y$23<>0,'semente aroeira'!Y$23,\"\")","v":""},{"$f":"IF('semente aroeira'!Z$23<>0,'semente aroeira'!Z$23,\"\")","v":""},{"$f":"IF('semente aroeira'!AA$23<>0,'semente aroeira'!AA$23,\"\")","v":""},{"$f":"IF('semente aroeira'!AB$23<>0,'semente aroeira'!AB$23,\"\")","v":""},{"$f":"IF('semente aroeira'!AC$23<>0,'semente aroeira'!AC$23,\"\")","v":""},{"$f":"IF('semente aroeira'!AD$23<>0,'semente aroeira'!AD$23,\"\")","v":""},{"$f":"IF('semente aroeira'!AE$23<>0,'semente aroeira'!AE$23,\"\")","v":""},{"$f":"IF('semente aroeira'!AF$23<>0,'semente aroeira'!AF$23,\"\")","v":""},{"$f":"IF('semente aroeira'!AG$23<>0,'semente aroeira'!AG$23,\"\")","v":""}]
[null,null,null,null,null,null,null,null,null,null,null,null,null,null,null,{"$f":"Produção!$A$28","v":"biomassa"},null,{"$f":"IF('semente aroeira'!D$23<>0,'semente aroeira'!D$23,\"\")","v":""},{"$f":"IF('semente aroeira'!E$23<>0,'semente aroeira'!E$23,\"\")","v":""},{"$f":"IF('semente aroeira'!F$23<>0,'semente aroeira'!F$23,\"\")","v":""},{"$f":"IF('semente aroeira'!G$23<>0,'semente aroeira'!G$23,\"\")","v":""},{"$f":"IF('semente aroeira'!H$23<>0,'semente aroeira'!H$23,\"\")","v":""},{"$f":"IF('semente aroeira'!I$23<>0,'semente aroeira'!I$23,\"\")","v":""},{"$f":"IF('semente aroeira'!J$23<>0,'semente aroeira'!J$23,\"\")","v":""},{"$f":"IF('semente aroeira'!K$23<>0,'semente aroeira'!K$23,\"\")","v":""},{"$f":"IF('semente aroeira'!L$23<>0,'semente aroeira'!L$23,\"\")","v":""},{"$f":"IF('semente aroeira'!M$23<>0,'semente aroeira'!M$23,\"\")","v":""},{"$f":"IF('semente aroeira'!N$23<>0,'semente aroeira'!N$23,\"\")","v":""},{"$f":"IF('semente aroeira'!O$23<>0,'semente aroeira'!O$23,\"\")","v":""},{"$f":"IF('semente aroeira'!P$23<>0,'semente aroeira'!P$23,\"\")","v":""},{"$f":"IF('semente aroeira'!Q$23<>0,'semente aroeira'!Q$23,\"\")","v":""},{"$f":"IF('semente aroeira'!R$23<>0,'semente aroeira'!R$23,\"\")","v":""},{"$f":"IF('semente aroeira'!S$23<>0,'semente aroeira'!S$23,\"\")","v":""},{"$f":"IF('semente aroeira'!T$23<>0,'semente aroeira'!T$23,\"\")","v":""},{"$f":"IF('semente aroeira'!U$23<>0,'semente aroeira'!U$23,\"\")","v":""},{"$f":"IF('semente aroeira'!V$23<>0,'semente aroeira'!V$23,\"\")","v":""},{"$f":"IF('semente aroeira'!W$23<>0,'semente aroeira'!W$23,\"\")","v":""},{"$f":"IF('semente aroeira'!X$23<>0,'semente aroeira'!X$23,\"\")","v":""},{"$f":"IF('semente aroeira'!Y$23<>0,'semente aroeira'!Y$23,\"\")","v":""},{"$f":"IF('semente aroeira'!Z$23<>0,'semente aroeira'!Z$23,\"\")","v":""},{"$f":"IF('semente aroeira'!AA$23<>0,'semente aroeira'!AA$23,\"\")","v":""},{"$f":"IF('semente aroeira'!AB$23<>0,'semente aroeira'!AB$23,\"\")","v":""},{"$f":"IF('semente aroeira'!AC$23<>0,'semente aroeira'!AC$23,\"\")","v":""},{"$f":"IF('semente aroeira'!AD$23<>0,'semente aroeira'!AD$23,\"\")","v":""},{"$f":"IF('semente aroeira'!AE$23<>0,'semente aroeira'!AE$23,\"\")","v":""},{"$f":"IF('semente aroeira'!AF$23<>0,'semente aroeira'!AF$23,\"\")","v":""},{"$f":"IF('semente aroeira'!AG$23<>0,'semente aroeira'!AG$23,\"\")","v":""}]
[null,null,null,null,null,null,null,null,null,null,null,null,null,null,null,{"$f":"Produção!$A$29","v":"grão caupi"},null,{"$f":"IF('semente aroeira'!D$23<>0,'semente aroeira'!D$23,\"\")","v":""},{"$f":"IF('semente aroeira'!E$23<>0,'semente aroeira'!E$23,\"\")","v":""},{"$f":"IF('semente aroeira'!F$23<>0,'semente aroeira'!F$23,\"\")","v":""},{"$f":"IF('semente aroeira'!G$23<>0,'semente aroeira'!G$23,\"\")","v":""},{"$f":"IF('semente aroeira'!H$23<>0,'semente aroeira'!H$23,\"\")","v":""},{"$f":"IF('semente aroeira'!I$23<>0,'semente aroeira'!I$23,\"\")","v":""},{"$f":"IF('semente aroeira'!J$23<>0,'semente aroeira'!J$23,\"\")","v":""},{"$f":"IF('semente aroeira'!K$23<>0,'semente aroeira'!K$23,\"\")","v":""},{"$f":"IF('semente aroeira'!L$23<>0,'semente aroeira'!L$23,\"\")","v":""},{"$f":"IF('semente aroeira'!M$23<>0,'semente aroeira'!M$23,\"\")","v":""},{"$f":"IF('semente aroeira'!N$23<>0,'semente aroeira'!N$23,\"\")","v":""},{"$f":"IF('semente aroeira'!O$23<>0,'semente aroeira'!O$23,\"\")","v":""},{"$f":"IF('semente aroeira'!P$23<>0,'semente aroeira'!P$23,\"\")","v":""},{"$f":"IF('semente aroeira'!Q$23<>0,'semente aroeira'!Q$23,\"\")","v":""},{"$f":"IF('semente aroeira'!R$23<>0,'semente aroeira'!R$23,\"\")","v":""},{"$f":"IF('semente aroeira'!S$23<>0,'semente aroeira'!S$23,\"\")","v":""},{"$f":"IF('semente aroeira'!T$23<>0,'semente aroeira'!T$23,\"\")","v":""},{"$f":"IF('semente aroeira'!U$23<>0,'semente aroeira'!U$23,\"\")","v":""},{"$f":"IF('semente aroeira'!V$23<>0,'semente aroeira'!V$23,\"\")","v":""},{"$f":"IF('semente aroeira'!W$23<>0,'semente aroeira'!W$23,\"\")","v":""},{"$f":"IF('semente aroeira'!X$23<>0,'semente aroeira'!X$23,\"\")","v":""},{"$f":"IF('semente aroeira'!Y$23<>0,'semente aroeira'!Y$23,\"\")","v":""},{"$f":"IF('semente aroeira'!Z$23<>0,'semente aroeira'!Z$23,\"\")","v":""},{"$f":"IF('semente aroeira'!AA$23<>0,'semente aroeira'!AA$23,\"\")","v":""},{"$f":"IF('semente aroeira'!AB$23<>0,'semente aroeira'!AB$23,\"\")","v":""},{"$f":"IF('semente aroeira'!AC$23<>0,'semente aroeira'!AC$23,\"\")","v":""},{"$f":"IF('semente aroeira'!AD$23<>0,'semente aroeira'!AD$23,\"\")","v":""},{"$f":"IF('semente aroeira'!AE$23<>0,'semente aroeira'!AE$23,\"\")","v":""},{"$f":"IF('semente aroeira'!AF$23<>0,'semente aroeira'!AF$23,\"\")","v":""},{"$f":"IF('semente aroeira'!AG$23<>0,'semente aroeira'!AG$23,\"\")","v":""}]
[]
[]
[]
[null,null,null,null,null,null,null,null,null,null,null,null,null,null,null,"Custos de MO",{"$f":"SUM(Q33:Q57)","v":0},0,0,0,0,0,0,0,0,0,0,0,0,0,0,0,0,0,0,0,0,0,0,0,0,0,0,0,0,0,0,null,"TOTAL"]
[null,null,null,null,null,null,null,null,null,null,null,null,null,null,null,"Atividades Gerais",{"$f":"'Preparo e Gerais'!D6","v":0},null,null,null,null,null,null,null,null,null,null,null,null,null,null,null,null,null,null,null,null,null,null,null,null,null,null,null,null,null,null,null,{"$f":"SUM(Q33:AU33)","v":0}]
[null,null,null,null,null,null,null,null,null,null,null,null,null,null,null,{"$f":"Produção!$A$6","v":"latex"},null,{"$f":"latex!D$7","v":0},{"$f":"latex!E$7","v":0},{"$f":"latex!F$7","v":0},{"$f":"latex!G$7","v":0},{"$f":"latex!H$7","v":0},{"$f":"latex!I$7","v":0},{"$f":"latex!J$7","v":0},{"$f":"latex!K$7","v":0},{"$f":"latex!L$7","v":0},{"$f":"latex!M$7","v":0},{"$f":"latex!N$7","v":0},{"$f":"latex!O$7","v":0},{"$f":"latex!P$7","v":0},{"$f":"latex!Q$7","v":0},{"$f":"latex!R$7","v":0},{"$f":"latex!S$7","v":0},{"$f":"latex!T$7","v":0},{"$f":"latex!U$7","v":0},{"$f":"latex!V$7","v":0},{"$f":"latex!W$7","v":0},{"$f":"latex!X$7","v":0},{"$f":"latex!Y$7","v":0},{"$f":"latex!Z$7","v":0},{"$f":"latex!AA$7","v":0},{"$f":"latex!AB$7","v":0},{"$f":"latex!AC$7","v":0},{"$f":"latex!AD$7","v":0},{"$f":"latex!AE$7","v":0},{"$f":"latex!AF$7","v":0},{"$f":"latex!AG$7","v":0},null,0]
[null,null,null,null,null,null,null,null,null,null,null,null,null,null,null,{"$f":"Produção!$A$7","v":"fruto genipapo"},null,{"$f":"'fruto genipapo'!D$7","v":0},{"$f":"'fruto genipapo'!E$7","v":0},{"$f":"'fruto genipapo'!F$7","v":0},{"$f":"'fruto genipapo'!G$7","v":0},{"$f":"'fruto genipapo'!H$7","v":0},{"$f":"'fruto genipapo'!I$7","v":0},{"$f":"'fruto genipapo'!J$7","v":0},{"$f":"'fruto genipapo'!K$7","v":0},{"$f":"'fruto genipapo'!L$7","v":0},{"$f":"'fruto genipapo'!M$7","v":0},{"$f":"'fruto genipapo'!N$7","v":0},{"$f":"'fruto genipapo'!O$7","v":0},{"$f":"'fruto genipapo'!P$7","v":0},{"$f":"'fruto genipapo'!Q$7","v":0},{"$f":"'fruto genipapo'!R$7","v":0},{"$f":"'fruto genipapo'!S$7","v":0},{"$f":"'fruto genipapo'!T$7","v":0},{"$f":"'fruto genipapo'!U$7","v":0},{"$f":"'fruto genipapo'!V$7","v":0},{"$f":"'fruto genipapo'!W$7","v":0},{"$f":"'fruto genipapo'!X$7","v":0},{"$f":"'fruto genipapo'!Y$7","v":0},{"$f":"'fruto genipapo'!Z$7","v":0},{"$f":"'fruto genipapo'!AA$7","v":0},{"$f":"'fruto genipapo'!AB$7","v":0},{"$f":"'fruto genipapo'!AC$7","v":0},{"$f":"'fruto genipapo'!AD$7","v":0},{"$f":"'fruto genipapo'!AE$7","v":0},{"$f":"'fruto genipapo'!AF$7","v":0},{"$f":"'fruto genipapo'!AG$7","v":0},null,0]
[null,null,null,null,null,null,null,null,null,null,null,null,null,null,null,{"$f":"Produção!$A$8","v":"fruto araçauna"},null,{"$f":"'fruto araçauna'!D$7","v":0},{"$f":"'fruto araçauna'!E$7","v":0},{"$f":"'fruto araçauna'!F$7","v":0},{"$f":"'fruto araçauna'!G$7","v":0},{"$f":"'fruto araçauna'!H$7","v":0},{"$f":"'fruto araçauna'!I$7","v":0},{"$f":"'fruto araçauna'!J$7","v":0},{"$f":"'fruto araçauna'!K$7","v":0},{"$f":"'fruto araçauna'!L$7","v":0},{"$f":"'fruto araçauna'!M$7","v":0},{"$f":"'fruto araçauna'!N$7","v":0},{"$f":"'fruto araçauna'!O$7","v":0},{"$f":"'fruto araçauna'!P$7","v":0},{"$f":"'fruto araçauna'!Q$7","v":0},{"$f":"'fruto araçauna'!R$7","v":0},{"$f":"'fruto araçauna'!S$7","v":0},{"$f":"'fruto araçauna'!T$7","v":0},{"$f":"'fruto araçauna'!U$7","v":0},{"$f":"'fruto araçauna'!V$7","v":0},{"$f":"'fruto araçauna'!W$7","v":0},{"$f":"'fruto araçauna'!X$7","v":0},{"$f":"'fruto araçauna'!Y$7","v":0},{"$f":"'fruto araçauna'!Z$7","v":0},{"$f":"'fruto araçauna'!AA$7","v":0},{"$f":"'fruto araçauna'!AB$7","v":0},{"$f":"'fruto araçauna'!AC$7","v":0},{"$f":"'fruto araçauna'!AD$7","v":0},{"$f":"'fruto araçauna'!AE$7","v":0},{"$f":"'fruto araçauna'!AF$7","v":0},{"$f":"'fruto araçauna'!AG$7","v":0},null,0]
[null,null,null,null,null,null,null,null,null,null,null,null,null,null,null,{"$f":"Produção!$A$9","v":"fruto pitanga"},null,{"$f":"'fruto pitanga'!D$7","v":0},{"$f":"'fruto pitanga'!E$7","v":0},{"$f":"'fruto pitanga'!F$7","v":0},{"$f":"'fruto pitanga'!G$7","v":0},{"$f":"'fruto pitanga'!H$7","v":0},{"$f":"'fruto pitanga'!I$7","v":0},{"$f":"'fruto pitanga'!J$7","v":0},{"$f":"'fruto pitanga'!K$7","v":0},{"$f":"'fruto pitanga'!L$7","v":0},{"$f":"'fruto pitanga'!M$7","v":0},{"$f":"'fruto pitanga'!N$7","v":0},{"$f":"'fruto pitanga'!O$7","v":0},{"$f":"'fruto pitanga'!P$7","v":0},{"$f":"'fruto pitanga'!Q$7","v":0},{"$f":"'fruto pitanga'!R$7","v":0},{"$f":"'fruto pitanga'!S$7","v":0},{"$f":"'fruto pitanga'!T$7","v":0},{"$f":"'fruto pitanga'!U$7","v":0},{"$f":"'fruto pitanga'!V$7","v":0},{"$f":"'fruto pitanga'!W$7","v":0},{"$f":"'fruto pitanga'!X$7","v":0},{"$f":"'fruto pitanga'!Y$7","v":0},{"$f":"'fruto pitanga'!Z$7","v":0},{"$f":"'fruto pitanga'!AA$7","v":0},{"$f":"'fruto pitanga'!AB$7","v":0},{"$f":"'fruto pitanga'!AC$7","v":0},{"$f":"'fruto pitanga'!AD$7","v":0},{"$f":"'fruto pitanga'!AE$7","v":0},{"$f":"'fruto pitanga'!AF$7","v":0},{"$f":"'fruto pitanga'!AG$7","v":0},null,0]
[null,null,null,null,null,null,null,null,null,null,null,null,null,null,null,{"$f":"Produção!$A$10","v":"castanha sapucaia"},null,{"$f":"Castanha!D$7","v":0},{"$f":"Castanha!E$7","v":0},{"$f":"Castanha!F$7","v":0},{"$f":"Castanha!G$7","v":0},{"$f":"Castanha!H$7","v":0},{"$f":"Castanha!I$7","v":0},{"$f":"Castanha!J$7","v":0},{"$f":"Castanha!K$7","v":0},{"$f":"Castanha!L$7","v":0},{"$f":"Castanha!M$7","v":0},{"$f":"Castanha!N$7","v":0},{"$f":"Castanha!O$7","v":0},{"$f":"Castanha!P$7","v":0},{"$f":"Castanha!Q$7","v":0},{"$f":"Castanha!R$7","v":0},{"$f":"Castanha!S$7","v":0},{"$f":"Castanha!T$7","v":0},{"$f":"Castanha!U$7","v":0},{"$f":"Castanha!V$7","v":0},{"$f":"Castanha!W$7","v":0},{"$f":"Castanha!X$7","v":0},{"$f":"Castanha!Y$7","v":0},{"$f":"Castanha!Z$7","v":0},{"$f":"Castanha!AA$7","v":0},{"$f":"Castanha!AB$7","v":0},{"$f":"Castanha!AC$7","v":0},{"$f":"Castanha!AD$7","v":0},{"$f":"Castanha!AE$7","v":0},{"$f":"Castanha!AF$7","v":0},{"$f":"Castanha!AG$7","v":0},null,0]
[null,null,null,null,null,null,null,null,null,null,null,null,null,null,null,{"$f":"Produção!$A$11","v":"fruto cajá"},null,{"$f":"'fruto cajá'!D$7","v":0},{"$f":"'fruto cajá'!E$7","v":0},{"$f":"'fruto cajá'!F$7","v":0},{"$f":"'fruto cajá'!G$7","v":0},{"$f":"'fruto cajá'!H$7","v":0},{"$f":"'fruto cajá'!I$7","v":0},{"$f":"'fruto cajá'!J$7","v":0},{"$f":"'fruto cajá'!K$7","v":0},{"$f":"'fruto cajá'!L$7","v":0},{"$f":"'fruto cajá'!M$7","v":0},{"$f":"'fruto cajá'!N$7","v":0},{"$f":"'fruto cajá'!O$7","v":0},{"$f":"'fruto cajá'!P$7","v":0},{"$f":"'fruto cajá'!Q$7","v":0},{"$f":"'fruto cajá'!R$7","v":0},{"$f":"'fruto cajá'!S$7","v":0},{"$f":"'fruto cajá'!T$7","v":0},{"$f":"'fruto cajá'!U$7","v":0},{"$f":"'fruto cajá'!V$7","v":0},{"$f":"'fruto cajá'!W$7","v":0},{"$f":"'fruto cajá'!X$7","v":0},{"$f":"'fruto cajá'!Y$7","v":0},{"$f":"'fruto cajá'!Z$7","v":0},{"$f":"'fruto cajá'!AA$7","v":0},{"$f":"'fruto cajá'!AB$7","v":0},{"$f":"'fruto cajá'!AC$7","v":0},{"$f":"'fruto cajá'!AD$7","v":0},{"$f":"'fruto cajá'!AE$7","v":0},{"$f":"'fruto cajá'!AF$7","v":0},{"$f":"'fruto cajá'!AG$7","v":0},null,{"$f":"SUM(Q39:AU39)","v":0}]
[null,null,null,null,null,null,null,null,null,null,null,null,null,null,null,{"$f":"Produção!$A$12","v":"semente urucum"},null,{"$f":"'semente urucum'!D$7","v":0},{"$f":"'semente urucum'!E$7","v":0},{"$f":"'semente urucum'!F$7","v":0},{"$f":"'semente urucum'!G$7","v":0},{"$f":"'semente urucum'!H$7","v":0},{"$f":"'semente urucum'!I$7","v":0},{"$f":"'semente urucum'!J$7","v":0},{"$f":"'semente urucum'!K$7","v":0},{"$f":"'semente urucum'!L$7","v":0},{"$f":"'semente urucum'!M$7","v":0},{"$f":"'semente urucum'!N$7","v":0},{"$f":"'semente urucum'!O$7","v":0},{"$f":"'semente urucum'!P$7","v":0},{"$f":"'semente urucum'!Q$7","v":0},{"$f":"'semente urucum'!R$7","v":0},{"$f":"'semente urucum'!S$7","v":0},{"$f":"'semente urucum'!T$7","v":0},{"$f":"'semente urucum'!U$7","v":0},{"$f":"'semente urucum'!V$7","v":0},{"$f":"'semente urucum'!W$7","v":0},{"$f":"'semente urucum'!X$7","v":0},{"$f":"'semente urucum'!Y$7","v":0},{"$f":"'semente urucum'!Z$7","v":0},{"$f":"'semente urucum'!AA$7","v":0},{"$f":"'semente urucum'!AB$7","v":0},{"$f":"'semente urucum'!AC$7","v":0},{"$f":"'semente urucum'!AD$7","v":0},{"$f":"'semente urucum'!AE$7","v":0},{"$f":"'semente urucum'!AF$7","v":0},{"$f":"'semente urucum'!AG$7","v":0},null,{"$f":"SUM(Q40:AU40)","v":0}]
[null,null,null,null,null,null,null,null,null,null,null,null,null,null,null,{"$f":"Produção!$A$13","v":"semente aroeira"},null,{"$f":"'semente aroeira'!D$7","v":0},{"$f":"'semente aroeira'!E$7","v":0},{"$f":"'semente aroeira'!F$7","v":0},{"$f":"'semente aroeira'!G$7","v":0},{"$f":"'semente aroeira'!H$7","v":0},{"$f":"'semente aroeira'!I$7","v":0},{"$f":"'semente aroeira'!J$7","v":0},{"$f":"'semente aroeira'!K$7","v":0},{"$f":"'semente aroeira'!L$7","v":0},{"$f":"'semente aroeira'!M$7","v":0},{"$f":"'semente aroeira'!N$7","v":0},{"$f":"'semente aroeira'!O$7","v":0},{"$f":"'semente aroeira'!P$7","v":0},{"$f":"'semente aroeira'!Q$7","v":0},{"$f":"'semente aroeira'!R$7","v":0},{"$f":"'semente aroeira'!S$7","v":0},{"$f":"'semente aroeira'!T$7","v":0},{"$f":"'semente aroeira'!U$7","v":0},{"$f":"'semente aroeira'!V$7","v":0},{"$f":"'semente aroeira'!W$7","v":0},{"$f":"'semente aroeira'!X$7","v":0},{"$f":"'semente aroeira'!Y$7","v":0},{"$f":"'semente aroeira'!Z$7","v":0},{"$f":"'semente aroeira'!AA$7","v":0},{"$f":"'semente aroeira'!AB$7","v":0},{"$f":"'semente aroeira'!AC$7","v":0},{"$f":"'semente aroeira'!AD$7","v":0},{"$f":"'semente aroeira'!AE$7","v":0},{"$f":"'semente aroeira'!AF$7","v":0},{"$f":"'semente aroeira'!AG$7","v":0},null,{"$f":"SUM(Q41:AU41)","v":0}]
[null,null,null,null,null,null,null,null,null,null,null,null,null,null,null,{"$f":"Produção!$A$14","v":"raiz mandioca"},null,{"$f":"'raiz mandioca'!D$7","v":0},{"$f":"'raiz mandioca'!E$7","v":0},{"$f":"'raiz mandioca'!F$7","v":0},{"$f":"'raiz mandioca'!G$7","v":0},{"$f":"'raiz mandioca'!H$7","v":0},{"$f":"'raiz mandioca'!I$7","v":0},{"$f":"'raiz mandioca'!J$7","v":0},{"$f":"'raiz mandioca'!K$7","v":0},{"$f":"'raiz mandioca'!L$7","v":0},{"$f":"'raiz mandioca'!M$7","v":0},{"$f":"'raiz mandioca'!N$7","v":0},{"$f":"'raiz mandioca'!O$7","v":0},{"$f":"'raiz mandioca'!P$7","v":0},{"$f":"'raiz mandioca'!Q$7","v":0},{"$f":"'raiz mandioca'!R$7","v":0},{"$f":"'raiz mandioca'!S$7","v":0},{"$f":"'raiz mandioca'!T$7","v":0},{"$f":"'raiz mandioca'!U$7","v":0},{"$f":"'raiz mandioca'!V$7","v":0},{"$f":"'raiz mandioca'!W$7","v":0},{"$f":"'raiz mandioca'!X$7","v":0},{"$f":"'raiz mandioca'!Y$7","v":0},{"$f":"'raiz mandioca'!Z$7","v":0},{"$f":"'raiz mandioca'!AA$7","v":0},{"$f":"'raiz mandioca'!AB$7","v":0},{"$f":"'raiz mandioca'!AC$7","v":0},{"$f":"'raiz mandioca'!AD$7","v":0},{"$f":"'raiz mandioca'!AE$7","v":0},{"$f":"'raiz mandioca'!AF$7","v":0},{"$f":"'raiz mandioca'!AG$7","v":0},null,{"$f":"SUM(Q42:AU42)","v":0}]
[null,null,null,null,null,null,null,null,null,null,null,null,null,null,null,{"$f":"Produção!$A$15","v":"fruto abacaxi"},null,{"$f":"abacaxi!D$7","v":0},{"$f":"abacaxi!E$7","v":0},{"$f":"abacaxi!F$7","v":0},{"$f":"abacaxi!G$7","v":0},{"$f":"abacaxi!H$7","v":0},{"$f":"abacaxi!I$7","v":0},{"$f":"abacaxi!J$7","v":0},{"$f":"abacaxi!K$7","v":0},{"$f":"abacaxi!L$7","v":0},{"$f":"abacaxi!M$7","v":0},{"$f":"abacaxi!N$7","v":0},{"$f":"abacaxi!O$7","v":0},{"$f":"abacaxi!P$7","v":0},{"$f":"abacaxi!Q$7","v":0},{"$f":"abacaxi!R$7","v":0},{"$f":"abacaxi!S$7","v":0},{"$f":"abacaxi!T$7","v":0},{"$f":"abacaxi!U$7","v":0},{"$f":"abacaxi!V$7","v":0},{"$f":"abacaxi!W$7","v":0},{"$f":"abacaxi!X$7","v":0},{"$f":"abacaxi!Y$7","v":0},{"$f":"abacaxi!Z$7","v":0},{"$f":"abacaxi!AA$7","v":0},{"$f":"abacaxi!AB$7","v":0},{"$f":"abacaxi!AC$7","v":0},{"$f":"abacaxi!AD$7","v":0},{"$f":"abacaxi!AE$7","v":0},{"$f":"abacaxi!AF$7","v":0},{"$f":"abacaxi!AG$7","v":0},null,{"$f":"SUM(Q43:AU43)","v":0}]
[null,null,null,null,null,null,null,null,null,null,null,null,null,null,null,{"$f":"Produção!$A$16","v":"espigas milho"},null,{"$f":"espigas!D$7","v":0},{"$f":"espigas!E$7","v":0},{"$f":"espigas!F$7","v":0},{"$f":"espigas!G$7","v":0},{"$f":"espigas!H$7","v":0},{"$f":"espigas!I$7","v":0},{"$f":"espigas!J$7","v":0},{"$f":"espigas!K$7","v":0},{"$f":"espigas!L$7","v":0},{"$f":"espigas!M$7","v":0},{"$f":"espigas!N$7","v":0},{"$f":"espigas!O$7","v":0},{"$f":"espigas!P$7","v":0},{"$f":"espigas!Q$7","v":0},{"$f":"espigas!R$7","v":0},{"$f":"espigas!S$7","v":0},{"$f":"espigas!T$7","v":0},{"$f":"espigas!U$7","v":0},{"$f":"espigas!V$7","v":0},{"$f":"espigas!W$7","v":0},{"$f":"espigas!X$7","v":0},{"$f":"espigas!Y$7","v":0},{"$f":"espigas!Z$7","v":0},{"$f":"espigas!AA$7","v":0},{"$f":"espigas!AB$7","v":0},{"$f":"espigas!AC$7","v":0},{"$f":"espigas!AD$7","v":0},{"$f":"espigas!AE$7","v":0},{"$f":"espigas!AF$7","v":0},{"$f":"espigas!AG$7","v":0},null,0]
[null,null,null,null,null,null,null,null,null,null,null,null,null,null,null,{"$f":"Produção!$A$17","v":"estaca sansão do campo"},null,{"$f":"'semente caupi'!D$7","v":0},{"$f":"'semente caupi'!E$7","v":0},{"$f":"'semente caupi'!F$7","v":0},{"$f":"'semente caupi'!G$7","v":0},{"$f":"'semente caupi'!H$7","v":0},{"$f":"'semente caupi'!I$7","v":0},{"$f":"'semente caupi'!J$7","v":0},{"$f":"'semente caupi'!K$7","v":0},{"$f":"'semente caupi'!L$7","v":0},{"$f":"'semente caupi'!M$7","v":0},{"$f":"'semente caupi'!N$7","v":0},{"$f":"'semente caupi'!O$7","v":0},{"$f":"'semente caupi'!P$7","v":0},{"$f":"'semente caupi'!Q$7","v":0},{"$f":"'semente caupi'!R$7","v":0},{"$f":"'semente caupi'!S$7","v":0},{"$f":"'semente caupi'!T$7","v":0},{"$f":"'semente caupi'!U$7","v":0},{"$f":"'semente caupi'!V$7","v":0},{"$f":"'semente caupi'!W$7","v":0},{"$f":"'semente caupi'!X$7","v":0},{"$f":"'semente caupi'!Y$7","v":0},{"$f":"'semente caupi'!Z$7","v":0},{"$f":"'semente caupi'!AA$7","v":0},{"$f":"'semente caupi'!AB$7","v":0},{"$f":"'semente caupi'!AC$7","v":0},{"$f":"'semente caupi'!AD$7","v":0},{"$f":"'semente caupi'!AE$7","v":0},{"$f":"'semente caupi'!AF$7","v":0},{"$f":"'semente caupi'!AG$7","v":0},null,0]
[null,null,null,null,null,null,null,null,null,null,null,null,null,null,null,{"$f":"Produção!$A$18","v":"madeira madeira nova"},null,{"$f":"biomassa!D$7","v":0},{"$f":"biomassa!E$7","v":0},{"$f":"biomassa!F$7","v":0},{"$f":"biomassa!G$7","v":0},{"$f":"biomassa!H$7","v":0},{"$f":"biomassa!I$7","v":0},{"$f":"biomassa!J$7","v":0},{"$f":"biomassa!K$7","v":0},{"$f":"biomassa!L$7","v":0},{"$f":"biomassa!M$7","v":0},{"$f":"biomassa!N$7","v":0},{"$f":"biomassa!O$7","v":0},{"$f":"biomassa!P$7","v":0},{"$f":"biomassa!Q$7","v":0},{"$f":"biomassa!R$7","v":0},{"$f":"biomassa!S$7","v":0},{"$f":"biomassa!T$7","v":0},{"$f":"biomassa!U$7","v":0},{"$f":"biomassa!V$7","v":0},{"$f":"biomassa!W$7","v":0},{"$f":"biomassa!X$7","v":0},{"$f":"biomassa!Y$7","v":0},{"$f":"biomassa!Z$7","v":0},{"$f":"biomassa!AA$7","v":0},{"$f":"biomassa!AB$7","v":0},{"$f":"biomassa!AC$7","v":0},{"$f":"biomassa!AD$7","v":0},{"$f":"biomassa!AE$7","v":0},{"$f":"biomassa!AF$7","v":0},{"$f":"biomassa!AG$7","v":0},null,0]
[null,null,null,null,null,null,null,null,null,null,null,null,null,null,null,{"$f":"Produção!$A$19","v":"lenha fedegoso"},null,{"$f":"madeira!D$7","v":0},{"$f":"madeira!E$7","v":0},{"$f":"madeira!F$7","v":0},{"$f":"madeira!G$7","v":0},{"$f":"madeira!H$7","v":0},{"$f":"madeira!I$7","v":0},{"$f":"madeira!J$7","v":0},{"$f":"madeira!K$7","v":0},{"$f":"madeira!L$7","v":0},{"$f":"madeira!M$7","v":0},{"$f":"madeira!N$7","v":0},{"$f":"madeira!O$7","v":0},{"$f":"madeira!P$7","v":0},{"$f":"madeira!Q$7","v":0},{"$f":"madeira!R$7","v":0},{"$f":"madeira!S$7","v":0},{"$f":"madeira!T$7","v":0},{"$f":"madeira!U$7","v":0},{"$f":"madeira!V$7","v":0},{"$f":"madeira!W$7","v":0},{"$f":"madeira!X$7","v":0},{"$f":"madeira!Y$7","v":0},{"$f":"madeira!Z$7","v":0},{"$f":"madeira!AA$7","v":0},{"$f":"madeira!AB$7","v":0},{"$f":"madeira!AC$7","v":0},{"$f":"madeira!AD$7","v":0},{"$f":"madeira!AE$7","v":0},{"$f":"madeira!AF$7","v":0},{"$f":"madeira!AG$7","v":0},null,0]
[null,null,null,null,null,null,null,null,null,null,null,null,null,null,null,{"$f":"Produção!$A$20","v":"estaca pau d'alho"},null,{"$f":"'Produto 15'!D$7","v":0},{"$f":"'Produto 15'!E$7","v":0},{"$f":"'Produto 15'!F$7","v":0},{"$f":"'Produto 15'!G$7","v":0},{"$f":"'Produto 15'!H$7","v":0},{"$f":"'Produto 15'!I$7","v":0},{"$f":"'Produto 15'!J$7","v":0},{"$f":"'Produto 15'!K$7","v":0},{"$f":"'Produto 15'!L$7","v":0},{"$f":"'Produto 15'!M$7","v":0},{"$f":"'Produto 15'!N$7","v":0},{"$f":"'Produto 15'!O$7","v":0},{"$f":"'Produto 15'!P$7","v":0},{"$f":"'Produto 15'!Q$7","v":0},{"$f":"'Produto 15'!R$7","v":0},{"$f":"'Produto 15'!S$7","v":0},{"$f":"'Produto 15'!T$7","v":0},{"$f":"'Produto 15'!U$7","v":0},{"$f":"'Produto 15'!V$7","v":0},{"$f":"'Produto 15'!W$7","v":0},{"$f":"'Produto 15'!X$7","v":0},{"$f":"'Produto 15'!Y$7","v":0},{"$f":"'Produto 15'!Z$7","v":0},{"$f":"'Produto 15'!AA$7","v":0},{"$f":"'Produto 15'!AB$7","v":0},{"$f":"'Produto 15'!AC$7","v":0},{"$f":"'Produto 15'!AD$7","v":0},{"$f":"'Produto 15'!AE$7","v":0},{"$f":"'Produto 15'!AF$7","v":0},{"$f":"'Produto 15'!AG$7","v":0},null,0]
[null,null,null,null,null,null,null,null,null,null,null,null,null,null,null,{"$f":"Produção!$A$21","v":"caixotaria boleira"},null,{"$f":"'Produto 16'!D$7","v":0},{"$f":"'Produto 16'!E$7","v":0},{"$f":"'Produto 16'!F$7","v":0},{"$f":"'Produto 16'!G$7","v":0},{"$f":"'Produto 16'!H$7","v":0},{"$f":"'Produto 16'!I$7","v":0},{"$f":"'Produto 16'!J$7","v":0},{"$f":"'Produto 16'!K$7","v":0},{"$f":"'Produto 16'!L$7","v":0},{"$f":"'Produto 16'!M$7","v":0},{"$f":"'Produto 16'!N$7","v":0},{"$f":"'Produto 16'!O$7","v":0},{"$f":"'Produto 16'!P$7","v":0},{"$f":"'Produto 16'!Q$7","v":0},{"$f":"'Produto 16'!R$7","v":0},{"$f":"'Produto 16'!S$7","v":0},{"$f":"'Produto 16'!T$7","v":0},{"$f":"'Produto 16'!U$7","v":0},{"$f":"'Produto 16'!V$7","v":0},{"$f":"'Produto 16'!W$7","v":0},{"$f":"'Produto 16'!X$7","v":0},{"$f":"'Produto 16'!Y$7","v":0},{"$f":"'Produto 16'!Z$7","v":0},{"$f":"'Produto 16'!AA$7","v":0},{"$f":"'Produto 16'!AB$7","v":0},{"$f":"'Produto 16'!AC$7","v":0},{"$f":"'Produto 16'!AD$7","v":0},{"$f":"'Produto 16'!AE$7","v":0},{"$f":"'Produto 16'!AF$7","v":0},{"$f":"'Produto 16'!AG$7","v":0},null,0]
[null,null,null,null,null,null,null,null,null,null,null,null,null,null,null,{"$f":"Produção!$A$22","v":"madeira angico roxo"},null,{"$f":"'Produto 17'!D$7","v":0},{"$f":"'Produto 17'!E$7","v":0},{"$f":"'Produto 17'!F$7","v":0},{"$f":"'Produto 17'!G$7","v":0},{"$f":"'Produto 17'!H$7","v":0},{"$f":"'Produto 17'!I$7","v":0},{"$f":"'Produto 17'!J$7","v":0},{"$f":"'Produto 17'!K$7","v":0},{"$f":"'Produto 17'!L$7","v":0},{"$f":"'Produto 17'!M$7","v":0},{"$f":"'Produto 17'!N$7","v":0},{"$f":"'Produto 17'!O$7","v":0},{"$f":"'Produto 17'!P$7","v":0},{"$f":"'Produto 17'!Q$7","v":0},{"$f":"'Produto 17'!R$7","v":0},{"$f":"'Produto 17'!S$7","v":0},{"$f":"'Produto 17'!T$7","v":0},{"$f":"'Produto 17'!U$7","v":0},{"$f":"'Produto 17'!V$7","v":0},{"$f":"'Produto 17'!W$7","v":0},{"$f":"'Produto 17'!X$7","v":0},{"$f":"'Produto 17'!Y$7","v":0},{"$f":"'Produto 17'!Z$7","v":0},{"$f":"'Produto 17'!AA$7","v":0},{"$f":"'Produto 17'!AB$7","v":0},{"$f":"'Produto 17'!AC$7","v":0},{"$f":"'Produto 17'!AD$7","v":0},{"$f":"'Produto 17'!AE$7","v":0},{"$f":"'Produto 17'!AF$7","v":0},{"$f":"'Produto 17'!AG$7","v":0},null,{"$f":"SUM(Q50:AU50)","v":0}]
[null,null,null,null,null,null,null,null,null,null,null,null,null,null,null,{"$f":"Produção!$A$23","v":"madeira ipê roxo"},null,{"$f":"'Produto 18'!D$7","v":0},{"$f":"'Produto 18'!E$7","v":0},{"$f":"'Produto 18'!F$7","v":0},{"$f":"'Produto 18'!G$7","v":0},{"$f":"'Produto 18'!H$7","v":0},{"$f":"'Produto 18'!I$7","v":0},{"$f":"'Produto 18'!J$7","v":0},{"$f":"'Produto 18'!K$7","v":0},{"$f":"'Produto 18'!L$7","v":0},{"$f":"'Produto 18'!M$7","v":0},{"$f":"'Produto 18'!N$7","v":0},{"$f":"'Produto 18'!O$7","v":0},{"$f":"'Produto 18'!P$7","v":0},{"$f":"'Produto 18'!Q$7","v":0},{"$f":"'Produto 18'!R$7","v":0},{"$f":"'Produto 18'!S$7","v":0},{"$f":"'Produto 18'!T$7","v":0},{"$f":"'Produto 18'!U$7","v":0},{"$f":"'Produto 18'!V$7","v":0},{"$f":"'Produto 18'!W$7","v":0},{"$f":"'Produto 18'!X$7","v":0},{"$f":"'Produto 18'!Y$7","v":0},{"$f":"'Produto 18'!Z$7","v":0},{"$f":"'Produto 18'!AA$7","v":0},{"$f":"'Produto 18'!AB$7","v":0},{"$f":"'Produto 18'!AC$7","v":0},{"$f":"'Produto 18'!AD$7","v":0},{"$f":"'Produto 18'!AE$7","v":0},{"$f":"'Produto 18'!AF$7","v":0},{"$f":"'Produto 18'!AG$7","v":0},null,0]
[null,null,null,null,null,null,null,null,null,null,null,null,null,null,null,{"$f":"Produção!$A$24","v":"madeira ipê amarelo"},null,{"$f":"'Produto 19'!D$7","v":0},{"$f":"'Produto 19'!E$7","v":0},{"$f":"'Produto 19'!F$7","v":0},{"$f":"'Produto 19'!G$7","v":0},{"$f":"'Produto 19'!H$7","v":0},{"$f":"'Produto 19'!I$7","v":0},{"$f":"'Produto 19'!J$7","v":0},{"$f":"'Produto 19'!K$7","v":0},{"$f":"'Produto 19'!L$7","v":0},{"$f":"'Produto 19'!M$7","v":0},{"$f":"'Produto 19'!N$7","v":0},{"$f":"'Produto 19'!O$7","v":0},{"$f":"'Produto 19'!P$7","v":0},{"$f":"'Produto 19'!Q$7","v":0},{"$f":"'Produto 19'!R$7","v":0},{"$f":"'Produto 19'!S$7","v":0},{"$f":"'Produto 19'!T$7","v":0},{"$f":"'Produto 19'!U$7","v":0},{"$f":"'Produto 19'!V$7","v":0},{"$f":"'Produto 19'!W$7","v":0},{"$f":"'Produto 19'!X$7","v":0},{"$f":"'Produto 19'!Y$7","v":0},{"$f":"'Produto 19'!Z$7","v":0},{"$f":"'Produto 19'!AA$7","v":0},{"$f":"'Produto 19'!AB$7","v":0},{"$f":"'Produto 19'!AC$7","v":0},{"$f":"'Produto 19'!AD$7","v":0},{"$f":"'Produto 19'!AE$7","v":0},{"$f":"'Produto 19'!AF$7","v":0},{"$f":"'Produto 19'!AG$7","v":0},null,0]
[null,null,null,null,null,null,null,null,null,null,null,null,null,null,null,{"$f":"Produção!$A$25","v":"madeira gonçalo alves"},null,{"$f":"'Produto 20'!D$7","v":0},{"$f":"'Produto 20'!E$7","v":0},{"$f":"'Produto 20'!F$7","v":0},{"$f":"'Produto 20'!G$7","v":0},{"$f":"'Produto 20'!H$7","v":0},{"$f":"'Produto 20'!I$7","v":0},{"$f":"'Produto 20'!J$7","v":0},{"$f":"'Produto 20'!K$7","v":0},{"$f":"'Produto 20'!L$7","v":0},{"$f":"'Produto 20'!M$7","v":0},{"$f":"'Produto 20'!N$7","v":0},{"$f":"'Produto 20'!O$7","v":0},{"$f":"'Produto 20'!P$7","v":0},{"$f":"'Produto 20'!Q$7","v":0},{"$f":"'Produto 20'!R$7","v":0},{"$f":"'Produto 20'!S$7","v":0},{"$f":"'Produto 20'!T$7","v":0},{"$f":"'Produto 20'!U$7","v":0},{"$f":"'Produto 20'!V$7","v":0},{"$f":"'Produto 20'!W$7","v":0},{"$f":"'Produto 20'!X$7","v":0},{"$f":"'Produto 20'!Y$7","v":0},{"$f":"'Produto 20'!Z$7","v":0},{"$f":"'Produto 20'!AA$7","v":0},{"$f":"'Produto 20'!AB$7","v":0},{"$f":"'Produto 20'!AC$7","v":0},{"$f":"'Produto 20'!AD$7","v":0},{"$f":"'Produto 20'!AE$7","v":0},{"$f":"'Produto 20'!AF$7","v":0},{"$f":"'Produto 20'!AG$7","v":0},null,0]
[null,null,null,null,null,null,null,null,null,null,null,null,null,null,null,{"$f":"Produção!$A$26","v":"madeira vinhatico"},null,{"$f":"'Produto 21'!D$7","v":0},{"$f":"'Produto 21'!E$7","v":0},{"$f":"'Produto 21'!F$7","v":0},{"$f":"'Produto 21'!G$7","v":0},{"$f":"'Produto 21'!H$7","v":0},{"$f":"'Produto 21'!I$7","v":0},{"$f":"'Produto 21'!J$7","v":0},{"$f":"'Produto 21'!K$7","v":0},{"$f":"'Produto 21'!L$7","v":0},{"$f":"'Produto 21'!M$7","v":0},{"$f":"'Produto 21'!N$7","v":0},{"$f":"'Produto 21'!O$7","v":0},{"$f":"'Produto 21'!P$7","v":0},{"$f":"'Produto 21'!Q$7","v":0},{"$f":"'Produto 21'!R$7","v":0},{"$f":"'Produto 21'!S$7","v":0},{"$f":"'Produto 21'!T$7","v":0},{"$f":"'Produto 21'!U$7","v":0},{"$f":"'Produto 21'!V$7","v":0},{"$f":"'Produto 21'!W$7","v":0},{"$f":"'Produto 21'!X$7","v":0},{"$f":"'Produto 21'!Y$7","v":0},{"$f":"'Produto 21'!Z$7","v":0},{"$f":"'Produto 21'!AA$7","v":0},{"$f":"'Produto 21'!AB$7","v":0},{"$f":"'Produto 21'!AC$7","v":0},{"$f":"'Produto 21'!AD$7","v":0},{"$f":"'Produto 21'!AE$7","v":0},{"$f":"'Produto 21'!AF$7","v":0},{"$f":"'Produto 21'!AG$7","v":0},null,0]
[null,null,null,null,null,null,null,null,null,null,null,null,null,null,null,{"$f":"Produção!$A$27","v":"madeira jequitiba"},null,{"$f":"'Produto 22'!D$7","v":0},{"$f":"'Produto 22'!E$7","v":0},{"$f":"'Produto 22'!F$7","v":0},{"$f":"'Produto 22'!G$7","v":0},{"$f":"'Produto 22'!H$7","v":0},{"$f":"'Produto 22'!I$7","v":0},{"$f":"'Produto 22'!J$7","v":0},{"$f":"'Produto 22'!K$7","v":0},{"$f":"'Produto 22'!L$7","v":0},{"$f":"'Produto 22'!M$7","v":0},{"$f":"'Produto 22'!N$7","v":0},{"$f":"'Produto 22'!O$7","v":0},{"$f":"'Produto 22'!P$7","v":0},{"$f":"'Produto 22'!Q$7","v":0},{"$f":"'Produto 22'!R$7","v":0},{"$f":"'Produto 22'!S$7","v":0},{"$f":"'Produto 22'!T$7","v":0},{"$f":"'Produto 22'!U$7","v":0},{"$f":"'Produto 22'!V$7","v":0},{"$f":"'Produto 22'!W$7","v":0},{"$f":"'Produto 22'!X$7","v":0},{"$f":"'Produto 22'!Y$7","v":0},{"$f":"'Produto 22'!Z$7","v":0},{"$f":"'Produto 22'!AA$7","v":0},{"$f":"'Produto 22'!AB$7","v":0},{"$f":"'Produto 22'!AC$7","v":0},{"$f":"'Produto 22'!AD$7","v":0},{"$f":"'Produto 22'!AE$7","v":0},{"$f":"'Produto 22'!AF$7","v":0},{"$f":"'Produto 22'!AG$7","v":0},null,0]
[null,null,null,null,null,null,null,null,null,null,null,null,null,null,null,{"$f":"Produção!$A$28","v":"biomassa"},null,{"$f":"'Produto 23'!D$7","v":0},{"$f":"'Produto 23'!E$7","v":0},{"$f":"'Produto 23'!F$7","v":0},{"$f":"'Produto 23'!G$7","v":0},{"$f":"'Produto 23'!H$7","v":0},{"$f":"'Produto 23'!I$7","v":0},{"$f":"'Produto 23'!J$7","v":0},{"$f":"'Produto 23'!K$7","v":0},{"$f":"'Produto 23'!L$7","v":0},{"$f":"'Produto 23'!M$7","v":0},{"$f":"'Produto 23'!N$7","v":0},{"$f":"'Produto 23'!O$7","v":0},{"$f":"'Produto 23'!P$7","v":0},{"$f":"'Produto 23'!Q$7","v":0},{"$f":"'Produto 23'!R$7","v":0},{"$f":"'Produto 23'!S$7","v":0},{"$f":"'Produto 23'!T$7","v":0},{"$f":"'Produto 23'!U$7","v":0},{"$f":"'Produto 23'!V$7","v":0},{"$f":"'Produto 23'!W$7","v":0},{"$f":"'Produto 23'!X$7","v":0},{"$f":"'Produto 23'!Y$7","v":0},{"$f":"'Produto 23'!Z$7","v":0},{"$f":"'Produto 23'!AA$7","v":0},{"$f":"'Produto 23'!AB$7","v":0},{"$f":"'Produto 23'!AC$7","v":0},{"$f":"'Produto 23'!AD$7","v":0},{"$f":"'Produto 23'!AE$7","v":0},{"$f":"'Produto 23'!AF$7","v":0},{"$f":"'Produto 23'!AG$7","v":0},null,0]
[null,null,null,null,null,null,null,null,null,null,null,null,null,null,null,{"$f":"Produção!$A$29","v":"grão caupi"},null,{"$f":"'Produto 24'!D$7","v":0},{"$f":"'Produto 24'!E$7","v":0},{"$f":"'Produto 24'!F$7","v":0},{"$f":"'Produto 24'!G$7","v":0},{"$f":"'Produto 24'!H$7","v":0},{"$f":"'Produto 24'!I$7","v":0},{"$f":"'Produto 24'!J$7","v":0},{"$f":"'Produto 24'!K$7","v":0},{"$f":"'Produto 24'!L$7","v":0},{"$f":"'Produto 24'!M$7","v":0},{"$f":"'Produto 24'!N$7","v":0},{"$f":"'Produto 24'!O$7","v":0},{"$f":"'Produto 24'!P$7","v":0},{"$f":"'Produto 24'!Q$7","v":0},{"$f":"'Produto 24'!R$7","v":0},{"$f":"'Produto 24'!S$7","v":0},{"$f":"'Produto 24'!T$7","v":0},{"$f":"'Produto 24'!U$7","v":0},{"$f":"'Produto 24'!V$7","v":0},{"$f":"'Produto 24'!W$7","v":0},{"$f":"'Produto 24'!X$7","v":0},{"$f":"'Produto 24'!Y$7","v":0},{"$f":"'Produto 24'!Z$7","v":0},{"$f":"'Produto 24'!AA$7","v":0},{"$f":"'Produto 24'!AB$7","v":0},{"$f":"'Produto 24'!AC$7","v":0},{"$f":"'Produto 24'!AD$7","v":0},{"$f":"'Produto 24'!AE$7","v":0},{"$f":"'Produto 24'!AF$7","v":0},{"$f":"'Produto 24'!AG$7","v":0},null,{"$f":"SUM(Q57:AU57)","v":0}]
[]
[]
[null,null,null,null,null,null,null,null,null,null,null,null,null,null,null,"Custos de Insumos",{"$f":"SUM(Q61:Q85)","v":0},0,0,0,0,0,0,0,0,0,0,0,0,0,0,0,0,0,0,0,0,0,0,0,0,0,0,0,0,0,0]
[null,null,null,null,null,null,null,null,null,null,null,null,null,null,null,"Atividades Gerais",{"$f":"'Preparo e Gerais'!D$20","v":0},null,null,null,null,null,null,null,null,null,null,null,null,null,null,null,null,null,null,null,null,null,null,null,null,null,null,null,null,null,null,null,{"$f":"SUM(Q61:AU61)","v":0}]
[null,null,null,null,null,null,null,null,null,null,null,null,null,null,null,{"$f":"Produção!$A$6","v":"latex"},null,{"$f":"latex!D$24","v":0},{"$f":"latex!E$24","v":0},{"$f":"latex!F$24","v":0},{"$f":"latex!G$24","v":0},{"$f":"latex!H$24","v":0},{"$f":"latex!I$24","v":0},{"$f":"latex!J$24","v":0},{"$f":"latex!K$24","v":0},{"$f":"latex!L$24","v":0},{"$f":"latex!M$24","v":0},{"$f":"latex!N$24","v":0},{"$f":"latex!O$24","v":0},{"$f":"latex!P$24","v":0},{"$f":"latex!Q$24","v":0},{"$f":"latex!R$24","v":0},{"$f":"latex!S$24","v":0},{"$f":"latex!T$24","v":0},{"$f":"latex!U$24","v":0},{"$f":"latex!V$24","v":0},{"$f":"latex!W$24","v":0},{"$f":"latex!X$24","v":0},{"$f":"latex!Y$24","v":0},{"$f":"latex!Z$24","v":0},{"$f":"latex!AA$24","v":0},{"$f":"latex!AB$24","v":0},{"$f":"latex!AC$24","v":0},{"$f":"latex!AD$24","v":0},{"$f":"latex!AE$24","v":0},{"$f":"latex!AF$24","v":0},{"$f":"latex!AG$24","v":0},null,0]
[null,null,null,null,null,null,null,null,null,null,null,null,null,null,null,{"$f":"Produção!$A$7","v":"fruto genipapo"},null,{"$f":"'fruto genipapo'!D$24","v":0},{"$f":"'fruto genipapo'!E$24","v":0},{"$f":"'fruto genipapo'!F$24","v":0},{"$f":"'fruto genipapo'!G$24","v":0},{"$f":"'fruto genipapo'!H$24","v":0},{"$f":"'fruto genipapo'!I$24","v":0},{"$f":"'fruto genipapo'!J$24","v":0},{"$f":"'fruto genipapo'!K$24","v":0},{"$f":"'fruto genipapo'!L$24","v":0},{"$f":"'fruto genipapo'!M$24","v":0},{"$f":"'fruto genipapo'!N$24","v":0},{"$f":"'fruto genipapo'!O$24","v":0},{"$f":"'fruto genipapo'!P$24","v":0},{"$f":"'fruto genipapo'!Q$24","v":0},{"$f":"'fruto genipapo'!R$24","v":0},{"$f":"'fruto genipapo'!S$24","v":0},{"$f":"'fruto genipapo'!T$24","v":0},{"$f":"'fruto genipapo'!U$24","v":0},{"$f":"'fruto genipapo'!V$24","v":0},{"$f":"'fruto genipapo'!W$24","v":0},{"$f":"'fruto genipapo'!X$24","v":0},{"$f":"'fruto genipapo'!Y$24","v":0},{"$f":"'fruto genipapo'!Z$24","v":0},{"$f":"'fruto genipapo'!AA$24","v":0},{"$f":"'fruto genipapo'!AB$24","v":0},{"$f":"'fruto genipapo'!AC$24","v":0},{"$f":"'fruto genipapo'!AD$24","v":0},{"$f":"'fruto genipapo'!AE$24","v":0},{"$f":"'fruto genipapo'!AF$24","v":0},{"$f":"'fruto genipapo'!AG$24","v":0},null,0]
[null,null,null,null,null,null,null,null,null,null,null,null,null,null,null,{"$f":"Produção!$A$8","v":"fruto araçauna"},null,{"$f":"'fruto araçauna'!D$24","v":0},{"$f":"'fruto araçauna'!E$24","v":0},{"$f":"'fruto araçauna'!F$24","v":0},{"$f":"'fruto araçauna'!G$24","v":0},{"$f":"'fruto araçauna'!H$24","v":0},{"$f":"'fruto araçauna'!I$24","v":0},{"$f":"'fruto araçauna'!J$24","v":0},{"$f":"'fruto araçauna'!K$24","v":0},{"$f":"'fruto araçauna'!L$24","v":0},{"$f":"'fruto araçauna'!M$24","v":0},{"$f":"'fruto araçauna'!N$24","v":0},{"$f":"'fruto araçauna'!O$24","v":0},{"$f":"'fruto araçauna'!P$24","v":0},{"$f":"'fruto araçauna'!Q$24","v":0},{"$f":"'fruto araçauna'!R$24","v":0},{"$f":"'fruto araçauna'!S$24","v":0},{"$f":"'fruto araçauna'!T$24","v":0},{"$f":"'fruto araçauna'!U$24","v":0},{"$f":"'fruto araçauna'!V$24","v":0},{"$f":"'fruto araçauna'!W$24","v":0},{"$f":"'fruto araçauna'!X$24","v":0},{"$f":"'fruto araçauna'!Y$24","v":0},{"$f":"'fruto araçauna'!Z$24","v":0},{"$f":"'fruto araçauna'!AA$24","v":0},{"$f":"'fruto araçauna'!AB$24","v":0},{"$f":"'fruto araçauna'!AC$24","v":0},{"$f":"'fruto araçauna'!AD$24","v":0},{"$f":"'fruto araçauna'!AE$24","v":0},{"$f":"'fruto araçauna'!AF$24","v":0},{"$f":"'fruto araçauna'!AG$24","v":0},null,0]
[null,null,null,null,null,null,null,null,null,null,null,null,null,null,null,{"$f":"Produção!$A$9","v":"fruto pitanga"},null,{"$f":"'fruto pitanga'!D$24","v":0},{"$f":"'fruto pitanga'!E$24","v":0},{"$f":"'fruto pitanga'!F$24","v":0},{"$f":"'fruto pitanga'!G$24","v":0},{"$f":"'fruto pitanga'!H$24","v":0},{"$f":"'fruto pitanga'!I$24","v":0},{"$f":"'fruto pitanga'!J$24","v":0},{"$f":"'fruto pitanga'!K$24","v":0},{"$f":"'fruto pitanga'!L$24","v":0},{"$f":"'fruto pitanga'!M$24","v":0},{"$f":"'fruto pitanga'!N$24","v":0},{"$f":"'fruto pitanga'!O$24","v":0},{"$f":"'fruto pitanga'!P$24","v":0},{"$f":"'fruto pitanga'!Q$24","v":0},{"$f":"'fruto pitanga'!R$24","v":0},{"$f":"'fruto pitanga'!S$24","v":0},{"$f":"'fruto pitanga'!T$24","v":0},{"$f":"'fruto pitanga'!U$24","v":0},{"$f":"'fruto pitanga'!V$24","v":0},{"$f":"'fruto pitanga'!W$24","v":0},{"$f":"'fruto pitanga'!X$24","v":0},{"$f":"'fruto pitanga'!Y$24","v":0},{"$f":"'fruto pitanga'!Z$24","v":0},{"$f":"'fruto pitanga'!AA$24","v":0},{"$f":"'fruto pitanga'!AB$24","v":0},{"$f":"'fruto pitanga'!AC$24","v":0},{"$f":"'fruto pitanga'!AD$24","v":0},{"$f":"'fruto pitanga'!AE$24","v":0},{"$f":"'fruto pitanga'!AF$24","v":0},{"$f":"'fruto pitanga'!AG$24","v":0},null,0]
[null,null,null,null,null,null,null,null,null,null,null,null,null,null,null,{"$f":"Produção!$A$10","v":"castanha sapucaia"},null,{"$f":"Castanha!D$24","v":0},{"$f":"Castanha!E$24","v":0},{"$f":"Castanha!F$24","v":0},{"$f":"Castanha!G$24","v":0},{"$f":"Castanha!H$24","v":0},{"$f":"Castanha!I$24","v":0},{"$f":"Castanha!J$24","v":0},{"$f":"Castanha!K$24","v":0},{"$f":"Castanha!L$24","v":0},{"$f":"Castanha!M$24","v":0},{"$f":"Castanha!N$24","v":0},{"$f":"Castanha!O$24","v":0},{"$f":"Castanha!P$24","v":0},{"$f":"Castanha!Q$24","v":0},{"$f":"Castanha!R$24","v":0},{"$f":"Castanha!S$24","v":0},{"$f":"Castanha!T$24","v":0},{"$f":"Castanha!U$24","v":0},{"$f":"Castanha!V$24","v":0},{"$f":"Castanha!W$24","v":0},{"$f":"Castanha!X$24","v":0},{"$f":"Castanha!Y$24","v":0},{"$f":"Castanha!Z$24","v":0},{"$f":"Castanha!AA$24","v":0},{"$f":"Castanha!AB$24","v":0},{"$f":"Castanha!AC$24","v":0},{"$f":"Castanha!AD$24","v":0},{"$f":"Castanha!AE$24","v":0},{"$f":"Castanha!AF$24","v":0},{"$f":"Castanha!AG$24","v":0},null,0]
[null,null,null,null,null,null,null,null,null,null,null,null,null,null,null,{"$f":"Produção!$A$11","v":"fruto cajá"},null,{"$f":"'fruto cajá'!D$24","v":0},{"$f":"'fruto cajá'!E$24","v":0},{"$f":"'fruto cajá'!F$24","v":0},{"$f":"'fruto cajá'!G$24","v":0},{"$f":"'fruto cajá'!H$24","v":0},{"$f":"'fruto cajá'!I$24","v":0},{"$f":"'fruto cajá'!J$24","v":0},{"$f":"'fruto cajá'!K$24","v":0},{"$f":"'fruto cajá'!L$24","v":0},{"$f":"'fruto cajá'!M$24","v":0},{"$f":"'fruto cajá'!N$24","v":0},{"$f":"'fruto cajá'!O$24","v":0},{"$f":"'fruto cajá'!P$24","v":0},{"$f":"'fruto cajá'!Q$24","v":0},{"$f":"'fruto cajá'!R$24","v":0},{"$f":"'fruto cajá'!S$24","v":0},{"$f":"'fruto cajá'!T$24","v":0},{"$f":"'fruto cajá'!U$24","v":0},{"$f":"'fruto cajá'!V$24","v":0},{"$f":"'fruto cajá'!W$24","v":0},{"$f":"'fruto cajá'!X$24","v":0},{"$f":"'fruto cajá'!Y$24","v":0},{"$f":"'fruto cajá'!Z$24","v":0},{"$f":"'fruto cajá'!AA$24","v":0},{"$f":"'fruto cajá'!AB$24","v":0},{"$f":"'fruto cajá'!AC$24","v":0},{"$f":"'fruto cajá'!AD$24","v":0},{"$f":"'fruto cajá'!AE$24","v":0},{"$f":"'fruto cajá'!AF$24","v":0},{"$f":"'fruto cajá'!AG$24","v":0},null,{"$f":"SUM(Q67:AU67)","v":0}]
[null,null,null,null,null,null,null,null,null,null,null,null,null,null,null,{"$f":"Produção!$A$12","v":"semente urucum"},null,{"$f":"'semente urucum'!D$24","v":0},{"$f":"'semente urucum'!E$24","v":0},{"$f":"'semente urucum'!F$24","v":0},{"$f":"'semente urucum'!G$24","v":0},{"$f":"'semente urucum'!H$24","v":0},{"$f":"'semente urucum'!I$24","v":0},{"$f":"'semente urucum'!J$24","v":0},{"$f":"'semente urucum'!K$24","v":0},{"$f":"'semente urucum'!L$24","v":0},{"$f":"'semente urucum'!M$24","v":0},{"$f":"'semente urucum'!N$24","v":0},{"$f":"'semente urucum'!O$24","v":0},{"$f":"'semente urucum'!P$24","v":0},{"$f":"'semente urucum'!Q$24","v":0},{"$f":"'semente urucum'!R$24","v":0},{"$f":"'semente urucum'!S$24","v":0},{"$f":"'semente urucum'!T$24","v":0},{"$f":"'semente urucum'!U$24","v":0},{"$f":"'semente urucum'!V$24","v":0},{"$f":"'semente urucum'!W$24","v":0},{"$f":"'semente urucum'!X$24","v":0},{"$f":"'semente urucum'!Y$24","v":0},{"$f":"'semente urucum'!Z$24","v":0},{"$f":"'semente urucum'!AA$24","v":0},{"$f":"'semente urucum'!AB$24","v":0},{"$f":"'semente urucum'!AC$24","v":0},{"$f":"'semente urucum'!AD$24","v":0},{"$f":"'semente urucum'!AE$24","v":0},{"$f":"'semente urucum'!AF$24","v":0},{"$f":"'semente urucum'!AG$24","v":0},null,{"$f":"SUM(Q68:AU68)","v":0}]
[null,null,null,null,null,null,null,null,null,null,null,null,null,null,null,{"$f":"Produção!$A$13","v":"semente aroeira"},null,{"$f":"'semente aroeira'!D$24","v":0},{"$f":"'semente aroeira'!E$24","v":0},{"$f":"'semente aroeira'!F$24","v":0},{"$f":"'semente aroeira'!G$24","v":0},{"$f":"'semente aroeira'!H$24","v":0},{"$f":"'semente aroeira'!I$24","v":0},{"$f":"'semente aroeira'!J$24","v":0},{"$f":"'semente aroeira'!K$24","v":0},{"$f":"'semente aroeira'!L$24","v":0},{"$f":"'semente aroeira'!M$24","v":0},{"$f":"'semente aroeira'!N$24","v":0},{"$f":"'semente aroeira'!O$24","v":0},{"$f":"'semente aroeira'!P$24","v":0},{"$f":"'semente aroeira'!Q$24","v":0},{"$f":"'semente aroeira'!R$24","v":0},{"$f":"'semente aroeira'!S$24","v":0},{"$f":"'semente aroeira'!T$24","v":0},{"$f":"'semente aroeira'!U$24","v":0},{"$f":"'semente aroeira'!V$24","v":0},{"$f":"'semente aroeira'!W$24","v":0},{"$f":"'semente aroeira'!X$24","v":0},{"$f":"'semente aroeira'!Y$24","v":0},{"$f":"'semente aroeira'!Z$24","v":0},{"$f":"'semente aroeira'!AA$24","v":0},{"$f":"'semente aroeira'!AB$24","v":0},{"$f":"'semente aroeira'!AC$24","v":0},{"$f":"'semente aroeira'!AD$24","v":0},{"$f":"'semente aroeira'!AE$24","v":0},{"$f":"'semente aroeira'!AF$24","v":0},{"$f":"'semente aroeira'!AG$24","v":0},null,{"$f":"SUM(Q69:AU69)","v":0}]
[null,null,null,null,null,null,null,null,null,null,null,null,null,null,null,{"$f":"Produção!$A$14","v":"raiz mandioca"},null,{"$f":"'raiz mandioca'!D$24","v":0},{"$f":"'raiz mandioca'!E$24","v":0},{"$f":"'raiz mandioca'!F$24","v":0},{"$f":"'raiz mandioca'!G$24","v":0},{"$f":"'raiz mandioca'!H$24","v":0},{"$f":"'raiz mandioca'!I$24","v":0},{"$f":"'raiz mandioca'!J$24","v":0},{"$f":"'raiz mandioca'!K$24","v":0},{"$f":"'raiz mandioca'!L$24","v":0},{"$f":"'raiz mandioca'!M$24","v":0},{"$f":"'raiz mandioca'!N$24","v":0},{"$f":"'raiz mandioca'!O$24","v":0},{"$f":"'raiz mandioca'!P$24","v":0},{"$f":"'raiz mandioca'!Q$24","v":0},{"$f":"'raiz mandioca'!R$24","v":0},{"$f":"'raiz mandioca'!S$24","v":0},{"$f":"'raiz mandioca'!T$24","v":0},{"$f":"'raiz mandioca'!U$24","v":0},{"$f":"'raiz mandioca'!V$24","v":0},{"$f":"'raiz mandioca'!W$24","v":0},{"$f":"'raiz mandioca'!X$24","v":0},{"$f":"'raiz mandioca'!Y$24","v":0},{"$f":"'raiz mandioca'!Z$24","v":0},{"$f":"'raiz mandioca'!AA$24","v":0},{"$f":"'raiz mandioca'!AB$24","v":0},{"$f":"'raiz mandioca'!AC$24","v":0},{"$f":"'raiz mandioca'!AD$24","v":0},{"$f":"'raiz mandioca'!AE$24","v":0},{"$f":"'raiz mandioca'!AF$24","v":0},{"$f":"'raiz mandioca'!AG$24","v":0},null,{"$f":"SUM(Q70:AU70)","v":0}]
[null,null,null,null,null,null,null,null,null,null,null,null,null,null,null,{"$f":"Produção!$A$15","v":"fruto abacaxi"},null,{"$f":"abacaxi!D$24","v":0},{"$f":"abacaxi!E$24","v":0},{"$f":"abacaxi!F$24","v":0},{"$f":"abacaxi!G$24","v":0},{"$f":"abacaxi!H$24","v":0},{"$f":"abacaxi!I$24","v":0},{"$f":"abacaxi!J$24","v":0},{"$f":"abacaxi!K$24","v":0},{"$f":"abacaxi!L$24","v":0},{"$f":"abacaxi!M$24","v":0},{"$f":"abacaxi!N$24","v":0},{"$f":"abacaxi!O$24","v":0},{"$f":"abacaxi!P$24","v":0},{"$f":"abacaxi!Q$24","v":0},{"$f":"abacaxi!R$24","v":0},{"$f":"abacaxi!S$24","v":0},{"$f":"abacaxi!T$24","v":0},{"$f":"abacaxi!U$24","v":0},{"$f":"abacaxi!V$24","v":0},{"$f":"abacaxi!W$24","v":0},{"$f":"abacaxi!X$24","v":0},{"$f":"abacaxi!Y$24","v":0},{"$f":"abacaxi!Z$24","v":0},{"$f":"abacaxi!AA$24","v":0},{"$f":"abacaxi!AB$24","v":0},{"$f":"abacaxi!AC$24","v":0},{"$f":"abacaxi!AD$24","v":0},{"$f":"abacaxi!AE$24","v":0},{"$f":"abacaxi!AF$24","v":0},{"$f":"abacaxi!AG$24","v":0},null,{"$f":"SUM(Q71:AU71)","v":0}]
[null,null,null,null,null,null,null,null,null,null,null,null,null,null,null,{"$f":"Produção!$A$16","v":"espigas milho"},null,{"$f":"espigas!D$24","v":0},{"$f":"espigas!E$24","v":0},{"$f":"espigas!F$24","v":0},{"$f":"espigas!G$24","v":0},{"$f":"espigas!H$24","v":0},{"$f":"espigas!I$24","v":0},{"$f":"espigas!J$24","v":0},{"$f":"espigas!K$24","v":0},{"$f":"espigas!L$24","v":0},{"$f":"espigas!M$24","v":0},{"$f":"espigas!N$24","v":0},{"$f":"espigas!O$24","v":0},{"$f":"espigas!P$24","v":0},{"$f":"espigas!Q$24","v":0},{"$f":"espigas!R$24","v":0},{"$f":"espigas!S$24","v":0},{"$f":"espigas!T$24","v":0},{"$f":"espigas!U$24","v":0},{"$f":"espigas!V$24","v":0},{"$f":"espigas!W$24","v":0},{"$f":"espigas!X$24","v":0},{"$f":"espigas!Y$24","v":0},{"$f":"espigas!Z$24","v":0},{"$f":"espigas!AA$24","v":0},{"$f":"espigas!AB$24","v":0},{"$f":"espigas!AC$24","v":0},{"$f":"espigas!AD$24","v":0},{"$f":"espigas!AE$24","v":0},{"$f":"espigas!AF$24","v":0},{"$f":"espigas!AG$24","v":0},null,0]
[null,null,null,null,null,null,null,null,null,null,null,null,null,null,null,{"$f":"Produção!$A$17","v":"estaca sansão do campo"},null,{"$f":"'semente caupi'!D$24","v":0},{"$f":"'semente caupi'!E$24","v":0},{"$f":"'semente caupi'!F$24","v":0},{"$f":"'semente caupi'!G$24","v":0},{"$f":"'semente caupi'!H$24","v":0},{"$f":"'semente caupi'!I$24","v":0},{"$f":"'semente caupi'!J$24","v":0},{"$f":"'semente caupi'!K$24","v":0},{"$f":"'semente caupi'!L$24","v":0},{"$f":"'semente caupi'!M$24","v":0},{"$f":"'semente caupi'!N$24","v":0},{"$f":"'semente caupi'!O$24","v":0},{"$f":"'semente caupi'!P$24","v":0},{"$f":"'semente caupi'!Q$24","v":0},{"$f":"'semente caupi'!R$24","v":0},{"$f":"'semente caupi'!S$24","v":0},{"$f":"'semente caupi'!T$24","v":0},{"$f":"'semente caupi'!U$24","v":0},{"$f":"'semente caupi'!V$24","v":0},{"$f":"'semente caupi'!W$24","v":0},{"$f":"'semente caupi'!X$24","v":0},{"$f":"'semente caupi'!Y$24","v":0},{"$f":"'semente caupi'!Z$24","v":0},{"$f":"'semente caupi'!AA$24","v":0},{"$f":"'semente caupi'!AB$24","v":0},{"$f":"'semente caupi'!AC$24","v":0},{"$f":"'semente caupi'!AD$24","v":0},{"$f":"'semente caupi'!AE$24","v":0},{"$f":"'semente caupi'!AF$24","v":0},{"$f":"'semente caupi'!AG$24","v":0},null,0]
[null,null,null,null,null,null,null,null,null,null,null,null,null,null,null,{"$f":"Produção!$A$18","v":"madeira madeira nova"},null,{"$f":"biomassa!D$24","v":0},{"$f":"biomassa!E$24","v":0},{"$f":"biomassa!F$24","v":0},{"$f":"biomassa!G$24","v":0},{"$f":"biomassa!H$24","v":0},{"$f":"biomassa!I$24","v":0},{"$f":"biomassa!J$24","v":0},{"$f":"biomassa!K$24","v":0},{"$f":"biomassa!L$24","v":0},{"$f":"biomassa!M$24","v":0},{"$f":"biomassa!N$24","v":0},{"$f":"biomassa!O$24","v":0},{"$f":"biomassa!P$24","v":0},{"$f":"biomassa!Q$24","v":0},{"$f":"biomassa!R$24","v":0},{"$f":"biomassa!S$24","v":0},{"$f":"biomassa!T$24","v":0},{"$f":"biomassa!U$24","v":0},{"$f":"biomassa!V$24","v":0},{"$f":"biomassa!W$24","v":0},{"$f":"biomassa!X$24","v":0},{"$f":"biomassa!Y$24","v":0},{"$f":"biomassa!Z$24","v":0},{"$f":"biomassa!AA$24","v":0},{"$f":"biomassa!AB$24","v":0},{"$f":"biomassa!AC$24","v":0},{"$f":"biomassa!AD$24","v":0},{"$f":"biomassa!AE$24","v":0},{"$f":"biomassa!AF$24","v":0},{"$f":"biomassa!AG$24","v":0},null,0]
[null,null,null,null,null,null,null,null,null,null,null,null,null,null,null,{"$f":"Produção!$A$19","v":"lenha fedegoso"},null,{"$f":"madeira!D$24","v":0},{"$f":"madeira!E$24","v":0},{"$f":"madeira!F$24","v":0},{"$f":"madeira!G$24","v":0},{"$f":"madeira!H$24","v":0},{"$f":"madeira!I$24","v":0},{"$f":"madeira!J$24","v":0},{"$f":"madeira!K$24","v":0},{"$f":"madeira!L$24","v":0},{"$f":"madeira!M$24","v":0},{"$f":"madeira!N$24","v":0},{"$f":"madeira!O$24","v":0},{"$f":"madeira!P$24","v":0},{"$f":"madeira!Q$24","v":0},{"$f":"madeira!R$24","v":0},{"$f":"madeira!S$24","v":0},{"$f":"madeira!T$24","v":0},{"$f":"madeira!U$24","v":0},{"$f":"madeira!V$24","v":0},{"$f":"madeira!W$24","v":0},{"$f":"madeira!X$24","v":0},{"$f":"madeira!Y$24","v":0},{"$f":"madeira!Z$24","v":0},{"$f":"madeira!AA$24","v":0},{"$f":"madeira!AB$24","v":0},{"$f":"madeira!AC$24","v":0},{"$f":"madeira!AD$24","v":0},{"$f":"madeira!AE$24","v":0},{"$f":"madeira!AF$24","v":0},{"$f":"madeira!AG$24","v":0},null,0]
[null,null,null,null,null,null,null,null,null,null,null,null,null,null,null,{"$f":"Produção!$A$20","v":"estaca pau d'alho"},null,{"$f":"'Produto 15'!D$24","v":0},{"$f":"'Produto 15'!E$24","v":0},{"$f":"'Produto 15'!F$24","v":0},{"$f":"'Produto 15'!G$24","v":0},{"$f":"'Produto 15'!H$24","v":0},{"$f":"'Produto 15'!I$24","v":0},{"$f":"'Produto 15'!J$24","v":0},{"$f":"'Produto 15'!K$24","v":0},{"$f":"'Produto 15'!L$24","v":0},{"$f":"'Produto 15'!M$24","v":0},{"$f":"'Produto 15'!N$24","v":0},{"$f":"'Produto 15'!O$24","v":0},{"$f":"'Produto 15'!P$24","v":0},{"$f":"'Produto 15'!Q$24","v":0},{"$f":"'Produto 15'!R$24","v":0},{"$f":"'Produto 15'!S$24","v":0},{"$f":"'Produto 15'!T$24","v":0},{"$f":"'Produto 15'!U$24","v":0},{"$f":"'Produto 15'!V$24","v":0},{"$f":"'Produto 15'!W$24","v":0},{"$f":"'Produto 15'!X$24","v":0},{"$f":"'Produto 15'!Y$24","v":0},{"$f":"'Produto 15'!Z$24","v":0},{"$f":"'Produto 15'!AA$24","v":0},{"$f":"'Produto 15'!AB$24","v":0},{"$f":"'Produto 15'!AC$24","v":0},{"$f":"'Produto 15'!AD$24","v":0},{"$f":"'Produto 15'!AE$24","v":0},{"$f":"'Produto 15'!AF$24","v":0},{"$f":"'Produto 15'!AG$24","v":0},null,0]
[null,null,null,null,null,null,null,null,null,null,null,null,null,null,null,{"$f":"Produção!$A$21","v":"caixotaria boleira"},null,{"$f":"'Produto 16'!D$24","v":0},{"$f":"'Produto 16'!E$24","v":0},{"$f":"'Produto 16'!F$24","v":0},{"$f":"'Produto 16'!G$24","v":0},{"$f":"'Produto 16'!H$24","v":0},{"$f":"'Produto 16'!I$24","v":0},{"$f":"'Produto 16'!J$24","v":0},{"$f":"'Produto 16'!K$24","v":0},{"$f":"'Produto 16'!L$24","v":0},{"$f":"'Produto 16'!M$24","v":0},{"$f":"'Produto 16'!N$24","v":0},{"$f":"'Produto 16'!O$24","v":0},{"$f":"'Produto 16'!P$24","v":0},{"$f":"'Produto 16'!Q$24","v":0},{"$f":"'Produto 16'!R$24","v":0},{"$f":"'Produto 16'!S$24","v":0},{"$f":"'Produto 16'!T$24","v":0},{"$f":"'Produto 16'!U$24","v":0},{"$f":"'Produto 16'!V$24","v":0},{"$f":"'Produto 16'!W$24","v":0},{"$f":"'Produto 16'!X$24","v":0},{"$f":"'Produto 16'!Y$24","v":0},{"$f":"'Produto 16'!Z$24","v":0},{"$f":"'Produto 16'!AA$24","v":0},{"$f":"'Produto 16'!AB$24","v":0},{"$f":"'Produto 16'!AC$24","v":0},{"$f":"'Produto 16'!AD$24","v":0},{"$f":"'Produto 16'!AE$24","v":0},{"$f":"'Produto 16'!AF$24","v":0},{"$f":"'Produto 16'!AG$24","v":0},null,0]
[null,null,null,null,null,null,null,null,null,null,null,null,null,null,null,{"$f":"Produção!$A$22","v":"madeira angico roxo"},null,{"$f":"'Produto 17'!D$24","v":0},{"$f":"'Produto 17'!E$24","v":0},{"$f":"'Produto 17'!F$24","v":0},{"$f":"'Produto 17'!G$24","v":0},{"$f":"'Produto 17'!H$24","v":0},{"$f":"'Produto 17'!I$24","v":0},{"$f":"'Produto 17'!J$24","v":0},{"$f":"'Produto 17'!K$24","v":0},{"$f":"'Produto 17'!L$24","v":0},{"$f":"'Produto 17'!M$24","v":0},{"$f":"'Produto 17'!N$24","v":0},{"$f":"'Produto 17'!O$24","v":0},{"$f":"'Produto 17'!P$24","v":0},{"$f":"'Produto 17'!Q$24","v":0},{"$f":"'Produto 17'!R$24","v":0},{"$f":"'Produto 17'!S$24","v":0},{"$f":"'Produto 17'!T$24","v":0},{"$f":"'Produto 17'!U$24","v":0},{"$f":"'Produto 17'!V$24","v":0},{"$f":"'Produto 17'!W$24","v":0},{"$f":"'Produto 17'!X$24","v":0},{"$f":"'Produto 17'!Y$24","v":0},{"$f":"'Produto 17'!Z$24","v":0},{"$f":"'Produto 17'!AA$24","v":0},{"$f":"'Produto 17'!AB$24","v":0},{"$f":"'Produto 17'!AC$24","v":0},{"$f":"'Produto 17'!AD$24","v":0},{"$f":"'Produto 17'!AE$24","v":0},{"$f":"'Produto 17'!AF$24","v":0},{"$f":"'Produto 17'!AG$24","v":0},null,{"$f":"SUM(Q78:AU78)","v":0}]
[null,null,null,null,null,null,null,null,null,null,null,null,null,null,null,{"$f":"Produção!$A$23","v":"madeira ipê roxo"},null,{"$f":"'Produto 18'!D$24","v":0},{"$f":"'Produto 18'!E$24","v":0},{"$f":"'Produto 18'!F$24","v":0},{"$f":"'Produto 18'!G$24","v":0},{"$f":"'Produto 18'!H$24","v":0},{"$f":"'Produto 18'!I$24","v":0},{"$f":"'Produto 18'!J$24","v":0},{"$f":"'Produto 18'!K$24","v":0},{"$f":"'Produto 18'!L$24","v":0},{"$f":"'Produto 18'!M$24","v":0},{"$f":"'Produto 18'!N$24","v":0},{"$f":"'Produto 18'!O$24","v":0},{"$f":"'Produto 18'!P$24","v":0},{"$f":"'Produto 18'!Q$24","v":0},{"$f":"'Produto 18'!R$24","v":0},{"$f":"'Produto 18'!S$24","v":0},{"$f":"'Produto 18'!T$24","v":0},{"$f":"'Produto 18'!U$24","v":0},{"$f":"'Produto 18'!V$24","v":0},{"$f":"'Produto 18'!W$24","v":0},{"$f":"'Produto 18'!X$24","v":0},{"$f":"'Produto 18'!Y$24","v":0},{"$f":"'Produto 18'!Z$24","v":0},{"$f":"'Produto 18'!AA$24","v":0},{"$f":"'Produto 18'!AB$24","v":0},{"$f":"'Produto 18'!AC$24","v":0},{"$f":"'Produto 18'!AD$24","v":0},{"$f":"'Produto 18'!AE$24","v":0},{"$f":"'Produto 18'!AF$24","v":0},{"$f":"'Produto 18'!AG$24","v":0},null,0]
[null,null,null,null,null,null,null,null,null,null,null,null,null,null,null,{"$f":"Produção!$A$24","v":"madeira ipê amarelo"},null,{"$f":"'Produto 19'!D$24","v":0},{"$f":"'Produto 19'!E$24","v":0},{"$f":"'Produto 19'!F$24","v":0},{"$f":"'Produto 19'!G$24","v":0},{"$f":"'Produto 19'!H$24","v":0},{"$f":"'Produto 19'!I$24","v":0},{"$f":"'Produto 19'!J$24","v":0},{"$f":"'Produto 19'!K$24","v":0},{"$f":"'Produto 19'!L$24","v":0},{"$f":"'Produto 19'!M$24","v":0},{"$f":"'Produto 19'!N$24","v":0},{"$f":"'Produto 19'!O$24","v":0},{"$f":"'Produto 19'!P$24","v":0},{"$f":"'Produto 19'!Q$24","v":0},{"$f":"'Produto 19'!R$24","v":0},{"$f":"'Produto 19'!S$24","v":0},{"$f":"'Produto 19'!T$24","v":0},{"$f":"'Produto 19'!U$24","v":0},{"$f":"'Produto 19'!V$24","v":0},{"$f":"'Produto 19'!W$24","v":0},{"$f":"'Produto 19'!X$24","v":0},{"$f":"'Produto 19'!Y$24","v":0},{"$f":"'Produto 19'!Z$24","v":0},{"$f":"'Produto 19'!AA$24","v":0},{"$f":"'Produto 19'!AB$24","v":0},{"$f":"'Produto 19'!AC$24","v":0},{"$f":"'Produto 19'!AD$24","v":0},{"$f":"'Produto 19'!AE$24","v":0},{"$f":"'Produto 19'!AF$24","v":0},{"$f":"'Produto 19'!AG$24","v":0},null,0]
[null,null,null,null,null,null,null,null,null,null,null,null,null,null,null,{"$f":"Produção!$A$25","v":"madeira gonçalo alves"},null,{"$f":"'Produto 20'!D$24","v":0},{"$f":"'Produto 20'!E$24","v":0},{"$f":"'Produto 20'!F$24","v":0},{"$f":"'Produto 20'!G$24","v":0},{"$f":"'Produto 20'!H$24","v":0},{"$f":"'Produto 20'!I$24","v":0},{"$f":"'Produto 20'!J$24","v":0},{"$f":"'Produto 20'!K$24","v":0},{"$f":"'Produto 20'!L$24","v":0},{"$f":"'Produto 20'!M$24","v":0},{"$f":"'Produto 20'!N$24","v":0},{"$f":"'Produto 20'!O$24","v":0},{"$f":"'Produto 20'!P$24","v":0},{"$f":"'Produto 20'!Q$24","v":0},{"$f":"'Produto 20'!R$24","v":0},{"$f":"'Produto 20'!S$24","v":0},{"$f":"'Produto 20'!T$24","v":0},{"$f":"'Produto 20'!U$24","v":0},{"$f":"'Produto 20'!V$24","v":0},{"$f":"'Produto 20'!W$24","v":0},{"$f":"'Produto 20'!X$24","v":0},{"$f":"'Produto 20'!Y$24","v":0},{"$f":"'Produto 20'!Z$24","v":0},{"$f":"'Produto 20'!AA$24","v":0},{"$f":"'Produto 20'!AB$24","v":0},{"$f":"'Produto 20'!AC$24","v":0},{"$f":"'Produto 20'!AD$24","v":0},{"$f":"'Produto 20'!AE$24","v":0},{"$f":"'Produto 20'!AF$24","v":0},{"$f":"'Produto 20'!AG$24","v":0},null,0]
[null,null,null,null,null,null,null,null,null,null,null,null,null,null,null,{"$f":"Produção!$A$26","v":"madeira vinhatico"},null,{"$f":"'Produto 21'!D$24","v":0},{"$f":"'Produto 21'!E$24","v":0},{"$f":"'Produto 21'!F$24","v":0},{"$f":"'Produto 21'!G$24","v":0},{"$f":"'Produto 21'!H$24","v":0},{"$f":"'Produto 21'!I$24","v":0},{"$f":"'Produto 21'!J$24","v":0},{"$f":"'Produto 21'!K$24","v":0},{"$f":"'Produto 21'!L$24","v":0},{"$f":"'Produto 21'!M$24","v":0},{"$f":"'Produto 21'!N$24","v":0},{"$f":"'Produto 21'!O$24","v":0},{"$f":"'Produto 21'!P$24","v":0},{"$f":"'Produto 21'!Q$24","v":0},{"$f":"'Produto 21'!R$24","v":0},{"$f":"'Produto 21'!S$24","v":0},{"$f":"'Produto 21'!T$24","v":0},{"$f":"'Produto 21'!U$24","v":0},{"$f":"'Produto 21'!V$24","v":0},{"$f":"'Produto 21'!W$24","v":0},{"$f":"'Produto 21'!X$24","v":0},{"$f":"'Produto 21'!Y$24","v":0},{"$f":"'Produto 21'!Z$24","v":0},{"$f":"'Produto 21'!AA$24","v":0},{"$f":"'Produto 21'!AB$24","v":0},{"$f":"'Produto 21'!AC$24","v":0},{"$f":"'Produto 21'!AD$24","v":0},{"$f":"'Produto 21'!AE$24","v":0},{"$f":"'Produto 21'!AF$24","v":0},{"$f":"'Produto 21'!AG$24","v":0},null,0]
[null,null,null,null,null,null,null,null,null,null,null,null,null,null,null,{"$f":"Produção!$A$27","v":"madeira jequitiba"},null,{"$f":"'Produto 22'!D$24","v":0},{"$f":"'Produto 22'!E$24","v":0},{"$f":"'Produto 22'!F$24","v":0},{"$f":"'Produto 22'!G$24","v":0},{"$f":"'Produto 22'!H$24","v":0},{"$f":"'Produto 22'!I$24","v":0},{"$f":"'Produto 22'!J$24","v":0},{"$f":"'Produto 22'!K$24","v":0},{"$f":"'Produto 22'!L$24","v":0},{"$f":"'Produto 22'!M$24","v":0},{"$f":"'Produto 22'!N$24","v":0},{"$f":"'Produto 22'!O$24","v":0},{"$f":"'Produto 22'!P$24","v":0},{"$f":"'Produto 22'!Q$24","v":0},{"$f":"'Produto 22'!R$24","v":0},{"$f":"'Produto 22'!S$24","v":0},{"$f":"'Produto 22'!T$24","v":0},{"$f":"'Produto 22'!U$24","v":0},{"$f":"'Produto 22'!V$24","v":0},{"$f":"'Produto 22'!W$24","v":0},{"$f":"'Produto 22'!X$24","v":0},{"$f":"'Produto 22'!Y$24","v":0},{"$f":"'Produto 22'!Z$24","v":0},{"$f":"'Produto 22'!AA$24","v":0},{"$f":"'Produto 22'!AB$24","v":0},{"$f":"'Produto 22'!AC$24","v":0},{"$f":"'Produto 22'!AD$24","v":0},{"$f":"'Produto 22'!AE$24","v":0},{"$f":"'Produto 22'!AF$24","v":0},{"$f":"'Produto 22'!AG$24","v":0},null,0]
[null,null,null,null,null,null,null,null,null,null,null,null,null,null,null,{"$f":"Produção!$A$28","v":"biomassa"},null,{"$f":"'Produto 23'!D$24","v":0},{"$f":"'Produto 23'!E$24","v":0},{"$f":"'Produto 23'!F$24","v":0},{"$f":"'Produto 23'!G$24","v":0},{"$f":"'Produto 23'!H$24","v":0},{"$f":"'Produto 23'!I$24","v":0},{"$f":"'Produto 23'!J$24","v":0},{"$f":"'Produto 23'!K$24","v":0},{"$f":"'Produto 23'!L$24","v":0},{"$f":"'Produto 23'!M$24","v":0},{"$f":"'Produto 23'!N$24","v":0},{"$f":"'Produto 23'!O$24","v":0},{"$f":"'Produto 23'!P$24","v":0},{"$f":"'Produto 23'!Q$24","v":0},{"$f":"'Produto 23'!R$24","v":0},{"$f":"'Produto 23'!S$24","v":0},{"$f":"'Produto 23'!T$24","v":0},{"$f":"'Produto 23'!U$24","v":0},{"$f":"'Produto 23'!V$24","v":0},{"$f":"'Produto 23'!W$24","v":0},{"$f":"'Produto 23'!X$24","v":0},{"$f":"'Produto 23'!Y$24","v":0},{"$f":"'Produto 23'!Z$24","v":0},{"$f":"'Produto 23'!AA$24","v":0},{"$f":"'Produto 23'!AB$24","v":0},{"$f":"'Produto 23'!AC$24","v":0},{"$f":"'Produto 23'!AD$24","v":0},{"$f":"'Produto 23'!AE$24","v":0},{"$f":"'Produto 23'!AF$24","v":0},{"$f":"'Produto 23'!AG$24","v":0},null,0]
[null,null,null,null,null,null,null,null,null,null,null,null,null,null,null,{"$f":"Produção!$A$29","v":"grão caupi"},null,{"$f":"'Produto 24'!D$24","v":0},{"$f":"'Produto 24'!E$24","v":0},{"$f":"'Produto 24'!F$24","v":0},{"$f":"'Produto 24'!G$24","v":0},{"$f":"'Produto 24'!H$24","v":0},{"$f":"'Produto 24'!I$24","v":0},{"$f":"'Produto 24'!J$24","v":0},{"$f":"'Produto 24'!K$24","v":0},{"$f":"'Produto 24'!L$24","v":0},{"$f":"'Produto 24'!M$24","v":0},{"$f":"'Produto 24'!N$24","v":0},{"$f":"'Produto 24'!O$24","v":0},{"$f":"'Produto 24'!P$24","v":0},{"$f":"'Produto 24'!Q$24","v":0},{"$f":"'Produto 24'!R$24","v":0},{"$f":"'Produto 24'!S$24","v":0},{"$f":"'Produto 24'!T$24","v":0},{"$f":"'Produto 24'!U$24","v":0},{"$f":"'Produto 24'!V$24","v":0},{"$f":"'Produto 24'!W$24","v":0},{"$f":"'Produto 24'!X$24","v":0},{"$f":"'Produto 24'!Y$24","v":0},{"$f":"'Produto 24'!Z$24","v":0},{"$f":"'Produto 24'!AA$24","v":0},{"$f":"'Produto 24'!AB$24","v":0},{"$f":"'Produto 24'!AC$24","v":0},{"$f":"'Produto 24'!AD$24","v":0},{"$f":"'Produto 24'!AE$24","v":0},{"$f":"'Produto 24'!AF$24","v":0},{"$f":"'Produto 24'!AG$24","v":0},null,{"$f":"SUM(Q85:AU85)","v":0}]
[]
[]
[null,null,null,null,null,null,null,null,null,null,null,null,null,null,null,null,"MO","Insumos","Diárias","CustTot","RecTot"]
[null,null,null,null,null,null,null,null,null,null,null,null,null,null,null,{"$f":"Produção!$A$6","v":"latex"},{"$f":"AW34","v":0},{"$f":"AW62","v":0},{"$f":"SUM(R5:AA5)","v":0},{"$f":"(Q89+R89)*-1","v":0},{"$f":"'Resultados Fin'!C71","v":12267}]
[null,null,null,null,null,null,null,null,null,null,null,null,null,null,null,{"$f":"Produção!$A$7","v":"fruto genipapo"},0,0,{"$f":"SUM(R6:AA6)","v":0},{"$f":"(Q90+R90)*-1","v":0},{"$f":"'Resultados Fin'!C72","v":42688}]
[null,null,null,null,null,null,null,null,null,null,null,null,null,null,null,{"$f":"Produção!$A$8","v":"fruto araçauna"},0,0,0,0,{"$f":"'Resultados Fin'!C73","v":3920}]
[null,null,null,null,null,null,null,null,null,null,null,null,null,null,null,{"$f":"Produção!$A$9","v":"fruto pitanga"},0,0,0,0,{"$f":"'Resultados Fin'!C74","v":3990}]
[null,null,null,null,null,null,null,null,null,null,null,null,null,null,null,{"$f":"Produção!$A$10","v":"castanha sapucaia"},0,0,0,0,{"$f":"'Resultados Fin'!C75","v":72240}]
[null,null,null,null,null,null,null,null,null,null,null,null,null,null,null,{"$f":"Produção!$A$11","v":"fruto cajá"},0,0,0,0,{"$f":"'Resultados Fin'!C76","v":52184}]
[null,null,null,null,null,null,null,null,null,null,null,null,null,null,null,{"$f":"Produção!$A$12","v":"semente urucum"},0,0,0,0,{"$f":"'Resultados Fin'!C77","v":22720}]
[null,null,null,null,null,null,null,null,null,null,null,null,null,null,null,{"$f":"Produção!$A$13","v":"semente aroeira"},0,0,0,0,{"$f":"'Resultados Fin'!C78","v":5220}]
[null,null,null,null,null,null,null,null,null,null,null,null,null,null,null,{"$f":"Produção!$A$14","v":"raiz mandioca"},0,0,0,0,{"$f":"'Resultados Fin'!C79","v":9120}]
[null,null,null,null,null,null,null,null,null,null,null,null,null,null,null,{"$f":"Produção!$A$15","v":"fruto abacaxi"},0,0,0,0,{"$f":"'Resultados Fin'!C80","v":5490}]
[null,null,null,null,null,null,null,null,null,null,null,null,null,null,null,{"$f":"Produção!$A$16","v":"espigas milho"},0,0,0,0,{"$f":"'Resultados Fin'!C81","v":4275}]
[null,null,null,null,null,null,null,null,null,null,null,null,null,null,null,{"$f":"Produção!$A$17","v":"estaca sansão do campo"},0,0,0,0,{"$f":"'Resultados Fin'!C82","v":1080}]
[null,null,null,null,null,null,null,null,null,null,null,null,null,null,null,{"$f":"Produção!$A$18","v":"madeira madeira nova"},0,0,0,0,{"$f":"'Resultados Fin'!C83","v":2500}]
[null,null,null,null,null,null,null,null,null,null,null,null,null,null,null,{"$f":"Produção!$A$19","v":"lenha fedegoso"},0,0,0,0,{"$f":"'Resultados Fin'!C84","v":250}]
[null,null,null,null,null,null,null,null,null,null,null,null,null,null,null,{"$f":"Produção!$A$20","v":"estaca pau d'alho"},0,0,0,0,{"$f":"'Resultados Fin'!C85","v":0}]
[null,null,null,null,null,null,null,null,null,null,null,null,null,null,null,{"$f":"Produção!$A$21","v":"caixotaria boleira"},0,0,0,0,{"$f":"'Resultados Fin'!C86","v":500}]
[null,null,null,null,null,null,null,null,null,null,null,null,null,null,null,{"$f":"Produção!$A$22","v":"madeira angico roxo"},0,{"$f":"AW78","v":0},0,0,{"$f":"'Resultados Fin'!C87","v":3150}]
[null,null,null,null,null,null,null,null,null,null,null,null,null,null,null,{"$f":"Produção!$A$23","v":"madeira ipê roxo"},0,0,0,0,{"$f":"'Resultados Fin'!C88","v":0}]
[null,null,null,null,null,null,null,null,null,null,null,null,null,null,null,{"$f":"Produção!$A$24","v":"madeira ipê amarelo"},0,0,0,0,{"$f":"'Resultados Fin'!C89","v":12600}]
[null,null,null,null,null,null,null,null,null,null,null,null,null,null,null,{"$f":"Produção!$A$25","v":"madeira gonçalo alves"},0,0,0,0,{"$f":"'Resultados Fin'!C90","v":0}]
[null,null,null,null,null,null,null,null,null,null,null,null,null,null,null,{"$f":"Produção!$A$26","v":"madeira vinhatico"},0,0,0,0,{"$f":"'Resultados Fin'!C91","v":3500}]
[null,null,null,null,null,null,null,null,null,null,null,null,null,null,null,{"$f":"Produção!$A$27","v":"madeira jequitiba"},0,0,0,0,{"$f":"'Resultados Fin'!C92","v":1400}]
[null,null,null,null,null,null,null,null,null,null,null,null,null,null,null,{"$f":"Produção!$A$28","v":"biomassa"},0,0,0,0,{"$f":"'Resultados Fin'!C93","v":0}]
[null,null,null,null,null,null,null,null,null,null,null,null,null,null,null,{"$f":"Produção!$A$29","v":"grão caupi"},0,{"$f":"AW85","v":0},0,0,0]

{"sheet":"Gráficos 20","index":35,"n_rows":112,"n_cols":49,"rows_kept":112,"cut":false,"hidden":false,"merged":[]}
[]
[null,null,null,null,null,null,null,null,null,null,null,null,null,null,null,null,0,1,2,3,4,5,6,7,8,9,10,11,12,13,14,15,16,17,18,19,20,21,22,23,24,25,26,27,28,29,30]
[null,null,null,null,null,null,null,null,null,null,null,null,null,null,null,"Uso de MO",{"$f":"SUM(Q4:Q28)","v":0},0,0,0,0,0,0,0,0,0,0,0,0,0,0,0,0,0,0,0,0,0,0,0,0,0,0,0,0,0,0]
[null,null,null,null,null,null,null,null,null,null,null,null,null,null,null,"Atividades Gerais",{"$f":"'Preparo e Gerais'!D19","v":0}]
[null,null,null,null,null,null,null,null,null,null,null,null,null,null,null,{"$f":"Produção!$A$6","v":"latex"},null,{"$f":"latex!D$23","v":0},{"$f":"latex!E$23","v":0},{"$f":"latex!F$23","v":0},{"$f":"latex!G$23","v":0},{"$f":"latex!H$23","v":0},{"$f":"latex!I$23","v":0},{"$f":"latex!J$23","v":0},{"$f":"latex!K$23","v":0},{"$f":"latex!L$23","v":0},{"$f":"latex!M$23","v":0},{"$f":"latex!N$23","v":0},{"$f":"latex!O$23","v":0},{"$f":"latex!P$23","v":0},{"$f":"latex!Q$23","v":0},{"$f":"latex!R$23","v":0},{"$f":"latex!S$23","v":0},{"$f":"latex!T$23","v":0},{"$f":"latex!U$23","v":0},{"$f":"latex!V$23","v":0},{"$f":"latex!W$23","v":0},{"$f":"latex!X$23","v":0},{"$f":"latex!Y$23","v":0},{"$f":"latex!Z$23","v":0},{"$f":"latex!AA$23","v":0},{"$f":"latex!AB$23","v":0},{"$f":"latex!AC$23","v":0},{"$f":"latex!AD$23","v":0},{"$f":"latex!AE$23","v":0},{"$f":"latex!AF$23","v":0},{"$f":"latex!AG$23","v":0}]
[null,null,null,null,null,null,null,null,null,null,null,null,null,null,null,{"$f":"Produção!$A$7","v":"fruto genipapo"},null,{"$f":"'fruto genipapo'!D$23","v":0},{"$f":"'fruto genipapo'!E$23","v":0},{"$f":"'fruto genipapo'!F$23","v":0},{"$f":"'fruto genipapo'!G$23","v":0},{"$f":"'fruto genipapo'!H$23","v":0},{"$f":"'fruto genipapo'!I$23","v":0},{"$f":"'fruto genipapo'!J$23","v":0},{"$f":"'fruto genipapo'!K$23","v":0},{"$f":"'fruto genipapo'!L$23","v":0},{"$f":"'fruto genipapo'!M$23","v":0},{"$f":"'fruto genipapo'!N$23","v":0},{"$f":"'fruto genipapo'!O$23","v":0},{"$f":"'fruto genipapo'!P$23","v":0},{"$f":"'fruto genipapo'!Q$23","v":0},{"$f":"'fruto genipapo'!R$23","v":0},{"$f":"'fruto genipapo'!S$23","v":0},{"$f":"'fruto genipapo'!T$23","v":0},{"$f":"'fruto genipapo'!U$23","v":0},{"$f":"'fruto genipapo'!V$23","v":0},{"$f":"'fruto genipapo'!W$23","v":0},{"$f":"'fruto genipapo'!X$23","v":0},{"$f":"'fruto genipapo'!Y$23","v":0},{"$f":"'fruto genipapo'!Z$23","v":0},{"$f":"'fruto genipapo'!AA$23","v":0},{"$f":"'fruto genipapo'!AB$23","v":0},{"$f":"'fruto genipapo'!AC$23","v":0},{"$f":"'fruto genipapo'!AD$23","v":0},{"$f":"'fruto genipapo'!AE$23","v":0},{"$f":"'fruto genipapo'!AF$23","v":0},{"$f":"'fruto genipapo'!AG$23","v":0}]
[null,null,null,null,null,null,null,null,null,null,null,null,null,null,null,{"$f":"Produção!$A$8","v":"fruto araçauna"},null,{"$f":"'fruto araçauna'!D$23","v":0},{"$f":"'fruto araçauna'!E$23","v":0},{"$f":"'fruto araçauna'!F$23","v":0},{"$f":"'fruto araçauna'!G$23","v":0},{"$f":"'fruto araçauna'!H$23","v":0},{"$f":"'fruto araçauna'!I$23","v":0},{"$f":"'fruto araçauna'!J$23","v":0},{"$f":"'fruto araçauna'!K$23","v":0},{"$f":"'fruto araçauna'!L$23","v":0},{"$f":"'fruto araçauna'!M$23","v":0},{"$f":"'fruto araçauna'!N$23","v":0},{"$f":"'fruto araçauna'!O$23","v":0},{"$f":"'fruto araçauna'!P$23","v":0},{"$f":"'fruto araçauna'!Q$23","v":0},{"$f":"'fruto araçauna'!R$23","v":0},{"$f":"'fruto araçauna'!S$23","v":0},{"$f":"'fruto araçauna'!T$23","v":0},{"$f":"'fruto araçauna'!U$23","v":0},{"$f":"'fruto araçauna'!V$23","v":0},{"$f":"'fruto araçauna'!W$23","v":0},{"$f":"'fruto araçauna'!X$23","v":0},{"$f":"'fruto araçauna'!Y$23","v":0},{"$f":"'fruto araçauna'!Z$23","v":0},{"$f":"'fruto araçauna'!AA$23","v":0},{"$f":"'fruto araçauna'!AB$23","v":0},{"$f":"'fruto araçauna'!AC$23","v":0},{"$f":"'fruto araçauna'!AD$23","v":0},{"$f":"'fruto araçauna'!AE$23","v":0},{"$f":"'fruto araçauna'!AF$23","v":0},{"$f":"'fruto araçauna'!AG$23","v":0}]
[null,null,null,null,null,null,null,null,null,null,null,null,null,null,null,{"$f":"Produção!$A$9","v":"fruto pitanga"},null,{"$f":"'fruto pitanga'!D$23","v":0},{"$f":"'fruto pitanga'!E$23","v":0},{"$f":"'fruto pitanga'!F$23","v":0},{"$f":"'fruto pitanga'!G$23","v":0},{"$f":"'fruto pitanga'!H$23","v":0},{"$f":"'fruto pitanga'!I$23","v":0},{"$f":"'fruto pitanga'!J$23","v":0},{"$f":"'fruto pitanga'!K$23","v":0},{"$f":"'fruto pitanga'!L$23","v":0},{"$f":"'fruto pitanga'!M$23","v":0},{"$f":"'fruto pitanga'!N$23","v":0},{"$f":"'fruto pitanga'!O$23","v":0},{"$f":"'fruto pitanga'!P$23","v":0},{"$f":"'fruto pitanga'!Q$23","v":0},{"$f":"'fruto pitanga'!R$23","v":0},{"$f":"'fruto pitanga'!S$23","v":0},{"$f":"'fruto pitanga'!T$23","v":0},{"$f":"'fruto pitanga'!U$23","v":0},{"$f":"'fruto pitanga'!V$23","v":0},{"$f":"'fruto pitanga'!W$23","v":0},{"$f":"'fruto pitanga'!X$23","v":0},{"$f":"'fruto pitanga'!Y$23","v":0},{"$f":"'fruto pitanga'!Z$23","v":0},{"$f":"'fruto pitanga'!AA$23","v":0},{"$f":"'fruto pitanga'!AB$23","v":0},{"$f":"'fruto pitanga'!AC$23","v":0},{"$f":"'fruto pitanga'!AD$23","v":0},{"$f":"'fruto pitanga'!AE$23","v":0},{"$f":"'fruto pitanga'!AF$23","v":0},{"$f":"'fruto pitanga'!AG$23","v":0}]
[null,null,null,null,null,null,null,null,null,null,null,null,null,null,null,{"$f":"Produção!$A$10","v":"castanha sapucaia"},null,{"$f":"Castanha!D$23","v":0},{"$f":"Castanha!E$23","v":0},{"$f":"Castanha!F$23","v":0},{"$f":"Castanha!G$23","v":0},{"$f":"Castanha!H$23","v":0},{"$f":"Castanha!I$23","v":0},{"$f":"Castanha!J$23","v":0},{"$f":"Castanha!K$23","v":0},{"$f":"Castanha!L$23","v":0},{"$f":"Castanha!M$23","v":0},{"$f":"Castanha!N$23","v":0},{"$f":"Castanha!O$23","v":0},{"$f":"Castanha!P$23","v":0},{"$f":"Castanha!Q$23","v":0},{"$f":"Castanha!R$23","v":0},{"$f":"Castanha!S$23","v":0},{"$f":"Castanha!T$23","v":0},{"$f":"Castanha!U$23","v":0},{"$f":"Castanha!V$23","v":0},{"$f":"Castanha!W$23","v":0},{"$f":"Castanha!X$23","v":0},{"$f":"Castanha!Y$23","v":0},{"$f":"Castanha!Z$23","v":0},{"$f":"Castanha!AA$23","v":0},{"$f":"Castanha!AB$23","v":0},{"$f":"Castanha!AC$23","v":0},{"$f":"Castanha!AD$23","v":0},{"$f":"Castanha!AE$23","v":0},{"$f":"Castanha!AF$23","v":0},{"$f":"Castanha!AG$23","v":0}]
[null,null,null,null,null,null,null,null,null,null,null,null,null,null,null,{"$f":"Produção!$A$11","v":"fruto cajá"},null,{"$f":"'fruto cajá'!D$23","v":0},{"$f":"'fruto cajá'!E$23","v":0},{"$f":"'fruto cajá'!F$23","v":0},{"$f":"'fruto cajá'!G$23","v":0},{"$f":"'fruto cajá'!H$23","v":0},{"$f":"'fruto cajá'!I$23","v":0},{"$f":"'fruto cajá'!J$23","v":0},{"$f":"'fruto cajá'!K$23","v":0},{"$f":"'fruto cajá'!L$23","v":0},{"$f":"'fruto cajá'!M$23","v":0},{"$f":"'fruto cajá'!N$23","v":0},{"$f":"'fruto cajá'!O$23","v":0},{"$f":"'fruto cajá'!P$23","v":0},{"$f":"'fruto cajá'!Q$23","v":0},{"$f":"'fruto cajá'!R$23","v":0},{"$f":"'fruto cajá'!S$23","v":0},{"$f":"'fruto cajá'!T$23","v":0},{"$f":"'fruto cajá'!U$23","v":0},{"$f":"'fruto cajá'!V$23","v":0},{"$f":"'fruto cajá'!W$23","v":0},{"$f":"'fruto cajá'!X$23","v":0},{"$f":"'fruto cajá'!Y$23","v":0},{"$f":"'fruto cajá'!Z$23","v":0},{"$f":"'fruto cajá'!AA$23","v":0},{"$f":"'fruto cajá'!AB$23","v":0},{"$f":"'fruto cajá'!AC$23","v":0},{"$f":"'fruto cajá'!AD$23","v":0},{"$f":"'fruto cajá'!AE$23","v":0},{"$f":"'fruto cajá'!AF$23","v":0},{"$f":"'fruto cajá'!AG$23","v":0}]
[null,null,null,null,null,null,null,null,null,null,null,null,null,null,null,{"$f":"Produção!$A$12","v":"semente urucum"},null,{"$f":"'semente urucum'!D$23","v":0},{"$f":"'semente urucum'!E$23","v":0},{"$f":"'semente urucum'!F$23","v":0},{"$f":"'semente urucum'!G$23","v":0},{"$f":"'semente urucum'!H$23","v":0},{"$f":"'semente urucum'!I$23","v":0},{"$f":"'semente urucum'!J$23","v":0},{"$f":"'semente urucum'!K$23","v":0},{"$f":"'semente urucum'!L$23","v":0},{"$f":"'semente urucum'!M$23","v":0},{"$f":"'semente urucum'!N$23","v":0},{"$f":"'semente urucum'!O$23","v":0},{"$f":"'semente urucum'!P$23","v":0},{"$f":"'semente urucum'!Q$23","v":0},{"$f":"'semente urucum'!R$23","v":0},{"$f":"'semente urucum'!S$23","v":0},{"$f":"'semente urucum'!T$23","v":0},{"$f":"'semente urucum'!U$23","v":0},{"$f":"'semente urucum'!V$23","v":0},{"$f":"'semente urucum'!W$23","v":0},{"$f":"'semente urucum'!X$23","v":0},{"$f":"'semente urucum'!Y$23","v":0},{"$f":"'semente urucum'!Z$23","v":0},{"$f":"'semente urucum'!AA$23","v":0},{"$f":"'semente urucum'!AB$23","v":0},{"$f":"'semente urucum'!AC$23","v":0},{"$f":"'semente urucum'!AD$23","v":0},{"$f":"'semente urucum'!AE$23","v":0},{"$f":"'semente urucum'!AF$23","v":0},{"$f":"'semente urucum'!AG$23","v":0}]
[null,null,null,null,null,null,null,null,null,null,null,null,null,null,null,{"$f":"Produção!$A$13","v":"semente aroeira"},null,{"$f":"'semente aroeira'!D$23","v":0},{"$f":"'semente aroeira'!E$23","v":0},{"$f":"'semente aroeira'!F$23","v":0},{"$f":"'semente aroeira'!G$23","v":0},{"$f":"'semente aroeira'!H$23","v":0},{"$f":"'semente aroeira'!I$23","v":0},{"$f":"'semente aroeira'!J$23","v":0},{"$f":"'semente aroeira'!K$23","v":0},{"$f":"'semente aroeira'!L$23","v":0},{"$f":"'semente aroeira'!M$23","v":0},{"$f":"'semente aroeira'!N$23","v":0},{"$f":"'semente aroeira'!O$23","v":0},{"$f":"'semente aroeira'!P$23","v":0},{"$f":"'semente aroeira'!Q$23","v":0},{"$f":"'semente aroeira'!R$23","v":0},{"$f":"'semente aroeira'!S$23","v":0},{"$f":"'semente aroeira'!T$23","v":0},{"$f":"'semente aroeira'!U$23","v":0},{"$f":"'semente aroeira'!V$23","v":0},{"$f":"'semente aroeira'!W$23","v":0},{"$f":"'semente aroeira'!X$23","v":0},{"$f":"'semente aroeira'!Y$23","v":0},{"$f":"'semente aroeira'!Z$23","v":0},{"$f":"'semente aroeira'!AA$23","v":0},{"$f":"'semente aroeira'!AB$23","v":0},{"$f":"'semente aroeira'!AC$23","v":0},{"$f":"'semente aroeira'!AD$23","v":0},{"$f":"'semente aroeira'!AE$23","v":0},{"$f":"'semente aroeira'!AF$23","v":0},{"$f":"'semente aroeira'!AG$23","v":0}]
[null,null,null,null,null,null,null,null,null,null,null,null,null,null,null,{"$f":"Produção!$A$14","v":"raiz mandioca"},null,{"$f":"'raiz mandioca'!D$23","v":0},{"$f":"'raiz mandioca'!E$23","v":0},{"$f":"'raiz mandioca'!F$23","v":0},{"$f":"'raiz mandioca'!G$23","v":0},{"$f":"'raiz mandioca'!H$23","v":0},{"$f":"'raiz mandioca'!I$23","v":0},{"$f":"'raiz mandioca'!J$23","v":0},{"$f":"'raiz mandioca'!K$23","v":0},{"$f":"'raiz mandioca'!L$23","v":0},{"$f":"'raiz mandioca'!M$23","v":0},{"$f":"'raiz mandioca'!N$23","v":0},{"$f":"'raiz mandioca'!O$23","v":0},{"$f":"'raiz mandioca'!P$23","v":0},{"$f":"'raiz mandioca'!Q$23","v":0},{"$f":"'raiz mandioca'!R$23","v":0},{"$f":"'raiz mandioca'!S$23","v":0},{"$f":"'raiz mandioca'!T$23","v":0},{"$f":"'raiz mandioca'!U$23","v":0},{"$f":"'raiz mandioca'!V$23","v":0},{"$f":"'raiz mandioca'!W$23","v":0},{"$f":"'raiz mandioca'!X$23","v":0},{"$f":"'raiz mandioca'!Y$23","v":0},{"$f":"'raiz mandioca'!Z$23","v":0},{"$f":"'raiz mandioca'!AA$23","v":0},{"$f":"'raiz mandioca'!AB$23","v":0},{"$f":"'raiz mandioca'!AC$23","v":0},{"$f":"'raiz mandioca'!AD$23","v":0},{"$f":"'raiz mandioca'!AE$23","v":0},{"$f":"'raiz mandioca'!AF$23","v":0},{"$f":"'raiz mandioca'!AG$23","v":0}]
[null,null,null,null,null,null,null,null,null,null,null,null,null,null,null,{"$f":"Produção!$A$15","v":"fruto abacaxi"},null,{"$f":"abacaxi!D$23","v":0},{"$f":"abacaxi!E$23","v":0},{"$f":"abacaxi!F$23","v":0},{"$f":"abacaxi!G$23","v":0},{"$f":"abacaxi!H$23","v":0},{"$f":"abacaxi!I$23","v":0},{"$f":"abacaxi!J$23","v":0},{"$f":"abacaxi!K$23","v":0},{"$f":"abacaxi!L$23","v":0},{"$f":"abacaxi!M$23","v":0},{"$f":"abacaxi!N$23","v":0},{"$f":"abacaxi!O$23","v":0},{"$f":"abacaxi!P$23","v":0},{"$f":"abacaxi!Q$23","v":0},{"$f":"abacaxi!R$23","v":0},{"$f":"abacaxi!S$23","v":0},{"$f":"abacaxi!T$23","v":0},{"$f":"abacaxi!U$23","v":0},{"$f":"abacaxi!V$23","v":0},{"$f":"abacaxi!W$23","v":0},{"$f":"abacaxi!X$23","v":0},{"$f":"abacaxi!Y$23","v":0},{"$f":"abacaxi!Z$23","v":0},{"$f":"abacaxi!AA$23","v":0},{"$f":"abacaxi!AB$23","v":0},{"$f":"abacaxi!AC$23","v":0},{"$f":"abacaxi!AD$23","v":0},{"$f":"abacaxi!AE$23","v":0},{"$f":"abacaxi!AF$23","v":0},{"$f":"abacaxi!AG$23","v":0}]
[null,null,null,null,null,null,null,null,null,null,null,null,null,null,null,{"$f":"Produção!$A$16","v":"espigas milho"},null,{"$f":"espigas!D$23","v":0},{"$f":"espigas!E$23","v":0},{"$f":"espigas!F$23","v":0},{"$f":"espigas!G$23","v":0},{"$f":"espigas!H$23","v":0},{"$f":"espigas!I$23","v":0},{"$f":"espigas!J$23","v":0},{"$f":"espigas!K$23","v":0},{"$f":"espigas!L$23","v":0},{"$f":"espigas!M$23","v":0},{"$f":"espigas!N$23","v":0},{"$f":"espigas!O$23","v":0},{"$f":"espigas!P$23","v":0},{"$f":"espigas!Q$23","v":0},{"$f":"espigas!R$23","v":0},{"$f":"espigas!S$23","v":0},{"$f":"espigas!T$23","v":0},{"$f":"espigas!U$23","v":0},{"$f":"espigas!V$23","v":0},{"$f":"espigas!W$23","v":0},{"$f":"espigas!X$23","v":0},{"$f":"espigas!Y$23","v":0},{"$f":"espigas!Z$23","v":0},{"$f":"espigas!AA$23","v":0},{"$f":"espigas!AB$23","v":0},{"$f":"espigas!AC$23","v":0},{"$f":"espigas!AD$23","v":0},{"$f":"espigas!AE$23","v":0},{"$f":"espigas!AF$23","v":0},{"$f":"espigas!AG$23","v":0}]
[null,null,null,null,null,null,null,null,null,null,null,null,null,null,null,{"$f":"Produção!$A$17","v":"estaca sansão do campo"},null,{"$f":"'semente caupi'!D$23","v":0},{"$f":"'semente caupi'!E$23","v":0},{"$f":"'semente caupi'!F$23","v":0},{"$f":"'semente caupi'!G$23","v":0},{"$f":"'semente caupi'!H$23","v":0},{"$f":"'semente caupi'!I$23","v":0},{"$f":"'semente caupi'!J$23","v":0},{"$f":"'semente caupi'!K$23","v":0},{"$f":"'semente caupi'!L$23","v":0},{"$f":"'semente caupi'!M$23","v":0},{"$f":"'semente caupi'!N$23","v":0},{"$f":"'semente caupi'!O$23","v":0},{"$f":"'semente caupi'!P$23","v":0},{"$f":"'semente caupi'!Q$23","v":0},{"$f":"'semente caupi'!R$23","v":0},{"$f":"'semente caupi'!S$23","v":0},{"$f":"'semente caupi'!T$23","v":0},{"$f":"'semente caupi'!U$23","v":0},{"$f":"'semente caupi'!V$23","v":0},{"$f":"'semente caupi'!W$23","v":0},{"$f":"'semente caupi'!X$23","v":0},{"$f":"'semente caupi'!Y$23","v":0},{"$f":"'semente caupi'!Z$23","v":0},{"$f":"'semente caupi'!AA$23","v":0},{"$f":"'semente caupi'!AB$23","v":0},{"$f":"'semente caupi'!AC$23","v":0},{"$f":"'semente caupi'!AD$23","v":0},{"$f":"'semente caupi'!AE$23","v":0},{"$f":"'semente caupi'!AF$23","v":0},{"$f":"'semente caupi'!AG$23","v":0}]
[null,null,null,null,null,null,null,null,null,null,null,null,null,null,null,{"$f":"Produção!$A$18","v":"madeira madeira nova"},null,{"$f":"biomassa!D$23","v":0},{"$f":"biomassa!E$23","v":0},{"$f":"biomassa!F$23","v":0},{"$f":"biomassa!G$23","v":0},{"$f":"biomassa!H$23","v":0},{"$f":"biomassa!I$23","v":0},{"$f":"biomassa!J$23","v":0},{"$f":"biomassa!K$23","v":0},{"$f":"biomassa!L$23","v":0},{"$f":"biomassa!M$23","v":0},{"$f":"biomassa!N$23","v":0},{"$f":"biomassa!O$23","v":0},{"$f":"biomassa!P$23","v":0},{"$f":"biomassa!Q$23","v":0},{"$f":"biomassa!R$23","v":0},{"$f":"biomassa!S$23","v":0},{"$f":"biomassa!T$23","v":0},{"$f":"biomassa!U$23","v":0},{"$f":"biomassa!V$23","v":0},{"$f":"biomassa!W$23","v":0},{"$f":"biomassa!X$23","v":0},{"$f":"biomassa!Y$23","v":0},{"$f":"biomassa!Z$23","v":0},{"$f":"biomassa!AA$23","v":0},{"$f":"biomassa!AB$23","v":0},{"$f":"biomassa!AC$23","v":0},{"$f":"biomassa!AD$23","v":0},{"$f":"biomassa!AE$23","v":0},{"$f":"biomassa!AF$23","v":0},{"$f":"biomassa!AG$23","v":0}]
[null,null,null,null,null,null,null,null,null,null,null,null,null,null,null,{"$f":"Produção!$A$19","v":"lenha fedegoso"},null,{"$f":"madeira!D$23","v":0},{"$f":"madeira!E$23","v":0},{"$f":"madeira!F$23","v":0},{"$f":"madeira!G$23","v":0},{"$f":"madeira!H$23","v":0},{"$f":"madeira!I$23","v":0},{"$f":"madeira!J$23","v":0},{"$f":"madeira!K$23","v":0},{"$f":"madeira!L$23","v":0},{"$f":"madeira!M$23","v":0},{"$f":"madeira!N$23","v":0},{"$f":"madeira!O$23","v":0},{"$f":"madeira!P$23","v":0},{"$f":"madeira!Q$23","v":0},{"$f":"madeira!R$23","v":0},{"$f":"madeira!S$23","v":0},{"$f":"madeira!T$23","v":0},{"$f":"madeira!U$23","v":0},{"$f":"madeira!V$23","v":0},{"$f":"madeira!W$23","v":0},{"$f":"madeira!X$23","v":0},{"$f":"madeira!Y$23","v":0},{"$f":"madeira!Z$23","v":0},{"$f":"madeira!AA$23","v":0},{"$f":"madeira!AB$23","v":0},{"$f":"madeira!AC$23","v":0},{"$f":"madeira!AD$23","v":0},{"$f":"madeira!AE$23","v":0},{"$f":"madeira!AF$23","v":0},{"$f":"madeira!AG$23","v":0}]
[null,null,null,null,null,null,null,null,null,null,null,null,null,null,null,{"$f":"Produção!$A$20","v":"estaca pau d'alho"},null,{"$f":"'Produto 15'!D$23","v":0},{"$f":"'Produto 15'!E$23","v":0},{"$f":"'Produto 15'!F$23","v":0},{"$f":"'Produto 15'!G$23","v":0},{"$f":"'Produto 15'!H$23","v":0},{"$f":"'Produto 15'!I$23","v":0},{"$f":"'Produto 15'!J$23","v":0},{"$f":"'Produto 15'!K$23","v":0},{"$f":"'Produto 15'!L$23","v":0},{"$f":"'Produto 15'!M$23","v":0},{"$f":"'Produto 15'!N$23","v":0},{"$f":"'Produto 15'!O$23","v":0},{"$f":"'Produto 15'!P$23","v":0},{"$f":"'Produto 15'!Q$23","v":0},{"$f":"'Produto 15'!R$23","v":0},{"$f":"'Produto 15'!S$23","v":0},{"$f":"'Produto 15'!T$23","v":0},{"$f":"'Produto 15'!U$23","v":0},{"$f":"'Produto 15'!V$23","v":0},{"$f":"'Produto 15'!W$23","v":0},{"$f":"'Produto 15'!X$23","v":0},{"$f":"'Produto 15'!Y$23","v":0},{"$f":"'Produto 15'!Z$23","v":0},{"$f":"'Produto 15'!AA$23","v":0},{"$f":"'Produto 15'!AB$23","v":0},{"$f":"'Produto 15'!AC$23","v":0},{"$f":"'Produto 15'!AD$23","v":0},{"$f":"'Produto 15'!AE$23","v":0},{"$f":"'Produto 15'!AF$23","v":0},{"$f":"'Produto 15'!AG$23","v":0}]
[null,null,null,null,null,null,null,null,null,null,null,null,null,null,null,{"$f":"Produção!$A$21","v":"caixotaria boleira"},null,{"$f":"'Produto 16'!D$23","v":0},{"$f":"'Produto 16'!E$23","v":0},{"$f":"'Produto 16'!F$23","v":0},{"$f":"'Produto 16'!G$23","v":0},{"$f":"'Produto 16'!H$23","v":0},{"$f":"'Produto 16'!I$23","v":0},{"$f":"'Produto 16'!J$23","v":0},{"$f":"'Produto 16'!K$23","v":0},{"$f":"'Produto 16'!L$23","v":0},{"$f":"'Produto 16'!M$23","v":0},{"$f":"'Produto 16'!N$23","v":0},{"$f":"'Produto 16'!O$23","v":0},{"$f":"'Produto 16'!P$23","v":0},{"$f":"'Produto 16'!Q$23","v":0},{"$f":"'Produto 16'!R$23","v":0},{"$f":"'Produto 16'!S$23","v":0},{"$f":"'Produto 16'!T$23","v":0},{"$f":"'Produto 16'!U$23","v":0},{"$f":"'Produto 16'!V$23","v":0},{"$f":"'Produto 16'!W$23","v":0},{"$f":"'Produto 16'!X$23","v":0},{"$f":"'Produto 16'!Y$23","v":0},{"$f":"'Produto 16'!Z$23","v":0},{"$f":"'Produto 16'!AA$23","v":0},{"$f":"'Produto 16'!AB$23","v":0},{"$f":"'Produto 16'!AC$23","v":0},{"$f":"'Produto 16'!AD$23","v":0},{"$f":"'Produto 16'!AE$23","v":0},{"$f":"'Produto 16'!AF$23","v":0},{"$f":"'Produto 16'!AG$23","v":0}]
[null,null,null,null,null,null,null,null,null,null,null,null,null,null,null,{"$f":"Produção!$A$22","v":"madeira angico roxo"},null,{"$f":"'Produto 17'!D$23","v":0},{"$f":"'Produto 17'!E$23","v":0},{"$f":"'Produto 17'!F$23","v":0},{"$f":"'Produto 17'!G$23","v":0},{"$f":"'Produto 17'!H$23","v":0},{"$f":"'Produto 17'!I$23","v":0},{"$f":"'Produto 17'!J$23","v":0},{"$f":"'Produto 17'!K$23","v":0},{"$f":"'Produto 17'!L$23","v":0},{"$f":"'Produto 17'!M$23","v":0},{"$f":"'Produto 17'!N$23","v":0},{"$f":"'Produto 17'!O$23","v":0},{"$f":"'Produto 17'!P$23","v":0},{"$f":"'Produto 17'!Q$23","v":0},{"$f":"'Produto 17'!R$23","v":0},{"$f":"'Produto 17'!S$23","v":0},{"$f":"'Produto 17'!T$23","v":0},{"$f":"'Produto 17'!U$23","v":0},{"$f":"'Produto 17'!V$23","v":0},{"$f":"'Produto 17'!W$23","v":0},{"$f":"'Produto 17'!X$23","v":0},{"$f":"'Produto 17'!Y$23","v":0},{"$f":"'Produto 17'!Z$23","v":0},{"$f":"'Produto 17'!AA$23","v":0},{"$f":"'Produto 17'!AB$23","v":0},{"$f":"'Produto 17'!AC$23","v":0},{"$f":"'Produto 17'!AD$23","v":0},{"$f":"'Produto 17'!AE$23","v":0},{"$f":"'Produto 17'!AF$23","v":0},{"$f":"'Produto 17'!AG$23","v":0}]
[null,null,null,null,null,null,null,null,null,null,null,null,null,null,null,{"$f":"Produção!$A$23","v":"madeira ipê roxo"},null,{"$f":"'Produto 18'!D$23","v":0},{"$f":"'Produto 18'!E$23","v":0},{"$f":"'Produto 18'!F$23","v":0},{"$f":"'Produto 18'!G$23","v":0},{"$f":"'Produto 18'!H$23","v":0},{"$f":"'Produto 18'!I$23","v":0},{"$f":"'Produto 18'!J$23","v":0},{"$f":"'Produto 18'!K$23","v":0},{"$f":"'Produto 18'!L$23","v":0},{"$f":"'Produto 18'!M$23","v":0},{"$f":"'Produto 18'!N$23","v":0},{"$f":"'Produto 18'!O$23","v":0},{"$f":"'Produto 18'!P$23","v":0},{"$f":"'Produto 18'!Q$23","v":0},{"$f":"'Produto 18'!R$23","v":0},{"$f":"'Produto 18'!S$23","v":0},{"$f":"'Produto 18'!T$23","v":0},{"$f":"'Produto 18'!U$23","v":0},{"$f":"'Produto 18'!V$23","v":0},{"$f":"'Produto 18'!W$23","v":0},{"$f":"'Produto 18'!X$23","v":0},{"$f":"'Produto 18'!Y$23","v":0},{"$f":"'Produto 18'!Z$23","v":0},{"$f":"'Produto 18'!AA$23","v":0},{"$f":"'Produto 18'!AB$23","v":0},{"$f":"'Produto 18'!AC$23","v":0},{"$f":"'Produto 18'!AD$23","v":0},{"$f":"'Produto 18'!AE$23","v":0},{"$f":"'Produto 18'!AF$23","v":0},{"$f":"'Produto 18'!AG$23","v":0}]
[null,null,null,null,null,null,null,null,null,null,null,null,null,null,null,{"$f":"Produção!$A$24","v":"madeira ipê amarelo"},null,{"$f":"'Produto 19'!D$23","v":0},{"$f":"'Produto 19'!E$23","v":0},{"$f":"'Produto 19'!F$23","v":0},{"$f":"'Produto 19'!G$23","v":0},{"$f":"'Produto 19'!H$23","v":0},{"$f":"'Produto 19'!I$23","v":0},{"$f":"'Produto 19'!J$23","v":0},{"$f":"'Produto 19'!K$23","v":0},{"$f":"'Produto 19'!L$23","v":0},{"$f":"'Produto 19'!M$23","v":0},{"$f":"'Produto 19'!N$23","v":0},{"$f":"'Produto 19'!O$23","v":0},{"$f":"'Produto 19'!P$23","v":0},{"$f":"'Produto 19'!Q$23","v":0},{"$f":"'Produto 19'!R$23","v":0},{"$f":"'Produto 19'!S$23","v":0},{"$f":"'Produto 19'!T$23","v":0},{"$f":"'Produto 19'!U$23","v":0},{"$f":"'Produto 19'!V$23","v":0},{"$f":"'Produto 19'!W$23","v":0},{"$f":"'Produto 19'!X$23","v":0},{"$f":"'Produto 19'!Y$23","v":0},{"$f":"'Produto 19'!Z$23","v":0},{"$f":"'Produto 19'!AA$23","v":0},{"$f":"'Produto 19'!AB$23","v":0},{"$f":"'Produto 19'!AC$23","v":0},{"$f":"'Produto 19'!AD$23","v":0},{"$f":"'Produto 19'!AE$23","v":0},{"$f":"'Produto 19'!AF$23","v":0},{"$f":"'Produto 19'!AG$23","v":0}]
[null,null,null,null,null,null,null,null,null,null,null,null,null,null,null,{"$f":"Produção!$A$25","v":"madeira gonçalo alves"},null,{"$f":"'Produto 20'!D$23","v":0},{"$f":"'Produto 20'!E$23","v":0},{"$f":"'Produto 20'!F$23","v":0},{"$f":"'Produto 20'!G$23","v":0},{"$f":"'Produto 20'!H$23","v":0},{"$f":"'Produto 20'!I$23","v":0},{"$f":"'Produto 20'!J$23","v":0},{"$f":"'Produto 20'!K$23","v":0},{"$f":"'Produto 20'!L$23","v":0},{"$f":"'Produto 20'!M$23","v":0},{"$f":"'Produto 20'!N$23","v":0},{"$f":"'Produto 20'!O$23","v":0},{"$f":"'Produto 20'!P$23","v":0},{"$f":"'Produto 20'!Q$23","v":0},{"$f":"'Produto 20'!R$23","v":0},{"$f":"'Produto 20'!S$23","v":0},{"$f":"'Produto 20'!T$23","v":0},{"$f":"'Produto 20'!U$23","v":0},{"$f":"'Produto 20'!V$23","v":0},{"$f":"'Produto 20'!W$23","v":0},{"$f":"'Produto 20'!X$23","v":0},{"$f":"'Produto 20'!Y$23","v":0},{"$f":"'Produto 20'!Z$23","v":0},{"$f":"'Produto 20'!AA$23","v":0},{"$f":"'Produto 20'!AB$23","v":0},{"$f":"'Produto 20'!AC$23","v":0},{"$f":"'Produto 20'!AD$23","v":0},{"$f":"'Produto 20'!AE$23","v":0},{"$f":"'Produto 20'!AF$23","v":0},{"$f":"'Produto 20'!AG$23","v":0}]
[null,null,null,null,null,null,null,null,null,null,null,null,null,null,null,{"$f":"Produção!$A$26","v":"madeira vinhatico"},null,{"$f":"'Produto 21'!D$23","v":0},{"$f":"'Produto 21'!E$23","v":0},{"$f":"'Produto 21'!F$23","v":0},{"$f":"'Produto 21'!G$23","v":0},{"$f":"'Produto 21'!H$23","v":0},{"$f":"'Produto 21'!I$23","v":0},{"$f":"'Produto 21'!J$23","v":0},{"$f":"'Produto 21'!K$23","v":0},{"$f":"'Produto 21'!L$23","v":0},{"$f":"'Produto 21'!M$23","v":0},{"$f":"'Produto 21'!N$23","v":0},{"$f":"'Produto 21'!O$23","v":0},{"$f":"'Produto 21'!P$23","v":0},{"$f":"'Produto 21'!Q$23","v":0},{"$f":"'Produto 21'!R$23","v":0},{"$f":"'Produto 21'!S$23","v":0},{"$f":"'Produto 21'!T$23","v":0},{"$f":"'Produto 21'!U$23","v":0},{"$f":"'Produto 21'!V$23","v":0},{"$f":"'Produto 21'!W$23","v":0},{"$f":"'Produto 21'!X$23","v":0},{"$f":"'Produto 21'!Y$23","v":0},{"$f":"'Produto 21'!Z$23","v":0},{"$f":"'Produto 21'!AA$23","v":0},{"$f":"'Produto 21'!AB$23","v":0},{"$f":"'Produto 21'!AC$23","v":0},{"$f":"'Produto 21'!AD$23","v":0},{"$f":"'Produto 21'!AE$23","v":0},{"$f":"'Produto 21'!AF$23","v":0},{"$f":"'Produto 21'!AG$23","v":0}]
[null,null,null,null,null,null,null,null,null,null,null,null,null,null,null,{"$f":"Produção!$A$27","v":"madeira jequitiba"},null,{"$f":"'Produto 22'!D$23","v":0},{"$f":"'Produto 22'!E$23","v":0},{"$f":"'Produto 22'!F$23","v":0},{"$f":"'Produto 22'!G$23","v":0},{"$f":"'Produto 22'!H$23","v":0},{"$f":"'Produto 22'!I$23","v":0},{"$f":"'Produto 22'!J$23","v":0},{"$f":"'Produto 22'!K$23","v":0},{"$f":"'Produto 22'!L$23","v":0},{"$f":"'Produto 22'!M$23","v":0},{"$f":"'Produto 22'!N$23","v":0},{"$f":"'Produto 22'!O$23","v":0},{"$f":"'Produto 22'!P$23","v":0},{"$f":"'Produto 22'!Q$23","v":0},{"$f":"'Produto 22'!R$23","v":0},{"$f":"'Produto 22'!S$23","v":0},{"$f":"'Produto 22'!T$23","v":0},{"$f":"'Produto 22'!U$23","v":0},{"$f":"'Produto 22'!V$23","v":0},{"$f":"'Produto 22'!W$23","v":0},{"$f":"'Produto 22'!X$23","v":0},{"$f":"'Produto 22'!Y$23","v":0},{"$f":"'Produto 22'!Z$23","v":0},{"$f":"'Produto 22'!AA$23","v":0},{"$f":"'Produto 22'!AB$23","v":0},{"$f":"'Produto 22'!AC$23","v":0},{"$f":"'Produto 22'!AD$23","v":0},{"$f":"'Produto 22'!AE$23","v":0},{"$f":"'Produto 22'!AF$23","v":0},{"$f":"'Produto 22'!AG$23","v":0}]
[null,null,null,null,null,null,null,null,null,null,null,null,null,null,null,{"$f":"Produção!$A$28","v":"biomassa"},null,{"$f":"'Produto 23'!D$23","v":0},{"$f":"'Produto 23'!E$23","v":0},{"$f":"'Produto 23'!F$23","v":0},{"$f":"'Produto 23'!G$23","v":0},{"$f":"'Produto 23'!H$23","v":0},{"$f":"'Produto 23'!I$23","v":0},{"$f":"'Produto 23'!J$23","v":0},{"$f":"'Produto 23'!K$23","v":0},{"$f":"'Produto 23'!L$23","v":0},{"$f":"'Produto 23'!M$23","v":0},{"$f":"'Produto 23'!N$23","v":0},{"$f":"'Produto 23'!O$23","v":0},{"$f":"'Produto 23'!P$23","v":0},{"$f":"'Produto 23'!Q$23","v":0},{"$f":"'Produto 23'!R$23","v":0},{"$f":"'Produto 23'!S$23","v":0},{"$f":"'Produto 23'!T$23","v":0},{"$f":"'Produto 23'!U$23","v":0},{"$f":"'Produto 23'!V$23","v":0},{"$f":"'Produto 23'!W$23","v":0},{"$f":"'Produto 23'!X$23","v":0},{"$f":"'Produto 23'!Y$23","v":0},{"$f":"'Produto 23'!Z$23","v":0},{"$f":"'Produto 23'!AA$23","v":0},{"$f":"'Produto 23'!AB$23","v":0},{"$f":"'Produto 23'!AC$23","v":0},{"$f":"'Produto 23'!AD$23","v":0},{"$f":"'Produto 23'!AE$23","v":0},{"$f":"'Produto 23'!AF$23","v":0},{"$f":"'Produto 23'!AG$23","v":0}]
[null,null,null,null,null,null,null,null,null,null,null,null,null,null,null,{"$f":"Produção!$A$29","v":"grão caupi"},null,{"$f":"'Produto 24'!D$23","v":0},{"$f":"'Produto 24'!E$23","v":0},{"$f":"'Produto 24'!F$23","v":0},{"$f":"'Produto 24'!G$23","v":0},{"$f":"'Produto 24'!H$23","v":0},{"$f":"'Produto 24'!I$23","v":0},{"$f":"'Produto 24'!J$23","v":0},{"$f":"'Produto 24'!K$23","v":0},{"$f":"'Produto 24'!L$23","v":0},{"$f":"'Produto 24'!M$23","v":0},{"$f":"'Produto 24'!N$23","v":0},{"$f":"'Produto 24'!O$23","v":0},{"$f":"'Produto 24'!P$23","v":0},{"$f":"'Produto 24'!Q$23","v":0},{"$f":"'Produto 24'!R$23","v":0},{"$f":"'Produto 24'!S$23","v":0},{"$f":"'Produto 24'!T$23","v":0},{"$f":"'Produto 24'!U$23","v":0},{"$f":"'Produto 24'!V$23","v":0},{"$f":"'Produto 24'!W$23","v":0},{"$f":"'Produto 24'!X$23","v":0},{"$f":"'Produto 24'!Y$23","v":0},{"$f":"'Produto 24'!Z$23","v":0},{"$f":"'Produto 24'!AA$23","v":0},{"$f":"'Produto 24'!AB$23","v":0},{"$f":"'Produto 24'!AC$23","v":0},{"$f":"'Produto 24'!AD$23","v":0},{"$f":"'Produto 24'!AE$23","v":0},{"$f":"'Produto 24'!AF$23","v":0},{"$f":"'Produto 24'!AG$23","v":0}]
[]
[]
[]
[null,null,null,null,null,null,null,null,null,null,null,null,null,null,null,"Custos de MO",{"$f":"SUM(Q33:Q57)","v":0},0,0,0,0,0,0,0,0,0,0,0,0,0,0,0,0,0,0,0,0,0,0,0,0,0,0,0,0,0,0,null,"TOTAL"]
[null,null,null,null,null,null,null,null,null,null,null,null,null,null,null,"Atividades Gerais",{"$f":"'Preparo e Gerais'!D6","v":0},null,null,null,null,null,null,null,null,null,null,null,null,null,null,null,null,null,null,null,null,null,null,null,null,null,null,null,null,null,null,null,{"$f":"SUM(Q33:AU33)","v":0}]
[null,null,null,null,null,null,null,null,null,null,null,null,null,null,null,{"$f":"Produção!$A$6","v":"latex"},null,{"$f":"latex!D$7","v":0},{"$f":"latex!E$7","v":0},{"$f":"latex!F$7","v":0},{"$f":"latex!G$7","v":0},{"$f":"latex!H$7","v":0},{"$f":"latex!I$7","v":0},{"$f":"latex!J$7","v":0},{"$f":"latex!K$7","v":0},{"$f":"latex!L$7","v":0},{"$f":"latex!M$7","v":0},{"$f":"latex!N$7","v":0},{"$f":"latex!O$7","v":0},{"$f":"latex!P$7","v":0},{"$f":"latex!Q$7","v":0},{"$f":"latex!R$7","v":0},{"$f":"latex!S$7","v":0},{"$f":"latex!T$7","v":0},{"$f":"latex!U$7","v":0},{"$f":"latex!V$7","v":0},{"$f":"latex!W$7","v":0},{"$f":"latex!X$7","v":0},{"$f":"latex!Y$7","v":0},{"$f":"latex!Z$7","v":0},{"$f":"latex!AA$7","v":0},{"$f":"latex!AB$7","v":0},{"$f":"latex!AC$7","v":0},{"$f":"latex!AD$7","v":0},{"$f":"latex!AE$7","v":0},{"$f":"latex!AF$7","v":0},{"$f":"latex!AG$7","v":0},null,0]
[null,null,null,null,null,null,null,null,null,null,null,null,null,null,null,{"$f":"Produção!$A$7","v":"fruto genipapo"},null,{"$f":"'fruto genipapo'!D$7","v":0},{"$f":"'fruto genipapo'!E$7","v":0},{"$f":"'fruto genipapo'!F$7","v":0},{"$f":"'fruto genipapo'!G$7","v":0},{"$f":"'fruto genipapo'!H$7","v":0},{"$f":"'fruto genipapo'!I$7","v":0},{"$f":"'fruto genipapo'!J$7","v":0},{"$f":"'fruto genipapo'!K$7","v":0},{"$f":"'fruto genipapo'!L$7","v":0},{"$f":"'fruto genipapo'!M$7","v":0},{"$f":"'fruto genipapo'!N$7","v":0},{"$f":"'fruto genipapo'!O$7","v":0},{"$f":"'fruto genipapo'!P$7","v":0},{"$f":"'fruto genipapo'!Q$7","v":0},{"$f":"'fruto genipapo'!R$7","v":0},{"$f":"'fruto genipapo'!S$7","v":0},{"$f":"'fruto genipapo'!T$7","v":0},{"$f":"'fruto genipapo'!U$7","v":0},{"$f":"'fruto genipapo'!V$7","v":0},{"$f":"'fruto genipapo'!W$7","v":0},{"$f":"'fruto genipapo'!X$7","v":0},{"$f":"'fruto genipapo'!Y$7","v":0},{"$f":"'fruto genipapo'!Z$7","v":0},{"$f":"'fruto genipapo'!AA$7","v":0},{"$f":"'fruto genipapo'!AB$7","v":0},{"$f":"'fruto genipapo'!AC$7","v":0},{"$f":"'fruto genipapo'!AD$7","v":0},{"$f":"'fruto genipapo'!AE$7","v":0},{"$f":"'fruto genipapo'!AF$7","v":0},{"$f":"'fruto genipapo'!AG$7","v":0},null,0]
[null,null,null,null,null,null,null,null,null,null,null,null,null,null,null,{"$f":"Produção!$A$8","v":"fruto araçauna"},null,{"$f":"'fruto araçauna'!D$7","v":0},{"$f":"'fruto araçauna'!E$7","v":0},{"$f":"'fruto araçauna'!F$7","v":0},{"$f":"'fruto araçauna'!G$7","v":0},{"$f":"'fruto araçauna'!H$7","v":0},{"$f":"'fruto araçauna'!I$7","v":0},{"$f":"'fruto araçauna'!J$7","v":0},{"$f":"'fruto araçauna'!K$7","v":0},{"$f":"'fruto araçauna'!L$7","v":0},{"$f":"'fruto araçauna'!M$7","v":0},{"$f":"'fruto araçauna'!N$7","v":0},{"$f":"'fruto araçauna'!O$7","v":0},{"$f":"'fruto araçauna'!P$7","v":0},{"$f":"'fruto araçauna'!Q$7","v":0},{"$f":"'fruto araçauna'!R$7","v":0},{"$f":"'fruto araçauna'!S$7","v":0},{"$f":"'fruto araçauna'!T$7","v":0},{"$f":"'fruto araçauna'!U$7","v":0},{"$f":"'fruto araçauna'!V$7","v":0},{"$f":"'fruto araçauna'!W$7","v":0},{"$f":"'fruto araçauna'!X$7","v":0},{"$f":"'fruto araçauna'!Y$7","v":0},{"$f":"'fruto araçauna'!Z$7","v":0},{"$f":"'fruto araçauna'!AA$7","v":0},{"$f":"'fruto araçauna'!AB$7","v":0},{"$f":"'fruto araçauna'!AC$7","v":0},{"$f":"'fruto araçauna'!AD$7","v":0},{"$f":"'fruto araçauna'!AE$7","v":0},{"$f":"'fruto araçauna'!AF$7","v":0},{"$f":"'fruto araçauna'!AG$7","v":0},null,0]
[null,null,null,null,null,null,null,null,null,null,null,null,null,null,null,{"$f":"Produção!$A$9","v":"fruto pitanga"},null,{"$f":"'fruto pitanga'!D$7","v":0},{"$f":"'fruto pitanga'!E$7","v":0},{"$f":"'fruto pitanga'!F$7","v":0},{"$f":"'fruto pitanga'!G$7","v":0},{"$f":"'fruto pitanga'!H$7","v":0},{"$f":"'fruto pitanga'!I$7","v":0},{"$f":"'fruto pitanga'!J$7","v":0},{"$f":"'fruto pitanga'!K$7","v":0},{"$f":"'fruto pitanga'!L$7","v":0},{"$f":"'fruto pitanga'!M$7","v":0},{"$f":"'fruto pitanga'!N$7","v":0},{"$f":"'fruto pitanga'!O$7","v":0},{"$f":"'fruto pitanga'!P$7","v":0},{"$f":"'fruto pitanga'!Q$7","v":0},{"$f":"'fruto pitanga'!R$7","v":0},{"$f":"'fruto pitanga'!S$7","v":0},{"$f":"'fruto pitanga'!T$7","v":0},{"$f":"'fruto pitanga'!U$7","v":0},{"$f":"'fruto pitanga'!V$7","v":0},{"$f":"'fruto pitanga'!W$7","v":0},{"$f":"'fruto pitanga'!X$7","v":0},{"$f":"'fruto pitanga'!Y$7","v":0},{"$f":"'fruto pitanga'!Z$7","v":0},{"$f":"'fruto pitanga'!AA$7","v":0},{"$f":"'fruto pitanga'!AB$7","v":0},{"$f":"'fruto pitanga'!AC$7","v":0},{"$f":"'fruto pitanga'!AD$7","v":0},{"$f":"'fruto pitanga'!AE$7","v":0},{"$f":"'fruto pitanga'!AF$7","v":0},{"$f":"'fruto pitanga'!AG$7","v":0},null,0]
[null,null,null,null,null,null,null,null,null,null,null,null,null,null,null,{"$f":"Produção!$A$10","v":"castanha sapucaia"},null,{"$f":"Castanha!D$7","v":0},{"$f":"Castanha!E$7","v":0},{"$f":"Castanha!F$7","v":0},{"$f":"Castanha!G$7","v":0},{"$f":"Castanha!H$7","v":0},{"$f":"Castanha!I$7","v":0},{"$f":"Castanha!J$7","v":0},{"$f":"Castanha!K$7","v":0},{"$f":"Castanha!L$7","v":0},{"$f":"Castanha!M$7","v":0},{"$f":"Castanha!N$7","v":0},{"$f":"Castanha!O$7","v":0},{"$f":"Castanha!P$7","v":0},{"$f":"Castanha!Q$7","v":0},{"$f":"Castanha!R$7","v":0},{"$f":"Castanha!S$7","v":0},{"$f":"Castanha!T$7","v":0},{"$f":"Castanha!U$7","v":0},{"$f":"Castanha!V$7","v":0},{"$f":"Castanha!W$7","v":0},{"$f":"Castanha!X$7","v":0},{"$f":"Castanha!Y$7","v":0},{"$f":"Castanha!Z$7","v":0},{"$f":"Castanha!AA$7","v":0},{"$f":"Castanha!AB$7","v":0},{"$f":"Castanha!AC$7","v":0},{"$f":"Castanha!AD$7","v":0},{"$f":"Castanha!AE$7","v":0},{"$f":"Castanha!AF$7","v":0},{"$f":"Castanha!AG$7","v":0},null,0]
[null,null,null,null,null,null,null,null,null,null,null,null,null,null,null,{"$f":"Produção!$A$11","v":"fruto cajá"},null,{"$f":"'fruto cajá'!D$7","v":0},{"$f":"'fruto cajá'!E$7","v":0},{"$f":"'fruto cajá'!F$7","v":0},{"$f":"'fruto cajá'!G$7","v":0},{"$f":"'fruto cajá'!H$7","v":0},{"$f":"'fruto cajá'!I$7","v":0},{"$f":"'fruto cajá'!J$7","v":0},{"$f":"'fruto cajá'!K$7","v":0},{"$f":"'fruto cajá'!L$7","v":0},{"$f":"'fruto cajá'!M$7","v":0},{"$f":"'fruto cajá'!N$7","v":0},{"$f":"'fruto cajá'!O$7","v":0},{"$f":"'fruto cajá'!P$7","v":0},{"$f":"'fruto cajá'!Q$7","v":0},{"$f":"'fruto cajá'!R$7","v":0},{"$f":"'fruto cajá'!S$7","v":0},{"$f":"'fruto cajá'!T$7","v":0},{"$f":"'fruto cajá'!U$7","v":0},{"$f":"'fruto cajá'!V$7","v":0},{"$f":"'fruto cajá'!W$7","v":0},{"$f":"'fruto cajá'!X$7","v":0},{"$f":"'fruto cajá'!Y$7","v":0},{"$f":"'fruto cajá'!Z$7","v":0},{"$f":"'fruto cajá'!AA$7","v":0},{"$f":"'fruto cajá'!AB$7","v":0},{"$f":"'fruto cajá'!AC$7","v":0},{"$f":"'fruto cajá'!AD$7","v":0},{"$f":"'fruto cajá'!AE$7","v":0},{"$f":"'fruto cajá'!AF$7","v":0},{"$f":"'fruto cajá'!AG$7","v":0},null,{"$f":"SUM(Q39:AU39)","v":0}]
[null,null,null,null,null,null,null,null,null,null,null,null,null,null,null,{"$f":"Produção!$A$12","v":"semente urucum"},null,{"$f":"'semente urucum'!D$7","v":0},{"$f":"'semente urucum'!E$7","v":0},{"$f":"'semente urucum'!F$7","v":0},{"$f":"'semente urucum'!G$7","v":0},{"$f":"'semente urucum'!H$7","v":0},{"$f":"'semente urucum'!I$7","v":0},{"$f":"'semente urucum'!J$7","v":0},{"$f":"'semente urucum'!K$7","v":0},{"$f":"'semente urucum'!L$7","v":0},{"$f":"'semente urucum'!M$7","v":0},{"$f":"'semente urucum'!N$7","v":0},{"$f":"'semente urucum'!O$7","v":0},{"$f":"'semente urucum'!P$7","v":0},{"$f":"'semente urucum'!Q$7","v":0},{"$f":"'semente urucum'!R$7","v":0},{"$f":"'semente urucum'!S$7","v":0},{"$f":"'semente urucum'!T$7","v":0},{"$f":"'semente urucum'!U$7","v":0},{"$f":"'semente urucum'!V$7","v":0},{"$f":"'semente urucum'!W$7","v":0},{"$f":"'semente urucum'!X$7","v":0},{"$f":"'semente urucum'!Y$7","v":0},{"$f":"'semente urucum'!Z$7","v":0},{"$f":"'semente urucum'!AA$7","v":0},{"$f":"'semente urucum'!AB$7","v":0},{"$f":"'semente urucum'!AC$7","v":0},{"$f":"'semente urucum'!AD$7","v":0},{"$f":"'semente urucum'!AE$7","v":0},{"$f":"'semente urucum'!AF$7","v":0},{"$f":"'semente urucum'!AG$7","v":0},null,{"$f":"SUM(Q40:AU40)","v":0}]
[null,null,null,null,null,null,null,null,null,null,null,null,null,null,null,{"$f":"Produção!$A$13","v":"semente aroeira"},null,{"$f":"'semente aroeira'!D$7","v":0},{"$f":"'semente aroeira'!E$7","v":0},{"$f":"'semente aroeira'!F$7","v":0},{"$f":"'semente aroeira'!G$7","v":0},{"$f":"'semente aroeira'!H$7","v":0},{"$f":"'semente aroeira'!I$7","v":0},{"$f":"'semente aroeira'!J$7","v":0},{"$f":"'semente aroeira'!K$7","v":0},{"$f":"'semente aroeira'!L$7","v":0},{"$f":"'semente aroeira'!M$7","v":0},{"$f":"'semente aroeira'!N$7","v":0},{"$f":"'semente aroeira'!O$7","v":0},{"$f":"'semente aroeira'!P$7","v":0},{"$f":"'semente aroeira'!Q$7","v":0},{"$f":"'semente aroeira'!R$7","v":0},{"$f":"'semente aroeira'!S$7","v":0},{"$f":"'semente aroeira'!T$7","v":0},{"$f":"'semente aroeira'!U$7","v":0},{"$f":"'semente aroeira'!V$7","v":0},{"$f":"'semente aroeira'!W$7","v":0},{"$f":"'semente aroeira'!X$7","v":0},{"$f":"'semente aroeira'!Y$7","v":0},{"$f":"'semente aroeira'!Z$7","v":0},{"$f":"'semente aroeira'!AA$7","v":0},{"$f":"'semente aroeira'!AB$7","v":0},{"$f":"'semente aroeira'!AC$7","v":0},{"$f":"'semente aroeira'!AD$7","v":0},{"$f":"'semente aroeira'!AE$7","v":0},{"$f":"'semente aroeira'!AF$7","v":0},{"$f":"'semente aroeira'!AG$7","v":0},null,{"$f":"SUM(Q41:AU41)","v":0}]
[null,null,null,null,null,null,null,null,null,null,null,null,null,null,null,{"$f":"Produção!$A$14","v":"raiz mandioca"},null,{"$f":"'raiz mandioca'!D$7","v":0},{"$f":"'raiz mandioca'!E$7","v":0},{"$f":"'raiz mandioca'!F$7","v":0},{"$f":"'raiz mandioca'!G$7","v":0},{"$f":"'raiz mandioca'!H$7","v":0},{"$f":"'raiz mandioca'!I$7","v":0},{"$f":"'raiz mandioca'!J$7","v":0},{"$f":"'raiz mandioca'!K$7","v":0},{"$f":"'raiz mandioca'!L$7","v":0},{"$f":"'raiz mandioca'!M$7","v":0},{"$f":"'raiz mandioca'!N$7","v":0},{"$f":"'raiz mandioca'!O$7","v":0},{"$f":"'raiz mandioca'!P$7","v":0},{"$f":"'raiz mandioca'!Q$7","v":0},{"$f":"'raiz mandioca'!R$7","v":0},{"$f":"'raiz mandioca'!S$7","v":0},{"$f":"'raiz mandioca'!T$7","v":0},{"$f":"'raiz mandioca'!U$7","v":0},{"$f":"'raiz mandioca'!V$7","v":0},{"$f":"'raiz mandioca'!W$7","v":0},{"$f":"'raiz mandioca'!X$7","v":0},{"$f":"'raiz mandioca'!Y$7","v":0},{"$f":"'raiz mandioca'!Z$7","v":0},{"$f":"'raiz mandioca'!AA$7","v":0},{"$f":"'raiz mandioca'!AB$7","v":0},{"$f":"'raiz mandioca'!AC$7","v":0},{"$f":"'raiz mandioca'!AD$7","v":0},{"$f":"'raiz mandioca'!AE$7","v":0},{"$f":"'raiz mandioca'!AF$7","v":0},{"$f":"'raiz mandioca'!AG$7","v":0},null,{"$f":"SUM(Q42:AU42)","v":0}]
[null,null,null,null,null,null,null,null,null,null,null,null,null,null,null,{"$f":"Produção!$A$15","v":"fruto abacaxi"},null,{"$f":"abacaxi!D$7","v":0},{"$f":"abacaxi!E$7","v":0},{"$f":"abacaxi!F$7","v":0},{"$f":"abacaxi!G$7","v":0},{"$f":"abacaxi!H$7","v":0},{"$f":"abacaxi!I$7","v":0},{"$f":"abacaxi!J$7","v":0},{"$f":"abacaxi!K$7","v":0},{"$f":"abacaxi!L$7","v":0},{"$f":"abacaxi!M$7","v":0},{"$f":"abacaxi!N$7","v":0},{"$f":"abacaxi!O$7","v":0},{"$f":"abacaxi!P$7","v":0},{"$f":"abacaxi!Q$7","v":0},{"$f":"abacaxi!R$7","v":0},{"$f":"abacaxi!S$7","v":0},{"$f":"abacaxi!T$7","v":0},{"$f":"abacaxi!U$7","v":0},{"$f":"abacaxi!V$7","v":0},{"$f":"abacaxi!W$7","v":0},{"$f":"abacaxi!X$7","v":0},{"$f":"abacaxi!Y$7","v":0},{"$f":"abacaxi!Z$7","v":0},{"$f":"abacaxi!AA$7","v":0},{"$f":"abacaxi!AB$7","v":0},{"$f":"abacaxi!AC$7","v":0},{"$f":"abacaxi!AD$7","v":0},{"$f":"abacaxi!AE$7","v":0},{"$f":"abacaxi!AF$7","v":0},{"$f":"abacaxi!AG$7","v":0},null,{"$f":"SUM(Q43:AU43)","v":0}]
[null,null,null,null,null,null,null,null,null,null,null,null,null,null,null,{"$f":"Produção!$A$16","v":"espigas milho"},null,{"$f":"espigas!D$7","v":0},{"$f":"espigas!E$7","v":0},{"$f":"espigas!F$7","v":0},{"$f":"espigas!G$7","v":0},{"$f":"espigas!H$7","v":0},{"$f":"espigas!I$7","v":0},{"$f":"espigas!J$7","v":0},{"$f":"espigas!K$7","v":0},{"$f":"espigas!L$7","v":0},{"$f":"espigas!M$7","v":0},{"$f":"espigas!N$7","v":0},{"$f":"espigas!O$7","v":0},{"$f":"espigas!P$7","v":0},{"$f":"espigas!Q$7","v":0},{"$f":"espigas!R$7","v":0},{"$f":"espigas!S$7","v":0},{"$f":"espigas!T$7","v":0},{"$f":"espigas!U$7","v":0},{"$f":"espigas!V$7","v":0},{"$f":"espigas!W$7","v":0},{"$f":"espigas!X$7","v":0},{"$f":"espigas!Y$7","v":0},{"$f":"espigas!Z$7","v":0},{"$f":"espigas!AA$7","v":0},{"$f":"espigas!AB$7","v":0},{"$f":"espigas!AC$7","v":0},{"$f":"espigas!AD$7","v":0},{"$f":"espigas!AE$7","v":0},{"$f":"espigas!AF$7","v":0},{"$f":"espigas!AG$7","v":0},null,0]
[null,null,null,null,null,null,null,null,null,null,null,null,null,null,null,{"$f":"Produção!$A$17","v":"estaca sansão do campo"},null,{"$f":"'semente caupi'!D$7","v":0},{"$f":"'semente caupi'!E$7","v":0},{"$f":"'semente caupi'!F$7","v":0},{"$f":"'semente caupi'!G$7","v":0},{"$f":"'semente caupi'!H$7","v":0},{"$f":"'semente caupi'!I$7","v":0},{"$f":"'semente caupi'!J$7","v":0},{"$f":"'semente caupi'!K$7","v":0},{"$f":"'semente caupi'!L$7","v":0},{"$f":"'semente caupi'!M$7","v":0},{"$f":"'semente caupi'!N$7","v":0},{"$f":"'semente caupi'!O$7","v":0},{"$f":"'semente caupi'!P$7","v":0},{"$f":"'semente caupi'!Q$7","v":0},{"$f":"'semente caupi'!R$7","v":0},{"$f":"'semente caupi'!S$7","v":0},{"$f":"'semente caupi'!T$7","v":0},{"$f":"'semente caupi'!U$7","v":0},{"$f":"'semente caupi'!V$7","v":0},{"$f":"'semente caupi'!W$7","v":0},{"$f":"'semente caupi'!X$7","v":0},{"$f":"'semente caupi'!Y$7","v":0},{"$f":"'semente caupi'!Z$7","v":0},{"$f":"'semente caupi'!AA$7","v":0},{"$f":"'semente caupi'!AB$7","v":0},{"$f":"'semente caupi'!AC$7","v":0},{"$f":"'semente caupi'!AD$7","v":0},{"$f":"'semente caupi'!AE$7","v":0},{"$f":"'semente caupi'!AF$7","v":0},{"$f":"'semente caupi'!AG$7","v":0},null,0]
[null,null,null,null,null,null,null,null,null,null,null,null,null,null,null,{"$f":"Produção!$A$18","v":"madeira madeira nova"},null,{"$f":"biomassa!D$7","v":0},{"$f":"biomassa!E$7","v":0},{"$f":"biomassa!F$7","v":0},{"$f":"biomassa!G$7","v":0},{"$f":"biomassa!H$7","v":0},{"$f":"biomassa!I$7","v":0},{"$f":"biomassa!J$7","v":0},{"$f":"biomassa!K$7","v":0},{"$f":"biomassa!L$7","v":0},{"$f":"biomassa!M$7","v":0},{"$f":"biomassa!N$7","v":0},{"$f":"biomassa!O$7","v":0},{"$f":"biomassa!P$7","v":0},{"$f":"biomassa!Q$7","v":0},{"$f":"biomassa!R$7","v":0},{"$f":"biomassa!S$7","v":0},{"$f":"biomassa!T$7","v":0},{"$f":"biomassa!U$7","v":0},{"$f":"biomassa!V$7","v":0},{"$f":"biomassa!W$7","v":0},{"$f":"biomassa!X$7","v":0},{"$f":"biomassa!Y$7","v":0},{"$f":"biomassa!Z$7","v":0},{"$f":"biomassa!AA$7","v":0},{"$f":"biomassa!AB$7","v":0},{"$f":"biomassa!AC$7","v":0},{"$f":"biomassa!AD$7","v":0},{"$f":"biomassa!AE$7","v":0},{"$f":"biomassa!AF$7","v":0},{"$f":"biomassa!AG$7","v":0},null,0]
[null,null,null,null,null,null,null,null,null,null,null,null,null,null,null,{"$f":"Produção!$A$19","v":"lenha fedegoso"},null,{"$f":"madeira!D$7","v":0},{"$f":"madeira!E$7","v":0},{"$f":"madeira!F$7","v":0},{"$f":"madeira!G$7","v":0},{"$f":"madeira!H$7","v":0},{"$f":"madeira!I$7","v":0},{"$f":"madeira!J$7","v":0},{"$f":"madeira!K$7","v":0},{"$f":"madeira!L$7","v":0},{"$f":"madeira!M$7","v":0},{"$f":"madeira!N$7","v":0},{"$f":"madeira!O$7","v":0},{"$f":"madeira!P$7","v":0},{"$f":"madeira!Q$7","v":0},{"$f":"madeira!R$7","v":0},{"$f":"madeira!S$7","v":0},{"$f":"madeira!T$7","v":0},{"$f":"madeira!U$7","v":0},{"$f":"madeira!V$7","v":0},{"$f":"madeira!W$7","v":0},{"$f":"madeira!X$7","v":0},{"$f":"madeira!Y$7","v":0},{"$f":"madeira!Z$7","v":0},{"$f":"madeira!AA$7","v":0},{"$f":"madeira!AB$7","v":0},{"$f":"madeira!AC$7","v":0},{"$f":"madeira!AD$7","v":0},{"$f":"madeira!AE$7","v":0},{"$f":"madeira!AF$7","v":0},{"$f":"madeira!AG$7","v":0},null,0]
[null,null,null,null,null,null,null,null,null,null,null,null,null,null,null,{"$f":"Produção!$A$20","v":"estaca pau d'alho"},null,{"$f":"'Produto 15'!D$7","v":0},{"$f":"'Produto 15'!E$7","v":0},{"$f":"'Produto 15'!F$7","v":0},{"$f":"'Produto 15'!G$7","v":0},{"$f":"'Produto 15'!H$7","v":0},{"$f":"'Produto 15'!I$7","v":0},{"$f":"'Produto 15'!J$7","v":0},{"$f":"'Produto 15'!K$7","v":0},{"$f":"'Produto 15'!L$7","v":0},{"$f":"'Produto 15'!M$7","v":0},{"$f":"'Produto 15'!N$7","v":0},{"$f":"'Produto 15'!O$7","v":0},{"$f":"'Produto 15'!P$7","v":0},{"$f":"'Produto 15'!Q$7","v":0},{"$f":"'Produto 15'!R$7","v":0},{"$f":"'Produto 15'!S$7","v":0},{"$f":"'Produto 15'!T$7","v":0},{"$f":"'Produto 15'!U$7","v":0},{"$f":"'Produto 15'!V$7","v":0},{"$f":"'Produto 15'!W$7","v":0},{"$f":"'Produto 15'!X$7","v":0},{"$f":"'Produto 15'!Y$7","v":0},{"$f":"'Produto 15'!Z$7","v":0},{"$f":"'Produto 15'!AA$7","v":0},{"$f":"'Produto 15'!AB$7","v":0},{"$f":"'Produto 15'!AC$7","v":0},{"$f":"'Produto 15'!AD$7","v":0},{"$f":"'Produto 15'!AE$7","v":0},{"$f":"'Produto 15'!AF$7","v":0},{"$f":"'Produto 15'!AG$7","v":0},null,0]
[null,null,null,null,null,null,null,null,null,null,null,null,null,null,null,{"$f":"Produção!$A$21","v":"caixotaria boleira"},null,{"$f":"'Produto 16'!D$7","v":0},{"$f":"'Produto 16'!E$7","v":0},{"$f":"'Produto 16'!F$7","v":0},{"$f":"'Produto 16'!G$7","v":0},{"$f":"'Produto 16'!H$7","v":0},{"$f":"'Produto 16'!I$7","v":0},{"$f":"'Produto 16'!J$7","v":0},{"$f":"'Produto 16'!K$7","v":0},{"$f":"'Produto 16'!L$7","v":0},{"$f":"'Produto 16'!M$7","v":0},{"$f":"'Produto 16'!N$7","v":0},{"$f":"'Produto 16'!O$7","v":0},{"$f":"'Produto 16'!P$7","v":0},{"$f":"'Produto 16'!Q$7","v":0},{"$f":"'Produto 16'!R$7","v":0},{"$f":"'Produto 16'!S$7","v":0},{"$f":"'Produto 16'!T$7","v":0},{"$f":"'Produto 16'!U$7","v":0},{"$f":"'Produto 16'!V$7","v":0},{"$f":"'Produto 16'!W$7","v":0},{"$f":"'Produto 16'!X$7","v":0},{"$f":"'Produto 16'!Y$7","v":0},{"$f":"'Produto 16'!Z$7","v":0},{"$f":"'Produto 16'!AA$7","v":0},{"$f":"'Produto 16'!AB$7","v":0},{"$f":"'Produto 16'!AC$7","v":0},{"$f":"'Produto 16'!AD$7","v":0},{"$f":"'Produto 16'!AE$7","v":0},{"$f":"'Produto 16'!AF$7","v":0},{"$f":"'Produto 16'!AG$7","v":0},null,0]
[null,null,null,null,null,null,null,null,null,null,null,null,null,null,null,{"$f":"Produção!$A$22","v":"madeira angico roxo"},null,{"$f":"'Produto 17'!D$7","v":0},{"$f":"'Produto 17'!E$7","v":0},{"$f":"'Produto 17'!F$7","v":0},{"$f":"'Produto 17'!G$7","v":0},{"$f":"'Produto 17'!H$7","v":0},{"$f":"'Produto 17'!I$7","v":0},{"$f":"'Produto 17'!J$7","v":0},{"$f":"'Produto 17'!K$7","v":0},{"$f":"'Produto 17'!L$7","v":0},{"$f":"'Produto 17'!M$7","v":0},{"$f":"'Produto 17'!N$7","v":0},{"$f":"'Produto 17'!O$7","v":0},{"$f":"'Produto 17'!P$7","v":0},{"$f":"'Produto 17'!Q$7","v":0},{"$f":"'Produto 17'!R$7","v":0},{"$f":"'Produto 17'!S$7","v":0},{"$f":"'Produto 17'!T$7","v":0},{"$f":"'Produto 17'!U$7","v":0},{"$f":"'Produto 17'!V$7","v":0},{"$f":"'Produto 17'!W$7","v":0},{"$f":"'Produto 17'!X$7","v":0},{"$f":"'Produto 17'!Y$7","v":0},{"$f":"'Produto 17'!Z$7","v":0},{"$f":"'Produto 17'!AA$7","v":0},{"$f":"'Produto 17'!AB$7","v":0},{"$f":"'Produto 17'!AC$7","v":0},{"$f":"'Produto 17'!AD$7","v":0},{"$f":"'Produto 17'!AE$7","v":0},{"$f":"'Produto 17'!AF$7","v":0},{"$f":"'Produto 17'!AG$7","v":0},null,{"$f":"SUM(Q50:AU50)","v":0}]
[null,null,null,null,null,null,null,null,null,null,null,null,null,null,null,{"$f":"Produção!$A$23","v":"madeira ipê roxo"},null,{"$f":"'Produto 18'!D$7","v":0},{"$f":"'Produto 18'!E$7","v":0},{"$f":"'Produto 18'!F$7","v":0},{"$f":"'Produto 18'!G$7","v":0},{"$f":"'Produto 18'!H$7","v":0},{"$f":"'Produto 18'!I$7","v":0},{"$f":"'Produto 18'!J$7","v":0},{"$f":"'Produto 18'!K$7","v":0},{"$f":"'Produto 18'!L$7","v":0},{"$f":"'Produto 18'!M$7","v":0},{"$f":"'Produto 18'!N$7","v":0},{"$f":"'Produto 18'!O$7","v":0},{"$f":"'Produto 18'!P$7","v":0},{"$f":"'Produto 18'!Q$7","v":0},{"$f":"'Produto 18'!R$7","v":0},{"$f":"'Produto 18'!S$7","v":0},{"$f":"'Produto 18'!T$7","v":0},{"$f":"'Produto 18'!U$7","v":0},{"$f":"'Produto 18'!V$7","v":0},{"$f":"'Produto 18'!W$7","v":0},{"$f":"'Produto 18'!X$7","v":0},{"$f":"'Produto 18'!Y$7","v":0},{"$f":"'Produto 18'!Z$7","v":0},{"$f":"'Produto 18'!AA$7","v":0},{"$f":"'Produto 18'!AB$7","v":0},{"$f":"'Produto 18'!AC$7","v":0},{"$f":"'Produto 18'!AD$7","v":0},{"$f":"'Produto 18'!AE$7","v":0},{"$f":"'Produto 18'!AF$7","v":0},{"$f":"'Produto 18'!AG$7","v":0},null,0]
[null,null,null,null,null,null,null,null,null,null,null,null,null,null,null,{"$f":"Produção!$A$24","v":"madeira ipê amarelo"},null,{"$f":"'Produto 19'!D$7","v":0},{"$f":"'Produto 19'!E$7","v":0},{"$f":"'Produto 19'!F$7","v":0},{"$f":"'Produto 19'!G$7","v":0},{"$f":"'Produto 19'!H$7","v":0},{"$f":"'Produto 19'!I$7","v":0},{"$f":"'Produto 19'!J$7","v":0},{"$f":"'Produto 19'!K$7","v":0},{"$f":"'Produto 19'!L$7","v":0},{"$f":"'Produto 19'!M$7","v":0},{"$f":"'Produto 19'!N$7","v":0},{"$f":"'Produto 19'!O$7","v":0},{"$f":"'Produto 19'!P$7","v":0},{"$f":"'Produto 19'!Q$7","v":0},{"$f":"'Produto 19'!R$7","v":0},{"$f":"'Produto 19'!S$7","v":0},{"$f":"'Produto 19'!T$7","v":0},{"$f":"'Produto 19'!U$7","v":0},{"$f":"'Produto 19'!V$7","v":0},{"$f":"'Produto 19'!W$7","v":0},{"$f":"'Produto 19'!X$7","v":0},{"$f":"'Produto 19'!Y$7","v":0},{"$f":"'Produto 19'!Z$7","v":0},{"$f":"'Produto 19'!AA$7","v":0},{"$f":"'Produto 19'!AB$7","v":0},{"$f":"'Produto 19'!AC$7","v":0},{"$f":"'Produto 19'!AD$7","v":0},{"$f":"'Produto 19'!AE$7","v":0},{"$f":"'Produto 19'!AF$7","v":0},{"$f":"'Produto 19'!AG$7","v":0},null,0]
[null,null,null,null,null,null,null,null,null,null,null,null,null,null,null,{"$f":"Produção!$A$25","v":"madeira gonçalo alves"},null,{"$f":"'Produto 20'!D$7","v":0},{"$f":"'Produto 20'!E$7","v":0},{"$f":"'Produto 20'!F$7","v":0},{"$f":"'Produto 20'!G$7","v":0},{"$f":"'Produto 20'!H$7","v":0},{"$f":"'Produto 20'!I$7","v":0},{"$f":"'Produto 20'!J$7","v":0},{"$f":"'Produto 20'!K$7","v":0},{"$f":"'Produto 20'!L$7","v":0},{"$f":"'Produto 20'!M$7","v":0},{"$f":"'Produto 20'!N$7","v":0},{"$f":"'Produto 20'!O$7","v":0},{"$f":"'Produto 20'!P$7","v":0},{"$f":"'Produto 20'!Q$7","v":0},{"$f":"'Produto 20'!R$7","v":0},{"$f":"'Produto 20'!S$7","v":0},{"$f":"'Produto 20'!T$7","v":0},{"$f":"'Produto 20'!U$7","v":0},{"$f":"'Produto 20'!V$7","v":0},{"$f":"'Produto 20'!W$7","v":0},{"$f":"'Produto 20'!X$7","v":0},{"$f":"'Produto 20'!Y$7","v":0},{"$f":"'Produto 20'!Z$7","v":0},{"$f":"'Produto 20'!AA$7","v":0},{"$f":"'Produto 20'!AB$7","v":0},{"$f":"'Produto 20'!AC$7","v":0},{"$f":"'Produto 20'!AD$7","v":0},{"$f":"'Produto 20'!AE$7","v":0},{"$f":"'Produto 20'!AF$7","v":0},{"$f":"'Produto 20'!AG$7","v":0},null,0]
[null,null,null,null,null,null,null,null,null,null,null,null,null,null,null,{"$f":"Produção!$A$26","v":"madeira vinhatico"},null,{"$f":"'Produto 21'!D$7","v":0},{"$f":"'Produto 21'!E$7","v":0},{"$f":"'Produto 21'!F$7","v":0},{"$f":"'Produto 21'!G$7","v":0},{"$f":"'Produto 21'!H$7","v":0},{"$f":"'Produto 21'!I$7","v":0},{"$f":"'Produto 21'!J$7","v":0},{"$f":"'Produto 21'!K$7","v":0},{"$f":"'Produto 21'!L$7","v":0},{"$f":"'Produto 21'!M$7","v":0},{"$f":"'Produto 21'!N$7","v":0},{"$f":"'Produto 21'!O$7","v":0},{"$f":"'Produto 21'!P$7","v":0},{"$f":"'Produto 21'!Q$7","v":0},{"$f":"'Produto 21'!R$7","v":0},{"$f":"'Produto 21'!S$7","v":0},{"$f":"'Produto 21'!T$7","v":0},{"$f":"'Produto 21'!U$7","v":0},{"$f":"'Produto 21'!V$7","v":0},{"$f":"'Produto 21'!W$7","v":0},{"$f":"'Produto 21'!X$7","v":0},{"$f":"'Produto 21'!Y$7","v":0},{"$f":"'Produto 21'!Z$7","v":0},{"$f":"'Produto 21'!AA$7","v":0},{"$f":"'Produto 21'!AB$7","v":0},{"$f":"'Produto 21'!AC$7","v":0},{"$f":"'Produto 21'!AD$7","v":0},{"$f":"'Produto 21'!AE$7","v":0},{"$f":"'Produto 21'!AF$7","v":0},{"$f":"'Produto 21'!AG$7","v":0},null,0]
[null,null,null,null,null,null,null,null,null,null,null,null,null,null,null,{"$f":"Produção!$A$27","v":"madeira jequitiba"},null,{"$f":"'Produto 22'!D$7","v":0},{"$f":"'Produto 22'!E$7","v":0},{"$f":"'Produto 22'!F$7","v":0},{"$f":"'Produto 22'!G$7","v":0},{"$f":"'Produto 22'!H$7","v":0},{"$f":"'Produto 22'!I$7","v":0},{"$f":"'Produto 22'!J$7","v":0},{"$f":"'Produto 22'!K$7","v":0},{"$f":"'Produto 22'!L$7","v":0},{"$f":"'Produto 22'!M$7","v":0},{"$f":"'Produto 22'!N$7","v":0},{"$f":"'Produto 22'!O$7","v":0},{"$f":"'Produto 22'!P$7","v":0},{"$f":"'Produto 22'!Q$7","v":0},{"$f":"'Produto 22'!R$7","v":0},{"$f":"'Produto 22'!S$7","v":0},{"$f":"'Produto 22'!T$7","v":0},{"$f":"'Produto 22'!U$7","v":0},{"$f":"'Produto 22'!V$7","v":0},{"$f":"'Produto 22'!W$7","v":0},{"$f":"'Produto 22'!X$7","v":0},{"$f":"'Produto 22'!Y$7","v":0},{"$f":"'Produto 22'!Z$7","v":0},{"$f":"'Produto 22'!AA$7","v":0},{"$f":"'Produto 22'!AB$7","v":0},{"$f":"'Produto 22'!AC$7","v":0},{"$f":"'Produto 22'!AD$7","v":0},{"$f":"'Produto 22'!AE$7","v":0},{"$f":"'Produto 22'!AF$7","v":0},{"$f":"'Produto 22'!AG$7","v":0},null,0]
[null,null,null,null,null,null,null,null,null,null,null,null,null,null,null,{"$f":"Produção!$A$28","v":"biomassa"},null,{"$f":"'Produto 23'!D$7","v":0},{"$f":"'Produto 23'!E$7","v":0},{"$f":"'Produto 23'!F$7","v":0},{"$f":"'Produto 23'!G$7","v":0},{"$f":"'Produto 23'!H$7","v":0},{"$f":"'Produto 23'!I$7","v":0},{"$f":"'Produto 23'!J$7","v":0},{"$f":"'Produto 23'!K$7","v":0},{"$f":"'Produto 23'!L$7","v":0},{"$f":"'Produto 23'!M$7","v":0},{"$f":"'Produto 23'!N$7","v":0},{"$f":"'Produto 23'!O$7","v":0},{"$f":"'Produto 23'!P$7","v":0},{"$f":"'Produto 23'!Q$7","v":0},{"$f":"'Produto 23'!R$7","v":0},{"$f":"'Produto 23'!S$7","v":0},{"$f":"'Produto 23'!T$7","v":0},{"$f":"'Produto 23'!U$7","v":0},{"$f":"'Produto 23'!V$7","v":0},{"$f":"'Produto 23'!W$7","v":0},{"$f":"'Produto 23'!X$7","v":0},{"$f":"'Produto 23'!Y$7","v":0},{"$f":"'Produto 23'!Z$7","v":0},{"$f":"'Produto 23'!AA$7","v":0},{"$f":"'Produto 23'!AB$7","v":0},{"$f":"'Produto 23'!AC$7","v":0},{"$f":"'Produto 23'!AD$7","v":0},{"$f":"'Produto 23'!AE$7","v":0},{"$f":"'Produto 23'!AF$7","v":0},{"$f":"'Produto 23'!AG$7","v":0},null,0]
[null,null,null,null,null,null,null,null,null,null,null,null,null,null,null,{"$f":"Produção!$A$29","v":"grão caupi"},null,{"$f":"'Produto 24'!D$7","v":0},{"$f":"'Produto 24'!E$7","v":0},{"$f":"'Produto 24'!F$7","v":0},{"$f":"'Produto 24'!G$7","v":0},{"$f":"'Produto 24'!H$7","v":0},{"$f":"'Produto 24'!I$7","v":0},{"$f":"'Produto 24'!J$7","v":0},{"$f":"'Produto 24'!K$7","v":0},{"$f":"'Produto 24'!L$7","v":0},{"$f":"'Produto 24'!M$7","v":0},{"$f":"'Produto 24'!N$7","v":0},{"$f":"'Produto 24'!O$7","v":0},{"$f":"'Produto 24'!P$7","v":0},{"$f":"'Produto 24'!Q$7","v":0},{"$f":"'Produto 24'!R$7","v":0},{"$f":"'Produto 24'!S$7","v":0},{"$f":"'Produto 24'!T$7","v":0},{"$f":"'Produto 24'!U$7","v":0},{"$f":"'Produto 24'!V$7","v":0},{"$f":"'Produto 24'!W$7","v":0},{"$f":"'Produto 24'!X$7","v":0},{"$f":"'Produto 24'!Y$7","v":0},{"$f":"'Produto 24'!Z$7","v":0},{"$f":"'Produto 24'!AA$7","v":0},{"$f":"'Produto 24'!AB$7","v":0},{"$f":"'Produto 24'!AC$7","v":0},{"$f":"'Produto 24'!AD$7","v":0},{"$f":"'Produto 24'!AE$7","v":0},{"$f":"'Produto 24'!AF$7","v":0},{"$f":"'Produto 24'!AG$7","v":0},null,{"$f":"SUM(Q57:AU57)","v":0}]
[]
[]
[null,null,null,null,null,null,null,null,null,null,null,null,null,null,null,"Custos de Insumos",{"$f":"SUM(Q61:Q85)","v":0},0,0,0,0,0,0,0,0,0,0,0,0,0,0,0,0,0,0,0,0,0,0,0,0,0,0,0,0,0,0]
[null,null,null,null,null,null,null,null,null,null,null,null,null,null,null,"Atividades Gerais",{"$f":"'Preparo e Gerais'!D$20","v":0},null,null,null,null,null,null,null,null,null,null,null,null,null,null,null,null,null,null,null,null,null,null,null,null,null,null,null,null,null,null,null,{"$f":"SUM(Q61:AU61)","v":0}]
[null,null,null,null,null,null,null,null,null,null,null,null,null,null,null,{"$f":"Produção!$A$6","v":"latex"},null,{"$f":"latex!D$24","v":0},{"$f":"latex!E$24","v":0},{"$f":"latex!F$24","v":0},{"$f":"latex!G$24","v":0},{"$f":"latex!H$24","v":0},{"$f":"latex!I$24","v":0},{"$f":"latex!J$24","v":0},{"$f":"latex!K$24","v":0},{"$f":"latex!L$24","v":0},{"$f":"latex!M$24","v":0},{"$f":"latex!N$24","v":0},{"$f":"latex!O$24","v":0},{"$f":"latex!P$24","v":0},{"$f":"latex!Q$24","v":0},{"$f":"latex!R$24","v":0},{"$f":"latex!S$24","v":0},{"$f":"latex!T$24","v":0},{"$f":"latex!U$24","v":0},{"$f":"latex!V$24","v":0},{"$f":"latex!W$24","v":0},{"$f":"latex!X$24","v":0},{"$f":"latex!Y$24","v":0},{"$f":"latex!Z$24","v":0},{"$f":"latex!AA$24","v":0},{"$f":"latex!AB$24","v":0},{"$f":"latex!AC$24","v":0},{"$f":"latex!AD$24","v":0},{"$f":"latex!AE$24","v":0},{"$f":"latex!AF$24","v":0},{"$f":"latex!AG$24","v":0},null,0]
[null,null,null,null,null,null,null,null,null,null,null,null,null,null,null,{"$f":"Produção!$A$7","v":"fruto genipapo"},null,{"$f":"'fruto genipapo'!D$24","v":0},{"$f":"'fruto genipapo'!E$24","v":0},{"$f":"'fruto genipapo'!F$24","v":0},{"$f":"'fruto genipapo'!G$24","v":0},{"$f":"'fruto genipapo'!H$24","v":0},{"$f":"'fruto genipapo'!I$24","v":0},{"$f":"'fruto genipapo'!J$24","v":0},{"$f":"'fruto genipapo'!K$24","v":0},{"$f":"'fruto genipapo'!L$24","v":0},{"$f":"'fruto genipapo'!M$24","v":0},{"$f":"'fruto genipapo'!N$24","v":0},{"$f":"'fruto genipapo'!O$24","v":0},{"$f":"'fruto genipapo'!P$24","v":0},{"$f":"'fruto genipapo'!Q$24","v":0},{"$f":"'fruto genipapo'!R$24","v":0},{"$f":"'fruto genipapo'!S$24","v":0},{"$f":"'fruto genipapo'!T$24","v":0},{"$f":"'fruto genipapo'!U$24","v":0},{"$f":"'fruto genipapo'!V$24","v":0},{"$f":"'fruto genipapo'!W$24","v":0},{"$f":"'fruto genipapo'!X$24","v":0},{"$f":"'fruto genipapo'!Y$24","v":0},{"$f":"'fruto genipapo'!Z$24","v":0},{"$f":"'fruto genipapo'!AA$24","v":0},{"$f":"'fruto genipapo'!AB$24","v":0},{"$f":"'fruto genipapo'!AC$24","v":0},{"$f":"'fruto genipapo'!AD$24","v":0},{"$f":"'fruto genipapo'!AE$24","v":0},{"$f":"'fruto genipapo'!AF$24","v":0},{"$f":"'fruto genipapo'!AG$24","v":0},null,0]
[null,null,null,null,null,null,null,null,null,null,null,null,null,null,null,{"$f":"Produção!$A$8","v":"fruto araçauna"},null,{"$f":"'fruto araçauna'!D$24","v":0},{"$f":"'fruto araçauna'!E$24","v":0},{"$f":"'fruto araçauna'!F$24","v":0},{"$f":"'fruto araçauna'!G$24","v":0},{"$f":"'fruto araçauna'!H$24","v":0},{"$f":"'fruto araçauna'!I$24","v":0},{"$f":"'fruto araçauna'!J$24","v":0},{"$f":"'fruto araçauna'!K$24","v":0},{"$f":"'fruto araçauna'!L$24","v":0},{"$f":"'fruto araçauna'!M$24","v":0},{"$f":"'fruto araçauna'!N$24","v":0},{"$f":"'fruto araçauna'!O$24","v":0},{"$f":"'fruto araçauna'!P$24","v":0},{"$f":"'fruto araçauna'!Q$24","v":0},{"$f":"'fruto araçauna'!R$24","v":0},{"$f":"'fruto araçauna'!S$24","v":0},{"$f":"'fruto araçauna'!T$24","v":0},{"$f":"'fruto araçauna'!U$24","v":0},{"$f":"'fruto araçauna'!V$24","v":0},{"$f":"'fruto araçauna'!W$24","v":0},{"$f":"'fruto araçauna'!X$24","v":0},{"$f":"'fruto araçauna'!Y$24","v":0},{"$f":"'fruto araçauna'!Z$24","v":0},{"$f":"'fruto araçauna'!AA$24","v":0},{"$f":"'fruto araçauna'!AB$24","v":0},{"$f":"'fruto araçauna'!AC$24","v":0},{"$f":"'fruto araçauna'!AD$24","v":0},{"$f":"'fruto araçauna'!AE$24","v":0},{"$f":"'fruto araçauna'!AF$24","v":0},{"$f":"'fruto araçauna'!AG$24","v":0},null,0]
[null,null,null,null,null,null,null,null,null,null,null,null,null,null,null,{"$f":"Produção!$A$9","v":"fruto pitanga"},null,{"$f":"'fruto pitanga'!D$24","v":0},{"$f":"'fruto pitanga'!E$24","v":0},{"$f":"'fruto pitanga'!F$24","v":0},{"$f":"'fruto pitanga'!G$24","v":0},{"$f":"'fruto pitanga'!H$24","v":0},{"$f":"'fruto pitanga'!I$24","v":0},{"$f":"'fruto pitanga'!J$24","v":0},{"$f":"'fruto pitanga'!K$24","v":0},{"$f":"'fruto pitanga'!L$24","v":0},{"$f":"'fruto pitanga'!M$24","v":0},{"$f":"'fruto pitanga'!N$24","v":0},{"$f":"'fruto pitanga'!O$24","v":0},{"$f":"'fruto pitanga'!P$24","v":0},{"$f":"'fruto pitanga'!Q$24","v":0},{"$f":"'fruto pitanga'!R$24","v":0},{"$f":"'fruto pitanga'!S$24","v":0},{"$f":"'fruto pitanga'!T$24","v":0},{"$f":"'fruto pitanga'!U$24","v":0},{"$f":"'fruto pitanga'!V$24","v":0},{"$f":"'fruto pitanga'!W$24","v":0},{"$f":"'fruto pitanga'!X$24","v":0},{"$f":"'fruto pitanga'!Y$24","v":0},{"$f":"'fruto pitanga'!Z$24","v":0},{"$f":"'fruto pitanga'!AA$24","v":0},{"$f":"'fruto pitanga'!AB$24","v":0},{"$f":"'fruto pitanga'!AC$24","v":0},{"$f":"'fruto pitanga'!AD$24","v":0},{"$f":"'fruto pitanga'!AE$24","v":0},{"$f":"'fruto pitanga'!AF$24","v":0},{"$f":"'fruto pitanga'!AG$24","v":0},null,0]
[null,null,null,null,null,null,null,null,null,null,null,null,null,null,null,{"$f":"Produção!$A$10","v":"castanha sapucaia"},null,{"$f":"Castanha!D$24","v":0},{"$f":"Castanha!E$24","v":0},{"$f":"Castanha!F$24","v":0},{"$f":"Castanha!G$24","v":0},{"$f":"Castanha!H$24","v":0},{"$f":"Castanha!I$24","v":0},{"$f":"Castanha!J$24","v":0},{"$f":"Castanha!K$24","v":0},{"$f":"Castanha!L$24","v":0},{"$f":"Castanha!M$24","v":0},{"$f":"Castanha!N$24","v":0},{"$f":"Castanha!O$24","v":0},{"$f":"Castanha!P$24","v":0},{"$f":"Castanha!Q$24","v":0},{"$f":"Castanha!R$24","v":0},{"$f":"Castanha!S$24","v":0},{"$f":"Castanha!T$24","v":0},{"$f":"Castanha!U$24","v":0},{"$f":"Castanha!V$24","v":0},{"$f":"Castanha!W$24","v":0},{"$f":"Castanha!X$24","v":0},{"$f":"Castanha!Y$24","v":0},{"$f":"Castanha!Z$24","v":0},{"$f":"Castanha!AA$24","v":0},{"$f":"Castanha!AB$24","v":0},{"$f":"Castanha!AC$24","v":0},{"$f":"Castanha!AD$24","v":0},{"$f":"Castanha!AE$24","v":0},{"$f":"Castanha!AF$24","v":0},{"$f":"Castanha!AG$24","v":0},null,0]
[null,null,null,null,null,null,null,null,null,null,null,null,null,null,null,{"$f":"Produção!$A$11","v":"fruto cajá"},null,{"$f":"'fruto cajá'!D$24","v":0},{"$f":"'fruto cajá'!E$24","v":0},{"$f":"'fruto cajá'!F$24","v":0},{"$f":"'fruto cajá'!G$24","v":0},{"$f":"'fruto cajá'!H$24","v":0},{"$f":"'fruto cajá'!I$24","v":0},{"$f":"'fruto cajá'!J$24","v":0},{"$f":"'fruto cajá'!K$24","v":0},{"$f":"'fruto cajá'!L$24","v":0},{"$f":"'fruto cajá'!M$24","v":0},{"$f":"'fruto cajá'!N$24","v":0},{"$f":"'fruto cajá'!O$24","v":0},{"$f":"'fruto cajá'!P$24","v":0},{"$f":"'fruto cajá'!Q$24","v":0},{"$f":"'fruto cajá'!R$24","v":0},{"$f":"'fruto cajá'!S$24","v":0},{"$f":"'fruto cajá'!T$24","v":0},{"$f":"'fruto cajá'!U$24","v":0},{"$f":"'fruto cajá'!V$24","v":0},{"$f":"'fruto cajá'!W$24","v":0},{"$f":"'fruto cajá'!X$24","v":0},{"$f":"'fruto cajá'!Y$24","v":0},{"$f":"'fruto cajá'!Z$24","v":0},{"$f":"'fruto cajá'!AA$24","v":0},{"$f":"'fruto cajá'!AB$24","v":0},{"$f":"'fruto cajá'!AC$24","v":0},{"$f":"'fruto cajá'!AD$24","v":0},{"$f":"'fruto cajá'!AE$24","v":0},{"$f":"'fruto cajá'!AF$24","v":0},{"$f":"'fruto cajá'!AG$24","v":0},null,{"$f":"SUM(Q67:AU67)","v":0}]
[null,null,null,null,null,null,null,null,null,null,null,null,null,null,null,{"$f":"Produção!$A$12","v":"semente urucum"},null,{"$f":"'semente urucum'!D$24","v":0},{"$f":"'semente urucum'!E$24","v":0},{"$f":"'semente urucum'!F$24","v":0},{"$f":"'semente urucum'!G$24","v":0},{"$f":"'semente urucum'!H$24","v":0},{"$f":"'semente urucum'!I$24","v":0},{"$f":"'semente urucum'!J$24","v":0},{"$f":"'semente urucum'!K$24","v":0},{"$f":"'semente urucum'!L$24","v":0},{"$f":"'semente urucum'!M$24","v":0},{"$f":"'semente urucum'!N$24","v":0},{"$f":"'semente urucum'!O$24","v":0},{"$f":"'semente urucum'!P$24","v":0},{"$f":"'semente urucum'!Q$24","v":0},{"$f":"'semente urucum'!R$24","v":0},{"$f":"'semente urucum'!S$24","v":0},{"$f":"'semente urucum'!T$24","v":0},{"$f":"'semente urucum'!U$24","v":0},{"$f":"'semente urucum'!V$24","v":0},{"$f":"'semente urucum'!W$24","v":0},{"$f":"'semente urucum'!X$24","v":0},{"$f":"'semente urucum'!Y$24","v":0},{"$f":"'semente urucum'!Z$24","v":0},{"$f":"'semente urucum'!AA$24","v":0},{"$f":"'semente urucum'!AB$24","v":0},{"$f":"'semente urucum'!AC$24","v":0},{"$f":"'semente urucum'!AD$24","v":0},{"$f":"'semente urucum'!AE$24","v":0},{"$f":"'semente urucum'!AF$24","v":0},{"$f":"'semente urucum'!AG$24","v":0},null,{"$f":"SUM(Q68:AU68)","v":0}]
[null,null,null,null,null,null,null,null,null,null,null,null,null,null,null,{"$f":"Produção!$A$13","v":"semente aroeira"},null,{"$f":"'semente aroeira'!D$24","v":0},{"$f":"'semente aroeira'!E$24","v":0},{"$f":"'semente aroeira'!F$24","v":0},{"$f":"'semente aroeira'!G$24","v":0},{"$f":"'semente aroeira'!H$24","v":0},{"$f":"'semente aroeira'!I$24","v":0},{"$f":"'semente aroeira'!J$24","v":0},{"$f":"'semente aroeira'!K$24","v":0},{"$f":"'semente aroeira'!L$24","v":0},{"$f":"'semente aroeira'!M$24","v":0},{"$f":"'semente aroeira'!N$24","v":0},{"$f":"'semente aroeira'!O$24","v":0},{"$f":"'semente aroeira'!P$24","v":0},{"$f":"'semente aroeira'!Q$24","v":0},{"$f":"'semente aroeira'!R$24","v":0},{"$f":"'semente aroeira'!S$24","v":0},{"$f":"'semente aroeira'!T$24","v":0},{"$f":"'semente aroeira'!U$24","v":0},{"$f":"'semente aroeira'!V$24","v":0},{"$f":"'semente aroeira'!W$24","v":0},{"$f":"'semente aroeira'!X$24","v":0},{"$f":"'semente aroeira'!Y$24","v":0},{"$f":"'semente aroeira'!Z$24","v":0},{"$f":"'semente aroeira'!AA$24","v":0},{"$f":"'semente aroeira'!AB$24","v":0},{"$f":"'semente aroeira'!AC$24","v":0},{"$f":"'semente aroeira'!AD$24","v":0},{"$f":"'semente aroeira'!AE$24","v":0},{"$f":"'semente aroeira'!AF$24","v":0},{"$f":"'semente aroeira'!AG$24","v":0},null,{"$f":"SUM(Q69:AU69)","v":0}]
[null,null,null,null,null,null,null,null,null,null,null,null,null,null,null,{"$f":"Produção!$A$14","v":"raiz mandioca"},null,{"$f":"'raiz mandioca'!D$24","v":0},{"$f":"'raiz mandioca'!E$24","v":0},{"$f":"'raiz mandioca'!F$24","v":0},{"$f":"'raiz mandioca'!G$24","v":0},{"$f":"'raiz mandioca'!H$24","v":0},{"$f":"'raiz mandioca'!I$24","v":0},{"$f":"'raiz mandioca'!J$24","v":0},{"$f":"'raiz mandioca'!K$24","v":0},{"$f":"'raiz mandioca'!L$24","v":0},{"$f":"'raiz mandioca'!M$24","v":0},{"$f":"'raiz mandioca'!N$24","v":0},{"$f":"'raiz mandioca'!O$24","v":0},{"$f":"'raiz mandioca'!P$24","v":0},{"$f":"'raiz mandioca'!Q$24","v":0},{"$f":"'raiz mandioca'!R$24","v":0},{"$f":"'raiz mandioca'!S$24","v":0},{"$f":"'raiz mandioca'!T$24","v":0},{"$f":"'raiz mandioca'!U$24","v":0},{"$f":"'raiz mandioca'!V$24","v":0},{"$f":"'raiz mandioca'!W$24","v":0},{"$f":"'raiz mandioca'!X$24","v":0},{"$f":"'raiz mandioca'!Y$24","v":0},{"$f":"'raiz mandioca'!Z$24","v":0},{"$f":"'raiz mandioca'!AA$24","v":0},{"$f":"'raiz mandioca'!AB$24","v":0},{"$f":"'raiz mandioca'!AC$24","v":0},{"$f":"'raiz mandioca'!AD$24","v":0},{"$f":"'raiz mandioca'!AE$24","v":0},{"$f":"'raiz mandioca'!AF$24","v":0},{"$f":"'raiz mandioca'!AG$24","v":0},null,{"$f":"SUM(Q70:AU70)","v":0}]
[null,null,null,null,null,null,null,null,null,null,null,null,null,null,null,{"$f":"Produção!$A$15","v":"fruto abacaxi"},null,{"$f":"abacaxi!D$24","v":0},{"$f":"abacaxi!E$24","v":0},{"$f":"abacaxi!F$24","v":0},{"$f":"abacaxi!G$24","v":0},{"$f":"abacaxi!H$24","v":0},{"$f":"abacaxi!I$24","v":0},{"$f":"abacaxi!J$24","v":0},{"$f":"abacaxi!K$24","v":0},{"$f":"abacaxi!L$24","v":0},{"$f":"abacaxi!M$24","v":0},{"$f":"abacaxi!N$24","v":0},{"$f":"abacaxi!O$24","v":0},{"$f":"abacaxi!P$24","v":0},{"$f":"abacaxi!Q$24","v":0},{"$f":"abacaxi!R$24","v":0},{"$f":"abacaxi!S$24","v":0},{"$f":"abacaxi!T$24","v":0},{"$f":"abacaxi!U$24","v":0},{"$f":"abacaxi!V$24","v":0},{"$f":"abacaxi!W$24","v":0},{"$f":"abacaxi!X$24","v":0},{"$f":"abacaxi!Y$24","v":0},{"$f":"abacaxi!Z$24","v":0},{"$f":"abacaxi!AA$24","v":0},{"$f":"abacaxi!AB$24","v":0},{"$f":"abacaxi!AC$24","v":0},{"$f":"abacaxi!AD$24","v":0},{"$f":"abacaxi!AE$24","v":0},{"$f":"abacaxi!AF$24","v":0},{"$f":"abacaxi!AG$24","v":0},null,{"$f":"SUM(Q71:AU71)","v":0}]
[null,null,null,null,null,null,null,null,null,null,null,null,null,null,null,{"$f":"Produção!$A$16","v":"espigas milho"},null,{"$f":"espigas!D$24","v":0},{"$f":"espigas!E$24","v":0},{"$f":"espigas!F$24","v":0},{"$f":"espigas!G$24","v":0},{"$f":"espigas!H$24","v":0},{"$f":"espigas!I$24","v":0},{"$f":"espigas!J$24","v":0},{"$f":"espigas!K$24","v":0},{"$f":"espigas!L$24","v":0},{"$f":"espigas!M$24","v":0},{"$f":"espigas!N$24","v":0},{"$f":"espigas!O$24","v":0},{"$f":"espigas!P$24","v":0},{"$f":"espigas!Q$24","v":0},{"$f":"espigas!R$24","v":0},{"$f":"espigas!S$24","v":0},{"$f":"espigas!T$24","v":0},{"$f":"espigas!U$24","v":0},{"$f":"espigas!V$24","v":0},{"$f":"espigas!W$24","v":0},{"$f":"espigas!X$24","v":0},{"$f":"espigas!Y$24","v":0},{"$f":"espigas!Z$24","v":0},{"$f":"espigas!AA$24","v":0},{"$f":"espigas!AB$24","v":0},{"$f":"espigas!AC$24","v":0},{"$f":"espigas!AD$24","v":0},{"$f":"espigas!AE$24","v":0},{"$f":"espigas!AF$24","v":0},{"$f":"espigas!AG$24","v":0},null,0]
[null,null,null,null,null,null,null,null,null,null,null,null,null,null,null,{"$f":"Produção!$A$17","v":"estaca sansão do campo"},null,{"$f":"'semente caupi'!D$24","v":0},{"$f":"'semente caupi'!E$24","v":0},{"$f":"'semente caupi'!F$24","v":0},{"$f":"'semente caupi'!G$24","v":0},{"$f":"'semente caupi'!H$24","v":0},{"$f":"'semente caupi'!I$24","v":0},{"$f":"'semente caupi'!J$24","v":0},{"$f":"'semente caupi'!K$24","v":0},{"$f":"'semente caupi'!L$24","v":0},{"$f":"'semente caupi'!M$24","v":0},{"$f":"'semente caupi'!N$24","v":0},{"$f":"'semente caupi'!O$24","v":0},{"$f":"'semente caupi'!P$24","v":0},{"$f":"'semente caupi'!Q$24","v":0},{"$f":"'semente caupi'!R$24","v":0},{"$f":"'semente caupi'!S$24","v":0},{"$f":"'semente caupi'!T$24","v":0},{"$f":"'semente caupi'!U$24","v":0},{"$f":"'semente caupi'!V$24","v":0},{"$f":"'semente caupi'!W$24","v":0},{"$f":"'semente caupi'!X$24","v":0},{"$f":"'semente caupi'!Y$24","v":0},{"$f":"'semente caupi'!Z$24","v":0},{"$f":"'semente caupi'!AA$24","v":0},{"$f":"'semente caupi'!AB$24","v":0},{"$f":"'semente caupi'!AC$24","v":0},{"$f":"'semente caupi'!AD$24","v":0},{"$f":"'semente caupi'!AE$24","v":0},{"$f":"'semente caupi'!AF$24","v":0},{"$f":"'semente caupi'!AG$24","v":0},null,0]
[null,null,null,null,null,null,null,null,null,null,null,null,null,null,null,{"$f":"Produção!$A$18","v":"madeira madeira nova"},null,{"$f":"biomassa!D$24","v":0},{"$f":"biomassa!E$24","v":0},{"$f":"biomassa!F$24","v":0},{"$f":"biomassa!G$24","v":0},{"$f":"biomassa!H$24","v":0},{"$f":"biomassa!I$24","v":0},{"$f":"biomassa!J$24","v":0},{"$f":"biomassa!K$24","v":0},{"$f":"biomassa!L$24","v":0},{"$f":"biomassa!M$24","v":0},{"$f":"biomassa!N$24","v":0},{"$f":"biomassa!O$24","v":0},{"$f":"biomassa!P$24","v":0},{"$f":"biomassa!Q$24","v":0},{"$f":"biomassa!R$24","v":0},{"$f":"biomassa!S$24","v":0},{"$f":"biomassa!T$24","v":0},{"$f":"biomassa!U$24","v":0},{"$f":"biomassa!V$24","v":0},{"$f":"biomassa!W$24","v":0},{"$f":"biomassa!X$24","v":0},{"$f":"biomassa!Y$24","v":0},{"$f":"biomassa!Z$24","v":0},{"$f":"biomassa!AA$24","v":0},{"$f":"biomassa!AB$24","v":0},{"$f":"biomassa!AC$24","v":0},{"$f":"biomassa!AD$24","v":0},{"$f":"biomassa!AE$24","v":0},{"$f":"biomassa!AF$24","v":0},{"$f":"biomassa!AG$24","v":0},null,0]
[null,null,null,null,null,null,null,null,null,null,null,null,null,null,null,{"$f":"Produção!$A$19","v":"lenha fedegoso"},null,{"$f":"madeira!D$24","v":0},{"$f":"madeira!E$24","v":0},{"$f":"madeira!F$24","v":0},{"$f":"madeira!G$24","v":0},{"$f":"madeira!H$24","v":0},{"$f":"madeira!I$24","v":0},{"$f":"madeira!J$24","v":0},{"$f":"madeira!K$24","v":0},{"$f":"madeira!L$24","v":0},{"$f":"madeira!M$24","v":0},{"$f":"madeira!N$24","v":0},{"$f":"madeira!O$24","v":0},{"$f":"madeira!P$24","v":0},{"$f":"madeira!Q$24","v":0},{"$f":"madeira!R$24","v":0},{"$f":"madeira!S$24","v":0},{"$f":"madeira!T$24","v":0},{"$f":"madeira!U$24","v":0},{"$f":"madeira!V$24","v":0},{"$f":"madeira!W$24","v":0},{"$f":"madeira!X$24","v":0},{"$f":"madeira!Y$24","v":0},{"$f":"madeira!Z$24","v":0},{"$f":"madeira!AA$24","v":0},{"$f":"madeira!AB$24","v":0},{"$f":"madeira!AC$24","v":0},{"$f":"madeira!AD$24","v":0},{"$f":"madeira!AE$24","v":0},{"$f":"madeira!AF$24","v":0},{"$f":"madeira!AG$24","v":0},null,0]
[null,null,null,null,null,null,null,null,null,null,null,null,null,null,null,{"$f":"Produção!$A$20","v":"estaca pau d'alho"},null,{"$f":"'Produto 15'!D$24","v":0},{"$f":"'Produto 15'!E$24","v":0},{"$f":"'Produto 15'!F$24","v":0},{"$f":"'Produto 15'!G$24","v":0},{"$f":"'Produto 15'!H$24","v":0},{"$f":"'Produto 15'!I$24","v":0},{"$f":"'Produto 15'!J$24","v":0},{"$f":"'Produto 15'!K$24","v":0},{"$f":"'Produto 15'!L$24","v":0},{"$f":"'Produto 15'!M$24","v":0},{"$f":"'Produto 15'!N$24","v":0},{"$f":"'Produto 15'!O$24","v":0},{"$f":"'Produto 15'!P$24","v":0},{"$f":"'Produto 15'!Q$24","v":0},{"$f":"'Produto 15'!R$24","v":0},{"$f":"'Produto 15'!S$24","v":0},{"$f":"'Produto 15'!T$24","v":0},{"$f":"'Produto 15'!U$24","v":0},{"$f":"'Produto 15'!V$24","v":0},{"$f":"'Produto 15'!W$24","v":0},{"$f":"'Produto 15'!X$24","v":0},{"$f":"'Produto 15'!Y$24","v":0},{"$f":"'Produto 15'!Z$24","v":0},{"$f":"'Produto 15'!AA$24","v":0},{"$f":"'Produto 15'!AB$24","v":0},{"$f":"'Produto 15'!AC$24","v":0},{"$f":"'Produto 15'!AD$24","v":0},{"$f":"'Produto 15'!AE$24","v":0},{"$f":"'Produto 15'!AF$24","v":0},{"$f":"'Produto 15'!AG$24","v":0},null,0]
[null,null,null,null,null,null,null,null,null,null,null,null,null,null,null,{"$f":"Produção!$A$21","v":"caixotaria boleira"},null,{"$f":"'Produto 16'!D$24","v":0},{"$f":"'Produto 16'!E$24","v":0},{"$f":"'Produto 16'!F$24","v":0},{"$f":"'Produto 16'!G$24","v":0},{"$f":"'Produto 16'!H$24","v":0},{"$f":"'Produto 16'!I$24","v":0},{"$f":"'Produto 16'!J$24","v":0},{"$f":"'Produto 16'!K$24","v":0},{"$f":"'Produto 16'!L$24","v":0},{"$f":"'Produto 16'!M$24","v":0},{"$f":"'Produto 16'!N$24","v":0},{"$f":"'Produto 16'!O$24","v":0},{"$f":"'Produto 16'!P$24","v":0},{"$f":"'Produto 16'!Q$24","v":0},{"$f":"'Produto 16'!R$24","v":0},{"$f":"'Produto 16'!S$24","v":0},{"$f":"'Produto 16'!T$24","v":0},{"$f":"'Produto 16'!U$24","v":0},{"$f":"'Produto 16'!V$24","v":0},{"$f":"'Produto 16'!W$24","v":0},{"$f":"'Produto 16'!X$24","v":0},{"$f":"'Produto 16'!Y$24","v":0},{"$f":"'Produto 16'!Z$24","v":0},{"$f":"'Produto 16'!AA$24","v":0},{"$f":"'Produto 16'!AB$24","v":0},{"$f":"'Produto 16'!AC$24","v":0},{"$f":"'Produto 16'!AD$24","v":0},{"$f":"'Produto 16'!AE$24","v":0},{"$f":"'Produto 16'!AF$24","v":0},{"$f":"'Produto 16'!AG$24","v":0},null,0]
[null,null,null,null,null,null,null,null,null,null,null,null,null,null,null,{"$f":"Produção!$A$22","v":"madeira angico roxo"},null,{"$f":"'Produto 17'!D$24","v":0},{"$f":"'Produto 17'!E$24","v":0},{"$f":"'Produto 17'!F$24","v":0},{"$f":"'Produto 17'!G$24","v":0},{"$f":"'Produto 17'!H$24","v":0},{"$f":"'Produto 17'!I$24","v":0},{"$f":"'Produto 17'!J$24","v":0},{"$f":"'Produto 17'!K$24","v":0},{"$f":"'Produto 17'!L$24","v":0},{"$f":"'Produto 17'!M$24","v":0},{"$f":"'Produto 17'!N$24","v":0},{"$f":"'Produto 17'!O$24","v":0},{"$f":"'Produto 17'!P$24","v":0},{"$f":"'Produto 17'!Q$24","v":0},{"$f":"'Produto 17'!R$24","v":0},{"$f":"'Produto 17'!S$24","v":0},{"$f":"'Produto 17'!T$24","v":0},{"$f":"'Produto 17'!U$24","v":0},{"$f":"'Produto 17'!V$24","v":0},{"$f":"'Produto 17'!W$24","v":0},{"$f":"'Produto 17'!X$24","v":0},{"$f":"'Produto 17'!Y$24","v":0},{"$f":"'Produto 17'!Z$24","v":0},{"$f":"'Produto 17'!AA$24","v":0},{"$f":"'Produto 17'!AB$24","v":0},{"$f":"'Produto 17'!AC$24","v":0},{"$f":"'Produto 17'!AD$24","v":0},{"$f":"'Produto 17'!AE$24","v":0},{"$f":"'Produto 17'!AF$24","v":0},{"$f":"'Produto 17'!AG$24","v":0},null,{"$f":"SUM(Q78:AU78)","v":0}]
[null,null,null,null,null,null,null,null,null,null,null,null,null,null,null,{"$f":"Produção!$A$23","v":"madeira ipê roxo"},null,{"$f":"'Produto 18'!D$24","v":0},{"$f":"'Produto 18'!E$24","v":0},{"$f":"'Produto 18'!F$24","v":0},{"$f":"'Produto 18'!G$24","v":0},{"$f":"'Produto 18'!H$24","v":0},{"$f":"'Produto 18'!I$24","v":0},{"$f":"'Produto 18'!J$24","v":0},{"$f":"'Produto 18'!K$24","v":0},{"$f":"'Produto 18'!L$24","v":0},{"$f":"'Produto 18'!M$24","v":0},{"$f":"'Produto 18'!N$24","v":0},{"$f":"'Produto 18'!O$24","v":0},{"$f":"'Produto 18'!P$24","v":0},{"$f":"'Produto 18'!Q$24","v":0},{"$f":"'Produto 18'!R$24","v":0},{"$f":"'Produto 18'!S$24","v":0},{"$f":"'Produto 18'!T$24","v":0},{"$f":"'Produto 18'!U$24","v":0},{"$f":"'Produto 18'!V$24","v":0},{"$f":"'Produto 18'!W$24","v":0},{"$f":"'Produto 18'!X$24","v":0},{"$f":"'Produto 18'!Y$24","v":0},{"$f":"'Produto 18'!Z$24","v":0},{"$f":"'Produto 18'!AA$24","v":0},{"$f":"'Produto 18'!AB$24","v":0},{"$f":"'Produto 18'!AC$24","v":0},{"$f":"'Produto 18'!AD$24","v":0},{"$f":"'Produto 18'!AE$24","v":0},{"$f":"'Produto 18'!AF$24","v":0},{"$f":"'Produto 18'!AG$24","v":0},null,0]
[null,null,null,null,null,null,null,null,null,null,null,null,null,null,null,{"$f":"Produção!$A$24","v":"madeira ipê amarelo"},null,{"$f":"'Produto 19'!D$24","v":0},{"$f":"'Produto 19'!E$24","v":0},{"$f":"'Produto 19'!F$24","v":0},{"$f":"'Produto 19'!G$24","v":0},{"$f":"'Produto 19'!H$24","v":0},{"$f":"'Produto 19'!I$24","v":0},{"$f":"'Produto 19'!J$24","v":0},{"$f":"'Produto 19'!K$24","v":0},{"$f":"'Produto 19'!L$24","v":0},{"$f":"'Produto 19'!M$24","v":0},{"$f":"'Produto 19'!N$24","v":0},{"$f":"'Produto 19'!O$24","v":0},{"$f":"'Produto 19'!P$24","v":0},{"$f":"'Produto 19'!Q$24","v":0},{"$f":"'Produto 19'!R$24","v":0},{"$f":"'Produto 19'!S$24","v":0},{"$f":"'Produto 19'!T$24","v":0},{"$f":"'Produto 19'!U$24","v":0},{"$f":"'Produto 19'!V$24","v":0},{"$f":"'Produto 19'!W$24","v":0},{"$f":"'Produto 19'!X$24","v":0},{"$f":"'Produto 19'!Y$24","v":0},{"$f":"'Produto 19'!Z$24","v":0},{"$f":"'Produto 19'!AA$24","v":0},{"$f":"'Produto 19'!AB$24","v":0},{"$f":"'Produto 19'!AC$24","v":0},{"$f":"'Produto 19'!AD$24","v":0},{"$f":"'Produto 19'!AE$24","v":0},{"$f":"'Produto 19'!AF$24","v":0},{"$f":"'Produto 19'!AG$24","v":0},null,0]
[null,null,null,null,null,null,null,null,null,null,null,null,null,null,null,{"$f":"Produção!$A$25","v":"madeira gonçalo alves"},null,{"$f":"'Produto 20'!D$24","v":0},{"$f":"'Produto 20'!E$24","v":0},{"$f":"'Produto 20'!F$24","v":0},{"$f":"'Produto 20'!G$24","v":0},{"$f":"'Produto 20'!H$24","v":0},{"$f":"'Produto 20'!I$24","v":0},{"$f":"'Produto 20'!J$24","v":0},{"$f":"'Produto 20'!K$24","v":0},{"$f":"'Produto 20'!L$24","v":0},{"$f":"'Produto 20'!M$24","v":0},{"$f":"'Produto 20'!N$24","v":0},{"$f":"'Produto 20'!O$24","v":0},{"$f":"'Produto 20'!P$24","v":0},{"$f":"'Produto 20'!Q$24","v":0},{"$f":"'Produto 20'!R$24","v":0},{"$f":"'Produto 20'!S$24","v":0},{"$f":"'Produto 20'!T$24","v":0},{"$f":"'Produto 20'!U$24","v":0},{"$f":"'Produto 20'!V$24","v":0},{"$f":"'Produto 20'!W$24","v":0},{"$f":"'Produto 20'!X$24","v":0},{"$f":"'Produto 20'!Y$24","v":0},{"$f":"'Produto 20'!Z$24","v":0},{"$f":"'Produto 20'!AA$24","v":0},{"$f":"'Produto 20'!AB$24","v":0},{"$f":"'Produto 20'!AC$24","v":0},{"$f":"'Produto 20'!AD$24","v":0},{"$f":"'Produto 20'!AE$24","v":0},{"$f":"'Produto 20'!AF$24","v":0},{"$f":"'Produto 20'!AG$24","v":0},null,0]
[null,null,null,null,null,null,null,null,null,null,null,null,null,null,null,{"$f":"Produção!$A$26","v":"madeira vinhatico"},null,{"$f":"'Produto 21'!D$24","v":0},{"$f":"'Produto 21'!E$24","v":0},{"$f":"'Produto 21'!F$24","v":0},{"$f":"'Produto 21'!G$24","v":0},{"$f":"'Produto 21'!H$24","v":0},{"$f":"'Produto 21'!I$24","v":0},{"$f":"'Produto 21'!J$24","v":0},{"$f":"'Produto 21'!K$24","v":0},{"$f":"'Produto 21'!L$24","v":0},{"$f":"'Produto 21'!M$24","v":0},{"$f":"'Produto 21'!N$24","v":0},{"$f":"'Produto 21'!O$24","v":0},{"$f":"'Produto 21'!P$24","v":0},{"$f":"'Produto 21'!Q$24","v":0},{"$f":"'Produto 21'!R$24","v":0},{"$f":"'Produto 21'!S$24","v":0},{"$f":"'Produto 21'!T$24","v":0},{"$f":"'Produto 21'!U$24","v":0},{"$f":"'Produto 21'!V$24","v":0},{"$f":"'Produto 21'!W$24","v":0},{"$f":"'Produto 21'!X$24","v":0},{"$f":"'Produto 21'!Y$24","v":0},{"$f":"'Produto 21'!Z$24","v":0},{"$f":"'Produto 21'!AA$24","v":0},{"$f":"'Produto 21'!AB$24","v":0},{"$f":"'Produto 21'!AC$24","v":0},{"$f":"'Produto 21'!AD$24","v":0},{"$f":"'Produto 21'!AE$24","v":0},{"$f":"'Produto 21'!AF$24","v":0},{"$f":"'Produto 21'!AG$24","v":0},null,0]
[null,null,null,null,null,null,null,null,null,null,null,null,null,null,null,{"$f":"Produção!$A$27","v":"madeira jequitiba"},null,{"$f":"'Produto 22'!D$24","v":0},{"$f":"'Produto 22'!E$24","v":0},{"$f":"'Produto 22'!F$24","v":0},{"$f":"'Produto 22'!G$24","v":0},{"$f":"'Produto 22'!H$24","v":0},{"$f":"'Produto 22'!I$24","v":0},{"$f":"'Produto 22'!J$24","v":0},{"$f":"'Produto 22'!K$24","v":0},{"$f":"'Produto 22'!L$24","v":0},{"$f":"'Produto 22'!M$24","v":0},{"$f":"'Produto 22'!N$24","v":0},{"$f":"'Produto 22'!O$24","v":0},{"$f":"'Produto 22'!P$24","v":0},{"$f":"'Produto 22'!Q$24","v":0},{"$f":"'Produto 22'!R$24","v":0},{"$f":"'Produto 22'!S$24","v":0},{"$f":"'Produto 22'!T$24","v":0},{"$f":"'Produto 22'!U$24","v":0},{"$f":"'Produto 22'!V$24","v":0},{"$f":"'Produto 22'!W$24","v":0},{"$f":"'Produto 22'!X$24","v":0},{"$f":"'Produto 22'!Y$24","v":0},{"$f":"'Produto 22'!Z$24","v":0},{"$f":"'Produto 22'!AA$24","v":0},{"$f":"'Produto 22'!AB$24","v":0},{"$f":"'Produto 22'!AC$24","v":0},{"$f":"'Produto 22'!AD$24","v":0},{"$f":"'Produto 22'!AE$24","v":0},{"$f":"'Produto 22'!AF$24","v":0},{"$f":"'Produto 22'!AG$24","v":0},null,0]
[null,null,null,null,null,null,null,null,null,null,null,null,null,null,null,{"$f":"Produção!$A$28","v":"biomassa"},null,{"$f":"'Produto 23'!D$24","v":0},{"$f":"'Produto 23'!E$24","v":0},{"$f":"'Produto 23'!F$24","v":0},{"$f":"'Produto 23'!G$24","v":0},{"$f":"'Produto 23'!H$24","v":0},{"$f":"'Produto 23'!I$24","v":0},{"$f":"'Produto 23'!J$24","v":0},{"$f":"'Produto 23'!K$24","v":0},{"$f":"'Produto 23'!L$24","v":0},{"$f":"'Produto 23'!M$24","v":0},{"$f":"'Produto 23'!N$24","v":0},{"$f":"'Produto 23'!O$24","v":0},{"$f":"'Produto 23'!P$24","v":0},{"$f":"'Produto 23'!Q$24","v":0},{"$f":"'Produto 23'!R$24","v":0},{"$f":"'Produto 23'!S$24","v":0},{"$f":"'Produto 23'!T$24","v":0},{"$f":"'Produto 23'!U$24","v":0},{"$f":"'Produto 23'!V$24","v":0},{"$f":"'Produto 23'!W$24","v":0},{"$f":"'Produto 23'!X$24","v":0},{"$f":"'Produto 23'!Y$24","v":0},{"$f":"'Produto 23'!Z$24","v":0},{"$f":"'Produto 23'!AA$24","v":0},{"$f":"'Produto 23'!AB$24","v":0},{"$f":"'Produto 23'!AC$24","v":0},{"$f":"'Produto 23'!AD$24","v":0},{"$f":"'Produto 23'!AE$24","v":0},{"$f":"'Produto 23'!AF$24","v":0},{"$f":"'Produto 23'!AG$24","v":0},null,0]
[null,null,null,null,null,null,null,null,null,null,null,null,null,null,null,{"$f":"Produção!$A$29","v":"grão caupi"},null,{"$f":"'Produto 24'!D$24","v":0},{"$f":"'Produto 24'!E$24","v":0},{"$f":"'Produto 24'!F$24","v":0},{"$f":"'Produto 24'!G$24","v":0},{"$f":"'Produto 24'!H$24","v":0},{"$f":"'Produto 24'!I$24","v":0},{"$f":"'Produto 24'!J$24","v":0},{"$f":"'Produto 24'!K$24","v":0},{"$f":"'Produto 24'!L$24","v":0},{"$f":"'Produto 24'!M$24","v":0},{"$f":"'Produto 24'!N$24","v":0},{"$f":"'Produto 24'!O$24","v":0},{"$f":"'Produto 24'!P$24","v":0},{"$f":"'Produto 24'!Q$24","v":0},{"$f":"'Produto 24'!R$24","v":0},{"$f":"'Produto 24'!S$24","v":0},{"$f":"'Produto 24'!T$24","v":0},{"$f":"'Produto 24'!U$24","v":0},{"$f":"'Produto 24'!V$24","v":0},{"$f":"'Produto 24'!W$24","v":0},{"$f":"'Produto 24'!X$24","v":0},{"$f":"'Produto 24'!Y$24","v":0},{"$f":"'Produto 24'!Z$24","v":0},{"$f":"'Produto 24'!AA$24","v":0},{"$f":"'Produto 24'!AB$24","v":0},{"$f":"'Produto 24'!AC$24","v":0},{"$f":"'Produto 24'!AD$24","v":0},{"$f":"'Produto 24'!AE$24","v":0},{"$f":"'Produto 24'!AF$24","v":0},{"$f":"'Produto 24'!AG$24","v":0},null,{"$f":"SUM(Q85:AU85)","v":0}]
[]
[]
[null,null,null,null,null,null,null,null,null,null,null,null,null,null,null,null,"MO","Insumos","Diárias","CustTot","RecTot"]
[null,null,null,null,null,null,null,null,null,null,null,null,null,null,null,{"$f":"Produção!$A$6","v":"latex"},{"$f":"AW34","v":0},{"$f":"AW62","v":0},{"$f":"SUM(R5:AK5)","v":0},{"$f":"(Q89+R89)*-1","v":0},{"$f":"'Resultados Fin'!C71","v":12267}]
[null,null,null,null,null,null,null,null,null,null,null,null,null,null,null,{"$f":"Produção!$A$7","v":"fruto genipapo"},0,0,{"$f":"SUM(R6:AK6)","v":0},{"$f":"(Q90+R90)*-1","v":0},{"$f":"'Resultados Fin'!C72","v":42688}]
[null,null,null,null,null,null,null,null,null,null,null,null,null,null,null,{"$f":"Produção!$A$8","v":"fruto araçauna"},0,0,0,0,{"$f":"'Resultados Fin'!C73","v":3920}]
[null,null,null,null,null,null,null,null,null,null,null,null,null,null,null,{"$f":"Produção!$A$9","v":"fruto pitanga"},0,0,0,0,{"$f":"'Resultados Fin'!C74","v":3990}]
[null,null,null,null,null,null,null,null,null,null,null,null,null,null,null,{"$f":"Produção!$A$10","v":"castanha sapucaia"},0,0,0,0,{"$f":"'Resultados Fin'!C75","v":72240}]
[null,null,null,null,null,null,null,null,null,null,null,null,null,null,null,{"$f":"Produção!$A$11","v":"fruto cajá"},0,0,0,0,{"$f":"'Resultados Fin'!C76","v":52184}]
[null,null,null,null,null,null,null,null,null,null,null,null,null,null,null,{"$f":"Produção!$A$12","v":"semente urucum"},0,0,0,0,{"$f":"'Resultados Fin'!C77","v":22720}]
[null,null,null,null,null,null,null,null,null,null,null,null,null,null,null,{"$f":"Produção!$A$13","v":"semente aroeira"},0,0,0,0,{"$f":"'Resultados Fin'!C78","v":5220}]
[null,null,null,null,null,null,null,null,null,null,null,null,null,null,null,{"$f":"Produção!$A$14","v":"raiz mandioca"},0,0,0,0,{"$f":"'Resultados Fin'!C79","v":9120}]
[null,null,null,null,null,null,null,null,null,null,null,null,null,null,null,{"$f":"Produção!$A$15","v":"fruto abacaxi"},0,0,0,0,{"$f":"'Resultados Fin'!C80","v":5490}]
[null,null,null,null,null,null,null,null,null,null,null,null,null,null,null,{"$f":"Produção!$A$16","v":"espigas milho"},0,0,0,0,{"$f":"'Resultados Fin'!C81","v":4275}]
[null,null,null,null,null,null,null,null,null,null,null,null,null,null,null,{"$f":"Produção!$A$17","v":"estaca sansão do campo"},0,0,0,0,{"$f":"'Resultados Fin'!C82","v":1080}]
[null,null,null,null,null,null,null,null,null,null,null,null,null,null,null,{"$f":"Produção!$A$18","v":"madeira madeira nova"},0,0,0,0,{"$f":"'Resultados Fin'!C83","v":2500}]
[null,null,null,null,null,null,null,null,null,null,null,null,null,null,null,{"$f":"Produção!$A$19","v":"lenha fedegoso"},0,0,0,0,{"$f":"'Resultados Fin'!C84","v":250}]
[null,null,null,null,null,null,null,null,null,null,null,null,null,null,null,{"$f":"Produção!$A$20","v":"estaca pau d'alho"},0,0,0,0,{"$f":"'Resultados Fin'!C85","v":0}]
[null,null,null,null,null,null,null,null,null,null,null,null,null,null,null,{"$f":"Produção!$A$21","v":"caixotaria boleira"},0,0,0,0,{"$f":"'Resultados Fin'!C86","v":500}]
[null,null,null,null,null,null,null,null,null,null,null,null,null,null,null,{"$f":"Produção!$A$22","v":"madeira angico roxo"},0,{"$f":"AW78","v":0},0,0,{"$f":"'Resultados Fin'!C87","v":3150}]
[null,null,null,null,null,null,null,null,null,null,null,null,null,null,null,{"$f":"Produção!$A$23","v":"madeira ipê roxo"},0,0,0,0,{"$f":"'Resultados Fin'!C88","v":0}]
[null,null,null,null,null,null,null,null,null,null,null,null,null,null,null,{"$f":"Produção!$A$24","v":"madeira ipê amarelo"},0,0,0,0,{"$f":"'Resultados Fin'!C89","v":12600}]
[null,null,null,null,null,null,null,null,null,null,null,null,null,null,null,{"$f":"Produção!$A$25","v":"madeira gonçalo alves"},0,0,0,0,{"$f":"'Resultados Fin'!C90","v":0}]
[null,null,null,null,null,null,null,null,null,null,null,null,null,null,null,{"$f":"Produção!$A$26","v":"madeira vinhatico"},0,0,0,0,{"$f":"'Resultados Fin'!C91","v":3500}]
[null,null,null,null,null,null,null,null,null,null,null,null,null,null,null,{"$f":"Produção!$A$27","v":"madeira jequitiba"},0,0,0,0,{"$f":"'Resultados Fin'!C92","v":1400}]
[null,null,null,null,null,null,null,null,null,null,null,null,null,null,null,{"$f":"Produção!$A$28","v":"biomassa"},0,0,0,0,{"$f":"'Resultados Fin'!C93","v":0}]
[null,null,null,null,null,null,null,null,null,null,null,null,null,null,null,{"$f":"Produção!$A$29","v":"grão caupi"},0,0,0,0,0]

{"sheet":"Gráficos 30 ","index":36,"n_rows":112,"n_cols":49,"rows_kept":112,"cut":false,"hidden":false,"merged":[]}
[]
[null,null,null,null,null,null,null,null,null,null,null,null,null,null,null,null,0,1,2,3,4,5,6,7,8,9,10,11,12,13,14,15,16,17,18,19,20,21,22,23,24,25,26,27,28,29,30]
[null,null,null,null,null,null,null,null,null,null,null,null,null,null,null,"Uso de MO",{"$f":"SUM(Q4:Q28)","v":0},0,0,0,0,0,0,0,0,0,0,0,0,0,0,0,0,0,0,0,0,0,0,0,0,0,0,0,0,0,0]
[null,null,null,null,null,null,null,null,null,null,null,null,null,null,null,"Atividades Gerais",{"$f":"'Preparo e Gerais'!D19","v":0}]
[null,null,null,null,null,null,null,null,null,null,null,null,null,null,null,{"$f":"Produção!$A$6","v":"latex"},null,{"$f":"latex!D$23","v":0},{"$f":"latex!E$23","v":0},{"$f":"latex!F$23","v":0},{"$f":"latex!G$23","v":0},{"$f":"latex!H$23","v":0},{"$f":"latex!I$23","v":0},{"$f":"latex!J$23","v":0},{"$f":"latex!K$23","v":0},{"$f":"latex!L$23","v":0},{"$f":"latex!M$23","v":0},{"$f":"latex!N$23","v":0},{"$f":"latex!O$23","v":0},{"$f":"latex!P$23","v":0},{"$f":"latex!Q$23","v":0},{"$f":"latex!R$23","v":0},{"$f":"latex!S$23","v":0},{"$f":"latex!T$23","v":0},{"$f":"latex!U$23","v":0},{"$f":"latex!V$23","v":0},{"$f":"latex!W$23","v":0},{"$f":"latex!X$23","v":0},{"$f":"latex!Y$23","v":0},{"$f":"latex!Z$23","v":0},{"$f":"latex!AA$23","v":0},{"$f":"latex!AB$23","v":0},{"$f":"latex!AC$23","v":0},{"$f":"latex!AD$23","v":0},{"$f":"latex!AE$23","v":0},{"$f":"latex!AF$23","v":0},{"$f":"latex!AG$23","v":0}]
[null,null,null,null,null,null,null,null,null,null,null,null,null,null,null,{"$f":"Produção!$A$7","v":"fruto genipapo"},null,{"$f":"'fruto genipapo'!D$23","v":0},{"$f":"'fruto genipapo'!E$23","v":0},{"$f":"'fruto genipapo'!F$23","v":0},{"$f":"'fruto genipapo'!G$23","v":0},{"$f":"'fruto genipapo'!H$23","v":0},{"$f":"'fruto genipapo'!I$23","v":0},{"$f":"'fruto genipapo'!J$23","v":0},{"$f":"'fruto genipapo'!K$23","v":0},{"$f":"'fruto genipapo'!L$23","v":0},{"$f":"'fruto genipapo'!M$23","v":0},{"$f":"'fruto genipapo'!N$23","v":0},{"$f":"'fruto genipapo'!O$23","v":0},{"$f":"'fruto genipapo'!P$23","v":0},{"$f":"'fruto genipapo'!Q$23","v":0},{"$f":"'fruto genipapo'!R$23","v":0},{"$f":"'fruto genipapo'!S$23","v":0},{"$f":"'fruto genipapo'!T$23","v":0},{"$f":"'fruto genipapo'!U$23","v":0},{"$f":"'fruto genipapo'!V$23","v":0},{"$f":"'fruto genipapo'!W$23","v":0},{"$f":"'fruto genipapo'!X$23","v":0},{"$f":"'fruto genipapo'!Y$23","v":0},{"$f":"'fruto genipapo'!Z$23","v":0},{"$f":"'fruto genipapo'!AA$23","v":0},{"$f":"'fruto genipapo'!AB$23","v":0},{"$f":"'fruto genipapo'!AC$23","v":0},{"$f":"'fruto genipapo'!AD$23","v":0},{"$f":"'fruto genipapo'!AE$23","v":0},{"$f":"'fruto genipapo'!AF$23","v":0},{"$f":"'fruto genipapo'!AG$23","v":0}]
[null,null,null,null,null,null,null,null,null,null,null,null,null,null,null,{"$f":"Produção!$A$8","v":"fruto araçauna"},null,{"$f":"'fruto araçauna'!D$23","v":0},{"$f":"'fruto araçauna'!E$23","v":0},{"$f":"'fruto araçauna'!F$23","v":0},{"$f":"'fruto araçauna'!G$23","v":0},{"$f":"'fruto araçauna'!H$23","v":0},{"$f":"'fruto araçauna'!I$23","v":0},{"$f":"'fruto araçauna'!J$23","v":0},{"$f":"'fruto araçauna'!K$23","v":0},{"$f":"'fruto araçauna'!L$23","v":0},{"$f":"'fruto araçauna'!M$23","v":0},{"$f":"'fruto araçauna'!N$23","v":0},{"$f":"'fruto araçauna'!O$23","v":0},{"$f":"'fruto araçauna'!P$23","v":0},{"$f":"'fruto araçauna'!Q$23","v":0},{"$f":"'fruto araçauna'!R$23","v":0},{"$f":"'fruto araçauna'!S$23","v":0},{"$f":"'fruto araçauna'!T$23","v":0},{"$f":"'fruto araçauna'!U$23","v":0},{"$f":"'fruto araçauna'!V$23","v":0},{"$f":"'fruto araçauna'!W$23","v":0},{"$f":"'fruto araçauna'!X$23","v":0},{"$f":"'fruto araçauna'!Y$23","v":0},{"$f":"'fruto araçauna'!Z$23","v":0},{"$f":"'fruto araçauna'!AA$23","v":0},{"$f":"'fruto araçauna'!AB$23","v":0},{"$f":"'fruto araçauna'!AC$23","v":0},{"$f":"'fruto araçauna'!AD$23","v":0},{"$f":"'fruto araçauna'!AE$23","v":0},{"$f":"'fruto araçauna'!AF$23","v":0},{"$f":"'fruto araçauna'!AG$23","v":0}]
[null,null,null,null,null,null,null,null,null,null,null,null,null,null,null,{"$f":"Produção!$A$9","v":"fruto pitanga"},null,{"$f":"'fruto pitanga'!D$23","v":0},{"$f":"'fruto pitanga'!E$23","v":0},{"$f":"'fruto pitanga'!F$23","v":0},{"$f":"'fruto pitanga'!G$23","v":0},{"$f":"'fruto pitanga'!H$23","v":0},{"$f":"'fruto pitanga'!I$23","v":0},{"$f":"'fruto pitanga'!J$23","v":0},{"$f":"'fruto pitanga'!K$23","v":0},{"$f":"'fruto pitanga'!L$23","v":0},{"$f":"'fruto pitanga'!M$23","v":0},{"$f":"'fruto pitanga'!N$23","v":0},{"$f":"'fruto pitanga'!O$23","v":0},{"$f":"'fruto pitanga'!P$23","v":0},{"$f":"'fruto pitanga'!Q$23","v":0},{"$f":"'fruto pitanga'!R$23","v":0},{"$f":"'fruto pitanga'!S$23","v":0},{"$f":"'fruto pitanga'!T$23","v":0},{"$f":"'fruto pitanga'!U$23","v":0},{"$f":"'fruto pitanga'!V$23","v":0},{"$f":"'fruto pitanga'!W$23","v":0},{"$f":"'fruto pitanga'!X$23","v":0},{"$f":"'fruto pitanga'!Y$23","v":0},{"$f":"'fruto pitanga'!Z$23","v":0},{"$f":"'fruto pitanga'!AA$23","v":0},{"$f":"'fruto pitanga'!AB$23","v":0},{"$f":"'fruto pitanga'!AC$23","v":0},{"$f":"'fruto pitanga'!AD$23","v":0},{"$f":"'fruto pitanga'!AE$23","v":0},{"$f":"'fruto pitanga'!AF$23","v":0},{"$f":"'fruto pitanga'!AG$23","v":0}]
[null,null,null,null,null,null,null,null,null,null,null,null,null,null,null,{"$f":"Produção!$A$10","v":"castanha sapucaia"},null,{"$f":"Castanha!D$23","v":0},{"$f":"Castanha!E$23","v":0},{"$f":"Castanha!F$23","v":0},{"$f":"Castanha!G$23","v":0},{"$f":"Castanha!H$23","v":0},{"$f":"Castanha!I$23","v":0},{"$f":"Castanha!J$23","v":0},{"$f":"Castanha!K$23","v":0},{"$f":"Castanha!L$23","v":0},{"$f":"Castanha!M$23","v":0},{"$f":"Castanha!N$23","v":0},{"$f":"Castanha!O$23","v":0},{"$f":"Castanha!P$23","v":0},{"$f":"Castanha!Q$23","v":0},{"$f":"Castanha!R$23","v":0},{"$f":"Castanha!S$23","v":0},{"$f":"Castanha!T$23","v":0},{"$f":"Castanha!U$23","v":0},{"$f":"Castanha!V$23","v":0},{"$f":"Castanha!W$23","v":0},{"$f":"Castanha!X$23","v":0},{"$f":"Castanha!Y$23","v":0},{"$f":"Castanha!Z$23","v":0},{"$f":"Castanha!AA$23","v":0},{"$f":"Castanha!AB$23","v":0},{"$f":"Castanha!AC$23","v":0},{"$f":"Castanha!AD$23","v":0},{"$f":"Castanha!AE$23","v":0},{"$f":"Castanha!AF$23","v":0},{"$f":"Castanha!AG$23","v":0}]
[null,null,null,null,null,null,null,null,null,null,null,null,null,null,null,{"$f":"Produção!$A$11","v":"fruto cajá"},null,{"$f":"'fruto cajá'!D$23","v":0},{"$f":"'fruto cajá'!E$23","v":0},{"$f":"'fruto cajá'!F$23","v":0},{"$f":"'fruto cajá'!G$23","v":0},{"$f":"'fruto cajá'!H$23","v":0},{"$f":"'fruto cajá'!I$23","v":0},{"$f":"'fruto cajá'!J$23","v":0},{"$f":"'fruto cajá'!K$23","v":0},{"$f":"'fruto cajá'!L$23","v":0},{"$f":"'fruto cajá'!M$23","v":0},{"$f":"'fruto cajá'!N$23","v":0},{"$f":"'fruto cajá'!O$23","v":0},{"$f":"'fruto cajá'!P$23","v":0},{"$f":"'fruto cajá'!Q$23","v":0},{"$f":"'fruto cajá'!R$23","v":0},{"$f":"'fruto cajá'!S$23","v":0},{"$f":"'fruto cajá'!T$23","v":0},{"$f":"'fruto cajá'!U$23","v":0},{"$f":"'fruto cajá'!V$23","v":0},{"$f":"'fruto cajá'!W$23","v":0},{"$f":"'fruto cajá'!X$23","v":0},{"$f":"'fruto cajá'!Y$23","v":0},{"$f":"'fruto cajá'!Z$23","v":0},{"$f":"'fruto cajá'!AA$23","v":0},{"$f":"'fruto cajá'!AB$23","v":0},{"$f":"'fruto cajá'!AC$23","v":0},{"$f":"'fruto cajá'!AD$23","v":0},{"$f":"'fruto cajá'!AE$23","v":0},{"$f":"'fruto cajá'!AF$23","v":0},{"$f":"'fruto cajá'!AG$23","v":0}]
[null,null,null,null,null,null,null,null,null,null,null,null,null,null,null,{"$f":"Produção!$A$12","v":"semente urucum"},null,{"$f":"'semente urucum'!D$23","v":0},{"$f":"'semente urucum'!E$23","v":0},{"$f":"'semente urucum'!F$23","v":0},{"$f":"'semente urucum'!G$23","v":0},{"$f":"'semente urucum'!H$23","v":0},{"$f":"'semente urucum'!I$23","v":0},{"$f":"'semente urucum'!J$23","v":0},{"$f":"'semente urucum'!K$23","v":0},{"$f":"'semente urucum'!L$23","v":0},{"$f":"'semente urucum'!M$23","v":0},{"$f":"'semente urucum'!N$23","v":0},{"$f":"'semente urucum'!O$23","v":0},{"$f":"'semente urucum'!P$23","v":0},{"$f":"'semente urucum'!Q$23","v":0},{"$f":"'semente urucum'!R$23","v":0},{"$f":"'semente urucum'!S$23","v":0},{"$f":"'semente urucum'!T$23","v":0},{"$f":"'semente urucum'!U$23","v":0},{"$f":"'semente urucum'!V$23","v":0},{"$f":"'semente urucum'!W$23","v":0},{"$f":"'semente urucum'!X$23","v":0},{"$f":"'semente urucum'!Y$23","v":0},{"$f":"'semente urucum'!Z$23","v":0},{"$f":"'semente urucum'!AA$23","v":0},{"$f":"'semente urucum'!AB$23","v":0},{"$f":"'semente urucum'!AC$23","v":0},{"$f":"'semente urucum'!AD$23","v":0},{"$f":"'semente urucum'!AE$23","v":0},{"$f":"'semente urucum'!AF$23","v":0},{"$f":"'semente urucum'!AG$23","v":0}]
[null,null,null,null,null,null,null,null,null,null,null,null,null,null,null,{"$f":"Produção!$A$13","v":"semente aroeira"},null,{"$f":"'semente aroeira'!D$23","v":0},{"$f":"'semente aroeira'!E$23","v":0},{"$f":"'semente aroeira'!F$23","v":0},{"$f":"'semente aroeira'!G$23","v":0},{"$f":"'semente aroeira'!H$23","v":0},{"$f":"'semente aroeira'!I$23","v":0},{"$f":"'semente aroeira'!J$23","v":0},{"$f":"'semente aroeira'!K$23","v":0},{"$f":"'semente aroeira'!L$23","v":0},{"$f":"'semente aroeira'!M$23","v":0},{"$f":"'semente aroeira'!N$23","v":0},{"$f":"'semente aroeira'!O$23","v":0},{"$f":"'semente aroeira'!P$23","v":0},{"$f":"'semente aroeira'!Q$23","v":0},{"$f":"'semente aroeira'!R$23","v":0},{"$f":"'semente aroeira'!S$23","v":0},{"$f":"'semente aroeira'!T$23","v":0},{"$f":"'semente aroeira'!U$23","v":0},{"$f":"'semente aroeira'!V$23","v":0},{"$f":"'semente aroeira'!W$23","v":0},{"$f":"'semente aroeira'!X$23","v":0},{"$f":"'semente aroeira'!Y$23","v":0},{"$f":"'semente aroeira'!Z$23","v":0},{"$f":"'semente aroeira'!AA$23","v":0},{"$f":"'semente aroeira'!AB$23","v":0},{"$f":"'semente aroeira'!AC$23","v":0},{"$f":"'semente aroeira'!AD$23","v":0},{"$f":"'semente aroeira'!AE$23","v":0},{"$f":"'semente aroeira'!AF$23","v":0},{"$f":"'semente aroeira'!AG$23","v":0}]
[null,null,null,null,null,null,null,null,null,null,null,null,null,null,null,{"$f":"Produção!$A$14","v":"raiz mandioca"},null,{"$f":"'raiz mandioca'!D$23","v":0},{"$f":"'raiz mandioca'!E$23","v":0},{"$f":"'raiz mandioca'!F$23","v":0},{"$f":"'raiz mandioca'!G$23","v":0},{"$f":"'raiz mandioca'!H$23","v":0},{"$f":"'raiz mandioca'!I$23","v":0},{"$f":"'raiz mandioca'!J$23","v":0},{"$f":"'raiz mandioca'!K$23","v":0},{"$f":"'raiz mandioca'!L$23","v":0},{"$f":"'raiz mandioca'!M$23","v":0},{"$f":"'raiz mandioca'!N$23","v":0},{"$f":"'raiz mandioca'!O$23","v":0},{"$f":"'raiz mandioca'!P$23","v":0},{"$f":"'raiz mandioca'!Q$23","v":0},{"$f":"'raiz mandioca'!R$23","v":0},{"$f":"'raiz mandioca'!S$23","v":0},{"$f":"'raiz mandioca'!T$23","v":0},{"$f":"'raiz mandioca'!U$23","v":0},{"$f":"'raiz mandioca'!V$23","v":0},{"$f":"'raiz mandioca'!W$23","v":0},{"$f":"'raiz mandioca'!X$23","v":0},{"$f":"'raiz mandioca'!Y$23","v":0},{"$f":"'raiz mandioca'!Z$23","v":0},{"$f":"'raiz mandioca'!AA$23","v":0},{"$f":"'raiz mandioca'!AB$23","v":0},{"$f":"'raiz mandioca'!AC$23","v":0},{"$f":"'raiz mandioca'!AD$23","v":0},{"$f":"'raiz mandioca'!AE$23","v":0},{"$f":"'raiz mandioca'!AF$23","v":0},{"$f":"'raiz mandioca'!AG$23","v":0}]
[null,null,null,null,null,null,null,null,null,null,null,null,null,null,null,{"$f":"Produção!$A$15","v":"fruto abacaxi"},null,{"$f":"abacaxi!D$23","v":0},{"$f":"abacaxi!E$23","v":0},{"$f":"abacaxi!F$23","v":0},{"$f":"abacaxi!G$23","v":0},{"$f":"abacaxi!H$23","v":0},{"$f":"abacaxi!I$23","v":0},{"$f":"abacaxi!J$23","v":0},{"$f":"abacaxi!K$23","v":0},{"$f":"abacaxi!L$23","v":0},{"$f":"abacaxi!M$23","v":0},{"$f":"abacaxi!N$23","v":0},{"$f":"abacaxi!O$23","v":0},{"$f":"abacaxi!P$23","v":0},{"$f":"abacaxi!Q$23","v":0},{"$f":"abacaxi!R$23","v":0},{"$f":"abacaxi!S$23","v":0},{"$f":"abacaxi!T$23","v":0},{"$f":"abacaxi!U$23","v":0},{"$f":"abacaxi!V$23","v":0},{"$f":"abacaxi!W$23","v":0},{"$f":"abacaxi!X$23","v":0},{"$f":"abacaxi!Y$23","v":0},{"$f":"abacaxi!Z$23","v":0},{"$f":"abacaxi!AA$23","v":0},{"$f":"abacaxi!AB$23","v":0},{"$f":"abacaxi!AC$23","v":0},{"$f":"abacaxi!AD$23","v":0},{"$f":"abacaxi!AE$23","v":0},{"$f":"abacaxi!AF$23","v":0},{"$f":"abacaxi!AG$23","v":0}]
[null,null,null,null,null,null,null,null,null,null,null,null,null,null,null,{"$f":"Produção!$A$16","v":"espigas milho"},null,{"$f":"espigas!D$23","v":0},{"$f":"espigas!E$23","v":0},{"$f":"espigas!F$23","v":0},{"$f":"espigas!G$23","v":0},{"$f":"espigas!H$23","v":0},{"$f":"espigas!I$23","v":0},{"$f":"espigas!J$23","v":0},{"$f":"espigas!K$23","v":0},{"$f":"espigas!L$23","v":0},{"$f":"espigas!M$23","v":0},{"$f":"espigas!N$23","v":0},{"$f":"espigas!O$23","v":0},{"$f":"espigas!P$23","v":0},{"$f":"espigas!Q$23","v":0},{"$f":"espigas!R$23","v":0},{"$f":"espigas!S$23","v":0},{"$f":"espigas!T$23","v":0},{"$f":"espigas!U$23","v":0},{"$f":"espigas!V$23","v":0},{"$f":"espigas!W$23","v":0},{"$f":"espigas!X$23","v":0},{"$f":"espigas!Y$23","v":0},{"$f":"espigas!Z$23","v":0},{"$f":"espigas!AA$23","v":0},{"$f":"espigas!AB$23","v":0},{"$f":"espigas!AC$23","v":0},{"$f":"espigas!AD$23","v":0},{"$f":"espigas!AE$23","v":0},{"$f":"espigas!AF$23","v":0},{"$f":"espigas!AG$23","v":0}]
[null,null,null,null,null,null,null,null,null,null,null,null,null,null,null,{"$f":"Produção!$A$17","v":"estaca sansão do campo"},null,{"$f":"'semente caupi'!D$23","v":0},{"$f":"'semente caupi'!E$23","v":0},{"$f":"'semente caupi'!F$23","v":0},{"$f":"'semente caupi'!G$23","v":0},{"$f":"'semente caupi'!H$23","v":0},{"$f":"'semente caupi'!I$23","v":0},{"$f":"'semente caupi'!J$23","v":0},{"$f":"'semente caupi'!K$23","v":0},{"$f":"'semente caupi'!L$23","v":0},{"$f":"'semente caupi'!M$23","v":0},{"$f":"'semente caupi'!N$23","v":0},{"$f":"'semente caupi'!O$23","v":0},{"$f":"'semente caupi'!P$23","v":0},{"$f":"'semente caupi'!Q$23","v":0},{"$f":"'semente caupi'!R$23","v":0},{"$f":"'semente caupi'!S$23","v":0},{"$f":"'semente caupi'!T$23","v":0},{"$f":"'semente caupi'!U$23","v":0},{"$f":"'semente caupi'!V$23","v":0},{"$f":"'semente caupi'!W$23","v":0},{"$f":"'semente caupi'!X$23","v":0},{"$f":"'semente caupi'!Y$23","v":0},{"$f":"'semente caupi'!Z$23","v":0},{"$f":"'semente caupi'!AA$23","v":0},{"$f":"'semente caupi'!AB$23","v":0},{"$f":"'semente caupi'!AC$23","v":0},{"$f":"'semente caupi'!AD$23","v":0},{"$f":"'semente caupi'!AE$23","v":0},{"$f":"'semente caupi'!AF$23","v":0},{"$f":"'semente caupi'!AG$23","v":0}]
[null,null,null,null,null,null,null,null,null,null,null,null,null,null,null,{"$f":"Produção!$A$18","v":"madeira madeira nova"},null,{"$f":"biomassa!D$23","v":0},{"$f":"biomassa!E$23","v":0},{"$f":"biomassa!F$23","v":0},{"$f":"biomassa!G$23","v":0},{"$f":"biomassa!H$23","v":0},{"$f":"biomassa!I$23","v":0},{"$f":"biomassa!J$23","v":0},{"$f":"biomassa!K$23","v":0},{"$f":"biomassa!L$23","v":0},{"$f":"biomassa!M$23","v":0},{"$f":"biomassa!N$23","v":0},{"$f":"biomassa!O$23","v":0},{"$f":"biomassa!P$23","v":0},{"$f":"biomassa!Q$23","v":0},{"$f":"biomassa!R$23","v":0},{"$f":"biomassa!S$23","v":0},{"$f":"biomassa!T$23","v":0},{"$f":"biomassa!U$23","v":0},{"$f":"biomassa!V$23","v":0},{"$f":"biomassa!W$23","v":0},{"$f":"biomassa!X$23","v":0},{"$f":"biomassa!Y$23","v":0},{"$f":"biomassa!Z$23","v":0},{"$f":"biomassa!AA$23","v":0},{"$f":"biomassa!AB$23","v":0},{"$f":"biomassa!AC$23","v":0},{"$f":"biomassa!AD$23","v":0},{"$f":"biomassa!AE$23","v":0},{"$f":"biomassa!AF$23","v":0},{"$f":"biomassa!AG$23","v":0}]
[null,null,null,null,null,null,null,null,null,null,null,null,null,null,null,{"$f":"Produção!$A$19","v":"lenha fedegoso"},null,{"$f":"madeira!D$23","v":0},{"$f":"madeira!E$23","v":0},{"$f":"madeira!F$23","v":0},{"$f":"madeira!G$23","v":0},{"$f":"madeira!H$23","v":0},{"$f":"madeira!I$23","v":0},{"$f":"madeira!J$23","v":0},{"$f":"madeira!K$23","v":0},{"$f":"madeira!L$23","v":0},{"$f":"madeira!M$23","v":0},{"$f":"madeira!N$23","v":0},{"$f":"madeira!O$23","v":0},{"$f":"madeira!P$23","v":0},{"$f":"madeira!Q$23","v":0},{"$f":"madeira!R$23","v":0},{"$f":"madeira!S$23","v":0},{"$f":"madeira!T$23","v":0},{"$f":"madeira!U$23","v":0},{"$f":"madeira!V$23","v":0},{"$f":"madeira!W$23","v":0},{"$f":"madeira!X$23","v":0},{"$f":"madeira!Y$23","v":0},{"$f":"madeira!Z$23","v":0},{"$f":"madeira!AA$23","v":0},{"$f":"madeira!AB$23","v":0},{"$f":"madeira!AC$23","v":0},{"$f":"madeira!AD$23","v":0},{"$f":"madeira!AE$23","v":0},{"$f":"madeira!AF$23","v":0},{"$f":"madeira!AG$23","v":0}]
[null,null,null,null,null,null,null,null,null,null,null,null,null,null,null,{"$f":"Produção!$A$20","v":"estaca pau d'alho"},null,{"$f":"'Produto 15'!D$23","v":0},{"$f":"'Produto 15'!E$23","v":0},{"$f":"'Produto 15'!F$23","v":0},{"$f":"'Produto 15'!G$23","v":0},{"$f":"'Produto 15'!H$23","v":0},{"$f":"'Produto 15'!I$23","v":0},{"$f":"'Produto 15'!J$23","v":0},{"$f":"'Produto 15'!K$23","v":0},{"$f":"'Produto 15'!L$23","v":0},{"$f":"'Produto 15'!M$23","v":0},{"$f":"'Produto 15'!N$23","v":0},{"$f":"'Produto 15'!O$23","v":0},{"$f":"'Produto 15'!P$23","v":0},{"$f":"'Produto 15'!Q$23","v":0},{"$f":"'Produto 15'!R$23","v":0},{"$f":"'Produto 15'!S$23","v":0},{"$f":"'Produto 15'!T$23","v":0},{"$f":"'Produto 15'!U$23","v":0},{"$f":"'Produto 15'!V$23","v":0},{"$f":"'Produto 15'!W$23","v":0},{"$f":"'Produto 15'!X$23","v":0},{"$f":"'Produto 15'!Y$23","v":0},{"$f":"'Produto 15'!Z$23","v":0},{"$f":"'Produto 15'!AA$23","v":0},{"$f":"'Produto 15'!AB$23","v":0},{"$f":"'Produto 15'!AC$23","v":0},{"$f":"'Produto 15'!AD$23","v":0},{"$f":"'Produto 15'!AE$23","v":0},{"$f":"'Produto 15'!AF$23","v":0},{"$f":"'Produto 15'!AG$23","v":0}]
[null,null,null,null,null,null,null,null,null,null,null,null,null,null,null,{"$f":"Produção!$A$21","v":"caixotaria boleira"},null,{"$f":"'Produto 16'!D$23","v":0},{"$f":"'Produto 16'!E$23","v":0},{"$f":"'Produto 16'!F$23","v":0},{"$f":"'Produto 16'!G$23","v":0},{"$f":"'Produto 16'!H$23","v":0},{"$f":"'Produto 16'!I$23","v":0},{"$f":"'Produto 16'!J$23","v":0},{"$f":"'Produto 16'!K$23","v":0},{"$f":"'Produto 16'!L$23","v":0},{"$f":"'Produto 16'!M$23","v":0},{"$f":"'Produto 16'!N$23","v":0},{"$f":"'Produto 16'!O$23","v":0},{"$f":"'Produto 16'!P$23","v":0},{"$f":"'Produto 16'!Q$23","v":0},{"$f":"'Produto 16'!R$23","v":0},{"$f":"'Produto 16'!S$23","v":0},{"$f":"'Produto 16'!T$23","v":0},{"$f":"'Produto 16'!U$23","v":0},{"$f":"'Produto 16'!V$23","v":0},{"$f":"'Produto 16'!W$23","v":0},{"$f":"'Produto 16'!X$23","v":0},{"$f":"'Produto 16'!Y$23","v":0},{"$f":"'Produto 16'!Z$23","v":0},{"$f":"'Produto 16'!AA$23","v":0},{"$f":"'Produto 16'!AB$23","v":0},{"$f":"'Produto 16'!AC$23","v":0},{"$f":"'Produto 16'!AD$23","v":0},{"$f":"'Produto 16'!AE$23","v":0},{"$f":"'Produto 16'!AF$23","v":0},{"$f":"'Produto 16'!AG$23","v":0}]
[null,null,null,null,null,null,null,null,null,null,null,null,null,null,null,{"$f":"Produção!$A$22","v":"madeira angico roxo"},null,{"$f":"'Produto 17'!D$23","v":0},{"$f":"'Produto 17'!E$23","v":0},{"$f":"'Produto 17'!F$23","v":0},{"$f":"'Produto 17'!G$23","v":0},{"$f":"'Produto 17'!H$23","v":0},{"$f":"'Produto 17'!I$23","v":0},{"$f":"'Produto 17'!J$23","v":0},{"$f":"'Produto 17'!K$23","v":0},{"$f":"'Produto 17'!L$23","v":0},{"$f":"'Produto 17'!M$23","v":0},{"$f":"'Produto 17'!N$23","v":0},{"$f":"'Produto 17'!O$23","v":0},{"$f":"'Produto 17'!P$23","v":0},{"$f":"'Produto 17'!Q$23","v":0},{"$f":"'Produto 17'!R$23","v":0},{"$f":"'Produto 17'!S$23","v":0},{"$f":"'Produto 17'!T$23","v":0},{"$f":"'Produto 17'!U$23","v":0},{"$f":"'Produto 17'!V$23","v":0},{"$f":"'Produto 17'!W$23","v":0},{"$f":"'Produto 17'!X$23","v":0},{"$f":"'Produto 17'!Y$23","v":0},{"$f":"'Produto 17'!Z$23","v":0},{"$f":"'Produto 17'!AA$23","v":0},{"$f":"'Produto 17'!AB$23","v":0},{"$f":"'Produto 17'!AC$23","v":0},{"$f":"'Produto 17'!AD$23","v":0},{"$f":"'Produto 17'!AE$23","v":0},{"$f":"'Produto 17'!AF$23","v":0},{"$f":"'Produto 17'!AG$23","v":0}]
[null,null,null,null,null,null,null,null,null,null,null,null,null,null,null,{"$f":"Produção!$A$23","v":"madeira ipê roxo"},null,{"$f":"'Produto 18'!D$23","v":0},{"$f":"'Produto 18'!E$23","v":0},{"$f":"'Produto 18'!F$23","v":0},{"$f":"'Produto 18'!G$23","v":0},{"$f":"'Produto 18'!H$23","v":0},{"$f":"'Produto 18'!I$23","v":0},{"$f":"'Produto 18'!J$23","v":0},{"$f":"'Produto 18'!K$23","v":0},{"$f":"'Produto 18'!L$23","v":0},{"$f":"'Produto 18'!M$23","v":0},{"$f":"'Produto 18'!N$23","v":0},{"$f":"'Produto 18'!O$23","v":0},{"$f":"'Produto 18'!P$23","v":0},{"$f":"'Produto 18'!Q$23","v":0},{"$f":"'Produto 18'!R$23","v":0},{"$f":"'Produto 18'!S$23","v":0},{"$f":"'Produto 18'!T$23","v":0},{"$f":"'Produto 18'!U$23","v":0},{"$f":"'Produto 18'!V$23","v":0},{"$f":"'Produto 18'!W$23","v":0},{"$f":"'Produto 18'!X$23","v":0},{"$f":"'Produto 18'!Y$23","v":0},{"$f":"'Produto 18'!Z$23","v":0},{"$f":"'Produto 18'!AA$23","v":0},{"$f":"'Produto 18'!AB$23","v":0},{"$f":"'Produto 18'!AC$23","v":0},{"$f":"'Produto 18'!AD$23","v":0},{"$f":"'Produto 18'!AE$23","v":0},{"$f":"'Produto 18'!AF$23","v":0},{"$f":"'Produto 18'!AG$23","v":0}]
[null,null,null,null,null,null,null,null,null,null,null,null,null,null,null,{"$f":"Produção!$A$24","v":"madeira ipê amarelo"},null,{"$f":"'Produto 19'!D$23","v":0},{"$f":"'Produto 19'!E$23","v":0},{"$f":"'Produto 19'!F$23","v":0},{"$f":"'Produto 19'!G$23","v":0},{"$f":"'Produto 19'!H$23","v":0},{"$f":"'Produto 19'!I$23","v":0},{"$f":"'Produto 19'!J$23","v":0},{"$f":"'Produto 19'!K$23","v":0},{"$f":"'Produto 19'!L$23","v":0},{"$f":"'Produto 19'!M$23","v":0},{"$f":"'Produto 19'!N$23","v":0},{"$f":"'Produto 19'!O$23","v":0},{"$f":"'Produto 19'!P$23","v":0},{"$f":"'Produto 19'!Q$23","v":0},{"$f":"'Produto 19'!R$23","v":0},{"$f":"'Produto 19'!S$23","v":0},{"$f":"'Produto 19'!T$23","v":0},{"$f":"'Produto 19'!U$23","v":0},{"$f":"'Produto 19'!V$23","v":0},{"$f":"'Produto 19'!W$23","v":0},{"$f":"'Produto 19'!X$23","v":0},{"$f":"'Produto 19'!Y$23","v":0},{"$f":"'Produto 19'!Z$23","v":0},{"$f":"'Produto 19'!AA$23","v":0},{"$f":"'Produto 19'!AB$23","v":0},{"$f":"'Produto 19'!AC$23","v":0},{"$f":"'Produto 19'!AD$23","v":0},{"$f":"'Produto 19'!AE$23","v":0},{"$f":"'Produto 19'!AF$23","v":0},{"$f":"'Produto 19'!AG$23","v":0}]
[null,null,null,null,null,null,null,null,null,null,null,null,null,null,null,{"$f":"Produção!$A$25","v":"madeira gonçalo alves"},null,{"$f":"'Produto 20'!D$23","v":0},{"$f":"'Produto 20'!E$23","v":0},{"$f":"'Produto 20'!F$23","v":0},{"$f":"'Produto 20'!G$23","v":0},{"$f":"'Produto 20'!H$23","v":0},{"$f":"'Produto 20'!I$23","v":0},{"$f":"'Produto 20'!J$23","v":0},{"$f":"'Produto 20'!K$23","v":0},{"$f":"'Produto 20'!L$23","v":0},{"$f":"'Produto 20'!M$23","v":0},{"$f":"'Produto 20'!N$23","v":0},{"$f":"'Produto 20'!O$23","v":0},{"$f":"'Produto 20'!P$23","v":0},{"$f":"'Produto 20'!Q$23","v":0},{"$f":"'Produto 20'!R$23","v":0},{"$f":"'Produto 20'!S$23","v":0},{"$f":"'Produto 20'!T$23","v":0},{"$f":"'Produto 20'!U$23","v":0},{"$f":"'Produto 20'!V$23","v":0},{"$f":"'Produto 20'!W$23","v":0},{"$f":"'Produto 20'!X$23","v":0},{"$f":"'Produto 20'!Y$23","v":0},{"$f":"'Produto 20'!Z$23","v":0},{"$f":"'Produto 20'!AA$23","v":0},{"$f":"'Produto 20'!AB$23","v":0},{"$f":"'Produto 20'!AC$23","v":0},{"$f":"'Produto 20'!AD$23","v":0},{"$f":"'Produto 20'!AE$23","v":0},{"$f":"'Produto 20'!AF$23","v":0},{"$f":"'Produto 20'!AG$23","v":0}]
[null,null,null,null,null,null,null,null,null,null,null,null,null,null,null,{"$f":"Produção!$A$26","v":"madeira vinhatico"},null,{"$f":"'Produto 21'!D$23","v":0},{"$f":"'Produto 21'!E$23","v":0},{"$f":"'Produto 21'!F$23","v":0},{"$f":"'Produto 21'!G$23","v":0},{"$f":"'Produto 21'!H$23","v":0},{"$f":"'Produto 21'!I$23","v":0},{"$f":"'Produto 21'!J$23","v":0},{"$f":"'Produto 21'!K$23","v":0},{"$f":"'Produto 21'!L$23","v":0},{"$f":"'Produto 21'!M$23","v":0},{"$f":"'Produto 21'!N$23","v":0},{"$f":"'Produto 21'!O$23","v":0},{"$f":"'Produto 21'!P$23","v":0},{"$f":"'Produto 21'!Q$23","v":0},{"$f":"'Produto 21'!R$23","v":0},{"$f":"'Produto 21'!S$23","v":0},{"$f":"'Produto 21'!T$23","v":0},{"$f":"'Produto 21'!U$23","v":0},{"$f":"'Produto 21'!V$23","v":0},{"$f":"'Produto 21'!W$23","v":0},{"$f":"'Produto 21'!X$23","v":0},{"$f":"'Produto 21'!Y$23","v":0},{"$f":"'Produto 21'!Z$23","v":0},{"$f":"'Produto 21'!AA$23","v":0},{"$f":"'Produto 21'!AB$23","v":0},{"$f":"'Produto 21'!AC$23","v":0},{"$f":"'Produto 21'!AD$23","v":0},{"$f":"'Produto 21'!AE$23","v":0},{"$f":"'Produto 21'!AF$23","v":0},{"$f":"'Produto 21'!AG$23","v":0}]
[null,null,null,null,null,null,null,null,null,null,null,null,null,null,null,{"$f":"Produção!$A$27","v":"madeira jequitiba"},null,{"$f":"'Produto 22'!D$23","v":0},{"$f":"'Produto 22'!E$23","v":0},{"$f":"'Produto 22'!F$23","v":0},{"$f":"'Produto 22'!G$23","v":0},{"$f":"'Produto 22'!H$23","v":0},{"$f":"'Produto 22'!I$23","v":0},{"$f":"'Produto 22'!J$23","v":0},{"$f":"'Produto 22'!K$23","v":0},{"$f":"'Produto 22'!L$23","v":0},{"$f":"'Produto 22'!M$23","v":0},{"$f":"'Produto 22'!N$23","v":0},{"$f":"'Produto 22'!O$23","v":0},{"$f":"'Produto 22'!P$23","v":0},{"$f":"'Produto 22'!Q$23","v":0},{"$f":"'Produto 22'!R$23","v":0},{"$f":"'Produto 22'!S$23","v":0},{"$f":"'Produto 22'!T$23","v":0},{"$f":"'Produto 22'!U$23","v":0},{"$f":"'Produto 22'!V$23","v":0},{"$f":"'Produto 22'!W$23","v":0},{"$f":"'Produto 22'!X$23","v":0},{"$f":"'Produto 22'!Y$23","v":0},{"$f":"'Produto 22'!Z$23","v":0},{"$f":"'Produto 22'!AA$23","v":0},{"$f":"'Produto 22'!AB$23","v":0},{"$f":"'Produto 22'!AC$23","v":0},{"$f":"'Produto 22'!AD$23","v":0},{"$f":"'Produto 22'!AE$23","v":0},{"$f":"'Produto 22'!AF$23","v":0},{"$f":"'Produto 22'!AG$23","v":0}]
[null,null,null,null,null,null,null,null,null,null,null,null,null,null,null,{"$f":"Produção!$A$28","v":"biomassa"},null,{"$f":"'Produto 23'!D$23","v":0},{"$f":"'Produto 23'!E$23","v":0},{"$f":"'Produto 23'!F$23","v":0},{"$f":"'Produto 23'!G$23","v":0},{"$f":"'Produto 23'!H$23","v":0},{"$f":"'Produto 23'!I$23","v":0},{"$f":"'Produto 23'!J$23","v":0},{"$f":"'Produto 23'!K$23","v":0},{"$f":"'Produto 23'!L$23","v":0},{"$f":"'Produto 23'!M$23","v":0},{"$f":"'Produto 23'!N$23","v":0},{"$f":"'Produto 23'!O$23","v":0},{"$f":"'Produto 23'!P$23","v":0},{"$f":"'Produto 23'!Q$23","v":0},{"$f":"'Produto 23'!R$23","v":0},{"$f":"'Produto 23'!S$23","v":0},{"$f":"'Produto 23'!T$23","v":0},{"$f":"'Produto 23'!U$23","v":0},{"$f":"'Produto 23'!V$23","v":0},{"$f":"'Produto 23'!W$23","v":0},{"$f":"'Produto 23'!X$23","v":0},{"$f":"'Produto 23'!Y$23","v":0},{"$f":"'Produto 23'!Z$23","v":0},{"$f":"'Produto 23'!AA$23","v":0},{"$f":"'Produto 23'!AB$23","v":0},{"$f":"'Produto 23'!AC$23","v":0},{"$f":"'Produto 23'!AD$23","v":0},{"$f":"'Produto 23'!AE$23","v":0},{"$f":"'Produto 23'!AF$23","v":0},{"$f":"'Produto 23'!AG$23","v":0}]
[null,null,null,null,null,null,null,null,null,null,null,null,null,null,null,{"$f":"Produção!$A$29","v":"grão caupi"},null,{"$f":"'Produto 24'!D$23","v":0},{"$f":"'Produto 24'!E$23","v":0},{"$f":"'Produto 24'!F$23","v":0},{"$f":"'Produto 24'!G$23","v":0},{"$f":"'Produto 24'!H$23","v":0},{"$f":"'Produto 24'!I$23","v":0},{"$f":"'Produto 24'!J$23","v":0},{"$f":"'Produto 24'!K$23","v":0},{"$f":"'Produto 24'!L$23","v":0},{"$f":"'Produto 24'!M$23","v":0},{"$f":"'Produto 24'!N$23","v":0},{"$f":"'Produto 24'!O$23","v":0},{"$f":"'Produto 24'!P$23","v":0},{"$f":"'Produto 24'!Q$23","v":0},{"$f":"'Produto 24'!R$23","v":0},{"$f":"'Produto 24'!S$23","v":0},{"$f":"'Produto 24'!T$23","v":0},{"$f":"'Produto 24'!U$23","v":0},{"$f":"'Produto 24'!V$23","v":0},{"$f":"'Produto 24'!W$23","v":0},{"$f":"'Produto 24'!X$23","v":0},{"$f":"'Produto 24'!Y$23","v":0},{"$f":"'Produto 24'!Z$23","v":0},{"$f":"'Produto 24'!AA$23","v":0},{"$f":"'Produto 24'!AB$23","v":0},{"$f":"'Produto 24'!AC$23","v":0},{"$f":"'Produto 24'!AD$23","v":0},{"$f":"'Produto 24'!AE$23","v":0},{"$f":"'Produto 24'!AF$23","v":0},{"$f":"'Produto 24'!AG$23","v":0}]
[]
[]
[]
[null,null,null,null,null,null,null,null,null,null,null,null,null,null,null,"Custos de MO",{"$f":"SUM(Q33:Q57)","v":0},0,0,0,0,0,0,0,0,0,0,0,0,0,0,0,0,0,0,0,0,0,0,0,0,0,0,0,0,0,0,null,"TOTAL"]
[null,null,null,null,null,null,null,null,null,null,null,null,null,null,null,"Atividades Gerais",{"$f":"'Preparo e Gerais'!D6","v":0},null,null,null,null,null,null,null,null,null,null,null,null,null,null,null,null,null,null,null,null,null,null,null,null,null,null,null,null,null,null,null,{"$f":"SUM(Q33:AU33)","v":0}]
[null,null,null,null,null,null,null,null,null,null,null,null,null,null,null,{"$f":"Produção!$A$6","v":"latex"},null,{"$f":"latex!D$7","v":0},{"$f":"latex!E$7","v":0},{"$f":"latex!F$7","v":0},{"$f":"latex!G$7","v":0},{"$f":"latex!H$7","v":0},{"$f":"latex!I$7","v":0},{"$f":"latex!J$7","v":0},{"$f":"latex!K$7","v":0},{"$f":"latex!L$7","v":0},{"$f":"latex!M$7","v":0},{"$f":"latex!N$7","v":0},{"$f":"latex!O$7","v":0},{"$f":"latex!P$7","v":0},{"$f":"latex!Q$7","v":0},{"$f":"latex!R$7","v":0},{"$f":"latex!S$7","v":0},{"$f":"latex!T$7","v":0},{"$f":"latex!U$7","v":0},{"$f":"latex!V$7","v":0},{"$f":"latex!W$7","v":0},{"$f":"latex!X$7","v":0},{"$f":"latex!Y$7","v":0},{"$f":"latex!Z$7","v":0},{"$f":"latex!AA$7","v":0},{"$f":"latex!AB$7","v":0},{"$f":"latex!AC$7","v":0},{"$f":"latex!AD$7","v":0},{"$f":"latex!AE$7","v":0},{"$f":"latex!AF$7","v":0},{"$f":"latex!AG$7","v":0},null,0]
[null,null,null,null,null,null,null,null,null,null,null,null,null,null,null,{"$f":"Produção!$A$7","v":"fruto genipapo"},null,{"$f":"'fruto genipapo'!D$7","v":0},{"$f":"'fruto genipapo'!E$7","v":0},{"$f":"'fruto genipapo'!F$7","v":0},{"$f":"'fruto genipapo'!G$7","v":0},{"$f":"'fruto genipapo'!H$7","v":0},{"$f":"'fruto genipapo'!I$7","v":0},{"$f":"'fruto genipapo'!J$7","v":0},{"$f":"'fruto genipapo'!K$7","v":0},{"$f":"'fruto genipapo'!L$7","v":0},{"$f":"'fruto genipapo'!M$7","v":0},{"$f":"'fruto genipapo'!N$7","v":0},{"$f":"'fruto genipapo'!O$7","v":0},{"$f":"'fruto genipapo'!P$7","v":0},{"$f":"'fruto genipapo'!Q$7","v":0},{"$f":"'fruto genipapo'!R$7","v":0},{"$f":"'fruto genipapo'!S$7","v":0},{"$f":"'fruto genipapo'!T$7","v":0},{"$f":"'fruto genipapo'!U$7","v":0},{"$f":"'fruto genipapo'!V$7","v":0},{"$f":"'fruto genipapo'!W$7","v":0},{"$f":"'fruto genipapo'!X$7","v":0},{"$f":"'fruto genipapo'!Y$7","v":0},{"$f":"'fruto genipapo'!Z$7","v":0},{"$f":"'fruto genipapo'!AA$7","v":0},{"$f":"'fruto genipapo'!AB$7","v":0},{"$f":"'fruto genipapo'!AC$7","v":0},{"$f":"'fruto genipapo'!AD$7","v":0},{"$f":"'fruto genipapo'!AE$7","v":0},{"$f":"'fruto genipapo'!AF$7","v":0},{"$f":"'fruto genipapo'!AG$7","v":0},null,0]
[null,null,null,null,null,null,null,null,null,null,null,null,null,null,null,{"$f":"Produção!$A$8","v":"fruto araçauna"},null,{"$f":"'fruto araçauna'!D$7","v":0},{"$f":"'fruto araçauna'!E$7","v":0},{"$f":"'fruto araçauna'!F$7","v":0},{"$f":"'fruto araçauna'!G$7","v":0},{"$f":"'fruto araçauna'!H$7","v":0},{"$f":"'fruto araçauna'!I$7","v":0},{"$f":"'fruto araçauna'!J$7","v":0},{"$f":"'fruto araçauna'!K$7","v":0},{"$f":"'fruto araçauna'!L$7","v":0},{"$f":"'fruto araçauna'!M$7","v":0},{"$f":"'fruto araçauna'!N$7","v":0},{"$f":"'fruto araçauna'!O$7","v":0},{"$f":"'fruto araçauna'!P$7","v":0},{"$f":"'fruto araçauna'!Q$7","v":0},{"$f":"'fruto araçauna'!R$7","v":0},{"$f":"'fruto araçauna'!S$7","v":0},{"$f":"'fruto araçauna'!T$7","v":0},{"$f":"'fruto araçauna'!U$7","v":0},{"$f":"'fruto araçauna'!V$7","v":0},{"$f":"'fruto araçauna'!W$7","v":0},{"$f":"'fruto araçauna'!X$7","v":0},{"$f":"'fruto araçauna'!Y$7","v":0},{"$f":"'fruto araçauna'!Z$7","v":0},{"$f":"'fruto araçauna'!AA$7","v":0},{"$f":"'fruto araçauna'!AB$7","v":0},{"$f":"'fruto araçauna'!AC$7","v":0},{"$f":"'fruto araçauna'!AD$7","v":0},{"$f":"'fruto araçauna'!AE$7","v":0},{"$f":"'fruto araçauna'!AF$7","v":0},{"$f":"'fruto araçauna'!AG$7","v":0},null,0]
[null,null,null,null,null,null,null,null,null,null,null,null,null,null,null,{"$f":"Produção!$A$9","v":"fruto pitanga"},null,{"$f":"'fruto pitanga'!D$7","v":0},{"$f":"'fruto pitanga'!E$7","v":0},{"$f":"'fruto pitanga'!F$7","v":0},{"$f":"'fruto pitanga'!G$7","v":0},{"$f":"'fruto pitanga'!H$7","v":0},{"$f":"'fruto pitanga'!I$7","v":0},{"$f":"'fruto pitanga'!J$7","v":0},{"$f":"'fruto pitanga'!K$7","v":0},{"$f":"'fruto pitanga'!L$7","v":0},{"$f":"'fruto pitanga'!M$7","v":0},{"$f":"'fruto pitanga'!N$7","v":0},{"$f":"'fruto pitanga'!O$7","v":0},{"$f":"'fruto pitanga'!P$7","v":0},{"$f":"'fruto pitanga'!Q$7","v":0},{"$f":"'fruto pitanga'!R$7","v":0},{"$f":"'fruto pitanga'!S$7","v":0},{"$f":"'fruto pitanga'!T$7","v":0},{"$f":"'fruto pitanga'!U$7","v":0},{"$f":"'fruto pitanga'!V$7","v":0},{"$f":"'fruto pitanga'!W$7","v":0},{"$f":"'fruto pitanga'!X$7","v":0},{"$f":"'fruto pitanga'!Y$7","v":0},{"$f":"'fruto pitanga'!Z$7","v":0},{"$f":"'fruto pitanga'!AA$7","v":0},{"$f":"'fruto pitanga'!AB$7","v":0},{"$f":"'fruto pitanga'!AC$7","v":0},{"$f":"'fruto pitanga'!AD$7","v":0},{"$f":"'fruto pitanga'!AE$7","v":0},{"$f":"'fruto pitanga'!AF$7","v":0},{"$f":"'fruto pitanga'!AG$7","v":0},null,0]
[null,null,null,null,null,null,null,null,null,null,null,null,null,null,null,{"$f":"Produção!$A$10","v":"castanha sapucaia"},null,{"$f":"Castanha!D$7","v":0},{"$f":"Castanha!E$7","v":0},{"$f":"Castanha!F$7","v":0},{"$f":"Castanha!G$7","v":0},{"$f":"Castanha!H$7","v":0},{"$f":"Castanha!I$7","v":0},{"$f":"Castanha!J$7","v":0},{"$f":"Castanha!K$7","v":0},{"$f":"Castanha!L$7","v":0},{"$f":"Castanha!M$7","v":0},{"$f":"Castanha!N$7","v":0},{"$f":"Castanha!O$7","v":0},{"$f":"Castanha!P$7","v":0},{"$f":"Castanha!Q$7","v":0},{"$f":"Castanha!R$7","v":0},{"$f":"Castanha!S$7","v":0},{"$f":"Castanha!T$7","v":0},{"$f":"Castanha!U$7","v":0},{"$f":"Castanha!V$7","v":0},{"$f":"Castanha!W$7","v":0},{"$f":"Castanha!X$7","v":0},{"$f":"Castanha!Y$7","v":0},{"$f":"Castanha!Z$7","v":0},{"$f":"Castanha!AA$7","v":0},{"$f":"Castanha!AB$7","v":0},{"$f":"Castanha!AC$7","v":0},{"$f":"Castanha!AD$7","v":0},{"$f":"Castanha!AE$7","v":0},{"$f":"Castanha!AF$7","v":0},{"$f":"Castanha!AG$7","v":0},null,0]
[null,null,null,null,null,null,null,null,null,null,null,null,null,null,null,{"$f":"Produção!$A$11","v":"fruto cajá"},null,{"$f":"'fruto cajá'!D$7","v":0},{"$f":"'fruto cajá'!E$7","v":0},{"$f":"'fruto cajá'!F$7","v":0},{"$f":"'fruto cajá'!G$7","v":0},{"$f":"'fruto cajá'!H$7","v":0},{"$f":"'fruto cajá'!I$7","v":0},{"$f":"'fruto cajá'!J$7","v":0},{"$f":"'fruto cajá'!K$7","v":0},{"$f":"'fruto cajá'!L$7","v":0},{"$f":"'fruto cajá'!M$7","v":0},{"$f":"'fruto cajá'!N$7","v":0},{"$f":"'fruto cajá'!O$7","v":0},{"$f":"'fruto cajá'!P$7","v":0},{"$f":"'fruto cajá'!Q$7","v":0},{"$f":"'fruto cajá'!R$7","v":0},{"$f":"'fruto cajá'!S$7","v":0},{"$f":"'fruto cajá'!T$7","v":0},{"$f":"'fruto cajá'!U$7","v":0},{"$f":"'fruto cajá'!V$7","v":0},{"$f":"'fruto cajá'!W$7","v":0},{"$f":"'fruto cajá'!X$7","v":0},{"$f":"'fruto cajá'!Y$7","v":0},{"$f":"'fruto cajá'!Z$7","v":0},{"$f":"'fruto cajá'!AA$7","v":0},{"$f":"'fruto cajá'!AB$7","v":0},{"$f":"'fruto cajá'!AC$7","v":0},{"$f":"'fruto cajá'!AD$7","v":0},{"$f":"'fruto cajá'!AE$7","v":0},{"$f":"'fruto cajá'!AF$7","v":0},{"$f":"'fruto cajá'!AG$7","v":0},null,{"$f":"SUM(Q39:AU39)","v":0}]
[null,null,null,null,null,null,null,null,null,null,null,null,null,null,null,{"$f":"Produção!$A$12","v":"semente urucum"},null,{"$f":"'semente urucum'!D$7","v":0},{"$f":"'semente urucum'!E$7","v":0},{"$f":"'semente urucum'!F$7","v":0},{"$f":"'semente urucum'!G$7","v":0},{"$f":"'semente urucum'!H$7","v":0},{"$f":"'semente urucum'!I$7","v":0},{"$f":"'semente urucum'!J$7","v":0},{"$f":"'semente urucum'!K$7","v":0},{"$f":"'semente urucum'!L$7","v":0},{"$f":"'semente urucum'!M$7","v":0},{"$f":"'semente urucum'!N$7","v":0},{"$f":"'semente urucum'!O$7","v":0},{"$f":"'semente urucum'!P$7","v":0},{"$f":"'semente urucum'!Q$7","v":0},{"$f":"'semente urucum'!R$7","v":0},{"$f":"'semente urucum'!S$7","v":0},{"$f":"'semente urucum'!T$7","v":0},{"$f":"'semente urucum'!U$7","v":0},{"$f":"'semente urucum'!V$7","v":0},{"$f":"'semente urucum'!W$7","v":0},{"$f":"'semente urucum'!X$7","v":0},{"$f":"'semente urucum'!Y$7","v":0},{"$f":"'semente urucum'!Z$7","v":0},{"$f":"'semente urucum'!AA$7","v":0},{"$f":"'semente urucum'!AB$7","v":0},{"$f":"'semente urucum'!AC$7","v":0},{"$f":"'semente urucum'!AD$7","v":0},{"$f":"'semente urucum'!AE$7","v":0},{"$f":"'semente urucum'!AF$7","v":0},{"$f":"'semente urucum'!AG$7","v":0},null,{"$f":"SUM(Q40:AU40)","v":0}]
[null,null,null,null,null,null,null,null,null,null,null,null,null,null,null,{"$f":"Produção!$A$13","v":"semente aroeira"},null,{"$f":"'semente aroeira'!D$7","v":0},{"$f":"'semente aroeira'!E$7","v":0},{"$f":"'semente aroeira'!F$7","v":0},{"$f":"'semente aroeira'!G$7","v":0},{"$f":"'semente aroeira'!H$7","v":0},{"$f":"'semente aroeira'!I$7","v":0},{"$f":"'semente aroeira'!J$7","v":0},{"$f":"'semente aroeira'!K$7","v":0},{"$f":"'semente aroeira'!L$7","v":0},{"$f":"'semente aroeira'!M$7","v":0},{"$f":"'semente aroeira'!N$7","v":0},{"$f":"'semente aroeira'!O$7","v":0},{"$f":"'semente aroeira'!P$7","v":0},{"$f":"'semente aroeira'!Q$7","v":0},{"$f":"'semente aroeira'!R$7","v":0},{"$f":"'semente aroeira'!S$7","v":0},{"$f":"'semente aroeira'!T$7","v":0},{"$f":"'semente aroeira'!U$7","v":0},{"$f":"'semente aroeira'!V$7","v":0},{"$f":"'semente aroeira'!W$7","v":0},{"$f":"'semente aroeira'!X$7","v":0},{"$f":"'semente aroeira'!Y$7","v":0},{"$f":"'semente aroeira'!Z$7","v":0},{"$f":"'semente aroeira'!AA$7","v":0},{"$f":"'semente aroeira'!AB$7","v":0},{"$f":"'semente aroeira'!AC$7","v":0},{"$f":"'semente aroeira'!AD$7","v":0},{"$f":"'semente aroeira'!AE$7","v":0},{"$f":"'semente aroeira'!AF$7","v":0},{"$f":"'semente aroeira'!AG$7","v":0},null,{"$f":"SUM(Q41:AU41)","v":0}]
[null,null,null,null,null,null,null,null,null,null,null,null,null,null,null,{"$f":"Produção!$A$14","v":"raiz mandioca"},null,{"$f":"'raiz mandioca'!D$7","v":0},{"$f":"'raiz mandioca'!E$7","v":0},{"$f":"'raiz mandioca'!F$7","v":0},{"$f":"'raiz mandioca'!G$7","v":0},{"$f":"'raiz mandioca'!H$7","v":0},{"$f":"'raiz mandioca'!I$7","v":0},{"$f":"'raiz mandioca'!J$7","v":0},{"$f":"'raiz mandioca'!K$7","v":0},{"$f":"'raiz mandioca'!L$7","v":0},{"$f":"'raiz mandioca'!M$7","v":0},{"$f":"'raiz mandioca'!N$7","v":0},{"$f":"'raiz mandioca'!O$7","v":0},{"$f":"'raiz mandioca'!P$7","v":0},{"$f":"'raiz mandioca'!Q$7","v":0},{"$f":"'raiz mandioca'!R$7","v":0},{"$f":"'raiz mandioca'!S$7","v":0},{"$f":"'raiz mandioca'!T$7","v":0},{"$f":"'raiz mandioca'!U$7","v":0},{"$f":"'raiz mandioca'!V$7","v":0},{"$f":"'raiz mandioca'!W$7","v":0},{"$f":"'raiz mandioca'!X$7","v":0},{"$f":"'raiz mandioca'!Y$7","v":0},{"$f":"'raiz mandioca'!Z$7","v":0},{"$f":"'raiz mandioca'!AA$7","v":0},{"$f":"'raiz mandioca'!AB$7","v":0},{"$f":"'raiz mandioca'!AC$7","v":0},{"$f":"'raiz mandioca'!AD$7","v":0},{"$f":"'raiz mandioca'!AE$7","v":0},{"$f":"'raiz mandioca'!AF$7","v":0},{"$f":"'raiz mandioca'!AG$7","v":0},null,{"$f":"SUM(Q42:AU42)","v":0}]
[null,null,null,null,null,null,null,null,null,null,null,null,null,null,null,{"$f":"Produção!$A$15","v":"fruto abacaxi"},null,{"$f":"abacaxi!D$7","v":0},{"$f":"abacaxi!E$7","v":0},{"$f":"abacaxi!F$7","v":0},{"$f":"abacaxi!G$7","v":0},{"$f":"abacaxi!H$7","v":0},{"$f":"abacaxi!I$7","v":0},{"$f":"abacaxi!J$7","v":0},{"$f":"abacaxi!K$7","v":0},{"$f":"abacaxi!L$7","v":0},{"$f":"abacaxi!M$7","v":0},{"$f":"abacaxi!N$7","v":0},{"$f":"abacaxi!O$7","v":0},{"$f":"abacaxi!P$7","v":0},{"$f":"abacaxi!Q$7","v":0},{"$f":"abacaxi!R$7","v":0},{"$f":"abacaxi!S$7","v":0},{"$f":"abacaxi!T$7","v":0},{"$f":"abacaxi!U$7","v":0},{"$f":"abacaxi!V$7","v":0},{"$f":"abacaxi!W$7","v":0},{"$f":"abacaxi!X$7","v":0},{"$f":"abacaxi!Y$7","v":0},{"$f":"abacaxi!Z$7","v":0},{"$f":"abacaxi!AA$7","v":0},{"$f":"abacaxi!AB$7","v":0},{"$f":"abacaxi!AC$7","v":0},{"$f":"abacaxi!AD$7","v":0},{"$f":"abacaxi!AE$7","v":0},{"$f":"abacaxi!AF$7","v":0},{"$f":"abacaxi!AG$7","v":0},null,{"$f":"SUM(Q43:AU43)","v":0}]
[null,null,null,null,null,null,null,null,null,null,null,null,null,null,null,{"$f":"Produção!$A$16","v":"espigas milho"},null,{"$f":"espigas!D$7","v":0},{"$f":"espigas!E$7","v":0},{"$f":"espigas!F$7","v":0},{"$f":"espigas!G$7","v":0},{"$f":"espigas!H$7","v":0},{"$f":"espigas!I$7","v":0},{"$f":"espigas!J$7","v":0},{"$f":"espigas!K$7","v":0},{"$f":"espigas!L$7","v":0},{"$f":"espigas!M$7","v":0},{"$f":"espigas!N$7","v":0},{"$f":"espigas!O$7","v":0},{"$f":"espigas!P$7","v":0},{"$f":"espigas!Q$7","v":0},{"$f":"espigas!R$7","v":0},{"$f":"espigas!S$7","v":0},{"$f":"espigas!T$7","v":0},{"$f":"espigas!U$7","v":0},{"$f":"espigas!V$7","v":0},{"$f":"espigas!W$7","v":0},{"$f":"espigas!X$7","v":0},{"$f":"espigas!Y$7","v":0},{"$f":"espigas!Z$7","v":0},{"$f":"espigas!AA$7","v":0},{"$f":"espigas!AB$7","v":0},{"$f":"espigas!AC$7","v":0},{"$f":"espigas!AD$7","v":0},{"$f":"espigas!AE$7","v":0},{"$f":"espigas!AF$7","v":0},{"$f":"espigas!AG$7","v":0},null,0]
[null,null,null,null,null,null,null,null,null,null,null,null,null,null,null,{"$f":"Produção!$A$17","v":"estaca sansão do campo"},null,{"$f":"'semente caupi'!D$7","v":0},{"$f":"'semente caupi'!E$7","v":0},{"$f":"'semente caupi'!F$7","v":0},{"$f":"'semente caupi'!G$7","v":0},{"$f":"'semente caupi'!H$7","v":0},{"$f":"'semente caupi'!I$7","v":0},{"$f":"'semente caupi'!J$7","v":0},{"$f":"'semente caupi'!K$7","v":0},{"$f":"'semente caupi'!L$7","v":0},{"$f":"'semente caupi'!M$7","v":0},{"$f":"'semente caupi'!N$7","v":0},{"$f":"'semente caupi'!O$7","v":0},{"$f":"'semente caupi'!P$7","v":0},{"$f":"'semente caupi'!Q$7","v":0},{"$f":"'semente caupi'!R$7","v":0},{"$f":"'semente caupi'!S$7","v":0},{"$f":"'semente caupi'!T$7","v":0},{"$f":"'semente caupi'!U$7","v":0},{"$f":"'semente caupi'!V$7","v":0},{"$f":"'semente caupi'!W$7","v":0},{"$f":"'semente caupi'!X$7","v":0},{"$f":"'semente caupi'!Y$7","v":0},{"$f":"'semente caupi'!Z$7","v":0},{"$f":"'semente caupi'!AA$7","v":0},{"$f":"'semente caupi'!AB$7","v":0},{"$f":"'semente caupi'!AC$7","v":0},{"$f":"'semente caupi'!AD$7","v":0},{"$f":"'semente caupi'!AE$7","v":0},{"$f":"'semente caupi'!AF$7","v":0},{"$f":"'semente caupi'!AG$7","v":0},null,0]
[null,null,null,null,null,null,null,null,null,null,null,null,null,null,null,{"$f":"Produção!$A$18","v":"madeira madeira nova"},null,{"$f":"biomassa!D$7","v":0},{"$f":"biomassa!E$7","v":0},{"$f":"biomassa!F$7","v":0},{"$f":"biomassa!G$7","v":0},{"$f":"biomassa!H$7","v":0},{"$f":"biomassa!I$7","v":0},{"$f":"biomassa!J$7","v":0},{"$f":"biomassa!K$7","v":0},{"$f":"biomassa!L$7","v":0},{"$f":"biomassa!M$7","v":0},{"$f":"biomassa!N$7","v":0},{"$f":"biomassa!O$7","v":0},{"$f":"biomassa!P$7","v":0},{"$f":"biomassa!Q$7","v":0},{"$f":"biomassa!R$7","v":0},{"$f":"biomassa!S$7","v":0},{"$f":"biomassa!T$7","v":0},{"$f":"biomassa!U$7","v":0},{"$f":"biomassa!V$7","v":0},{"$f":"biomassa!W$7","v":0},{"$f":"biomassa!X$7","v":0},{"$f":"biomassa!Y$7","v":0},{"$f":"biomassa!Z$7","v":0},{"$f":"biomassa!AA$7","v":0},{"$f":"biomassa!AB$7","v":0},{"$f":"biomassa!AC$7","v":0},{"$f":"biomassa!AD$7","v":0},{"$f":"biomassa!AE$7","v":0},{"$f":"biomassa!AF$7","v":0},{"$f":"biomassa!AG$7","v":0},null,0]
[null,null,null,null,null,null,null,null,null,null,null,null,null,null,null,{"$f":"Produção!$A$19","v":"lenha fedegoso"},null,{"$f":"madeira!D$7","v":0},{"$f":"madeira!E$7","v":0},{"$f":"madeira!F$7","v":0},{"$f":"madeira!G$7","v":0},{"$f":"madeira!H$7","v":0},{"$f":"madeira!I$7","v":0},{"$f":"madeira!J$7","v":0},{"$f":"madeira!K$7","v":0},{"$f":"madeira!L$7","v":0},{"$f":"madeira!M$7","v":0},{"$f":"madeira!N$7","v":0},{"$f":"madeira!O$7","v":0},{"$f":"madeira!P$7","v":0},{"$f":"madeira!Q$7","v":0},{"$f":"madeira!R$7","v":0},{"$f":"madeira!S$7","v":0},{"$f":"madeira!T$7","v":0},{"$f":"madeira!U$7","v":0},{"$f":"madeira!V$7","v":0},{"$f":"madeira!W$7","v":0},{"$f":"madeira!X$7","v":0},{"$f":"madeira!Y$7","v":0},{"$f":"madeira!Z$7","v":0},{"$f":"madeira!AA$7","v":0},{"$f":"madeira!AB$7","v":0},{"$f":"madeira!AC$7","v":0},{"$f":"madeira!AD$7","v":0},{"$f":"madeira!AE$7","v":0},{"$f":"madeira!AF$7","v":0},{"$f":"madeira!AG$7","v":0},null,0]
[null,null,null,null,null,null,null,null,null,null,null,null,null,null,null,{"$f":"Produção!$A$20","v":"estaca pau d'alho"},null,{"$f":"'Produto 15'!D$7","v":0},{"$f":"'Produto 15'!E$7","v":0},{"$f":"'Produto 15'!F$7","v":0},{"$f":"'Produto 15'!G$7","v":0},{"$f":"'Produto 15'!H$7","v":0},{"$f":"'Produto 15'!I$7","v":0},{"$f":"'Produto 15'!J$7","v":0},{"$f":"'Produto 15'!K$7","v":0},{"$f":"'Produto 15'!L$7","v":0},{"$f":"'Produto 15'!M$7","v":0},{"$f":"'Produto 15'!N$7","v":0},{"$f":"'Produto 15'!O$7","v":0},{"$f":"'Produto 15'!P$7","v":0},{"$f":"'Produto 15'!Q$7","v":0},{"$f":"'Produto 15'!R$7","v":0},{"$f":"'Produto 15'!S$7","v":0},{"$f":"'Produto 15'!T$7","v":0},{"$f":"'Produto 15'!U$7","v":0},{"$f":"'Produto 15'!V$7","v":0},{"$f":"'Produto 15'!W$7","v":0},{"$f":"'Produto 15'!X$7","v":0},{"$f":"'Produto 15'!Y$7","v":0},{"$f":"'Produto 15'!Z$7","v":0},{"$f":"'Produto 15'!AA$7","v":0},{"$f":"'Produto 15'!AB$7","v":0},{"$f":"'Produto 15'!AC$7","v":0},{"$f":"'Produto 15'!AD$7","v":0},{"$f":"'Produto 15'!AE$7","v":0},{"$f":"'Produto 15'!AF$7","v":0},{"$f":"'Produto 15'!AG$7","v":0},null,0]
[null,null,null,null,null,null,null,null,null,null,null,null,null,null,null,{"$f":"Produção!$A$21","v":"caixotaria boleira"},null,{"$f":"'Produto 16'!D$7","v":0},{"$f":"'Produto 16'!E$7","v":0},{"$f":"'Produto 16'!F$7","v":0},{"$f":"'Produto 16'!G$7","v":0},{"$f":"'Produto 16'!H$7","v":0},{"$f":"'Produto 16'!I$7","v":0},{"$f":"'Produto 16'!J$7","v":0},{"$f":"'Produto 16'!K$7","v":0},{"$f":"'Produto 16'!L$7","v":0},{"$f":"'Produto 16'!M$7","v":0},{"$f":"'Produto 16'!N$7","v":0},{"$f":"'Produto 16'!O$7","v":0},{"$f":"'Produto 16'!P$7","v":0},{"$f":"'Produto 16'!Q$7","v":0},{"$f":"'Produto 16'!R$7","v":0},{"$f":"'Produto 16'!S$7","v":0},{"$f":"'Produto 16'!T$7","v":0},{"$f":"'Produto 16'!U$7","v":0},{"$f":"'Produto 16'!V$7","v":0},{"$f":"'Produto 16'!W$7","v":0},{"$f":"'Produto 16'!X$7","v":0},{"$f":"'Produto 16'!Y$7","v":0},{"$f":"'Produto 16'!Z$7","v":0},{"$f":"'Produto 16'!AA$7","v":0},{"$f":"'Produto 16'!AB$7","v":0},{"$f":"'Produto 16'!AC$7","v":0},{"$f":"'Produto 16'!AD$7","v":0},{"$f":"'Produto 16'!AE$7","v":0},{"$f":"'Produto 16'!AF$7","v":0},{"$f":"'Produto 16'!AG$7","v":0},null,0]
[null,null,null,null,null,null,null,null,null,null,null,null,null,null,null,{"$f":"Produção!$A$22","v":"madeira angico roxo"},null,{"$f":"'Produto 17'!D$7","v":0},{"$f":"'Produto 17'!E$7","v":0},{"$f":"'Produto 17'!F$7","v":0},{"$f":"'Produto 17'!G$7","v":0},{"$f":"'Produto 17'!H$7","v":0},{"$f":"'Produto 17'!I$7","v":0},{"$f":"'Produto 17'!J$7","v":0},{"$f":"'Produto 17'!K$7","v":0},{"$f":"'Produto 17'!L$7","v":0},{"$f":"'Produto 17'!M$7","v":0},{"$f":"'Produto 17'!N$7","v":0},{"$f":"'Produto 17'!O$7","v":0},{"$f":"'Produto 17'!P$7","v":0},{"$f":"'Produto 17'!Q$7","v":0},{"$f":"'Produto 17'!R$7","v":0},{"$f":"'Produto 17'!S$7","v":0},{"$f":"'Produto 17'!T$7","v":0},{"$f":"'Produto 17'!U$7","v":0},{"$f":"'Produto 17'!V$7","v":0},{"$f":"'Produto 17'!W$7","v":0},{"$f":"'Produto 17'!X$7","v":0},{"$f":"'Produto 17'!Y$7","v":0},{"$f":"'Produto 17'!Z$7","v":0},{"$f":"'Produto 17'!AA$7","v":0},{"$f":"'Produto 17'!AB$7","v":0},{"$f":"'Produto 17'!AC$7","v":0},{"$f":"'Produto 17'!AD$7","v":0},{"$f":"'Produto 17'!AE$7","v":0},{"$f":"'Produto 17'!AF$7","v":0},{"$f":"'Produto 17'!AG$7","v":0},null,{"$f":"SUM(Q50:AU50)","v":0}]
[null,null,null,null,null,null,null,null,null,null,null,null,null,null,null,{"$f":"Produção!$A$23","v":"madeira ipê roxo"},null,{"$f":"'Produto 18'!D$7","v":0},{"$f":"'Produto 18'!E$7","v":0},{"$f":"'Produto 18'!F$7","v":0},{"$f":"'Produto 18'!G$7","v":0},{"$f":"'Produto 18'!H$7","v":0},{"$f":"'Produto 18'!I$7","v":0},{"$f":"'Produto 18'!J$7","v":0},{"$f":"'Produto 18'!K$7","v":0},{"$f":"'Produto 18'!L$7","v":0},{"$f":"'Produto 18'!M$7","v":0},{"$f":"'Produto 18'!N$7","v":0},{"$f":"'Produto 18'!O$7","v":0},{"$f":"'Produto 18'!P$7","v":0},{"$f":"'Produto 18'!Q$7","v":0},{"$f":"'Produto 18'!R$7","v":0},{"$f":"'Produto 18'!S$7","v":0},{"$f":"'Produto 18'!T$7","v":0},{"$f":"'Produto 18'!U$7","v":0},{"$f":"'Produto 18'!V$7","v":0},{"$f":"'Produto 18'!W$7","v":0},{"$f":"'Produto 18'!X$7","v":0},{"$f":"'Produto 18'!Y$7","v":0},{"$f":"'Produto 18'!Z$7","v":0},{"$f":"'Produto 18'!AA$7","v":0},{"$f":"'Produto 18'!AB$7","v":0},{"$f":"'Produto 18'!AC$7","v":0},{"$f":"'Produto 18'!AD$7","v":0},{"$f":"'Produto 18'!AE$7","v":0},{"$f":"'Produto 18'!AF$7","v":0},{"$f":"'Produto 18'!AG$7","v":0},null,0]
[null,null,null,null,null,null,null,null,null,null,null,null,null,null,null,{"$f":"Produção!$A$24","v":"madeira ipê amarelo"},null,{"$f":"'Produto 19'!D$7","v":0},{"$f":"'Produto 19'!E$7","v":0},{"$f":"'Produto 19'!F$7","v":0},{"$f":"'Produto 19'!G$7","v":0},{"$f":"'Produto 19'!H$7","v":0},{"$f":"'Produto 19'!I$7","v":0},{"$f":"'Produto 19'!J$7","v":0},{"$f":"'Produto 19'!K$7","v":0},{"$f":"'Produto 19'!L$7","v":0},{"$f":"'Produto 19'!M$7","v":0},{"$f":"'Produto 19'!N$7","v":0},{"$f":"'Produto 19'!O$7","v":0},{"$f":"'Produto 19'!P$7","v":0},{"$f":"'Produto 19'!Q$7","v":0},{"$f":"'Produto 19'!R$7","v":0},{"$f":"'Produto 19'!S$7","v":0},{"$f":"'Produto 19'!T$7","v":0},{"$f":"'Produto 19'!U$7","v":0},{"$f":"'Produto 19'!V$7","v":0},{"$f":"'Produto 19'!W$7","v":0},{"$f":"'Produto 19'!X$7","v":0},{"$f":"'Produto 19'!Y$7","v":0},{"$f":"'Produto 19'!Z$7","v":0},{"$f":"'Produto 19'!AA$7","v":0},{"$f":"'Produto 19'!AB$7","v":0},{"$f":"'Produto 19'!AC$7","v":0},{"$f":"'Produto 19'!AD$7","v":0},{"$f":"'Produto 19'!AE$7","v":0},{"$f":"'Produto 19'!AF$7","v":0},{"$f":"'Produto 19'!AG$7","v":0},null,0]
[null,null,null,null,null,null,null,null,null,null,null,null,null,null,null,{"$f":"Produção!$A$25","v":"madeira gonçalo alves"},null,{"$f":"'Produto 20'!D$7","v":0},{"$f":"'Produto 20'!E$7","v":0},{"$f":"'Produto 20'!F$7","v":0},{"$f":"'Produto 20'!G$7","v":0},{"$f":"'Produto 20'!H$7","v":0},{"$f":"'Produto 20'!I$7","v":0},{"$f":"'Produto 20'!J$7","v":0},{"$f":"'Produto 20'!K$7","v":0},{"$f":"'Produto 20'!L$7","v":0},{"$f":"'Produto 20'!M$7","v":0},{"$f":"'Produto 20'!N$7","v":0},{"$f":"'Produto 20'!O$7","v":0},{"$f":"'Produto 20'!P$7","v":0},{"$f":"'Produto 20'!Q$7","v":0},{"$f":"'Produto 20'!R$7","v":0},{"$f":"'Produto 20'!S$7","v":0},{"$f":"'Produto 20'!T$7","v":0},{"$f":"'Produto 20'!U$7","v":0},{"$f":"'Produto 20'!V$7","v":0},{"$f":"'Produto 20'!W$7","v":0},{"$f":"'Produto 20'!X$7","v":0},{"$f":"'Produto 20'!Y$7","v":0},{"$f":"'Produto 20'!Z$7","v":0},{"$f":"'Produto 20'!AA$7","v":0},{"$f":"'Produto 20'!AB$7","v":0},{"$f":"'Produto 20'!AC$7","v":0},{"$f":"'Produto 20'!AD$7","v":0},{"$f":"'Produto 20'!AE$7","v":0},{"$f":"'Produto 20'!AF$7","v":0},{"$f":"'Produto 20'!AG$7","v":0},null,0]
[null,null,null,null,null,null,null,null,null,null,null,null,null,null,null,{"$f":"Produção!$A$26","v":"madeira vinhatico"},null,{"$f":"'Produto 21'!D$7","v":0},{"$f":"'Produto 21'!E$7","v":0},{"$f":"'Produto 21'!F$7","v":0},{"$f":"'Produto 21'!G$7","v":0},{"$f":"'Produto 21'!H$7","v":0},{"$f":"'Produto 21'!I$7","v":0},{"$f":"'Produto 21'!J$7","v":0},{"$f":"'Produto 21'!K$7","v":0},{"$f":"'Produto 21'!L$7","v":0},{"$f":"'Produto 21'!M$7","v":0},{"$f":"'Produto 21'!N$7","v":0},{"$f":"'Produto 21'!O$7","v":0},{"$f":"'Produto 21'!P$7","v":0},{"$f":"'Produto 21'!Q$7","v":0},{"$f":"'Produto 21'!R$7","v":0},{"$f":"'Produto 21'!S$7","v":0},{"$f":"'Produto 21'!T$7","v":0},{"$f":"'Produto 21'!U$7","v":0},{"$f":"'Produto 21'!V$7","v":0},{"$f":"'Produto 21'!W$7","v":0},{"$f":"'Produto 21'!X$7","v":0},{"$f":"'Produto 21'!Y$7","v":0},{"$f":"'Produto 21'!Z$7","v":0},{"$f":"'Produto 21'!AA$7","v":0},{"$f":"'Produto 21'!AB$7","v":0},{"$f":"'Produto 21'!AC$7","v":0},{"$f":"'Produto 21'!AD$7","v":0},{"$f":"'Produto 21'!AE$7","v":0},{"$f":"'Produto 21'!AF$7","v":0},{"$f":"'Produto 21'!AG$7","v":0},null,0]
[null,null,null,null,null,null,null,null,null,null,null,null,null,null,null,{"$f":"Produção!$A$27","v":"madeira jequitiba"},null,{"$f":"'Produto 22'!D$7","v":0},{"$f":"'Produto 22'!E$7","v":0},{"$f":"'Produto 22'!F$7","v":0},{"$f":"'Produto 22'!G$7","v":0},{"$f":"'Produto 22'!H$7","v":0},{"$f":"'Produto 22'!I$7","v":0},{"$f":"'Produto 22'!J$7","v":0},{"$f":"'Produto 22'!K$7","v":0},{"$f":"'Produto 22'!L$7","v":0},{"$f":"'Produto 22'!M$7","v":0},{"$f":"'Produto 22'!N$7","v":0},{"$f":"'Produto 22'!O$7","v":0},{"$f":"'Produto 22'!P$7","v":0},{"$f":"'Produto 22'!Q$7","v":0},{"$f":"'Produto 22'!R$7","v":0},{"$f":"'Produto 22'!S$7","v":0},{"$f":"'Produto 22'!T$7","v":0},{"$f":"'Produto 22'!U$7","v":0},{"$f":"'Produto 22'!V$7","v":0},{"$f":"'Produto 22'!W$7","v":0},{"$f":"'Produto 22'!X$7","v":0},{"$f":"'Produto 22'!Y$7","v":0},{"$f":"'Produto 22'!Z$7","v":0},{"$f":"'Produto 22'!AA$7","v":0},{"$f":"'Produto 22'!AB$7","v":0},{"$f":"'Produto 22'!AC$7","v":0},{"$f":"'Produto 22'!AD$7","v":0},{"$f":"'Produto 22'!AE$7","v":0},{"$f":"'Produto 22'!AF$7","v":0},{"$f":"'Produto 22'!AG$7","v":0},null,0]
[null,null,null,null,null,null,null,null,null,null,null,null,null,null,null,{"$f":"Produção!$A$28","v":"biomassa"},null,{"$f":"'Produto 23'!D$7","v":0},{"$f":"'Produto 23'!E$7","v":0},{"$f":"'Produto 23'!F$7","v":0},{"$f":"'Produto 23'!G$7","v":0},{"$f":"'Produto 23'!H$7","v":0},{"$f":"'Produto 23'!I$7","v":0},{"$f":"'Produto 23'!J$7","v":0},{"$f":"'Produto 23'!K$7","v":0},{"$f":"'Produto 23'!L$7","v":0},{"$f":"'Produto 23'!M$7","v":0},{"$f":"'Produto 23'!N$7","v":0},{"$f":"'Produto 23'!O$7","v":0},{"$f":"'Produto 23'!P$7","v":0},{"$f":"'Produto 23'!Q$7","v":0},{"$f":"'Produto 23'!R$7","v":0},{"$f":"'Produto 23'!S$7","v":0},{"$f":"'Produto 23'!T$7","v":0},{"$f":"'Produto 23'!U$7","v":0},{"$f":"'Produto 23'!V$7","v":0},{"$f":"'Produto 23'!W$7","v":0},{"$f":"'Produto 23'!X$7","v":0},{"$f":"'Produto 23'!Y$7","v":0},{"$f":"'Produto 23'!Z$7","v":0},{"$f":"'Produto 23'!AA$7","v":0},{"$f":"'Produto 23'!AB$7","v":0},{"$f":"'Produto 23'!AC$7","v":0},{"$f":"'Produto 23'!AD$7","v":0},{"$f":"'Produto 23'!AE$7","v":0},{"$f":"'Produto 23'!AF$7","v":0},{"$f":"'Produto 23'!AG$7","v":0},null,0]
[null,null,null,null,null,null,null,null,null,null,null,null,null,null,null,{"$f":"Produção!$A$29","v":"grão caupi"},null,{"$f":"'Produto 24'!D$7","v":0},{"$f":"'Produto 24'!E$7","v":0},{"$f":"'Produto 24'!F$7","v":0},{"$f":"'Produto 24'!G$7","v":0},{"$f":"'Produto 24'!H$7","v":0},{"$f":"'Produto 24'!I$7","v":0},{"$f":"'Produto 24'!J$7","v":0},{"$f":"'Produto 24'!K$7","v":0},{"$f":"'Produto 24'!L$7","v":0},{"$f":"'Produto 24'!M$7","v":0},{"$f":"'Produto 24'!N$7","v":0},{"$f":"'Produto 24'!O$7","v":0},{"$f":"'Produto 24'!P$7","v":0},{"$f":"'Produto 24'!Q$7","v":0},{"$f":"'Produto 24'!R$7","v":0},{"$f":"'Produto 24'!S$7","v":0},{"$f":"'Produto 24'!T$7","v":0},{"$f":"'Produto 24'!U$7","v":0},{"$f":"'Produto 24'!V$7","v":0},{"$f":"'Produto 24'!W$7","v":0},{"$f":"'Produto 24'!X$7","v":0},{"$f":"'Produto 24'!Y$7","v":0},{"$f":"'Produto 24'!Z$7","v":0},{"$f":"'Produto 24'!AA$7","v":0},{"$f":"'Produto 24'!AB$7","v":0},{"$f":"'Produto 24'!AC$7","v":0},{"$f":"'Produto 24'!AD$7","v":0},{"$f":"'Produto 24'!AE$7","v":0},{"$f":"'Produto 24'!AF$7","v":0},{"$f":"'Produto 24'!AG$7","v":0},null,{"$f":"SUM(Q57:AU57)","v":0}]
[]
[]
[null,null,null,null,null,null,null,null,null,null,null,null,null,null,null,"Custos de Insumos",{"$f":"SUM(Q61:Q85)","v":0},0,0,0,0,0,0,0,0,0,0,0,0,0,0,0,0,0,0,0,0,0,0,0,0,0,0,0,0,0,0]
[null,null,null,null,null,null,null,null,null,null,null,null,null,null,null,"Atividades Gerais",{"$f":"'Preparo e Gerais'!D$20","v":0},null,null,null,null,null,null,null,null,null,null,null,null,null,null,null,null,null,null,null,null,null,null,null,null,null,null,null,null,null,null,null,{"$f":"SUM(Q61:AU61)","v":0}]
[null,null,null,null,null,null,null,null,null,null,null,null,null,null,null,{"$f":"Produção!$A$6","v":"latex"},null,{"$f":"latex!D$24","v":0},{"$f":"latex!E$24","v":0},{"$f":"latex!F$24","v":0},{"$f":"latex!G$24","v":0},{"$f":"latex!H$24","v":0},{"$f":"latex!I$24","v":0},{"$f":"latex!J$24","v":0},{"$f":"latex!K$24","v":0},{"$f":"latex!L$24","v":0},{"$f":"latex!M$24","v":0},{"$f":"latex!N$24","v":0},{"$f":"latex!O$24","v":0},{"$f":"latex!P$24","v":0},{"$f":"latex!Q$24","v":0},{"$f":"latex!R$24","v":0},{"$f":"latex!S$24","v":0},{"$f":"latex!T$24","v":0},{"$f":"latex!U$24","v":0},{"$f":"latex!V$24","v":0},{"$f":"latex!W$24","v":0},{"$f":"latex!X$24","v":0},{"$f":"latex!Y$24","v":0},{"$f":"latex!Z$24","v":0},{"$f":"latex!AA$24","v":0},{"$f":"latex!AB$24","v":0},{"$f":"latex!AC$24","v":0},{"$f":"latex!AD$24","v":0},{"$f":"latex!AE$24","v":0},{"$f":"latex!AF$24","v":0},{"$f":"latex!AG$24","v":0},null,0]
[null,null,null,null,null,null,null,null,null,null,null,null,null,null,null,{"$f":"Produção!$A$7","v":"fruto genipapo"},null,{"$f":"'fruto genipapo'!D$24","v":0},{"$f":"'fruto genipapo'!E$24","v":0},{"$f":"'fruto genipapo'!F$24","v":0},{"$f":"'fruto genipapo'!G$24","v":0},{"$f":"'fruto genipapo'!H$24","v":0},{"$f":"'fruto genipapo'!I$24","v":0},{"$f":"'fruto genipapo'!J$24","v":0},{"$f":"'fruto genipapo'!K$24","v":0},{"$f":"'fruto genipapo'!L$24","v":0},{"$f":"'fruto genipapo'!M$24","v":0},{"$f":"'fruto genipapo'!N$24","v":0},{"$f":"'fruto genipapo'!O$24","v":0},{"$f":"'fruto genipapo'!P$24","v":0},{"$f":"'fruto genipapo'!Q$24","v":0},{"$f":"'fruto genipapo'!R$24","v":0},{"$f":"'fruto genipapo'!S$24","v":0},{"$f":"'fruto genipapo'!T$24","v":0},{"$f":"'fruto genipapo'!U$24","v":0},{"$f":"'fruto genipapo'!V$24","v":0},{"$f":"'fruto genipapo'!W$24","v":0},{"$f":"'fruto genipapo'!X$24","v":0},{"$f":"'fruto genipapo'!Y$24","v":0},{"$f":"'fruto genipapo'!Z$24","v":0},{"$f":"'fruto genipapo'!AA$24","v":0},{"$f":"'fruto genipapo'!AB$24","v":0},{"$f":"'fruto genipapo'!AC$24","v":0},{"$f":"'fruto genipapo'!AD$24","v":0},{"$f":"'fruto genipapo'!AE$24","v":0},{"$f":"'fruto genipapo'!AF$24","v":0},{"$f":"'fruto genipapo'!AG$24","v":0},null,0]
[null,null,null,null,null,null,null,null,null,null,null,null,null,null,null,{"$f":"Produção!$A$8","v":"fruto araçauna"},null,{"$f":"'fruto araçauna'!D$24","v":0},{"$f":"'fruto araçauna'!E$24","v":0},{"$f":"'fruto araçauna'!F$24","v":0},{"$f":"'fruto araçauna'!G$24","v":0},{"$f":"'fruto araçauna'!H$24","v":0},{"$f":"'fruto araçauna'!I$24","v":0},{"$f":"'fruto araçauna'!J$24","v":0},{"$f":"'fruto araçauna'!K$24","v":0},{"$f":"'fruto araçauna'!L$24","v":0},{"$f":"'fruto araçauna'!M$24","v":0},{"$f":"'fruto araçauna'!N$24","v":0},{"$f":"'fruto araçauna'!O$24","v":0},{"$f":"'fruto araçauna'!P$24","v":0},{"$f":"'fruto araçauna'!Q$24","v":0},{"$f":"'fruto araçauna'!R$24","v":0},{"$f":"'fruto araçauna'!S$24","v":0},{"$f":"'fruto araçauna'!T$24","v":0},{"$f":"'fruto araçauna'!U$24","v":0},{"$f":"'fruto araçauna'!V$24","v":0},{"$f":"'fruto araçauna'!W$24","v":0},{"$f":"'fruto araçauna'!X$24","v":0},{"$f":"'fruto araçauna'!Y$24","v":0},{"$f":"'fruto araçauna'!Z$24","v":0},{"$f":"'fruto araçauna'!AA$24","v":0},{"$f":"'fruto araçauna'!AB$24","v":0},{"$f":"'fruto araçauna'!AC$24","v":0},{"$f":"'fruto araçauna'!AD$24","v":0},{"$f":"'fruto araçauna'!AE$24","v":0},{"$f":"'fruto araçauna'!AF$24","v":0},{"$f":"'fruto araçauna'!AG$24","v":0},null,0]
[null,null,null,null,null,null,null,null,null,null,null,null,null,null,null,{"$f":"Produção!$A$9","v":"fruto pitanga"},null,{"$f":"'fruto pitanga'!D$24","v":0},{"$f":"'fruto pitanga'!E$24","v":0},{"$f":"'fruto pitanga'!F$24","v":0},{"$f":"'fruto pitanga'!G$24","v":0},{"$f":"'fruto pitanga'!H$24","v":0},{"$f":"'fruto pitanga'!I$24","v":0},{"$f":"'fruto pitanga'!J$24","v":0},{"$f":"'fruto pitanga'!K$24","v":0},{"$f":"'fruto pitanga'!L$24","v":0},{"$f":"'fruto pitanga'!M$24","v":0},{"$f":"'fruto pitanga'!N$24","v":0},{"$f":"'fruto pitanga'!O$24","v":0},{"$f":"'fruto pitanga'!P$24","v":0},{"$f":"'fruto pitanga'!Q$24","v":0},{"$f":"'fruto pitanga'!R$24","v":0},{"$f":"'fruto pitanga'!S$24","v":0},{"$f":"'fruto pitanga'!T$24","v":0},{"$f":"'fruto pitanga'!U$24","v":0},{"$f":"'fruto pitanga'!V$24","v":0},{"$f":"'fruto pitanga'!W$24","v":0},{"$f":"'fruto pitanga'!X$24","v":0},{"$f":"'fruto pitanga'!Y$24","v":0},{"$f":"'fruto pitanga'!Z$24","v":0},{"$f":"'fruto pitanga'!AA$24","v":0},{"$f":"'fruto pitanga'!AB$24","v":0},{"$f":"'fruto pitanga'!AC$24","v":0},{"$f":"'fruto pitanga'!AD$24","v":0},{"$f":"'fruto pitanga'!AE$24","v":0},{"$f":"'fruto pitanga'!AF$24","v":0},{"$f":"'fruto pitanga'!AG$24","v":0},null,0]
[null,null,null,null,null,null,null,null,null,null,null,null,null,null,null,{"$f":"Produção!$A$10","v":"castanha sapucaia"},null,{"$f":"Castanha!D$24","v":0},{"$f":"Castanha!E$24","v":0},{"$f":"Castanha!F$24","v":0},{"$f":"Castanha!G$24","v":0},{"$f":"Castanha!H$24","v":0},{"$f":"Castanha!I$24","v":0},{"$f":"Castanha!J$24","v":0},{"$f":"Castanha!K$24","v":0},{"$f":"Castanha!L$24","v":0},{"$f":"Castanha!M$24","v":0},{"$f":"Castanha!N$24","v":0},{"$f":"Castanha!O$24","v":0},{"$f":"Castanha!P$24","v":0},{"$f":"Castanha!Q$24","v":0},{"$f":"Castanha!R$24","v":0},{"$f":"Castanha!S$24","v":0},{"$f":"Castanha!T$24","v":0},{"$f":"Castanha!U$24","v":0},{"$f":"Castanha!V$24","v":0},{"$f":"Castanha!W$24","v":0},{"$f":"Castanha!X$24","v":0},{"$f":"Castanha!Y$24","v":0},{"$f":"Castanha!Z$24","v":0},{"$f":"Castanha!AA$24","v":0},{"$f":"Castanha!AB$24","v":0},{"$f":"Castanha!AC$24","v":0},{"$f":"Castanha!AD$24","v":0},{"$f":"Castanha!AE$24","v":0},{"$f":"Castanha!AF$24","v":0},{"$f":"Castanha!AG$24","v":0},null,0]
[null,null,null,null,null,null,null,null,null,null,null,null,null,null,null,{"$f":"Produção!$A$11","v":"fruto cajá"},null,{"$f":"'fruto cajá'!D$24","v":0},{"$f":"'fruto cajá'!E$24","v":0},{"$f":"'fruto cajá'!F$24","v":0},{"$f":"'fruto cajá'!G$24","v":0},{"$f":"'fruto cajá'!H$24","v":0},{"$f":"'fruto cajá'!I$24","v":0},{"$f":"'fruto cajá'!J$24","v":0},{"$f":"'fruto cajá'!K$24","v":0},{"$f":"'fruto cajá'!L$24","v":0},{"$f":"'fruto cajá'!M$24","v":0},{"$f":"'fruto cajá'!N$24","v":0},{"$f":"'fruto cajá'!O$24","v":0},{"$f":"'fruto cajá'!P$24","v":0},{"$f":"'fruto cajá'!Q$24","v":0},{"$f":"'fruto cajá'!R$24","v":0},{"$f":"'fruto cajá'!S$24","v":0},{"$f":"'fruto cajá'!T$24","v":0},{"$f":"'fruto cajá'!U$24","v":0},{"$f":"'fruto cajá'!V$24","v":0},{"$f":"'fruto cajá'!W$24","v":0},{"$f":"'fruto cajá'!X$24","v":0},{"$f":"'fruto cajá'!Y$24","v":0},{"$f":"'fruto cajá'!Z$24","v":0},{"$f":"'fruto cajá'!AA$24","v":0},{"$f":"'fruto cajá'!AB$24","v":0},{"$f":"'fruto cajá'!AC$24","v":0},{"$f":"'fruto cajá'!AD$24","v":0},{"$f":"'fruto cajá'!AE$24","v":0},{"$f":"'fruto cajá'!AF$24","v":0},{"$f":"'fruto cajá'!AG$24","v":0},null,{"$f":"SUM(Q67:AU67)","v":0}]
[null,null,null,null,null,null,null,null,null,null,null,null,null,null,null,{"$f":"Produção!$A$12","v":"semente urucum"},null,{"$f":"'semente urucum'!D$24","v":0},{"$f":"'semente urucum'!E$24","v":0},{"$f":"'semente urucum'!F$24","v":0},{"$f":"'semente urucum'!G$24","v":0},{"$f":"'semente urucum'!H$24","v":0},{"$f":"'semente urucum'!I$24","v":0},{"$f":"'semente urucum'!J$24","v":0},{"$f":"'semente urucum'!K$24","v":0},{"$f":"'semente urucum'!L$24","v":0},{"$f":"'semente urucum'!M$24","v":0},{"$f":"'semente urucum'!N$24","v":0},{"$f":"'semente urucum'!O$24","v":0},{"$f":"'semente urucum'!P$24","v":0},{"$f":"'semente urucum'!Q$24","v":0},{"$f":"'semente urucum'!R$24","v":0},{"$f":"'semente urucum'!S$24","v":0},{"$f":"'semente urucum'!T$24","v":0},{"$f":"'semente urucum'!U$24","v":0},{"$f":"'semente urucum'!V$24","v":0},{"$f":"'semente urucum'!W$24","v":0},{"$f":"'semente urucum'!X$24","v":0},{"$f":"'semente urucum'!Y$24","v":0},{"$f":"'semente urucum'!Z$24","v":0},{"$f":"'semente urucum'!AA$24","v":0},{"$f":"'semente urucum'!AB$24","v":0},{"$f":"'semente urucum'!AC$24","v":0},{"$f":"'semente urucum'!AD$24","v":0},{"$f":"'semente urucum'!AE$24","v":0},{"$f":"'semente urucum'!AF$24","v":0},{"$f":"'semente urucum'!AG$24","v":0},null,{"$f":"SUM(Q68:AU68)","v":0}]
[null,null,null,null,null,null,null,null,null,null,null,null,null,null,null,{"$f":"Produção!$A$13","v":"semente aroeira"},null,{"$f":"'semente aroeira'!D$24","v":0},{"$f":"'semente aroeira'!E$24","v":0},{"$f":"'semente aroeira'!F$24","v":0},{"$f":"'semente aroeira'!G$24","v":0},{"$f":"'semente aroeira'!H$24","v":0},{"$f":"'semente aroeira'!I$24","v":0},{"$f":"'semente aroeira'!J$24","v":0},{"$f":"'semente aroeira'!K$24","v":0},{"$f":"'semente aroeira'!L$24","v":0},{"$f":"'semente aroeira'!M$24","v":0},{"$f":"'semente aroeira'!N$24","v":0},{"$f":"'semente aroeira'!O$24","v":0},{"$f":"'semente aroeira'!P$24","v":0},{"$f":"'semente aroeira'!Q$24","v":0},{"$f":"'semente aroeira'!R$24","v":0},{"$f":"'semente aroeira'!S$24","v":0},{"$f":"'semente aroeira'!T$24","v":0},{"$f":"'semente aroeira'!U$24","v":0},{"$f":"'semente aroeira'!V$24","v":0},{"$f":"'semente aroeira'!W$24","v":0},{"$f":"'semente aroeira'!X$24","v":0},{"$f":"'semente aroeira'!Y$24","v":0},{"$f":"'semente aroeira'!Z$24","v":0},{"$f":"'semente aroeira'!AA$24","v":0},{"$f":"'semente aroeira'!AB$24","v":0},{"$f":"'semente aroeira'!AC$24","v":0},{"$f":"'semente aroeira'!AD$24","v":0},{"$f":"'semente aroeira'!AE$24","v":0},{"$f":"'semente aroeira'!AF$24","v":0},{"$f":"'semente aroeira'!AG$24","v":0},null,{"$f":"SUM(Q69:AU69)","v":0}]
[null,null,null,null,null,null,null,null,null,null,null,null,null,null,null,{"$f":"Produção!$A$14","v":"raiz mandioca"},null,{"$f":"'raiz mandioca'!D$24","v":0},{"$f":"'raiz mandioca'!E$24","v":0},{"$f":"'raiz mandioca'!F$24","v":0},{"$f":"'raiz mandioca'!G$24","v":0},{"$f":"'raiz mandioca'!H$24","v":0},{"$f":"'raiz mandioca'!I$24","v":0},{"$f":"'raiz mandioca'!J$24","v":0},{"$f":"'raiz mandioca'!K$24","v":0},{"$f":"'raiz mandioca'!L$24","v":0},{"$f":"'raiz mandioca'!M$24","v":0},{"$f":"'raiz mandioca'!N$24","v":0},{"$f":"'raiz mandioca'!O$24","v":0},{"$f":"'raiz mandioca'!P$24","v":0},{"$f":"'raiz mandioca'!Q$24","v":0},{"$f":"'raiz mandioca'!R$24","v":0},{"$f":"'raiz mandioca'!S$24","v":0},{"$f":"'raiz mandioca'!T$24","v":0},{"$f":"'raiz mandioca'!U$24","v":0},{"$f":"'raiz mandioca'!V$24","v":0},{"$f":"'raiz mandioca'!W$24","v":0},{"$f":"'raiz mandioca'!X$24","v":0},{"$f":"'raiz mandioca'!Y$24","v":0},{"$f":"'raiz mandioca'!Z$24","v":0},{"$f":"'raiz mandioca'!AA$24","v":0},{"$f":"'raiz mandioca'!AB$24","v":0},{"$f":"'raiz mandioca'!AC$24","v":0},{"$f":"'raiz mandioca'!AD$24","v":0},{"$f":"'raiz mandioca'!AE$24","v":0},{"$f":"'raiz mandioca'!AF$24","v":0},{"$f":"'raiz mandioca'!AG$24","v":0},null,{"$f":"SUM(Q70:AU70)","v":0}]
[null,null,null,null,null,null,null,null,null,null,null,null,null,null,null,{"$f":"Produção!$A$15","v":"fruto abacaxi"},null,{"$f":"abacaxi!D$24","v":0},{"$f":"abacaxi!E$24","v":0},{"$f":"abacaxi!F$24","v":0},{"$f":"abacaxi!G$24","v":0},{"$f":"abacaxi!H$24","v":0},{"$f":"abacaxi!I$24","v":0},{"$f":"abacaxi!J$24","v":0},{"$f":"abacaxi!K$24","v":0},{"$f":"abacaxi!L$24","v":0},{"$f":"abacaxi!M$24","v":0},{"$f":"abacaxi!N$24","v":0},{"$f":"abacaxi!O$24","v":0},{"$f":"abacaxi!P$24","v":0},{"$f":"abacaxi!Q$24","v":0},{"$f":"abacaxi!R$24","v":0},{"$f":"abacaxi!S$24","v":0},{"$f":"abacaxi!T$24","v":0},{"$f":"abacaxi!U$24","v":0},{"$f":"abacaxi!V$24","v":0},{"$f":"abacaxi!W$24","v":0},{"$f":"abacaxi!X$24","v":0},{"$f":"abacaxi!Y$24","v":0},{"$f":"abacaxi!Z$24","v":0},{"$f":"abacaxi!AA$24","v":0},{"$f":"abacaxi!AB$24","v":0},{"$f":"abacaxi!AC$24","v":0},{"$f":"abacaxi!AD$24","v":0},{"$f":"abacaxi!AE$24","v":0},{"$f":"abacaxi!AF$24","v":0},{"$f":"abacaxi!AG$24","v":0},null,{"$f":"SUM(Q71:AU71)","v":0}]
[null,null,null,null,null,null,null,null,null,null,null,null,null,null,null,{"$f":"Produção!$A$16","v":"espigas milho"},null,{"$f":"espigas!D$24","v":0},{"$f":"espigas!E$24","v":0},{"$f":"espigas!F$24","v":0},{"$f":"espigas!G$24","v":0},{"$f":"espigas!H$24","v":0},{"$f":"espigas!I$24","v":0},{"$f":"espigas!J$24","v":0},{"$f":"espigas!K$24","v":0},{"$f":"espigas!L$24","v":0},{"$f":"espigas!M$24","v":0},{"$f":"espigas!N$24","v":0},{"$f":"espigas!O$24","v":0},{"$f":"espigas!P$24","v":0},{"$f":"espigas!Q$24","v":0},{"$f":"espigas!R$24","v":0},{"$f":"espigas!S$24","v":0},{"$f":"espigas!T$24","v":0},{"$f":"espigas!U$24","v":0},{"$f":"espigas!V$24","v":0},{"$f":"espigas!W$24","v":0},{"$f":"espigas!X$24","v":0},{"$f":"espigas!Y$24","v":0},{"$f":"espigas!Z$24","v":0},{"$f":"espigas!AA$24","v":0},{"$f":"espigas!AB$24","v":0},{"$f":"espigas!AC$24","v":0},{"$f":"espigas!AD$24","v":0},{"$f":"espigas!AE$24","v":0},{"$f":"espigas!AF$24","v":0},{"$f":"espigas!AG$24","v":0},null,0]
[null,null,null,null,null,null,null,null,null,null,null,null,null,null,null,{"$f":"Produção!$A$17","v":"estaca sansão do campo"},null,{"$f":"'semente caupi'!D$24","v":0},{"$f":"'semente caupi'!E$24","v":0},{"$f":"'semente caupi'!F$24","v":0},{"$f":"'semente caupi'!G$24","v":0},{"$f":"'semente caupi'!H$24","v":0},{"$f":"'semente caupi'!I$24","v":0},{"$f":"'semente caupi'!J$24","v":0},{"$f":"'semente caupi'!K$24","v":0},{"$f":"'semente caupi'!L$24","v":0},{"$f":"'semente caupi'!M$24","v":0},{"$f":"'semente caupi'!N$24","v":0},{"$f":"'semente caupi'!O$24","v":0},{"$f":"'semente caupi'!P$24","v":0},{"$f":"'semente caupi'!Q$24","v":0},{"$f":"'semente caupi'!R$24","v":0},{"$f":"'semente caupi'!S$24","v":0},{"$f":"'semente caupi'!T$24","v":0},{"$f":"'semente caupi'!U$24","v":0},{"$f":"'semente caupi'!V$24","v":0},{"$f":"'semente caupi'!W$24","v":0},{"$f":"'semente caupi'!X$24","v":0},{"$f":"'semente caupi'!Y$24","v":0},{"$f":"'semente caupi'!Z$24","v":0},{"$f":"'semente caupi'!AA$24","v":0},{"$f":"'semente caupi'!AB$24","v":0},{"$f":"'semente caupi'!AC$24","v":0},{"$f":"'semente caupi'!AD$24","v":0},{"$f":"'semente caupi'!AE$24","v":0},{"$f":"'semente caupi'!AF$24","v":0},{"$f":"'semente caupi'!AG$24","v":0},null,0]
[null,null,null,null,null,null,null,null,null,null,null,null,null,null,null,{"$f":"Produção!$A$18","v":"madeira madeira nova"},null,{"$f":"biomassa!D$24","v":0},{"$f":"biomassa!E$24","v":0},{"$f":"biomassa!F$24","v":0},{"$f":"biomassa!G$24","v":0},{"$f":"biomassa!H$24","v":0},{"$f":"biomassa!I$24","v":0},{"$f":"biomassa!J$24","v":0},{"$f":"biomassa!K$24","v":0},{"$f":"biomassa!L$24","v":0},{"$f":"biomassa!M$24","v":0},{"$f":"biomassa!N$24","v":0},{"$f":"biomassa!O$24","v":0},{"$f":"biomassa!P$24","v":0},{"$f":"biomassa!Q$24","v":0},{"$f":"biomassa!R$24","v":0},{"$f":"biomassa!S$24","v":0},{"$f":"biomassa!T$24","v":0},{"$f":"biomassa!U$24","v":0},{"$f":"biomassa!V$24","v":0},{"$f":"biomassa!W$24","v":0},{"$f":"biomassa!X$24","v":0},{"$f":"biomassa!Y$24","v":0},{"$f":"biomassa!Z$24","v":0},{"$f":"biomassa!AA$24","v":0},{"$f":"biomassa!AB$24","v":0},{"$f":"biomassa!AC$24","v":0},{"$f":"biomassa!AD$24","v":0},{"$f":"biomassa!AE$24","v":0},{"$f":"biomassa!AF$24","v":0},{"$f":"biomassa!AG$24","v":0},null,0]
[null,null,null,null,null,null,null,null,null,null,null,null,null,null,null,{"$f":"Produção!$A$19","v":"lenha fedegoso"},null,{"$f":"madeira!D$24","v":0},{"$f":"madeira!E$24","v":0},{"$f":"madeira!F$24","v":0},{"$f":"madeira!G$24","v":0},{"$f":"madeira!H$24","v":0},{"$f":"madeira!I$24","v":0},{"$f":"madeira!J$24","v":0},{"$f":"madeira!K$24","v":0},{"$f":"madeira!L$24","v":0},{"$f":"madeira!M$24","v":0},{"$f":"madeira!N$24","v":0},{"$f":"madeira!O$24","v":0},{"$f":"madeira!P$24","v":0},{"$f":"madeira!Q$24","v":0},{"$f":"madeira!R$24","v":0},{"$f":"madeira!S$24","v":0},{"$f":"madeira!T$24","v":0},{"$f":"madeira!U$24","v":0},{"$f":"madeira!V$24","v":0},{"$f":"madeira!W$24","v":0},{"$f":"madeira!X$24","v":0},{"$f":"madeira!Y$24","v":0},{"$f":"madeira!Z$24","v":0},{"$f":"madeira!AA$24","v":0},{"$f":"madeira!AB$24","v":0},{"$f":"madeira!AC$24","v":0},{"$f":"madeira!AD$24","v":0},{"$f":"madeira!AE$24","v":0},{"$f":"madeira!AF$24","v":0},{"$f":"madeira!AG$24","v":0},null,0]
[null,null,null,null,null,null,null,null,null,null,null,null,null,null,null,{"$f":"Produção!$A$20","v":"estaca pau d'alho"},null,{"$f":"'Produto 15'!D$24","v":0},{"$f":"'Produto 15'!E$24","v":0},{"$f":"'Produto 15'!F$24","v":0},{"$f":"'Produto 15'!G$24","v":0},{"$f":"'Produto 15'!H$24","v":0},{"$f":"'Produto 15'!I$24","v":0},{"$f":"'Produto 15'!J$24","v":0},{"$f":"'Produto 15'!K$24","v":0},{"$f":"'Produto 15'!L$24","v":0},{"$f":"'Produto 15'!M$24","v":0},{"$f":"'Produto 15'!N$24","v":0},{"$f":"'Produto 15'!O$24","v":0},{"$f":"'Produto 15'!P$24","v":0},{"$f":"'Produto 15'!Q$24","v":0},{"$f":"'Produto 15'!R$24","v":0},{"$f":"'Produto 15'!S$24","v":0},{"$f":"'Produto 15'!T$24","v":0},{"$f":"'Produto 15'!U$24","v":0},{"$f":"'Produto 15'!V$24","v":0},{"$f":"'Produto 15'!W$24","v":0},{"$f":"'Produto 15'!X$24","v":0},{"$f":"'Produto 15'!Y$24","v":0},{"$f":"'Produto 15'!Z$24","v":0},{"$f":"'Produto 15'!AA$24","v":0},{"$f":"'Produto 15'!AB$24","v":0},{"$f":"'Produto 15'!AC$24","v":0},{"$f":"'Produto 15'!AD$24","v":0},{"$f":"'Produto 15'!AE$24","v":0},{"$f":"'Produto 15'!AF$24","v":0},{"$f":"'Produto 15'!AG$24","v":0},null,0]
[null,null,null,null,null,null,null,null,null,null,null,null,null,null,null,{"$f":"Produção!$A$21","v":"caixotaria boleira"},null,{"$f":"'Produto 16'!D$24","v":0},{"$f":"'Produto 16'!E$24","v":0},{"$f":"'Produto 16'!F$24","v":0},{"$f":"'Produto 16'!G$24","v":0},{"$f":"'Produto 16'!H$24","v":0},{"$f":"'Produto 16'!I$24","v":0},{"$f":"'Produto 16'!J$24","v":0},{"$f":"'Produto 16'!K$24","v":0},{"$f":"'Produto 16'!L$24","v":0},{"$f":"'Produto 16'!M$24","v":0},{"$f":"'Produto 16'!N$24","v":0},{"$f":"'Produto 16'!O$24","v":0},{"$f":"'Produto 16'!P$24","v":0},{"$f":"'Produto 16'!Q$24","v":0},{"$f":"'Produto 16'!R$24","v":0},{"$f":"'Produto 16'!S$24","v":0},{"$f":"'Produto 16'!T$24","v":0},{"$f":"'Produto 16'!U$24","v":0},{"$f":"'Produto 16'!V$24","v":0},{"$f":"'Produto 16'!W$24","v":0},{"$f":"'Produto 16'!X$24","v":0},{"$f":"'Produto 16'!Y$24","v":0},{"$f":"'Produto 16'!Z$24","v":0},{"$f":"'Produto 16'!AA$24","v":0},{"$f":"'Produto 16'!AB$24","v":0},{"$f":"'Produto 16'!AC$24","v":0},{"$f":"'Produto 16'!AD$24","v":0},{"$f":"'Produto 16'!AE$24","v":0},{"$f":"'Produto 16'!AF$24","v":0},{"$f":"'Produto 16'!AG$24","v":0},null,0]
[null,null,null,null,null,null,null,null,null,null,null,null,null,null,null,{"$f":"Produção!$A$22","v":"madeira angico roxo"},null,{"$f":"'Produto 17'!D$24","v":0},{"$f":"'Produto 17'!E$24","v":0},{"$f":"'Produto 17'!F$24","v":0},{"$f":"'Produto 17'!G$24","v":0},{"$f":"'Produto 17'!H$24","v":0},{"$f":"'Produto 17'!I$24","v":0},{"$f":"'Produto 17'!J$24","v":0},{"$f":"'Produto 17'!K$24","v":0},{"$f":"'Produto 17'!L$24","v":0},{"$f":"'Produto 17'!M$24","v":0},{"$f":"'Produto 17'!N$24","v":0},{"$f":"'Produto 17'!O$24","v":0},{"$f":"'Produto 17'!P$24","v":0},{"$f":"'Produto 17'!Q$24","v":0},{"$f":"'Produto 17'!R$24","v":0},{"$f":"'Produto 17'!S$24","v":0},{"$f":"'Produto 17'!T$24","v":0},{"$f":"'Produto 17'!U$24","v":0},{"$f":"'Produto 17'!V$24","v":0},{"$f":"'Produto 17'!W$24","v":0},{"$f":"'Produto 17'!X$24","v":0},{"$f":"'Produto 17'!Y$24","v":0},{"$f":"'Produto 17'!Z$24","v":0},{"$f":"'Produto 17'!AA$24","v":0},{"$f":"'Produto 17'!AB$24","v":0},{"$f":"'Produto 17'!AC$24","v":0},{"$f":"'Produto 17'!AD$24","v":0},{"$f":"'Produto 17'!AE$24","v":0},{"$f":"'Produto 17'!AF$24","v":0},{"$f":"'Produto 17'!AG$24","v":0},null,{"$f":"SUM(Q78:AU78)","v":0}]
[null,null,null,null,null,null,null,null,null,null,null,null,null,null,null,{"$f":"Produção!$A$23","v":"madeira ipê roxo"},null,{"$f":"'Produto 18'!D$24","v":0},{"$f":"'Produto 18'!E$24","v":0},{"$f":"'Produto 18'!F$24","v":0},{"$f":"'Produto 18'!G$24","v":0},{"$f":"'Produto 18'!H$24","v":0},{"$f":"'Produto 18'!I$24","v":0},{"$f":"'Produto 18'!J$24","v":0},{"$f":"'Produto 18'!K$24","v":0},{"$f":"'Produto 18'!L$24","v":0},{"$f":"'Produto 18'!M$24","v":0},{"$f":"'Produto 18'!N$24","v":0},{"$f":"'Produto 18'!O$24","v":0},{"$f":"'Produto 18'!P$24","v":0},{"$f":"'Produto 18'!Q$24","v":0},{"$f":"'Produto 18'!R$24","v":0},{"$f":"'Produto 18'!S$24","v":0},{"$f":"'Produto 18'!T$24","v":0},{"$f":"'Produto 18'!U$24","v":0},{"$f":"'Produto 18'!V$24","v":0},{"$f":"'Produto 18'!W$24","v":0},{"$f":"'Produto 18'!X$24","v":0},{"$f":"'Produto 18'!Y$24","v":0},{"$f":"'Produto 18'!Z$24","v":0},{"$f":"'Produto 18'!AA$24","v":0},{"$f":"'Produto 18'!AB$24","v":0},{"$f":"'Produto 18'!AC$24","v":0},{"$f":"'Produto 18'!AD$24","v":0},{"$f":"'Produto 18'!AE$24","v":0},{"$f":"'Produto 18'!AF$24","v":0},{"$f":"'Produto 18'!AG$24","v":0},null,0]
[null,null,null,null,null,null,null,null,null,null,null,null,null,null,null,{"$f":"Produção!$A$24","v":"madeira ipê amarelo"},null,{"$f":"'Produto 19'!D$24","v":0},{"$f":"'Produto 19'!E$24","v":0},{"$f":"'Produto 19'!F$24","v":0},{"$f":"'Produto 19'!G$24","v":0},{"$f":"'Produto 19'!H$24","v":0},{"$f":"'Produto 19'!I$24","v":0},{"$f":"'Produto 19'!J$24","v":0},{"$f":"'Produto 19'!K$24","v":0},{"$f":"'Produto 19'!L$24","v":0},{"$f":"'Produto 19'!M$24","v":0},{"$f":"'Produto 19'!N$24","v":0},{"$f":"'Produto 19'!O$24","v":0},{"$f":"'Produto 19'!P$24","v":0},{"$f":"'Produto 19'!Q$24","v":0},{"$f":"'Produto 19'!R$24","v":0},{"$f":"'Produto 19'!S$24","v":0},{"$f":"'Produto 19'!T$24","v":0},{"$f":"'Produto 19'!U$24","v":0},{"$f":"'Produto 19'!V$24","v":0},{"$f":"'Produto 19'!W$24","v":0},{"$f":"'Produto 19'!X$24","v":0},{"$f":"'Produto 19'!Y$24","v":0},{"$f":"'Produto 19'!Z$24","v":0},{"$f":"'Produto 19'!AA$24","v":0},{"$f":"'Produto 19'!AB$24","v":0},{"$f":"'Produto 19'!AC$24","v":0},{"$f":"'Produto 19'!AD$24","v":0},{"$f":"'Produto 19'!AE$24","v":0},{"$f":"'Produto 19'!AF$24","v":0},{"$f":"'Produto 19'!AG$24","v":0},null,0]
[null,null,null,null,null,null,null,null,null,null,null,null,null,null,null,{"$f":"Produção!$A$25","v":"madeira gonçalo alves"},null,{"$f":"'Produto 20'!D$24","v":0},{"$f":"'Produto 20'!E$24","v":0},{"$f":"'Produto 20'!F$24","v":0},{"$f":"'Produto 20'!G$24","v":0},{"$f":"'Produto 20'!H$24","v":0},{"$f":"'Produto 20'!I$24","v":0},{"$f":"'Produto 20'!J$24","v":0},{"$f":"'Produto 20'!K$24","v":0},{"$f":"'Produto 20'!L$24","v":0},{"$f":"'Produto 20'!M$24","v":0},{"$f":"'Produto 20'!N$24","v":0},{"$f":"'Produto 20'!O$24","v":0},{"$f":"'Produto 20'!P$24","v":0},{"$f":"'Produto 20'!Q$24","v":0},{"$f":"'Produto 20'!R$24","v":0},{"$f":"'Produto 20'!S$24","v":0},{"$f":"'Produto 20'!T$24","v":0},{"$f":"'Produto 20'!U$24","v":0},{"$f":"'Produto 20'!V$24","v":0},{"$f":"'Produto 20'!W$24","v":0},{"$f":"'Produto 20'!X$24","v":0},{"$f":"'Produto 20'!Y$24","v":0},{"$f":"'Produto 20'!Z$24","v":0},{"$f":"'Produto 20'!AA$24","v":0},{"$f":"'Produto 20'!AB$24","v":0},{"$f":"'Produto 20'!AC$24","v":0},{"$f":"'Produto 20'!AD$24","v":0},{"$f":"'Produto 20'!AE$24","v":0},{"$f":"'Produto 20'!AF$24","v":0},{"$f":"'Produto 20'!AG$24","v":0},null,0]
[null,null,null,null,null,null,null,null,null,null,null,null,null,null,null,{"$f":"Produção!$A$26","v":"madeira vinhatico"},null,{"$f":"'Produto 21'!D$24","v":0},{"$f":"'Produto 21'!E$24","v":0},{"$f":"'Produto 21'!F$24","v":0},{"$f":"'Produto 21'!G$24","v":0},{"$f":"'Produto 21'!H$24","v":0},{"$f":"'Produto 21'!I$24","v":0},{"$f":"'Produto 21'!J$24","v":0},{"$f":"'Produto 21'!K$24","v":0},{"$f":"'Produto 21'!L$24","v":0},{"$f":"'Produto 21'!M$24","v":0},{"$f":"'Produto 21'!N$24","v":0},{"$f":"'Produto 21'!O$24","v":0},{"$f":"'Produto 21'!P$24","v":0},{"$f":"'Produto 21'!Q$24","v":0},{"$f":"'Produto 21'!R$24","v":0},{"$f":"'Produto 21'!S$24","v":0},{"$f":"'Produto 21'!T$24","v":0},{"$f":"'Produto 21'!U$24","v":0},{"$f":"'Produto 21'!V$24","v":0},{"$f":"'Produto 21'!W$24","v":0},{"$f":"'Produto 21'!X$24","v":0},{"$f":"'Produto 21'!Y$24","v":0},{"$f":"'Produto 21'!Z$24","v":0},{"$f":"'Produto 21'!AA$24","v":0},{"$f":"'Produto 21'!AB$24","v":0},{"$f":"'Produto 21'!AC$24","v":0},{"$f":"'Produto 21'!AD$24","v":0},{"$f":"'Produto 21'!AE$24","v":0},{"$f":"'Produto 21'!AF$24","v":0},{"$f":"'Produto 21'!AG$24","v":0},null,0]
[null,null,null,null,null,null,null,null,null,null,null,null,null,null,null,{"$f":"Produção!$A$27","v":"madeira jequitiba"},null,{"$f":"'Produto 22'!D$24","v":0},{"$f":"'Produto 22'!E$24","v":0},{"$f":"'Produto 22'!F$24","v":0},{"$f":"'Produto 22'!G$24","v":0},{"$f":"'Produto 22'!H$24","v":0},{"$f":"'Produto 22'!I$24","v":0},{"$f":"'Produto 22'!J$24","v":0},{"$f":"'Produto 22'!K$24","v":0},{"$f":"'Produto 22'!L$24","v":0},{"$f":"'Produto 22'!M$24","v":0},{"$f":"'Produto 22'!N$24","v":0},{"$f":"'Produto 22'!O$24","v":0},{"$f":"'Produto 22'!P$24","v":0},{"$f":"'Produto 22'!Q$24","v":0},{"$f":"'Produto 22'!R$24","v":0},{"$f":"'Produto 22'!S$24","v":0},{"$f":"'Produto 22'!T$24","v":0},{"$f":"'Produto 22'!U$24","v":0},{"$f":"'Produto 22'!V$24","v":0},{"$f":"'Produto 22'!W$24","v":0},{"$f":"'Produto 22'!X$24","v":0},{"$f":"'Produto 22'!Y$24","v":0},{"$f":"'Produto 22'!Z$24","v":0},{"$f":"'Produto 22'!AA$24","v":0},{"$f":"'Produto 22'!AB$24","v":0},{"$f":"'Produto 22'!AC$24","v":0},{"$f":"'Produto 22'!AD$24","v":0},{"$f":"'Produto 22'!AE$24","v":0},{"$f":"'Produto 22'!AF$24","v":0},{"$f":"'Produto 22'!AG$24","v":0},null,0]
[null,null,null,null,null,null,null,null,null,null,null,null,null,null,null,{"$f":"Produção!$A$28","v":"biomassa"},null,{"$f":"'Produto 23'!D$24","v":0},{"$f":"'Produto 23'!E$24","v":0},{"$f":"'Produto 23'!F$24","v":0},{"$f":"'Produto 23'!G$24","v":0},{"$f":"'Produto 23'!H$24","v":0},{"$f":"'Produto 23'!I$24","v":0},{"$f":"'Produto 23'!J$24","v":0},{"$f":"'Produto 23'!K$24","v":0},{"$f":"'Produto 23'!L$24","v":0},{"$f":"'Produto 23'!M$24","v":0},{"$f":"'Produto 23'!N$24","v":0},{"$f":"'Produto 23'!O$24","v":0},{"$f":"'Produto 23'!P$24","v":0},{"$f":"'Produto 23'!Q$24","v":0},{"$f":"'Produto 23'!R$24","v":0},{"$f":"'Produto 23'!S$24","v":0},{"$f":"'Produto 23'!T$24","v":0},{"$f":"'Produto 23'!U$24","v":0},{"$f":"'Produto 23'!V$24","v":0},{"$f":"'Produto 23'!W$24","v":0},{"$f":"'Produto 23'!X$24","v":0},{"$f":"'Produto 23'!Y$24","v":0},{"$f":"'Produto 23'!Z$24","v":0},{"$f":"'Produto 23'!AA$24","v":0},{"$f":"'Produto 23'!AB$24","v":0},{"$f":"'Produto 23'!AC$24","v":0},{"$f":"'Produto 23'!AD$24","v":0},{"$f":"'Produto 23'!AE$24","v":0},{"$f":"'Produto 23'!AF$24","v":0},{"$f":"'Produto 23'!AG$24","v":0},null,0]
[null,null,null,null,null,null,null,null,null,null,null,null,null,null,null,{"$f":"Produção!$A$29","v":"grão caupi"},null,{"$f":"'Produto 24'!D$24","v":0},{"$f":"'Produto 24'!E$24","v":0},{"$f":"'Produto 24'!F$24","v":0},{"$f":"'Produto 24'!G$24","v":0},{"$f":"'Produto 24'!H$24","v":0},{"$f":"'Produto 24'!I$24","v":0},{"$f":"'Produto 24'!J$24","v":0},{"$f":"'Produto 24'!K$24","v":0},{"$f":"'Produto 24'!L$24","v":0},{"$f":"'Produto 24'!M$24","v":0},{"$f":"'Produto 24'!N$24","v":0},{"$f":"'Produto 24'!O$24","v":0},{"$f":"'Produto 24'!P$24","v":0},{"$f":"'Produto 24'!Q$24","v":0},{"$f":"'Produto 24'!R$24","v":0},{"$f":"'Produto 24'!S$24","v":0},{"$f":"'Produto 24'!T$24","v":0},{"$f":"'Produto 24'!U$24","v":0},{"$f":"'Produto 24'!V$24","v":0},{"$f":"'Produto 24'!W$24","v":0},{"$f":"'Produto 24'!X$24","v":0},{"$f":"'Produto 24'!Y$24","v":0},{"$f":"'Produto 24'!Z$24","v":0},{"$f":"'Produto 24'!AA$24","v":0},{"$f":"'Produto 24'!AB$24","v":0},{"$f":"'Produto 24'!AC$24","v":0},{"$f":"'Produto 24'!AD$24","v":0},{"$f":"'Produto 24'!AE$24","v":0},{"$f":"'Produto 24'!AF$24","v":0},{"$f":"'Produto 24'!AG$24","v":0},null,{"$f":"SUM(Q85:AU85)","v":0}]
[]
[]
[null,null,null,null,null,null,null,null,null,null,null,null,null,null,null,null,"MO","Insumos","Diárias","CustTot","RecTot"]
[null,null,null,null,null,null,null,null,null,null,null,null,null,null,null,{"$f":"Produção!$A$6","v":"latex"},{"$f":"AW34","v":0},{"$f":"AW62","v":0},{"$f":"SUM(R5:AU5)","v":0},{"$f":"(Q89+R89)*-1","v":0},{"$f":"'Resultados Fin'!C71","v":12267}]
[null,null,null,null,null,null,null,null,null,null,null,null,null,null,null,{"$f":"Produção!$A$7","v":"fruto genipapo"},0,0,{"$f":"SUM(R6:AU6)","v":0},{"$f":"(Q90+R90)*-1","v":0},{"$f":"'Resultados Fin'!C72","v":42688}]
[null,null,null,null,null,null,null,null,null,null,null,null,null,null,null,{"$f":"Produção!$A$8","v":"fruto araçauna"},0,0,0,0,{"$f":"'Resultados Fin'!C73","v":3920}]
[null,null,null,null,null,null,null,null,null,null,null,null,null,null,null,{"$f":"Produção!$A$9","v":"fruto pitanga"},0,0,0,0,{"$f":"'Resultados Fin'!C74","v":3990}]
[null,null,null,null,null,null,null,null,null,null,null,null,null,null,null,{"$f":"Produção!$A$10","v":"castanha sapucaia"},0,0,0,0,{"$f":"'Resultados Fin'!C75","v":72240}]
[null,null,null,null,null,null,null,null,null,null,null,null,null,null,null,{"$f":"Produção!$A$11","v":"fruto cajá"},0,0,0,0,{"$f":"'Resultados Fin'!C76","v":52184}]
[null,null,null,null,null,null,null,null,null,null,null,null,null,null,null,{"$f":"Produção!$A$12","v":"semente urucum"},0,0,0,0,{"$f":"'Resultados Fin'!C77","v":22720}]
[null,null,null,null,null,null,null,null,null,null,null,null,null,null,null,{"$f":"Produção!$A$13","v":"semente aroeira"},0,0,0,0,{"$f":"'Resultados Fin'!C78","v":5220}]
[null,null,null,null,null,null,null,null,null,null,null,null,null,null,null,{"$f":"Produção!$A$14","v":"raiz mandioca"},0,0,0,0,{"$f":"'Resultados Fin'!C79","v":9120}]
[null,null,null,null,null,null,null,null,null,null,null,null,null,null,null,{"$f":"Produção!$A$15","v":"fruto abacaxi"},0,0,0,0,{"$f":"'Resultados Fin'!C80","v":5490}]
[null,null,null,null,null,null,null,null,null,null,null,null,null,null,null,{"$f":"Produção!$A$16","v":"espigas milho"},0,0,0,0,{"$f":"'Resultados Fin'!C81","v":4275}]
[null,null,null,null,null,null,null,null,null,null,null,null,null,null,null,{"$f":"Produção!$A$17","v":"estaca sansão do campo"},0,0,0,0,{"$f":"'Resultados Fin'!C82","v":1080}]
[null,null,null,null,null,null,null,null,null,null,null,null,null,null,null,{"$f":"Produção!$A$18","v":"madeira madeira nova"},0,0,0,0,{"$f":"'Resultados Fin'!C83","v":2500}]
[null,null,null,null,null,null,null,null,null,null,null,null,null,null,null,{"$f":"Produção!$A$19","v":"lenha fedegoso"},0,0,0,0,{"$f":"'Resultados Fin'!C84","v":250}]
[null,null,null,null,null,null,null,null,null,null,null,null,null,null,null,{"$f":"Produção!$A$20","v":"estaca pau d'alho"},0,0,0,0,{"$f":"'Resultados Fin'!C85","v":0}]
[null,null,null,null,null,null,null,null,null,null,null,null,null,null,null,{"$f":"Produção!$A$21","v":"caixotaria boleira"},0,0,0,0,{"$f":"'Resultados Fin'!C86","v":500}]
[null,null,null,null,null,null,null,null,null,null,null,null,null,null,null,{"$f":"Produção!$A$22","v":"madeira angico roxo"},0,{"$f":"AW78","v":0},0,0,{"$f":"'Resultados Fin'!C87","v":3150}]
[null,null,null,null,null,null,null,null,null,null,null,null,null,null,null,{"$f":"Produção!$A$23","v":"madeira ipê roxo"},0,0,0,0,{"$f":"'Resultados Fin'!C88","v":0}]
[null,null,null,null,null,null,null,null,null,null,null,null,null,null,null,{"$f":"Produção!$A$24","v":"madeira ipê amarelo"},0,0,0,0,{"$f":"'Resultados Fin'!C89","v":12600}]
[null,null,null,null,null,null,null,null,null,null,null,null,null,null,null,{"$f":"Produção!$A$25","v":"madeira gonçalo alves"},0,0,0,0,{"$f":"'Resultados Fin'!C90","v":0}]
[null,null,null,null,null,null,null,null,null,null,null,null,null,null,null,{"$f":"Produção!$A$26","v":"madeira vinhatico"},0,0,0,0,{"$f":"'Resultados Fin'!C91","v":3500}]
[null,null,null,null,null,null,null,null,null,null,null,null,null,null,null,{"$f":"Produção!$A$27","v":"madeira jequitiba"},0,0,0,0,{"$f":"'Resultados Fin'!C92","v":1400}]
[null,null,null,null,null,null,null,null,null,null,null,null,null,null,null,{"$f":"Produção!$A$28","v":"biomassa"},0,0,0,0,{"$f":"'Resultados Fin'!C93","v":0}]
[null,null,null,null,null,null,null,null,null,null,null,null,null,null,null,{"$f":"Produção!$A$29","v":"grão caupi"},0,{"$f":"AW85","v":0},0,0,0]

{"sheet":"% Perdas","index":37,"n_rows":29,"n_cols":33,"rows_kept":29,"cut":false,"hidden":false,"merged":[]}
[{"$f":"'Parâmetros Gerais'!A1","v":"Análise Financeira de Sistemas Produtivos Integrados (V. 4.16 11/2016)"}]
["Perdas na Produção (%)"]
[null,null,null,{"$f":"Produção!D3","v":"Período"}]
[null,null,null,1,2,3,4,5,6,7,8,9,10,11,12,13,14,15,16,17,18,19,20,21,22,23,24,25,26,27,28,29,30]
["Produtos","Unidade"]
[{"$f":"IF(LEN('Parâmetros Gerais'!B14)=0,\" \",'Parâmetros Gerais'!B14)","v":"latex"},{"$f":"IF('Parâmetros Gerais'!E14<>\"\",IF('Parâmetros Gerais'!$F$10=1,CONCATENATE('Parâmetros Gerais'!E14,\"/\",'Parâmetros Gerais'!$G$10,),CONCATENATE('Parâmetros Gerais'!E14,\"/\",'Parâmetros Gerais'!$F$10,'Parâmetros Gerais'!$G$10,)),\"\")","v":"kg/0,63ha"}]
[{"$f":"IF(LEN('Parâmetros Gerais'!B15)=0,\" \",'Parâmetros Gerais'!B15)","v":"fruto genipapo"},{"$f":"IF('Parâmetros Gerais'!E15<>\"\",IF('Parâmetros Gerais'!$F$10=1,CONCATENATE('Parâmetros Gerais'!E15,\"/\",'Parâmetros Gerais'!$G$10,),CONCATENATE('Parâmetros Gerais'!E15,\"/\",'Parâmetros Gerais'!$F$10,'Parâmetros Gerais'!$G$10,)),\"\")","v":"kg/0,63ha"}]
[{"$f":"IF(LEN('Parâmetros Gerais'!B16)=0,\" \",'Parâmetros Gerais'!B16)","v":"fruto araçauna"},{"$f":"IF('Parâmetros Gerais'!E16<>\"\",IF('Parâmetros Gerais'!$F$10=1,CONCATENATE('Parâmetros Gerais'!E16,\"/\",'Parâmetros Gerais'!$G$10,),CONCATENATE('Parâmetros Gerais'!E16,\"/\",'Parâmetros Gerais'!$F$10,'Parâmetros Gerais'!$G$10,)),\"\")","v":"kg/0,63ha"}]
[{"$f":"IF(LEN('Parâmetros Gerais'!B17)=0,\" \",'Parâmetros Gerais'!B17)","v":"fruto pitanga"},{"$f":"IF('Parâmetros Gerais'!E17<>\"\",IF('Parâmetros Gerais'!$F$10=1,CONCATENATE('Parâmetros Gerais'!E17,\"/\",'Parâmetros Gerais'!$G$10,),CONCATENATE('Parâmetros Gerais'!E17,\"/\",'Parâmetros Gerais'!$F$10,'Parâmetros Gerais'!$G$10,)),\"\")","v":"kg/0,63ha"}]
[{"$f":"IF(LEN('Parâmetros Gerais'!B18)=0,\" \",'Parâmetros Gerais'!B18)","v":"castanha sapucaia"},{"$f":"IF('Parâmetros Gerais'!E18<>\"\",IF('Parâmetros Gerais'!$F$10=1,CONCATENATE('Parâmetros Gerais'!E18,\"/\",'Parâmetros Gerais'!$G$10,),CONCATENATE('Parâmetros Gerais'!E18,\"/\",'Parâmetros Gerais'!$F$10,'Parâmetros Gerais'!$G$10,)),\"\")","v":"kg/0,63ha"}]
[{"$f":"IF(LEN('Parâmetros Gerais'!B19)=0,\" \",'Parâmetros Gerais'!B19)","v":"fruto cajá"},{"$f":"IF('Parâmetros Gerais'!E19<>\"\",IF('Parâmetros Gerais'!$F$10=1,CONCATENATE('Parâmetros Gerais'!E19,\"/\",'Parâmetros Gerais'!$G$10,),CONCATENATE('Parâmetros Gerais'!E19,\"/\",'Parâmetros Gerais'!$F$10,'Parâmetros Gerais'!$G$10,)),\"\")","v":"kg/0,63ha"}]
[{"$f":"IF(LEN('Parâmetros Gerais'!B20)=0,\" \",'Parâmetros Gerais'!B20)","v":"semente urucum"},{"$f":"IF('Parâmetros Gerais'!E20<>\"\",IF('Parâmetros Gerais'!$F$10=1,CONCATENATE('Parâmetros Gerais'!E20,\"/\",'Parâmetros Gerais'!$G$10,),CONCATENATE('Parâmetros Gerais'!E20,\"/\",'Parâmetros Gerais'!$F$10,'Parâmetros Gerais'!$G$10,)),\"\")","v":"kg/0,63ha"}]
[{"$f":"IF(LEN('Parâmetros Gerais'!B21)=0,\" \",'Parâmetros Gerais'!B21)","v":"semente aroeira"},{"$f":"IF('Parâmetros Gerais'!E21<>\"\",IF('Parâmetros Gerais'!$F$10=1,CONCATENATE('Parâmetros Gerais'!E21,\"/\",'Parâmetros Gerais'!$G$10,),CONCATENATE('Parâmetros Gerais'!E21,\"/\",'Parâmetros Gerais'!$F$10,'Parâmetros Gerais'!$G$10,)),\"\")","v":"kg/0,63ha"}]
[{"$f":"IF(LEN('Parâmetros Gerais'!B22)=0,\" \",'Parâmetros Gerais'!B22)","v":"raiz mandioca"},{"$f":"IF('Parâmetros Gerais'!E22<>\"\",IF('Parâmetros Gerais'!$F$10=1,CONCATENATE('Parâmetros Gerais'!E22,\"/\",'Parâmetros Gerais'!$G$10,),CONCATENATE('Parâmetros Gerais'!E22,\"/\",'Parâmetros Gerais'!$F$10,'Parâmetros Gerais'!$G$10,)),\"\")","v":"kg/0,63ha"}]
[{"$f":"IF(LEN('Parâmetros Gerais'!B23)=0,\" \",'Parâmetros Gerais'!B23)","v":"fruto abacaxi"},{"$f":"IF('Parâmetros Gerais'!E23<>\"\",IF('Parâmetros Gerais'!$F$10=1,CONCATENATE('Parâmetros Gerais'!E23,\"/\",'Parâmetros Gerais'!$G$10,),CONCATENATE('Parâmetros Gerais'!E23,\"/\",'Parâmetros Gerais'!$F$10,'Parâmetros Gerais'!$G$10,)),\"\")","v":"kg/0,63ha"}]
[{"$f":"IF(LEN('Parâmetros Gerais'!B24)=0,\" \",'Parâmetros Gerais'!B24)","v":"espigas milho"},{"$f":"IF('Parâmetros Gerais'!E24<>\"\",IF('Parâmetros Gerais'!$F$10=1,CONCATENATE('Parâmetros Gerais'!E24,\"/\",'Parâmetros Gerais'!$G$10,),CONCATENATE('Parâmetros Gerais'!E24,\"/\",'Parâmetros Gerais'!$F$10,'Parâmetros Gerais'!$G$10,)),\"\")","v":"unidade/0,63ha"}]
[{"$f":"IF(LEN('Parâmetros Gerais'!B25)=0,\" \",'Parâmetros Gerais'!B25)","v":"estaca sansão do campo"},{"$f":"IF('Parâmetros Gerais'!E25<>\"\",IF('Parâmetros Gerais'!$F$10=1,CONCATENATE('Parâmetros Gerais'!E25,\"/\",'Parâmetros Gerais'!$G$10,),CONCATENATE('Parâmetros Gerais'!E25,\"/\",'Parâmetros Gerais'!$F$10,'Parâmetros Gerais'!$G$10,)),\"\")","v":"unidade/0,63ha"}]
[{"$f":"IF(LEN('Parâmetros Gerais'!B26)=0,\" \",'Parâmetros Gerais'!B26)","v":"madeira madeira nova"},{"$f":"IF('Parâmetros Gerais'!E26<>\"\",IF('Parâmetros Gerais'!$F$10=1,CONCATENATE('Parâmetros Gerais'!E26,\"/\",'Parâmetros Gerais'!$G$10,),CONCATENATE('Parâmetros Gerais'!E26,\"/\",'Parâmetros Gerais'!$F$10,'Parâmetros Gerais'!$G$10,)),\"\")","v":"m3/0,63ha"}]
[{"$f":"IF(LEN('Parâmetros Gerais'!B27)=0,\" \",'Parâmetros Gerais'!B27)","v":"lenha fedegoso"},{"$f":"IF('Parâmetros Gerais'!E27<>\"\",IF('Parâmetros Gerais'!$F$10=1,CONCATENATE('Parâmetros Gerais'!E27,\"/\",'Parâmetros Gerais'!$G$10,),CONCATENATE('Parâmetros Gerais'!E27,\"/\",'Parâmetros Gerais'!$F$10,'Parâmetros Gerais'!$G$10,)),\"\")","v":"m3/0,63ha"}]
[{"$f":"IF(LEN('Parâmetros Gerais'!B28)=0,\" \",'Parâmetros Gerais'!B28)","v":"estaca pau d'alho"},{"$f":"IF('Parâmetros Gerais'!E28<>\"\",IF('Parâmetros Gerais'!$F$10=1,CONCATENATE('Parâmetros Gerais'!E28,\"/\",'Parâmetros Gerais'!$G$10,),CONCATENATE('Parâmetros Gerais'!E28,\"/\",'Parâmetros Gerais'!$F$10,'Parâmetros Gerais'!$G$10,)),\"\")","v":"unidade/0,63ha"}]
[{"$f":"IF(LEN('Parâmetros Gerais'!B29)=0,\" \",'Parâmetros Gerais'!B29)","v":"caixotaria boleira"},{"$f":"IF('Parâmetros Gerais'!E29<>\"\",IF('Parâmetros Gerais'!$F$10=1,CONCATENATE('Parâmetros Gerais'!E29,\"/\",'Parâmetros Gerais'!$G$10,),CONCATENATE('Parâmetros Gerais'!E29,\"/\",'Parâmetros Gerais'!$F$10,'Parâmetros Gerais'!$G$10,)),\"\")","v":"m3/0,63ha"}]
[{"$f":"IF(LEN('Parâmetros Gerais'!B30)=0,\" \",'Parâmetros Gerais'!B30)","v":"madeira angico roxo"},{"$f":"IF('Parâmetros Gerais'!E30<>\"\",IF('Parâmetros Gerais'!$F$10=1,CONCATENATE('Parâmetros Gerais'!E30,\"/\",'Parâmetros Gerais'!$G$10,),CONCATENATE('Parâmetros Gerais'!E30,\"/\",'Parâmetros Gerais'!$F$10,'Parâmetros Gerais'!$G$10,)),\"\")","v":"m3/0,63ha"}]
[{"$f":"IF(LEN('Parâmetros Gerais'!B31)=0,\" \",'Parâmetros Gerais'!B31)","v":"madeira ipê roxo"},{"$f":"IF('Parâmetros Gerais'!E31<>\"\",IF('Parâmetros Gerais'!$F$10=1,CONCATENATE('Parâmetros Gerais'!E31,\"/\",'Parâmetros Gerais'!$G$10,),CONCATENATE('Parâmetros Gerais'!E31,\"/\",'Parâmetros Gerais'!$F$10,'Parâmetros Gerais'!$G$10,)),\"\")","v":"m3/0,63ha"}]
[{"$f":"IF(LEN('Parâmetros Gerais'!B32)=0,\" \",'Parâmetros Gerais'!B32)","v":"madeira ipê amarelo"},{"$f":"IF('Parâmetros Gerais'!E32<>\"\",IF('Parâmetros Gerais'!$F$10=1,CONCATENATE('Parâmetros Gerais'!E32,\"/\",'Parâmetros Gerais'!$G$10,),CONCATENATE('Parâmetros Gerais'!E32,\"/\",'Parâmetros Gerais'!$F$10,'Parâmetros Gerais'!$G$10,)),\"\")","v":"m3/0,63ha"}]
[{"$f":"IF(LEN('Parâmetros Gerais'!B33)=0,\" \",'Parâmetros Gerais'!B33)","v":"madeira gonçalo alves"},{"$f":"IF('Parâmetros Gerais'!E33<>\"\",IF('Parâmetros Gerais'!$F$10=1,CONCATENATE('Parâmetros Gerais'!E33,\"/\",'Parâmetros Gerais'!$G$10,),CONCATENATE('Parâmetros Gerais'!E33,\"/\",'Parâmetros Gerais'!$F$10,'Parâmetros Gerais'!$G$10,)),\"\")","v":"m3/0,63ha"}]
[{"$f":"IF(LEN('Parâmetros Gerais'!B34)=0,\" \",'Parâmetros Gerais'!B34)","v":"madeira vinhatico"},{"$f":"IF('Parâmetros Gerais'!E34<>\"\",IF('Parâmetros Gerais'!$F$10=1,CONCATENATE('Parâmetros Gerais'!E34,\"/\",'Parâmetros Gerais'!$G$10,),CONCATENATE('Parâmetros Gerais'!E34,\"/\",'Parâmetros Gerais'!$F$10,'Parâmetros Gerais'!$G$10,)),\"\")","v":"m3/0,63ha"}]
[{"$f":"IF(LEN('Parâmetros Gerais'!B35)=0,\" \",'Parâmetros Gerais'!B35)","v":"madeira jequitiba"},{"$f":"IF('Parâmetros Gerais'!E35<>\"\",IF('Parâmetros Gerais'!$F$10=1,CONCATENATE('Parâmetros Gerais'!E35,\"/\",'Parâmetros Gerais'!$G$10,),CONCATENATE('Parâmetros Gerais'!E35,\"/\",'Parâmetros Gerais'!$F$10,'Parâmetros Gerais'!$G$10,)),\"\")","v":"m3/0,63ha"}]
[{"$f":"IF(LEN('Parâmetros Gerais'!B36)=0,\" \",'Parâmetros Gerais'!B36)","v":"biomassa"},{"$f":"IF('Parâmetros Gerais'!E36<>\"\",IF('Parâmetros Gerais'!$F$10=1,CONCATENATE('Parâmetros Gerais'!E36,\"/\",'Parâmetros Gerais'!$G$10,),CONCATENATE('Parâmetros Gerais'!E36,\"/\",'Parâmetros Gerais'!$F$10,'Parâmetros Gerais'!$G$10,)),\"\")","v":"t/0,63ha"}]
[{"$f":"IF(LEN('Parâmetros Gerais'!B37)=0,\" \",'Parâmetros Gerais'!B37)","v":"grão caupi"},{"$f":"IF('Parâmetros Gerais'!E37<>\"\",IF('Parâmetros Gerais'!$F$10=1,CONCATENATE('Parâmetros Gerais'!E37,\"/\",'Parâmetros Gerais'!$G$10,),CONCATENATE('Parâmetros Gerais'!E37,\"/\",'Parâmetros Gerais'!$F$10,'Parâmetros Gerais'!$G$10,)),\"\")","v":"kg/0,63ha"}]

{"sheet":"% Variação Custos","index":38,"n_rows":9,"n_cols":33,"rows_kept":9,"cut":false,"hidden":false,"merged":[[1,0,1,2]]}
[{"$f":"'Parâmetros Gerais'!A1","v":"Análise Financeira de Sistemas Produtivos Integrados (V. 4.16 11/2016)"}]
["Variações nos Preços de mão de obra e Insumos"]
[null,null,null,{"$f":"Produção!D3","v":"Período"}]
[null,null,null,1,2,3,4,5,6,7,8,9,10,11,12,13,14,15,16,17,18,19,20,21,22,23,24,25,26,27,28,29,30]
["Variação nos Preços M.O.","Unidade"]
["Mão-de-Obra","% R$"]
[]
["Variação nos Preços de Insumos","Unidade"]
["Uso de Insumos","% R$"]

{"sheet":"% Variação Preços","index":39,"n_rows":29,"n_cols":33,"rows_kept":29,"cut":false,"hidden":false,"merged":[[1,0,1,5]]}
[{"$f":"'Parâmetros Gerais'!A1","v":"Análise Financeira de Sistemas Produtivos Integrados (V. 4.16 11/2016)"}]
["Variação nos Preços de Venda dos Produtos (% R$/unidade de venda)"]
[null,null,null,{"$f":"Produção!D3","v":"Período"}]
[null,null,null,1,2,3,4,5,6,7,8,9,10,11,12,13,14,15,16,17,18,19,20,21,22,23,24,25,26,27,28,29,30]
["Culturas","Unidade"]
[{"$f":"IF(LEN('Parâmetros Gerais'!B14)=0,\" \",'Parâmetros Gerais'!B14)","v":"latex"},{"$f":"IF(LEN('Parâmetros Gerais'!E14)=0,\" \",'Parâmetros Gerais'!E14)","v":"kg"}]
[{"$f":"IF(LEN('Parâmetros Gerais'!B15)=0,\" \",'Parâmetros Gerais'!B15)","v":"fruto genipapo"},{"$f":"IF(LEN('Parâmetros Gerais'!E15)=0,\" \",'Parâmetros Gerais'!E15)","v":"kg"}]
[{"$f":"IF(LEN('Parâmetros Gerais'!B16)=0,\" \",'Parâmetros Gerais'!B16)","v":"fruto araçauna"},{"$f":"IF(LEN('Parâmetros Gerais'!E16)=0,\" \",'Parâmetros Gerais'!E16)","v":"kg"}]
[{"$f":"IF(LEN('Parâmetros Gerais'!B17)=0,\" \",'Parâmetros Gerais'!B17)","v":"fruto pitanga"},{"$f":"IF(LEN('Parâmetros Gerais'!E17)=0,\" \",'Parâmetros Gerais'!E17)","v":"kg"}]
[{"$f":"IF(LEN('Parâmetros Gerais'!B18)=0,\" \",'Parâmetros Gerais'!B18)","v":"castanha sapucaia"},{"$f":"IF(LEN('Parâmetros Gerais'!E18)=0,\" \",'Parâmetros Gerais'!E18)","v":"kg"}]
[{"$f":"IF(LEN('Parâmetros Gerais'!B19)=0,\" \",'Parâmetros Gerais'!B19)","v":"fruto cajá"},{"$f":"IF(LEN('Parâmetros Gerais'!E19)=0,\" \",'Parâmetros Gerais'!E19)","v":"kg"}]
[{"$f":"IF(LEN('Parâmetros Gerais'!B20)=0,\" \",'Parâmetros Gerais'!B20)","v":"semente urucum"},{"$f":"IF(LEN('Parâmetros Gerais'!E20)=0,\" \",'Parâmetros Gerais'!E20)","v":"kg"}]
[{"$f":"IF(LEN('Parâmetros Gerais'!B21)=0,\" \",'Parâmetros Gerais'!B21)","v":"semente aroeira"},{"$f":"IF(LEN('Parâmetros Gerais'!E21)=0,\" \",'Parâmetros Gerais'!E21)","v":"kg"}]
[{"$f":"IF(LEN('Parâmetros Gerais'!B22)=0,\" \",'Parâmetros Gerais'!B22)","v":"raiz mandioca"},{"$f":"IF(LEN('Parâmetros Gerais'!E22)=0,\" \",'Parâmetros Gerais'!E22)","v":"kg"}]
[{"$f":"IF(LEN('Parâmetros Gerais'!B23)=0,\" \",'Parâmetros Gerais'!B23)","v":"fruto abacaxi"},{"$f":"IF(LEN('Parâmetros Gerais'!E23)=0,\" \",'Parâmetros Gerais'!E23)","v":"kg"}]
[{"$f":"IF(LEN('Parâmetros Gerais'!B24)=0,\" \",'Parâmetros Gerais'!B24)","v":"espigas milho"},{"$f":"IF(LEN('Parâmetros Gerais'!E24)=0,\" \",'Parâmetros Gerais'!E24)","v":"unidade"}]
[{"$f":"IF(LEN('Parâmetros Gerais'!B25)=0,\" \",'Parâmetros Gerais'!B25)","v":"estaca sansão do campo"},{"$f":"IF(LEN('Parâmetros Gerais'!E25)=0,\" \",'Parâmetros Gerais'!E25)","v":"unidade"}]
[{"$f":"IF(LEN('Parâmetros Gerais'!B26)=0,\" \",'Parâmetros Gerais'!B26)","v":"madeira madeira nova"},{"$f":"IF(LEN('Parâmetros Gerais'!E26)=0,\" \",'Parâmetros Gerais'!E26)","v":"m3"}]
[{"$f":"IF(LEN('Parâmetros Gerais'!B27)=0,\" \",'Parâmetros Gerais'!B27)","v":"lenha fedegoso"},{"$f":"IF(LEN('Parâmetros Gerais'!E27)=0,\" \",'Parâmetros Gerais'!E27)","v":"m3"}]
[{"$f":"IF(LEN('Parâmetros Gerais'!B28)=0,\" \",'Parâmetros Gerais'!B28)","v":"estaca pau d'alho"},{"$f":"IF(LEN('Parâmetros Gerais'!E28)=0,\" \",'Parâmetros Gerais'!E28)","v":"unidade"}]
[{"$f":"IF(LEN('Parâmetros Gerais'!B29)=0,\" \",'Parâmetros Gerais'!B29)","v":"caixotaria boleira"},{"$f":"IF(LEN('Parâmetros Gerais'!E29)=0,\" \",'Parâmetros Gerais'!E29)","v":"m3"}]
[{"$f":"IF(LEN('Parâmetros Gerais'!B30)=0,\" \",'Parâmetros Gerais'!B30)","v":"madeira angico roxo"},{"$f":"IF(LEN('Parâmetros Gerais'!E30)=0,\" \",'Parâmetros Gerais'!E30)","v":"m3"}]
[{"$f":"IF(LEN('Parâmetros Gerais'!B31)=0,\" \",'Parâmetros Gerais'!B31)","v":"madeira ipê roxo"},{"$f":"IF(LEN('Parâmetros Gerais'!E31)=0,\" \",'Parâmetros Gerais'!E31)","v":"m3"}]
[{"$f":"IF(LEN('Parâmetros Gerais'!B32)=0,\" \",'Parâmetros Gerais'!B32)","v":"madeira ipê amarelo"},{"$f":"IF(LEN('Parâmetros Gerais'!E32)=0,\" \",'Parâmetros Gerais'!E32)","v":"m3"}]
[{"$f":"IF(LEN('Parâmetros Gerais'!B33)=0,\" \",'Parâmetros Gerais'!B33)","v":"madeira gonçalo alves"},{"$f":"IF(LEN('Parâmetros Gerais'!E33)=0,\" \",'Parâmetros Gerais'!E33)","v":"m3"}]
[{"$f":"IF(LEN('Parâmetros Gerais'!B34)=0,\" \",'Parâmetros Gerais'!B34)","v":"madeira vinhatico"},{"$f":"IF(LEN('Parâmetros Gerais'!E34)=0,\" \",'Parâmetros Gerais'!E34)","v":"m3"}]
[{"$f":"IF(LEN('Parâmetros Gerais'!B35)=0,\" \",'Parâmetros Gerais'!B35)","v":"madeira jequitiba"},{"$f":"IF(LEN('Parâmetros Gerais'!E35)=0,\" \",'Parâmetros Gerais'!E35)","v":"m3"}]
[{"$f":"IF(LEN('Parâmetros Gerais'!B36)=0,\" \",'Parâmetros Gerais'!B36)","v":"biomassa"},{"$f":"IF(LEN('Parâmetros Gerais'!E36)=0,\" \",'Parâmetros Gerais'!E36)","v":"t"}]
[{"$f":"IF(LEN('Parâmetros Gerais'!B37)=0,\" \",'Parâmetros Gerais'!B37)","v":"grão caupi"},{"$f":"IF(LEN('Parâmetros Gerais'!E37)=0,\" \",'Parâmetros Gerais'!E37)","v":"kg"}]

{"sheet":"Resultado Fin (2)","index":40,"n_rows":101,"n_cols":34,"rows_kept":101,"cut":false,"hidden":false,"merged":[]}
[{"$f":"'Parâmetros Gerais'!A1","v":"Análise Financeira de Sistemas Produtivos Integrados (V. 4.16 11/2016)"}]
["Resultados Financeiros"]
[]
[null,"Relativo","Total","Preparo",1,2,3,4,5,6,7,8,9,10,11,12,13,14,15,16,17,18,19,20,21,22,23,24,25,26,27,28,29,30]
[]
["Custos TOTAIS (novo cenário)",null,{"$f":"SUM(D6:AH6)","v":0},{"$f":"D7+D8","v":0},{"$f":"E7+E8","v":0},{"$f":"F7+F8","v":0},0,0,0,0,0,0,0,0,0,0,0,0,0,0,0,0,0,0,0,0,0,0,0,0,0,0,0,0]
["mão de obra (novo cenário)",null,null,{"$f":"D14","v":0},{"$f":"E12*(1+'% Variação Custos'!D6)","v":0},{"$f":"F12*(1+'% Variação Custos'!E6)","v":0},{"$f":"G12*(1+'% Variação Custos'!F6)","v":0},{"$f":"H12*(1+'% Variação Custos'!G6)","v":0},{"$f":"I12*(1+'% Variação Custos'!H6)","v":0},{"$f":"J12*(1+'% Variação Custos'!I6)","v":0},{"$f":"K12*(1+'% Variação Custos'!J6)","v":0},{"$f":"L12*(1+'% Variação Custos'!K6)","v":0},{"$f":"M12*(1+'% Variação Custos'!L6)","v":0},{"$f":"N12*(1+'% Variação Custos'!M6)","v":0},{"$f":"O12*(1+'% Variação Custos'!N6)","v":0},{"$f":"P12*(1+'% Variação Custos'!O6)","v":0},{"$f":"Q12*(1+'% Variação Custos'!P6)","v":0},{"$f":"R12*(1+'% Variação Custos'!Q6)","v":0},{"$f":"S12*(1+'% Variação Custos'!R6)","v":0},{"$f":"T12*(1+'% Variação Custos'!S6)","v":0},{"$f":"U12*(1+'% Variação Custos'!T6)","v":0},{"$f":"V12*(1+'% Variação Custos'!U6)","v":0},{"$f":"W12*(1+'% Variação Custos'!V6)","v":0},{"$f":"X12*(1+'% Variação Custos'!W6)","v":0},{"$f":"Y12*(1+'% Variação Custos'!X6)","v":0},{"$f":"Z12*(1+'% Variação Custos'!Y6)","v":0},{"$f":"AA12*(1+'% Variação Custos'!Z6)","v":0},{"$f":"AB12*(1+'% Variação Custos'!AA6)","v":0},{"$f":"AC12*(1+'% Variação Custos'!AB6)","v":0},{"$f":"AD12*(1+'% Variação Custos'!AC6)","v":0},{"$f":"AE12*(1+'% Variação Custos'!AD6)","v":0},{"$f":"AF12*(1+'% Variação Custos'!AE6)","v":0},{"$f":"AG12*(1+'% Variação Custos'!AF6)","v":0},{"$f":"AH12*(1+'% Variação Custos'!AG6)","v":0}]
["Insumos (novo cenário)",null,null,{"$f":"D44","v":0},{"$f":"E42*(1+'% Variação Custos'!D9)","v":0},{"$f":"F42*(1+'% Variação Custos'!E9)","v":0},{"$f":"G42*(1+'% Variação Custos'!F9)","v":0},{"$f":"H42*(1+'% Variação Custos'!G9)","v":0},{"$f":"I42*(1+'% Variação Custos'!H9)","v":0},{"$f":"J42*(1+'% Variação Custos'!I9)","v":0},{"$f":"K42*(1+'% Variação Custos'!J9)","v":0},{"$f":"L42*(1+'% Variação Custos'!K9)","v":0},{"$f":"M42*(1+'% Variação Custos'!L9)","v":0},{"$f":"N42*(1+'% Variação Custos'!M9)","v":0},{"$f":"O42*(1+'% Variação Custos'!N9)","v":0},{"$f":"P42*(1+'% Variação Custos'!O9)","v":0},{"$f":"Q42*(1+'% Variação Custos'!P9)","v":0},{"$f":"R42*(1+'% Variação Custos'!Q9)","v":0},{"$f":"S42*(1+'% Variação Custos'!R9)","v":0},{"$f":"T42*(1+'% Variação Custos'!S9)","v":0},{"$f":"U42*(1+'% Variação Custos'!T9)","v":0},{"$f":"V42*(1+'% Variação Custos'!U9)","v":0},{"$f":"W42*(1+'% Variação Custos'!V9)","v":0},{"$f":"X42*(1+'% Variação Custos'!W9)","v":0},{"$f":"Y42*(1+'% Variação Custos'!X9)","v":0},{"$f":"Z42*(1+'% Variação Custos'!Y9)","v":0},{"$f":"AA42*(1+'% Variação Custos'!Z9)","v":0},{"$f":"AB42*(1+'% Variação Custos'!AA9)","v":0},{"$f":"AC42*(1+'% Variação Custos'!AB9)","v":0},{"$f":"AD42*(1+'% Variação Custos'!AC9)","v":0},{"$f":"AE42*(1+'% Variação Custos'!AD9)","v":0},{"$f":"AF42*(1+'% Variação Custos'!AE9)","v":0},{"$f":"AG42*(1+'% Variação Custos'!AF9)","v":0},{"$f":"AH42*(1+'% Variação Custos'!AG9)","v":0}]
[]
["Custos TOTAIS (originais)",null,{"$f":"SUM(D10:AH10)","v":0},{"$f":"D12+D42","v":0},0,0,0,0,0,0,0,0,0,0,0,0,0,0,0,0,0,0,0,0,0,0,0,0,0,0,0,0,0,0]
[]
["Custos de mão de obra",{"$f":"C12/$C$10","v":{"$error":"#DIV/0!"}},{"$f":"SUM(D12:AH12)","v":0},{"$f":"D14+D16","v":0},{"$f":"SUM(E17:E40)","v":0},0,0,0,0,0,0,0,0,0,0,0,0,0,0,0,0,0,0,0,0,0,0,0,0,0,0,0,0,0]
[]
["Atividades Gerais",null,null,{"$f":"'Preparo e Gerais'!D6","v":0},{"$f":"'Preparo e Gerais'!E6","v":0},{"$f":"'Preparo e Gerais'!F6","v":0},{"$f":"'Preparo e Gerais'!G6","v":0},{"$f":"'Preparo e Gerais'!H6","v":0},{"$f":"'Preparo e Gerais'!I6","v":0},{"$f":"'Preparo e Gerais'!J6","v":0},{"$f":"'Preparo e Gerais'!K6","v":0},{"$f":"'Preparo e Gerais'!L6","v":0},{"$f":"'Preparo e Gerais'!M6","v":0},{"$f":"'Preparo e Gerais'!N6","v":0},{"$f":"'Preparo e Gerais'!O6","v":0},{"$f":"'Preparo e Gerais'!P6","v":0},{"$f":"'Preparo e Gerais'!Q6","v":0},{"$f":"'Preparo e Gerais'!R6","v":0},{"$f":"'Preparo e Gerais'!S6","v":0},{"$f":"'Preparo e Gerais'!T6","v":0},{"$f":"'Preparo e Gerais'!U6","v":0},{"$f":"'Preparo e Gerais'!V6","v":0},{"$f":"'Preparo e Gerais'!W6","v":0},{"$f":"'Preparo e Gerais'!X6","v":0},{"$f":"'Preparo e Gerais'!Y6","v":0},{"$f":"'Preparo e Gerais'!Z6","v":0},{"$f":"'Preparo e Gerais'!AA6","v":0},{"$f":"'Preparo e Gerais'!AB6","v":0},{"$f":"'Preparo e Gerais'!AC6","v":0},{"$f":"'Preparo e Gerais'!AD6","v":0},{"$f":"'Preparo e Gerais'!AE6","v":0},{"$f":"'Preparo e Gerais'!AF6","v":0},{"$f":"'Preparo e Gerais'!AG6","v":0},{"$f":"'Preparo e Gerais'!AH6","v":0}]
[]
["Produtos"]
[{"$f":"IF(LEN('Parâmetros Gerais'!B14)=0,\" \",'Parâmetros Gerais'!B14)","v":"latex"},{"$f":"IF(C17<>0,C17/$C$12,0)","v":0},{"$f":"SUM(D17:AH17)","v":0},null,{"$f":"latex!D7+(E14*'Rateio Custos'!D6)","v":0},{"$f":"latex!E7+(F14*'Rateio Custos'!E6)","v":0},{"$f":"latex!F7+(G14*'Rateio Custos'!F6)","v":0},{"$f":"latex!G7+(H14*'Rateio Custos'!G6)","v":0},{"$f":"latex!H7+(I14*'Rateio Custos'!H6)","v":0},{"$f":"latex!I7+(J14*'Rateio Custos'!I6)","v":0},{"$f":"latex!J7+(K14*'Rateio Custos'!J6)","v":0},{"$f":"latex!K7+(L14*'Rateio Custos'!K6)","v":0},{"$f":"latex!L7+(M14*'Rateio Custos'!L6)","v":0},{"$f":"latex!M7+(N14*'Rateio Custos'!M6)","v":0},{"$f":"latex!N7+(O14*'Rateio Custos'!N6)","v":0},{"$f":"latex!O7+(P14*'Rateio Custos'!O6)","v":0},{"$f":"latex!P7+(Q14*'Rateio Custos'!P6)","v":0},{"$f":"latex!Q7+(R14*'Rateio Custos'!Q6)","v":0},{"$f":"latex!R7+(S14*'Rateio Custos'!R6)","v":0},{"$f":"latex!S7+(T14*'Rateio Custos'!S6)","v":0},{"$f":"latex!T7+(U14*'Rateio Custos'!T6)","v":0},{"$f":"latex!U7+(V14*'Rateio Custos'!U6)","v":0},{"$f":"latex!V7+(W14*'Rateio Custos'!V6)","v":0},{"$f":"latex!W7+(X14*'Rateio Custos'!W6)","v":0},{"$f":"latex!X7+(Y14*'Rateio Custos'!X6)","v":0},{"$f":"latex!Y7+(Z14*'Rateio Custos'!Y6)","v":0},{"$f":"latex!Z7+(AA14*'Rateio Custos'!Z6)","v":0},{"$f":"latex!AA7+(AB14*'Rateio Custos'!AA6)","v":0},{"$f":"latex!AB7+(AC14*'Rateio Custos'!AB6)","v":0},{"$f":"latex!AC7+(AD14*'Rateio Custos'!AC6)","v":0},{"$f":"latex!AD7+(AE14*'Rateio Custos'!AD6)","v":0},{"$f":"latex!AE7+(AF14*'Rateio Custos'!AE6)","v":0},{"$f":"latex!AF7+(AG14*'Rateio Custos'!AF6)","v":0},{"$f":"latex!AG7+(AH14*'Rateio Custos'!AG6)","v":0}]
[{"$f":"IF(LEN('Parâmetros Gerais'!B15)=0,\" \",'Parâmetros Gerais'!B15)","v":"fruto genipapo"},0,0,null,{"$f":"'fruto genipapo'!D7+(E14*'Rateio Custos'!D7)","v":0},{"$f":"'fruto genipapo'!E7+(F14*'Rateio Custos'!E7)","v":0},{"$f":"'fruto genipapo'!F7+(G14*'Rateio Custos'!F7)","v":0},{"$f":"'fruto genipapo'!G7+(H14*'Rateio Custos'!G7)","v":0},{"$f":"'fruto genipapo'!H7+(I14*'Rateio Custos'!H7)","v":0},{"$f":"'fruto genipapo'!I7+(J14*'Rateio Custos'!I7)","v":0},{"$f":"'fruto genipapo'!J7+(K14*'Rateio Custos'!J7)","v":0},{"$f":"'fruto genipapo'!K7+(L14*'Rateio Custos'!K7)","v":0},{"$f":"'fruto genipapo'!L7+(M14*'Rateio Custos'!L7)","v":0},{"$f":"'fruto genipapo'!M7+(N14*'Rateio Custos'!M7)","v":0},{"$f":"'fruto genipapo'!N7+(O14*'Rateio Custos'!N7)","v":0},{"$f":"'fruto genipapo'!O7+(P14*'Rateio Custos'!O7)","v":0},{"$f":"'fruto genipapo'!P7+(Q14*'Rateio Custos'!P7)","v":0},{"$f":"'fruto genipapo'!Q7+(R14*'Rateio Custos'!Q7)","v":0},{"$f":"'fruto genipapo'!R7+(S14*'Rateio Custos'!R7)","v":0},{"$f":"'fruto genipapo'!S7+(T14*'Rateio Custos'!S7)","v":0},{"$f":"'fruto genipapo'!T7+(U14*'Rateio Custos'!T7)","v":0},{"$f":"'fruto genipapo'!U7+(V14*'Rateio Custos'!U7)","v":0},{"$f":"'fruto genipapo'!V7+(W14*'Rateio Custos'!V7)","v":0},{"$f":"'fruto genipapo'!W7+(X14*'Rateio Custos'!W7)","v":0},{"$f":"'fruto genipapo'!X7+(Y14*'Rateio Custos'!X7)","v":0},{"$f":"'fruto genipapo'!Y7+(Z14*'Rateio Custos'!Y7)","v":0},{"$f":"'fruto genipapo'!Z7+(AA14*'Rateio Custos'!Z7)","v":0},{"$f":"'fruto genipapo'!AA7+(AB14*'Rateio Custos'!AA7)","v":0},{"$f":"'fruto genipapo'!AB7+(AC14*'Rateio Custos'!AB7)","v":0},{"$f":"'fruto genipapo'!AC7+(AD14*'Rateio Custos'!AC7)","v":0},{"$f":"'fruto genipapo'!AD7+(AE14*'Rateio Custos'!AD7)","v":0},{"$f":"'fruto genipapo'!AE7+(AF14*'Rateio Custos'!AE7)","v":0},{"$f":"'fruto genipapo'!AF7+(AG14*'Rateio Custos'!AF7)","v":0},{"$f":"'fruto genipapo'!AG7+(AH14*'Rateio Custos'!AG7)","v":0}]
[{"$f":"IF(LEN('Parâmetros Gerais'!B16)=0,\" \",'Parâmetros Gerais'!B16)","v":"fruto araçauna"},0,0,null,{"$f":"'fruto araçauna'!D7+(E14*'Rateio Custos'!D8)","v":0},{"$f":"'fruto araçauna'!E7+(F14*'Rateio Custos'!E8)","v":0},{"$f":"'fruto araçauna'!F7+(G14*'Rateio Custos'!F8)","v":0},{"$f":"'fruto araçauna'!G7+(H14*'Rateio Custos'!G8)","v":0},{"$f":"'fruto araçauna'!H7+(I14*'Rateio Custos'!H8)","v":0},{"$f":"'fruto araçauna'!I7+(J14*'Rateio Custos'!I8)","v":0},{"$f":"'fruto araçauna'!J7+(K14*'Rateio Custos'!J8)","v":0},{"$f":"'fruto araçauna'!K7+(L14*'Rateio Custos'!K8)","v":0},{"$f":"'fruto araçauna'!L7+(M14*'Rateio Custos'!L8)","v":0},{"$f":"'fruto araçauna'!M7+(N14*'Rateio Custos'!M8)","v":0},{"$f":"'fruto araçauna'!N7+(O14*'Rateio Custos'!N8)","v":0},{"$f":"'fruto araçauna'!O7+(P14*'Rateio Custos'!O8)","v":0},{"$f":"'fruto araçauna'!P7+(Q14*'Rateio Custos'!P8)","v":0},{"$f":"'fruto araçauna'!Q7+(R14*'Rateio Custos'!Q8)","v":0},{"$f":"'fruto araçauna'!R7+(S14*'Rateio Custos'!R8)","v":0},{"$f":"'fruto araçauna'!S7+(T14*'Rateio Custos'!S8)","v":0},{"$f":"'fruto araçauna'!T7+(U14*'Rateio Custos'!T8)","v":0},{"$f":"'fruto araçauna'!U7+(V14*'Rateio Custos'!U8)","v":0},{"$f":"'fruto araçauna'!V7+(W14*'Rateio Custos'!V8)","v":0},{"$f":"'fruto araçauna'!W7+(X14*'Rateio Custos'!W8)","v":0},{"$f":"'fruto araçauna'!X7+(Y14*'Rateio Custos'!X8)","v":0},{"$f":"'fruto araçauna'!Y7+(Z14*'Rateio Custos'!Y8)","v":0},{"$f":"'fruto araçauna'!Z7+(AA14*'Rateio Custos'!Z8)","v":0},{"$f":"'fruto araçauna'!AA7+(AB14*'Rateio Custos'!AA8)","v":0},{"$f":"'fruto araçauna'!AB7+(AC14*'Rateio Custos'!AB8)","v":0},{"$f":"'fruto araçauna'!AC7+(AD14*'Rateio Custos'!AC8)","v":0},{"$f":"'fruto araçauna'!AD7+(AE14*'Rateio Custos'!AD8)","v":0},{"$f":"'fruto araçauna'!AE7+(AF14*'Rateio Custos'!AE8)","v":0},{"$f":"'fruto araçauna'!AF7+(AG14*'Rateio Custos'!AF8)","v":0},{"$f":"'fruto araçauna'!AG7+(AH14*'Rateio Custos'!AG8)","v":0}]
[{"$f":"IF(LEN('Parâmetros Gerais'!B17)=0,\" \",'Parâmetros Gerais'!B17)","v":"fruto pitanga"},0,0,null,{"$f":"'fruto pitanga'!D7+(E14*'Rateio Custos'!D9)","v":0},{"$f":"'fruto pitanga'!E7+(F14*'Rateio Custos'!E9)","v":0},{"$f":"'fruto pitanga'!F7+(G14*'Rateio Custos'!F9)","v":0},{"$f":"'fruto pitanga'!G7+(H14*'Rateio Custos'!G9)","v":0},{"$f":"'fruto pitanga'!H7+(I14*'Rateio Custos'!H9)","v":0},{"$f":"'fruto pitanga'!I7+(J14*'Rateio Custos'!I9)","v":0},{"$f":"'fruto pitanga'!J7+(K14*'Rateio Custos'!J9)","v":0},{"$f":"'fruto pitanga'!K7+(L14*'Rateio Custos'!K9)","v":0},{"$f":"'fruto pitanga'!L7+(M14*'Rateio Custos'!L9)","v":0},{"$f":"'fruto pitanga'!M7+(N14*'Rateio Custos'!M9)","v":0},{"$f":"'fruto pitanga'!N7+(O14*'Rateio Custos'!N9)","v":0},{"$f":"'fruto pitanga'!O7+(P14*'Rateio Custos'!O9)","v":0},{"$f":"'fruto pitanga'!P7+(Q14*'Rateio Custos'!P9)","v":0},{"$f":"'fruto pitanga'!Q7+(R14*'Rateio Custos'!Q9)","v":0},{"$f":"'fruto pitanga'!R7+(S14*'Rateio Custos'!R9)","v":0},{"$f":"'fruto pitanga'!S7+(T14*'Rateio Custos'!S9)","v":0},{"$f":"'fruto pitanga'!T7+(U14*'Rateio Custos'!T9)","v":0},{"$f":"'fruto pitanga'!U7+(V14*'Rateio Custos'!U9)","v":0},{"$f":"'fruto pitanga'!V7+(W14*'Rateio Custos'!V9)","v":0},{"$f":"'fruto pitanga'!W7+(X14*'Rateio Custos'!W9)","v":0},{"$f":"'fruto pitanga'!X7+(Y14*'Rateio Custos'!X9)","v":0},{"$f":"'fruto pitanga'!Y7+(Z14*'Rateio Custos'!Y9)","v":0},{"$f":"'fruto pitanga'!Z7+(AA14*'Rateio Custos'!Z9)","v":0},{"$f":"'fruto pitanga'!AA7+(AB14*'Rateio Custos'!AA9)","v":0},{"$f":"'fruto pitanga'!AB7+(AC14*'Rateio Custos'!AB9)","v":0},{"$f":"'fruto pitanga'!AC7+(AD14*'Rateio Custos'!AC9)","v":0},{"$f":"'fruto pitanga'!AD7+(AE14*'Rateio Custos'!AD9)","v":0},{"$f":"'fruto pitanga'!AE7+(AF14*'Rateio Custos'!AE9)","v":0},{"$f":"'fruto pitanga'!AF7+(AG14*'Rateio Custos'!AF9)","v":0},{"$f":"'fruto pitanga'!AG7+(AH14*'Rateio Custos'!AG9)","v":0}]
[{"$f":"IF(LEN('Parâmetros Gerais'!B18)=0,\" \",'Parâmetros Gerais'!B18)","v":"castanha sapucaia"},0,0,null,{"$f":"Castanha!D7+(E14*'Rateio Custos'!D10)","v":0},{"$f":"Castanha!E7+(F14*'Rateio Custos'!E10)","v":0},{"$f":"Castanha!F7+(G14*'Rateio Custos'!F10)","v":0},{"$f":"Castanha!G7+(H14*'Rateio Custos'!G10)","v":0},{"$f":"Castanha!H7+(I14*'Rateio Custos'!H10)","v":0},{"$f":"Castanha!I7+(J14*'Rateio Custos'!I10)","v":0},{"$f":"Castanha!J7+(K14*'Rateio Custos'!J10)","v":0},{"$f":"Castanha!K7+(L14*'Rateio Custos'!K10)","v":0},{"$f":"Castanha!L7+(M14*'Rateio Custos'!L10)","v":0},{"$f":"Castanha!M7+(N14*'Rateio Custos'!M10)","v":0},{"$f":"Castanha!N7+(O14*'Rateio Custos'!N10)","v":0},{"$f":"Castanha!O7+(P14*'Rateio Custos'!O10)","v":0},{"$f":"Castanha!P7+(Q14*'Rateio Custos'!P10)","v":0},{"$f":"Castanha!Q7+(R14*'Rateio Custos'!Q10)","v":0},{"$f":"Castanha!R7+(S14*'Rateio Custos'!R10)","v":0},{"$f":"Castanha!S7+(T14*'Rateio Custos'!S10)","v":0},{"$f":"Castanha!T7+(U14*'Rateio Custos'!T10)","v":0},{"$f":"Castanha!U7+(V14*'Rateio Custos'!U10)","v":0},{"$f":"Castanha!V7+(W14*'Rateio Custos'!V10)","v":0},{"$f":"Castanha!W7+(X14*'Rateio Custos'!W10)","v":0},{"$f":"Castanha!X7+(Y14*'Rateio Custos'!X10)","v":0},{"$f":"Castanha!Y7+(Z14*'Rateio Custos'!Y10)","v":0},{"$f":"Castanha!Z7+(AA14*'Rateio Custos'!Z10)","v":0},{"$f":"Castanha!AA7+(AB14*'Rateio Custos'!AA10)","v":0},{"$f":"Castanha!AB7+(AC14*'Rateio Custos'!AB10)","v":0},{"$f":"Castanha!AC7+(AD14*'Rateio Custos'!AC10)","v":0},{"$f":"Castanha!AD7+(AE14*'Rateio Custos'!AD10)","v":0},{"$f":"Castanha!AE7+(AF14*'Rateio Custos'!AE10)","v":0},{"$f":"Castanha!AF7+(AG14*'Rateio Custos'!AF10)","v":0},{"$f":"Castanha!AG7+(AH14*'Rateio Custos'!AG10)","v":0}]
[{"$f":"IF(LEN('Parâmetros Gerais'!B19)=0,\" \",'Parâmetros Gerais'!B19)","v":"fruto cajá"},0,{"$f":"SUM(D22:AH22)","v":0},null,{"$f":"'fruto cajá'!D7+(E14*'Rateio Custos'!D11)","v":0},{"$f":"'fruto cajá'!E7+(F14*'Rateio Custos'!E11)","v":0},{"$f":"'fruto cajá'!F7+(G14*'Rateio Custos'!F11)","v":0},{"$f":"'fruto cajá'!G7+(H14*'Rateio Custos'!G11)","v":0},{"$f":"'fruto cajá'!H7+(I14*'Rateio Custos'!H11)","v":0},{"$f":"'fruto cajá'!I7+(J14*'Rateio Custos'!I11)","v":0},{"$f":"'fruto cajá'!J7+(K14*'Rateio Custos'!J11)","v":0},{"$f":"'fruto cajá'!K7+(L14*'Rateio Custos'!K11)","v":0},{"$f":"'fruto cajá'!L7+(M14*'Rateio Custos'!L11)","v":0},{"$f":"'fruto cajá'!M7+(N14*'Rateio Custos'!M11)","v":0},{"$f":"'fruto cajá'!N7+(O14*'Rateio Custos'!N11)","v":0},{"$f":"'fruto cajá'!O7+(P14*'Rateio Custos'!O11)","v":0},{"$f":"'fruto cajá'!P7+(Q14*'Rateio Custos'!P11)","v":0},{"$f":"'fruto cajá'!Q7+(R14*'Rateio Custos'!Q11)","v":0},{"$f":"'fruto cajá'!R7+(S14*'Rateio Custos'!R11)","v":0},{"$f":"'fruto cajá'!S7+(T14*'Rateio Custos'!S11)","v":0},{"$f":"'fruto cajá'!T7+(U14*'Rateio Custos'!T11)","v":0},{"$f":"'fruto cajá'!U7+(V14*'Rateio Custos'!U11)","v":0},{"$f":"'fruto cajá'!V7+(W14*'Rateio Custos'!V11)","v":0},{"$f":"'fruto cajá'!W7+(X14*'Rateio Custos'!W11)","v":0},{"$f":"'fruto cajá'!X7+(Y14*'Rateio Custos'!X11)","v":0},{"$f":"'fruto cajá'!Y7+(Z14*'Rateio Custos'!Y11)","v":0},{"$f":"'fruto cajá'!Z7+(AA14*'Rateio Custos'!Z11)","v":0},{"$f":"'fruto cajá'!AA7+(AB14*'Rateio Custos'!AA11)","v":0},{"$f":"'fruto cajá'!AB7+(AC14*'Rateio Custos'!AB11)","v":0},{"$f":"'fruto cajá'!AC7+(AD14*'Rateio Custos'!AC11)","v":0},{"$f":"'fruto cajá'!AD7+(AE14*'Rateio Custos'!AD11)","v":0},{"$f":"'fruto cajá'!AE7+(AF14*'Rateio Custos'!AE11)","v":0},{"$f":"'fruto cajá'!AF7+(AG14*'Rateio Custos'!AF11)","v":0},{"$f":"'fruto cajá'!AG7+(AH14*'Rateio Custos'!AG11)","v":0}]
[{"$f":"IF(LEN('Parâmetros Gerais'!B20)=0,\" \",'Parâmetros Gerais'!B20)","v":"semente urucum"},0,0,null,{"$f":"'semente urucum'!D7+(E14*'Rateio Custos'!D12)","v":0},{"$f":"'semente urucum'!E7+(F14*'Rateio Custos'!E12)","v":0},{"$f":"'semente urucum'!F7+(G14*'Rateio Custos'!F12)","v":0},{"$f":"'semente urucum'!G7+(H14*'Rateio Custos'!G12)","v":0},{"$f":"'semente urucum'!H7+(I14*'Rateio Custos'!H12)","v":0},{"$f":"'semente urucum'!I7+(J14*'Rateio Custos'!I12)","v":0},{"$f":"'semente urucum'!J7+(K14*'Rateio Custos'!J12)","v":0},{"$f":"'semente urucum'!K7+(L14*'Rateio Custos'!K12)","v":0},{"$f":"'semente urucum'!L7+(M14*'Rateio Custos'!L12)","v":0},{"$f":"'semente urucum'!M7+(N14*'Rateio Custos'!M12)","v":0},{"$f":"'semente urucum'!N7+(O14*'Rateio Custos'!N12)","v":0},{"$f":"'semente urucum'!O7+(P14*'Rateio Custos'!O12)","v":0},{"$f":"'semente urucum'!P7+(Q14*'Rateio Custos'!P12)","v":0},{"$f":"'semente urucum'!Q7+(R14*'Rateio Custos'!Q12)","v":0},{"$f":"'semente urucum'!R7+(S14*'Rateio Custos'!R12)","v":0},{"$f":"'semente urucum'!S7+(T14*'Rateio Custos'!S12)","v":0},{"$f":"'semente urucum'!T7+(U14*'Rateio Custos'!T12)","v":0},{"$f":"'semente urucum'!U7+(V14*'Rateio Custos'!U12)","v":0},{"$f":"'semente urucum'!V7+(W14*'Rateio Custos'!V12)","v":0},{"$f":"'semente urucum'!W7+(X14*'Rateio Custos'!W12)","v":0},{"$f":"'semente urucum'!X7+(Y14*'Rateio Custos'!X12)","v":0},{"$f":"'semente urucum'!Y7+(Z14*'Rateio Custos'!Y12)","v":0},{"$f":"'semente urucum'!Z7+(AA14*'Rateio Custos'!Z12)","v":0},{"$f":"'semente urucum'!AA7+(AB14*'Rateio Custos'!AA12)","v":0},{"$f":"'semente urucum'!AB7+(AC14*'Rateio Custos'!AB12)","v":0},{"$f":"'semente urucum'!AC7+(AD14*'Rateio Custos'!AC12)","v":0},{"$f":"'semente urucum'!AD7+(AE14*'Rateio Custos'!AD12)","v":0},{"$f":"'semente urucum'!AE7+(AF14*'Rateio Custos'!AE12)","v":0},{"$f":"'semente urucum'!AF7+(AG14*'Rateio Custos'!AF12)","v":0},{"$f":"'semente urucum'!AG7+(AH14*'Rateio Custos'!AG12)","v":0}]
[{"$f":"IF(LEN('Parâmetros Gerais'!B21)=0,\" \",'Parâmetros Gerais'!B21)","v":"semente aroeira"},0,0,null,{"$f":"'semente aroeira'!D7+(E14*'Rateio Custos'!D13)","v":0},{"$f":"'semente aroeira'!E7+(F14*'Rateio Custos'!E13)","v":0},{"$f":"'semente aroeira'!F7+(G14*'Rateio Custos'!F13)","v":0},{"$f":"'semente aroeira'!G7+(H14*'Rateio Custos'!G13)","v":0},{"$f":"'semente aroeira'!H7+(I14*'Rateio Custos'!H13)","v":0},{"$f":"'semente aroeira'!I7+(J14*'Rateio Custos'!I13)","v":0},{"$f":"'semente aroeira'!J7+(K14*'Rateio Custos'!J13)","v":0},{"$f":"'semente aroeira'!K7+(L14*'Rateio Custos'!K13)","v":0},{"$f":"'semente aroeira'!L7+(M14*'Rateio Custos'!L13)","v":0},{"$f":"'semente aroeira'!M7+(N14*'Rateio Custos'!M13)","v":0},{"$f":"'semente aroeira'!N7+(O14*'Rateio Custos'!N13)","v":0},{"$f":"'semente aroeira'!O7+(P14*'Rateio Custos'!O13)","v":0},{"$f":"'semente aroeira'!P7+(Q14*'Rateio Custos'!P13)","v":0},{"$f":"'semente aroeira'!Q7+(R14*'Rateio Custos'!Q13)","v":0},{"$f":"'semente aroeira'!R7+(S14*'Rateio Custos'!R13)","v":0},{"$f":"'semente aroeira'!S7+(T14*'Rateio Custos'!S13)","v":0},{"$f":"'semente aroeira'!T7+(U14*'Rateio Custos'!T13)","v":0},{"$f":"'semente aroeira'!U7+(V14*'Rateio Custos'!U13)","v":0},{"$f":"'semente aroeira'!V7+(W14*'Rateio Custos'!V13)","v":0},{"$f":"'semente aroeira'!W7+(X14*'Rateio Custos'!W13)","v":0},{"$f":"'semente aroeira'!X7+(Y14*'Rateio Custos'!X13)","v":0},{"$f":"'semente aroeira'!Y7+(Z14*'Rateio Custos'!Y13)","v":0},{"$f":"'semente aroeira'!Z7+(AA14*'Rateio Custos'!Z13)","v":0},{"$f":"'semente aroeira'!AA7+(AB14*'Rateio Custos'!AA13)","v":0},{"$f":"'semente aroeira'!AB7+(AC14*'Rateio Custos'!AB13)","v":0},{"$f":"'semente aroeira'!AC7+(AD14*'Rateio Custos'!AC13)","v":0},{"$f":"'semente aroeira'!AD7+(AE14*'Rateio Custos'!AD13)","v":0},{"$f":"'semente aroeira'!AE7+(AF14*'Rateio Custos'!AE13)","v":0},{"$f":"'semente aroeira'!AF7+(AG14*'Rateio Custos'!AF13)","v":0},{"$f":"'semente aroeira'!AG7+(AH14*'Rateio Custos'!AG13)","v":0}]
[{"$f":"IF(LEN('Parâmetros Gerais'!B22)=0,\" \",'Parâmetros Gerais'!B22)","v":"raiz mandioca"},0,0,null,{"$f":"'raiz mandioca'!D7+(E14*'Rateio Custos'!D14)","v":0},{"$f":"'raiz mandioca'!E7+(F14*'Rateio Custos'!E14)","v":0},{"$f":"'raiz mandioca'!F7+(G14*'Rateio Custos'!F14)","v":0},{"$f":"'raiz mandioca'!G7+(H14*'Rateio Custos'!G14)","v":0},{"$f":"'raiz mandioca'!H7+(I14*'Rateio Custos'!H14)","v":0},{"$f":"'raiz mandioca'!I7+(J14*'Rateio Custos'!I14)","v":0},{"$f":"'raiz mandioca'!J7+(K14*'Rateio Custos'!J14)","v":0},{"$f":"'raiz mandioca'!K7+(L14*'Rateio Custos'!K14)","v":0},{"$f":"'raiz mandioca'!L7+(M14*'Rateio Custos'!L14)","v":0},{"$f":"'raiz mandioca'!M7+(N14*'Rateio Custos'!M14)","v":0},{"$f":"'raiz mandioca'!N7+(O14*'Rateio Custos'!N14)","v":0},{"$f":"'raiz mandioca'!O7+(P14*'Rateio Custos'!O14)","v":0},{"$f":"'raiz mandioca'!P7+(Q14*'Rateio Custos'!P14)","v":0},{"$f":"'raiz mandioca'!Q7+(R14*'Rateio Custos'!Q14)","v":0},{"$f":"'raiz mandioca'!R7+(S14*'Rateio Custos'!R14)","v":0},{"$f":"'raiz mandioca'!S7+(T14*'Rateio Custos'!S14)","v":0},{"$f":"'raiz mandioca'!T7+(U14*'Rateio Custos'!T14)","v":0},{"$f":"'raiz mandioca'!U7+(V14*'Rateio Custos'!U14)","v":0},{"$f":"'raiz mandioca'!V7+(W14*'Rateio Custos'!V14)","v":0},{"$f":"'raiz mandioca'!W7+(X14*'Rateio Custos'!W14)","v":0},{"$f":"'raiz mandioca'!X7+(Y14*'Rateio Custos'!X14)","v":0},{"$f":"'raiz mandioca'!Y7+(Z14*'Rateio Custos'!Y14)","v":0},{"$f":"'raiz mandioca'!Z7+(AA14*'Rateio Custos'!Z14)","v":0},{"$f":"'raiz mandioca'!AA7+(AB14*'Rateio Custos'!AA14)","v":0},{"$f":"'raiz mandioca'!AB7+(AC14*'Rateio Custos'!AB14)","v":0},{"$f":"'raiz mandioca'!AC7+(AD14*'Rateio Custos'!AC14)","v":0},{"$f":"'raiz mandioca'!AD7+(AE14*'Rateio Custos'!AD14)","v":0},{"$f":"'raiz mandioca'!AE7+(AF14*'Rateio Custos'!AE14)","v":0},{"$f":"'raiz mandioca'!AF7+(AG14*'Rateio Custos'!AF14)","v":0},{"$f":"'raiz mandioca'!AG7+(AH14*'Rateio Custos'!AG14)","v":0}]
[{"$f":"IF(LEN('Parâmetros Gerais'!B23)=0,\" \",'Parâmetros Gerais'!B23)","v":"fruto abacaxi"},{"$f":"IF(C26<>0,C26/$C$12,0)","v":0},{"$f":"SUM(D26:AH26)","v":0},null,{"$f":"abacaxi!D7+(E14*'Rateio Custos'!D15)","v":0},{"$f":"abacaxi!E7+(F14*'Rateio Custos'!E15)","v":0},{"$f":"abacaxi!F7+(G14*'Rateio Custos'!F15)","v":0},{"$f":"abacaxi!G7+(H14*'Rateio Custos'!G15)","v":0},{"$f":"abacaxi!H7+(I14*'Rateio Custos'!H15)","v":0},{"$f":"abacaxi!I7+(J14*'Rateio Custos'!I15)","v":0},{"$f":"abacaxi!J7+(K14*'Rateio Custos'!J15)","v":0},{"$f":"abacaxi!K7+(L14*'Rateio Custos'!K15)","v":0},{"$f":"abacaxi!L7+(M14*'Rateio Custos'!L15)","v":0},{"$f":"abacaxi!M7+(N14*'Rateio Custos'!M15)","v":0},{"$f":"abacaxi!N7+(O14*'Rateio Custos'!N15)","v":0},{"$f":"abacaxi!O7+(P14*'Rateio Custos'!O15)","v":0},{"$f":"abacaxi!P7+(Q14*'Rateio Custos'!P15)","v":0},{"$f":"abacaxi!Q7+(R14*'Rateio Custos'!Q15)","v":0},{"$f":"abacaxi!R7+(S14*'Rateio Custos'!R15)","v":0},{"$f":"abacaxi!S7+(T14*'Rateio Custos'!S15)","v":0},{"$f":"abacaxi!T7+(U14*'Rateio Custos'!T15)","v":0},{"$f":"abacaxi!U7+(V14*'Rateio Custos'!U15)","v":0},{"$f":"abacaxi!V7+(W14*'Rateio Custos'!V15)","v":0},{"$f":"abacaxi!W7+(X14*'Rateio Custos'!W15)","v":0},{"$f":"abacaxi!X7+(Y14*'Rateio Custos'!X15)","v":0},{"$f":"abacaxi!Y7+(Z14*'Rateio Custos'!Y15)","v":0},{"$f":"abacaxi!Z7+(AA14*'Rateio Custos'!Z15)","v":0},{"$f":"abacaxi!AA7+(AB14*'Rateio Custos'!AA15)","v":0},{"$f":"abacaxi!AB7+(AC14*'Rateio Custos'!AB15)","v":0},{"$f":"abacaxi!AC7+(AD14*'Rateio Custos'!AC15)","v":0},{"$f":"abacaxi!AD7+(AE14*'Rateio Custos'!AD15)","v":0},{"$f":"abacaxi!AE7+(AF14*'Rateio Custos'!AE15)","v":0},{"$f":"abacaxi!AF7+(AG14*'Rateio Custos'!AF15)","v":0},{"$f":"abacaxi!AG7+(AH14*'Rateio Custos'!AG15)","v":0}]
[{"$f":"IF(LEN('Parâmetros Gerais'!B24)=0,\" \",'Parâmetros Gerais'!B24)","v":"espigas milho"},0,0,null,{"$f":"espigas!D7+(E14*'Rateio Custos'!D16)","v":0},{"$f":"espigas!E7+(F14*'Rateio Custos'!E16)","v":0},{"$f":"espigas!F7+(G14*'Rateio Custos'!F16)","v":0},{"$f":"espigas!G7+(H14*'Rateio Custos'!G16)","v":0},{"$f":"espigas!H7+(I14*'Rateio Custos'!H16)","v":0},{"$f":"espigas!I7+(J14*'Rateio Custos'!I16)","v":0},{"$f":"espigas!J7+(K14*'Rateio Custos'!J16)","v":0},{"$f":"espigas!K7+(L14*'Rateio Custos'!K16)","v":0},{"$f":"espigas!L7+(M14*'Rateio Custos'!L16)","v":0},{"$f":"espigas!M7+(N14*'Rateio Custos'!M16)","v":0},{"$f":"espigas!N7+(O14*'Rateio Custos'!N16)","v":0},{"$f":"espigas!O7+(P14*'Rateio Custos'!O16)","v":0},{"$f":"espigas!P7+(Q14*'Rateio Custos'!P16)","v":0},{"$f":"espigas!Q7+(R14*'Rateio Custos'!Q16)","v":0},{"$f":"espigas!R7+(S14*'Rateio Custos'!R16)","v":0},{"$f":"espigas!S7+(T14*'Rateio Custos'!S16)","v":0},{"$f":"espigas!T7+(U14*'Rateio Custos'!T16)","v":0},{"$f":"espigas!U7+(V14*'Rateio Custos'!U16)","v":0},{"$f":"espigas!V7+(W14*'Rateio Custos'!V16)","v":0},{"$f":"espigas!W7+(X14*'Rateio Custos'!W16)","v":0},{"$f":"espigas!X7+(Y14*'Rateio Custos'!X16)","v":0},{"$f":"espigas!Y7+(Z14*'Rateio Custos'!Y16)","v":0},{"$f":"espigas!Z7+(AA14*'Rateio Custos'!Z16)","v":0},{"$f":"espigas!AA7+(AB14*'Rateio Custos'!AA16)","v":0},{"$f":"espigas!AB7+(AC14*'Rateio Custos'!AB16)","v":0},{"$f":"espigas!AC7+(AD14*'Rateio Custos'!AC16)","v":0},{"$f":"espigas!AD7+(AE14*'Rateio Custos'!AD16)","v":0},{"$f":"espigas!AE7+(AF14*'Rateio Custos'!AE16)","v":0},{"$f":"espigas!AF7+(AG14*'Rateio Custos'!AF16)","v":0},{"$f":"espigas!AG7+(AH14*'Rateio Custos'!AG16)","v":0}]
[{"$f":"IF(LEN('Parâmetros Gerais'!B25)=0,\" \",'Parâmetros Gerais'!B25)","v":"estaca sansão do campo"},0,0,null,{"$f":"'semente caupi'!D7+(E14*'Rateio Custos'!D17)","v":0},{"$f":"'semente caupi'!E7+(F14*'Rateio Custos'!E17)","v":0},{"$f":"'semente caupi'!F7+(G14*'Rateio Custos'!F17)","v":0},{"$f":"'semente caupi'!G7+(H14*'Rateio Custos'!G17)","v":0},{"$f":"'semente caupi'!H7+(I14*'Rateio Custos'!H17)","v":0},{"$f":"'semente caupi'!I7+(J14*'Rateio Custos'!I17)","v":0},{"$f":"'semente caupi'!J7+(K14*'Rateio Custos'!J17)","v":0},{"$f":"'semente caupi'!K7+(L14*'Rateio Custos'!K17)","v":0},{"$f":"'semente caupi'!L7+(M14*'Rateio Custos'!L17)","v":0},{"$f":"'semente caupi'!M7+(N14*'Rateio Custos'!M17)","v":0},{"$f":"'semente caupi'!N7+(O14*'Rateio Custos'!N17)","v":0},{"$f":"'semente caupi'!O7+(P14*'Rateio Custos'!O17)","v":0},{"$f":"'semente caupi'!P7+(Q14*'Rateio Custos'!P17)","v":0},{"$f":"'semente caupi'!Q7+(R14*'Rateio Custos'!Q17)","v":0},{"$f":"'semente caupi'!R7+(S14*'Rateio Custos'!R17)","v":0},{"$f":"'semente caupi'!S7+(T14*'Rateio Custos'!S17)","v":0},{"$f":"'semente caupi'!T7+(U14*'Rateio Custos'!T17)","v":0},{"$f":"'semente caupi'!U7+(V14*'Rateio Custos'!U17)","v":0},{"$f":"'semente caupi'!V7+(W14*'Rateio Custos'!V17)","v":0},{"$f":"'semente caupi'!W7+(X14*'Rateio Custos'!W17)","v":0},{"$f":"'semente caupi'!X7+(Y14*'Rateio Custos'!X17)","v":0},{"$f":"'semente caupi'!Y7+(Z14*'Rateio Custos'!Y17)","v":0},{"$f":"'semente caupi'!Z7+(AA14*'Rateio Custos'!Z17)","v":0},{"$f":"'semente caupi'!AA7+(AB14*'Rateio Custos'!AA17)","v":0},{"$f":"'semente caupi'!AB7+(AC14*'Rateio Custos'!AB17)","v":0},{"$f":"'semente caupi'!AC7+(AD14*'Rateio Custos'!AC17)","v":0},{"$f":"'semente caupi'!AD7+(AE14*'Rateio Custos'!AD17)","v":0},{"$f":"'semente caupi'!AE7+(AF14*'Rateio Custos'!AE17)","v":0},{"$f":"'semente caupi'!AF7+(AG14*'Rateio Custos'!AF17)","v":0},{"$f":"'semente caupi'!AG7+(AH14*'Rateio Custos'!AG17)","v":0}]
[{"$f":"IF(LEN('Parâmetros Gerais'!B26)=0,\" \",'Parâmetros Gerais'!B26)","v":"madeira madeira nova"},0,0,null,{"$f":"biomassa!D7+(E14*'Rateio Custos'!D18)","v":0},{"$f":"biomassa!E7+(F14*'Rateio Custos'!E18)","v":0},{"$f":"biomassa!F7+(G14*'Rateio Custos'!F18)","v":0},{"$f":"biomassa!G7+(H14*'Rateio Custos'!G18)","v":0},{"$f":"biomassa!H7+(I14*'Rateio Custos'!H18)","v":0},{"$f":"biomassa!I7+(J14*'Rateio Custos'!I18)","v":0},{"$f":"biomassa!J7+(K14*'Rateio Custos'!J18)","v":0},{"$f":"biomassa!K7+(L14*'Rateio Custos'!K18)","v":0},{"$f":"biomassa!L7+(M14*'Rateio Custos'!L18)","v":0},{"$f":"biomassa!M7+(N14*'Rateio Custos'!M18)","v":0},{"$f":"biomassa!N7+(O14*'Rateio Custos'!N18)","v":0},{"$f":"biomassa!O7+(P14*'Rateio Custos'!O18)","v":0},{"$f":"biomassa!P7+(Q14*'Rateio Custos'!P18)","v":0},{"$f":"biomassa!Q7+(R14*'Rateio Custos'!Q18)","v":0},{"$f":"biomassa!R7+(S14*'Rateio Custos'!R18)","v":0},{"$f":"biomassa!S7+(T14*'Rateio Custos'!S18)","v":0},{"$f":"biomassa!T7+(U14*'Rateio Custos'!T18)","v":0},{"$f":"biomassa!U7+(V14*'Rateio Custos'!U18)","v":0},{"$f":"biomassa!V7+(W14*'Rateio Custos'!V18)","v":0},{"$f":"biomassa!W7+(X14*'Rateio Custos'!W18)","v":0},{"$f":"biomassa!X7+(Y14*'Rateio Custos'!X18)","v":0},{"$f":"biomassa!Y7+(Z14*'Rateio Custos'!Y18)","v":0},{"$f":"biomassa!Z7+(AA14*'Rateio Custos'!Z18)","v":0},{"$f":"biomassa!AA7+(AB14*'Rateio Custos'!AA18)","v":0},{"$f":"biomassa!AB7+(AC14*'Rateio Custos'!AB18)","v":0},{"$f":"biomassa!AC7+(AD14*'Rateio Custos'!AC18)","v":0},{"$f":"biomassa!AD7+(AE14*'Rateio Custos'!AD18)","v":0},{"$f":"biomassa!AE7+(AF14*'Rateio Custos'!AE18)","v":0},{"$f":"biomassa!AF7+(AG14*'Rateio Custos'!AF18)","v":0},{"$f":"biomassa!AG7+(AH14*'Rateio Custos'!AG18)","v":0}]
[{"$f":"IF(LEN('Parâmetros Gerais'!B27)=0,\" \",'Parâmetros Gerais'!B27)","v":"lenha fedegoso"},0,0,null,{"$f":"madeira!D7+(E14*'Rateio Custos'!D19)","v":0},{"$f":"madeira!E7+(F14*'Rateio Custos'!E19)","v":0},{"$f":"madeira!F7+(G14*'Rateio Custos'!F19)","v":0},{"$f":"madeira!G7+(H14*'Rateio Custos'!G19)","v":0},{"$f":"madeira!H7+(I14*'Rateio Custos'!H19)","v":0},{"$f":"madeira!I7+(J14*'Rateio Custos'!I19)","v":0},{"$f":"madeira!J7+(K14*'Rateio Custos'!J19)","v":0},{"$f":"madeira!K7+(L14*'Rateio Custos'!K19)","v":0},{"$f":"madeira!L7+(M14*'Rateio Custos'!L19)","v":0},{"$f":"madeira!M7+(N14*'Rateio Custos'!M19)","v":0},{"$f":"madeira!N7+(O14*'Rateio Custos'!N19)","v":0},{"$f":"madeira!O7+(P14*'Rateio Custos'!O19)","v":0},{"$f":"madeira!P7+(Q14*'Rateio Custos'!P19)","v":0},{"$f":"madeira!Q7+(R14*'Rateio Custos'!Q19)","v":0},{"$f":"madeira!R7+(S14*'Rateio Custos'!R19)","v":0},{"$f":"madeira!S7+(T14*'Rateio Custos'!S19)","v":0},{"$f":"madeira!T7+(U14*'Rateio Custos'!T19)","v":0},{"$f":"madeira!U7+(V14*'Rateio Custos'!U19)","v":0},{"$f":"madeira!V7+(W14*'Rateio Custos'!V19)","v":0},{"$f":"madeira!W7+(X14*'Rateio Custos'!W19)","v":0},{"$f":"madeira!X7+(Y14*'Rateio Custos'!X19)","v":0},{"$f":"madeira!Y7+(Z14*'Rateio Custos'!Y19)","v":0},{"$f":"madeira!Z7+(AA14*'Rateio Custos'!Z19)","v":0},{"$f":"madeira!AA7+(AB14*'Rateio Custos'!AA19)","v":0},{"$f":"madeira!AB7+(AC14*'Rateio Custos'!AB19)","v":0},{"$f":"madeira!AC7+(AD14*'Rateio Custos'!AC19)","v":0},{"$f":"madeira!AD7+(AE14*'Rateio Custos'!AD19)","v":0},{"$f":"madeira!AE7+(AF14*'Rateio Custos'!AE19)","v":0},{"$f":"madeira!AF7+(AG14*'Rateio Custos'!AF19)","v":0},{"$f":"madeira!AG7+(AH14*'Rateio Custos'!AG19)","v":0}]
[{"$f":"IF(LEN('Parâmetros Gerais'!B28)=0,\" \",'Parâmetros Gerais'!B28)","v":"estaca pau d'alho"},0,0,null,{"$f":"'Produto 15'!D7+(E14*'Rateio Custos'!D20)","v":0},{"$f":"'Produto 15'!E7+(F14*'Rateio Custos'!E20)","v":0},{"$f":"'Produto 15'!F7+(G14*'Rateio Custos'!F20)","v":0},{"$f":"'Produto 15'!G7+(H14*'Rateio Custos'!G20)","v":0},{"$f":"'Produto 15'!H7+(I14*'Rateio Custos'!H20)","v":0},{"$f":"'Produto 15'!I7+(J14*'Rateio Custos'!I20)","v":0},{"$f":"'Produto 15'!J7+(K14*'Rateio Custos'!J20)","v":0},{"$f":"'Produto 15'!K7+(L14*'Rateio Custos'!K20)","v":0},{"$f":"'Produto 15'!L7+(M14*'Rateio Custos'!L20)","v":0},{"$f":"'Produto 15'!M7+(N14*'Rateio Custos'!M20)","v":0},{"$f":"'Produto 15'!N7+(O14*'Rateio Custos'!N20)","v":0},{"$f":"'Produto 15'!O7+(P14*'Rateio Custos'!O20)","v":0},{"$f":"'Produto 15'!P7+(Q14*'Rateio Custos'!P20)","v":0},{"$f":"'Produto 15'!Q7+(R14*'Rateio Custos'!Q20)","v":0},{"$f":"'Produto 15'!R7+(S14*'Rateio Custos'!R20)","v":0},{"$f":"'Produto 15'!S7+(T14*'Rateio Custos'!S20)","v":0},{"$f":"'Produto 15'!T7+(U14*'Rateio Custos'!T20)","v":0},{"$f":"'Produto 15'!U7+(V14*'Rateio Custos'!U20)","v":0},{"$f":"'Produto 15'!V7+(W14*'Rateio Custos'!V20)","v":0},{"$f":"'Produto 15'!W7+(X14*'Rateio Custos'!W20)","v":0},{"$f":"'Produto 15'!X7+(Y14*'Rateio Custos'!X20)","v":0},{"$f":"'Produto 15'!Y7+(Z14*'Rateio Custos'!Y20)","v":0},{"$f":"'Produto 15'!Z7+(AA14*'Rateio Custos'!Z20)","v":0},{"$f":"'Produto 15'!AA7+(AB14*'Rateio Custos'!AA20)","v":0},{"$f":"'Produto 15'!AB7+(AC14*'Rateio Custos'!AB20)","v":0},{"$f":"'Produto 15'!AC7+(AD14*'Rateio Custos'!AC20)","v":0},{"$f":"'Produto 15'!AD7+(AE14*'Rateio Custos'!AD20)","v":0},{"$f":"'Produto 15'!AE7+(AF14*'Rateio Custos'!AE20)","v":0},{"$f":"'Produto 15'!AF7+(AG14*'Rateio Custos'!AF20)","v":0},{"$f":"'Produto 15'!AG7+(AH14*'Rateio Custos'!AG20)","v":0}]
[{"$f":"IF(LEN('Parâmetros Gerais'!B29)=0,\" \",'Parâmetros Gerais'!B29)","v":"caixotaria boleira"},0,0,null,{"$f":"'Produto 16'!D7+(E14*'Rateio Custos'!D21)","v":0},{"$f":"'Produto 16'!E7+(F14*'Rateio Custos'!E21)","v":0},{"$f":"'Produto 16'!F7+(G14*'Rateio Custos'!F21)","v":0},{"$f":"'Produto 16'!G7+(H14*'Rateio Custos'!G21)","v":0},{"$f":"'Produto 16'!H7+(I14*'Rateio Custos'!H21)","v":0},{"$f":"'Produto 16'!I7+(J14*'Rateio Custos'!I21)","v":0},{"$f":"'Produto 16'!J7+(K14*'Rateio Custos'!J21)","v":0},{"$f":"'Produto 16'!K7+(L14*'Rateio Custos'!K21)","v":0},{"$f":"'Produto 16'!L7+(M14*'Rateio Custos'!L21)","v":0},{"$f":"'Produto 16'!M7+(N14*'Rateio Custos'!M21)","v":0},{"$f":"'Produto 16'!N7+(O14*'Rateio Custos'!N21)","v":0},{"$f":"'Produto 16'!O7+(P14*'Rateio Custos'!O21)","v":0},{"$f":"'Produto 16'!P7+(Q14*'Rateio Custos'!P21)","v":0},{"$f":"'Produto 16'!Q7+(R14*'Rateio Custos'!Q21)","v":0},{"$f":"'Produto 16'!R7+(S14*'Rateio Custos'!R21)","v":0},{"$f":"'Produto 16'!S7+(T14*'Rateio Custos'!S21)","v":0},{"$f":"'Produto 16'!T7+(U14*'Rateio Custos'!T21)","v":0},{"$f":"'Produto 16'!U7+(V14*'Rateio Custos'!U21)","v":0},{"$f":"'Produto 16'!V7+(W14*'Rateio Custos'!V21)","v":0},{"$f":"'Produto 16'!W7+(X14*'Rateio Custos'!W21)","v":0},{"$f":"'Produto 16'!X7+(Y14*'Rateio Custos'!X21)","v":0},{"$f":"'Produto 16'!Y7+(Z14*'Rateio Custos'!Y21)","v":0},{"$f":"'Produto 16'!Z7+(AA14*'Rateio Custos'!Z21)","v":0},{"$f":"'Produto 16'!AA7+(AB14*'Rateio Custos'!AA21)","v":0},{"$f":"'Produto 16'!AB7+(AC14*'Rateio Custos'!AB21)","v":0},{"$f":"'Produto 16'!AC7+(AD14*'Rateio Custos'!AC21)","v":0},{"$f":"'Produto 16'!AD7+(AE14*'Rateio Custos'!AD21)","v":0},{"$f":"'Produto 16'!AE7+(AF14*'Rateio Custos'!AE21)","v":0},{"$f":"'Produto 16'!AF7+(AG14*'Rateio Custos'!AF21)","v":0},{"$f":"'Produto 16'!AG7+(AH14*'Rateio Custos'!AG21)","v":0}]
[{"$f":"IF(LEN('Parâmetros Gerais'!B30)=0,\" \",'Parâmetros Gerais'!B30)","v":"madeira angico roxo"},{"$f":"IF(C33<>0,C33/$C$12,0)","v":0},{"$f":"SUM(D33:AH33)","v":0},null,{"$f":"'Produto 17'!D7+(E14*'Rateio Custos'!D22)","v":0},{"$f":"'Produto 17'!E7+(F14*'Rateio Custos'!E22)","v":0},{"$f":"'Produto 17'!F7+(G14*'Rateio Custos'!F22)","v":0},{"$f":"'Produto 17'!G7+(H14*'Rateio Custos'!G22)","v":0},{"$f":"'Produto 17'!H7+(I14*'Rateio Custos'!H22)","v":0},{"$f":"'Produto 17'!I7+(J14*'Rateio Custos'!I22)","v":0},{"$f":"'Produto 17'!J7+(K14*'Rateio Custos'!J22)","v":0},{"$f":"'Produto 17'!K7+(L14*'Rateio Custos'!K22)","v":0},{"$f":"'Produto 17'!L7+(M14*'Rateio Custos'!L22)","v":0},{"$f":"'Produto 17'!M7+(N14*'Rateio Custos'!M22)","v":0},{"$f":"'Produto 17'!N7+(O14*'Rateio Custos'!N22)","v":0},{"$f":"'Produto 17'!O7+(P14*'Rateio Custos'!O22)","v":0},{"$f":"'Produto 17'!P7+(Q14*'Rateio Custos'!P22)","v":0},{"$f":"'Produto 17'!Q7+(R14*'Rateio Custos'!Q22)","v":0},{"$f":"'Produto 17'!R7+(S14*'Rateio Custos'!R22)","v":0},{"$f":"'Produto 17'!S7+(T14*'Rateio Custos'!S22)","v":0},{"$f":"'Produto 17'!T7+(U14*'Rateio Custos'!T22)","v":0},{"$f":"'Produto 17'!U7+(V14*'Rateio Custos'!U22)","v":0},{"$f":"'Produto 17'!V7+(W14*'Rateio Custos'!V22)","v":0},{"$f":"'Produto 17'!W7+(X14*'Rateio Custos'!W22)","v":0},{"$f":"'Produto 17'!X7+(Y14*'Rateio Custos'!X22)","v":0},{"$f":"'Produto 17'!Y7+(Z14*'Rateio Custos'!Y22)","v":0},{"$f":"'Produto 17'!Z7+(AA14*'Rateio Custos'!Z22)","v":0},{"$f":"'Produto 17'!AA7+(AB14*'Rateio Custos'!AA22)","v":0},{"$f":"'Produto 17'!AB7+(AC14*'Rateio Custos'!AB22)","v":0},{"$f":"'Produto 17'!AC7+(AD14*'Rateio Custos'!AC22)","v":0},{"$f":"'Produto 17'!AD7+(AE14*'Rateio Custos'!AD22)","v":0},{"$f":"'Produto 17'!AE7+(AF14*'Rateio Custos'!AE22)","v":0},{"$f":"'Produto 17'!AF7+(AG14*'Rateio Custos'!AF22)","v":0},{"$f":"'Produto 17'!AG7+(AH14*'Rateio Custos'!AG22)","v":0}]
[{"$f":"IF(LEN('Parâmetros Gerais'!B31)=0,\" \",'Parâmetros Gerais'!B31)","v":"madeira ipê roxo"},0,0,null,{"$f":"'Produto 18'!D7+(E14*'Rateio Custos'!D23)","v":0},{"$f":"'Produto 18'!E7+(F14*'Rateio Custos'!E23)","v":0},{"$f":"'Produto 18'!F7+(G14*'Rateio Custos'!F23)","v":0},{"$f":"'Produto 18'!G7+(H14*'Rateio Custos'!G23)","v":0},{"$f":"'Produto 18'!H7+(I14*'Rateio Custos'!H23)","v":0},{"$f":"'Produto 18'!I7+(J14*'Rateio Custos'!I23)","v":0},{"$f":"'Produto 18'!J7+(K14*'Rateio Custos'!J23)","v":0},{"$f":"'Produto 18'!K7+(L14*'Rateio Custos'!K23)","v":0},{"$f":"'Produto 18'!L7+(M14*'Rateio Custos'!L23)","v":0},{"$f":"'Produto 18'!M7+(N14*'Rateio Custos'!M23)","v":0},{"$f":"'Produto 18'!N7+(O14*'Rateio Custos'!N23)","v":0},{"$f":"'Produto 18'!O7+(P14*'Rateio Custos'!O23)","v":0},{"$f":"'Produto 18'!P7+(Q14*'Rateio Custos'!P23)","v":0},{"$f":"'Produto 18'!Q7+(R14*'Rateio Custos'!Q23)","v":0},{"$f":"'Produto 18'!R7+(S14*'Rateio Custos'!R23)","v":0},{"$f":"'Produto 18'!S7+(T14*'Rateio Custos'!S23)","v":0},{"$f":"'Produto 18'!T7+(U14*'Rateio Custos'!T23)","v":0},{"$f":"'Produto 18'!U7+(V14*'Rateio Custos'!U23)","v":0},{"$f":"'Produto 18'!V7+(W14*'Rateio Custos'!V23)","v":0},{"$f":"'Produto 18'!W7+(X14*'Rateio Custos'!W23)","v":0},{"$f":"'Produto 18'!X7+(Y14*'Rateio Custos'!X23)","v":0},{"$f":"'Produto 18'!Y7+(Z14*'Rateio Custos'!Y23)","v":0},{"$f":"'Produto 18'!Z7+(AA14*'Rateio Custos'!Z23)","v":0},{"$f":"'Produto 18'!AA7+(AB14*'Rateio Custos'!AA23)","v":0},{"$f":"'Produto 18'!AB7+(AC14*'Rateio Custos'!AB23)","v":0},{"$f":"'Produto 18'!AC7+(AD14*'Rateio Custos'!AC23)","v":0},{"$f":"'Produto 18'!AD7+(AE14*'Rateio Custos'!AD23)","v":0},{"$f":"'Produto 18'!AE7+(AF14*'Rateio Custos'!AE23)","v":0},{"$f":"'Produto 18'!AF7+(AG14*'Rateio Custos'!AF23)","v":0},{"$f":"'Produto 18'!AG7+(AH14*'Rateio Custos'!AG23)","v":0}]
[{"$f":"IF(LEN('Parâmetros Gerais'!B32)=0,\" \",'Parâmetros Gerais'!B32)","v":"madeira ipê amarelo"},0,0,null,{"$f":"'Produto 19'!D7+(E14*'Rateio Custos'!D24)","v":0},{"$f":"'Produto 19'!E7+(F14*'Rateio Custos'!E24)","v":0},{"$f":"'Produto 19'!F7+(G14*'Rateio Custos'!F24)","v":0},{"$f":"'Produto 19'!G7+(H14*'Rateio Custos'!G24)","v":0},{"$f":"'Produto 19'!H7+(I14*'Rateio Custos'!H24)","v":0},{"$f":"'Produto 19'!I7+(J14*'Rateio Custos'!I24)","v":0},{"$f":"'Produto 19'!J7+(K14*'Rateio Custos'!J24)","v":0},{"$f":"'Produto 19'!K7+(L14*'Rateio Custos'!K24)","v":0},{"$f":"'Produto 19'!L7+(M14*'Rateio Custos'!L24)","v":0},{"$f":"'Produto 19'!M7+(N14*'Rateio Custos'!M24)","v":0},{"$f":"'Produto 19'!N7+(O14*'Rateio Custos'!N24)","v":0},{"$f":"'Produto 19'!O7+(P14*'Rateio Custos'!O24)","v":0},{"$f":"'Produto 19'!P7+(Q14*'Rateio Custos'!P24)","v":0},{"$f":"'Produto 19'!Q7+(R14*'Rateio Custos'!Q24)","v":0},{"$f":"'Produto 19'!R7+(S14*'Rateio Custos'!R24)","v":0},{"$f":"'Produto 19'!S7+(T14*'Rateio Custos'!S24)","v":0},{"$f":"'Produto 19'!T7+(U14*'Rateio Custos'!T24)","v":0},{"$f":"'Produto 19'!U7+(V14*'Rateio Custos'!U24)","v":0},{"$f":"'Produto 19'!V7+(W14*'Rateio Custos'!V24)","v":0},{"$f":"'Produto 19'!W7+(X14*'Rateio Custos'!W24)","v":0},{"$f":"'Produto 19'!X7+(Y14*'Rateio Custos'!X24)","v":0},{"$f":"'Produto 19'!Y7+(Z14*'Rateio Custos'!Y24)","v":0},{"$f":"'Produto 19'!Z7+(AA14*'Rateio Custos'!Z24)","v":0},{"$f":"'Produto 19'!AA7+(AB14*'Rateio Custos'!AA24)","v":0},{"$f":"'Produto 19'!AB7+(AC14*'Rateio Custos'!AB24)","v":0},{"$f":"'Produto 19'!AC7+(AD14*'Rateio Custos'!AC24)","v":0},{"$f":"'Produto 19'!AD7+(AE14*'Rateio Custos'!AD24)","v":0},{"$f":"'Produto 19'!AE7+(AF14*'Rateio Custos'!AE24)","v":0},{"$f":"'Produto 19'!AF7+(AG14*'Rateio Custos'!AF24)","v":0},{"$f":"'Produto 19'!AG7+(AH14*'Rateio Custos'!AG24)","v":0}]
[{"$f":"IF(LEN('Parâmetros Gerais'!B33)=0,\" \",'Parâmetros Gerais'!B33)","v":"madeira gonçalo alves"},0,0,null,{"$f":"'Produto 20'!D7+(E14*'Rateio Custos'!D25)","v":0},{"$f":"'Produto 20'!E7+(F14*'Rateio Custos'!E25)","v":0},{"$f":"'Produto 20'!F7+(G14*'Rateio Custos'!F25)","v":0},{"$f":"'Produto 20'!G7+(H14*'Rateio Custos'!G25)","v":0},{"$f":"'Produto 20'!H7+(I14*'Rateio Custos'!H25)","v":0},{"$f":"'Produto 20'!I7+(J14*'Rateio Custos'!I25)","v":0},{"$f":"'Produto 20'!J7+(K14*'Rateio Custos'!J25)","v":0},{"$f":"'Produto 20'!K7+(L14*'Rateio Custos'!K25)","v":0},{"$f":"'Produto 20'!L7+(M14*'Rateio Custos'!L25)","v":0},{"$f":"'Produto 20'!M7+(N14*'Rateio Custos'!M25)","v":0},{"$f":"'Produto 20'!N7+(O14*'Rateio Custos'!N25)","v":0},{"$f":"'Produto 20'!O7+(P14*'Rateio Custos'!O25)","v":0},{"$f":"'Produto 20'!P7+(Q14*'Rateio Custos'!P25)","v":0},{"$f":"'Produto 20'!Q7+(R14*'Rateio Custos'!Q25)","v":0},{"$f":"'Produto 20'!R7+(S14*'Rateio Custos'!R25)","v":0},{"$f":"'Produto 20'!S7+(T14*'Rateio Custos'!S25)","v":0},{"$f":"'Produto 20'!T7+(U14*'Rateio Custos'!T25)","v":0},{"$f":"'Produto 20'!U7+(V14*'Rateio Custos'!U25)","v":0},{"$f":"'Produto 20'!V7+(W14*'Rateio Custos'!V25)","v":0},{"$f":"'Produto 20'!W7+(X14*'Rateio Custos'!W25)","v":0},{"$f":"'Produto 20'!X7+(Y14*'Rateio Custos'!X25)","v":0},{"$f":"'Produto 20'!Y7+(Z14*'Rateio Custos'!Y25)","v":0},{"$f":"'Produto 20'!Z7+(AA14*'Rateio Custos'!Z25)","v":0},{"$f":"'Produto 20'!AA7+(AB14*'Rateio Custos'!AA25)","v":0},{"$f":"'Produto 20'!AB7+(AC14*'Rateio Custos'!AB25)","v":0},{"$f":"'Produto 20'!AC7+(AD14*'Rateio Custos'!AC25)","v":0},{"$f":"'Produto 20'!AD7+(AE14*'Rateio Custos'!AD25)","v":0},{"$f":"'Produto 20'!AE7+(AF14*'Rateio Custos'!AE25)","v":0},{"$f":"'Produto 20'!AF7+(AG14*'Rateio Custos'!AF25)","v":0},{"$f":"'Produto 20'!AG7+(AH14*'Rateio Custos'!AG25)","v":0}]
[{"$f":"IF(LEN('Parâmetros Gerais'!B34)=0,\" \",'Parâmetros Gerais'!B34)","v":"madeira vinhatico"},0,0,null,{"$f":"'Produto 21'!D7+(E14*'Rateio Custos'!D26)","v":0},{"$f":"'Produto 21'!E7+(F14*'Rateio Custos'!E26)","v":0},{"$f":"'Produto 21'!F7+(G14*'Rateio Custos'!F26)","v":0},{"$f":"'Produto 21'!G7+(H14*'Rateio Custos'!G26)","v":0},{"$f":"'Produto 21'!H7+(I14*'Rateio Custos'!H26)","v":0},{"$f":"'Produto 21'!I7+(J14*'Rateio Custos'!I26)","v":0},{"$f":"'Produto 21'!J7+(K14*'Rateio Custos'!J26)","v":0},{"$f":"'Produto 21'!K7+(L14*'Rateio Custos'!K26)","v":0},{"$f":"'Produto 21'!L7+(M14*'Rateio Custos'!L26)","v":0},{"$f":"'Produto 21'!M7+(N14*'Rateio Custos'!M26)","v":0},{"$f":"'Produto 21'!N7+(O14*'Rateio Custos'!N26)","v":0},{"$f":"'Produto 21'!O7+(P14*'Rateio Custos'!O26)","v":0},{"$f":"'Produto 21'!P7+(Q14*'Rateio Custos'!P26)","v":0},{"$f":"'Produto 21'!Q7+(R14*'Rateio Custos'!Q26)","v":0},{"$f":"'Produto 21'!R7+(S14*'Rateio Custos'!R26)","v":0},{"$f":"'Produto 21'!S7+(T14*'Rateio Custos'!S26)","v":0},{"$f":"'Produto 21'!T7+(U14*'Rateio Custos'!T26)","v":0},{"$f":"'Produto 21'!U7+(V14*'Rateio Custos'!U26)","v":0},{"$f":"'Produto 21'!V7+(W14*'Rateio Custos'!V26)","v":0},{"$f":"'Produto 21'!W7+(X14*'Rateio Custos'!W26)","v":0},{"$f":"'Produto 21'!X7+(Y14*'Rateio Custos'!X26)","v":0},{"$f":"'Produto 21'!Y7+(Z14*'Rateio Custos'!Y26)","v":0},{"$f":"'Produto 21'!Z7+(AA14*'Rateio Custos'!Z26)","v":0},{"$f":"'Produto 21'!AA7+(AB14*'Rateio Custos'!AA26)","v":0},{"$f":"'Produto 21'!AB7+(AC14*'Rateio Custos'!AB26)","v":0},{"$f":"'Produto 21'!AC7+(AD14*'Rateio Custos'!AC26)","v":0},{"$f":"'Produto 21'!AD7+(AE14*'Rateio Custos'!AD26)","v":0},{"$f":"'Produto 21'!AE7+(AF14*'Rateio Custos'!AE26)","v":0},{"$f":"'Produto 21'!AF7+(AG14*'Rateio Custos'!AF26)","v":0},{"$f":"'Produto 21'!AG7+(AH14*'Rateio Custos'!AG26)","v":0}]
[{"$f":"IF(LEN('Parâmetros Gerais'!B35)=0,\" \",'Parâmetros Gerais'!B35)","v":"madeira jequitiba"},0,0,null,{"$f":"'Produto 22'!D7+(E14*'Rateio Custos'!D27)","v":0},{"$f":"'Produto 22'!E7+(F14*'Rateio Custos'!E27)","v":0},{"$f":"'Produto 22'!F7+(G14*'Rateio Custos'!F27)","v":0},{"$f":"'Produto 22'!G7+(H14*'Rateio Custos'!G27)","v":0},{"$f":"'Produto 22'!H7+(I14*'Rateio Custos'!H27)","v":0},{"$f":"'Produto 22'!I7+(J14*'Rateio Custos'!I27)","v":0},{"$f":"'Produto 22'!J7+(K14*'Rateio Custos'!J27)","v":0},{"$f":"'Produto 22'!K7+(L14*'Rateio Custos'!K27)","v":0},{"$f":"'Produto 22'!L7+(M14*'Rateio Custos'!L27)","v":0},{"$f":"'Produto 22'!M7+(N14*'Rateio Custos'!M27)","v":0},{"$f":"'Produto 22'!N7+(O14*'Rateio Custos'!N27)","v":0},{"$f":"'Produto 22'!O7+(P14*'Rateio Custos'!O27)","v":0},{"$f":"'Produto 22'!P7+(Q14*'Rateio Custos'!P27)","v":0},{"$f":"'Produto 22'!Q7+(R14*'Rateio Custos'!Q27)","v":0},{"$f":"'Produto 22'!R7+(S14*'Rateio Custos'!R27)","v":0},{"$f":"'Produto 22'!S7+(T14*'Rateio Custos'!S27)","v":0},{"$f":"'Produto 22'!T7+(U14*'Rateio Custos'!T27)","v":0},{"$f":"'Produto 22'!U7+(V14*'Rateio Custos'!U27)","v":0},{"$f":"'Produto 22'!V7+(W14*'Rateio Custos'!V27)","v":0},{"$f":"'Produto 22'!W7+(X14*'Rateio Custos'!W27)","v":0},{"$f":"'Produto 22'!X7+(Y14*'Rateio Custos'!X27)","v":0},{"$f":"'Produto 22'!Y7+(Z14*'Rateio Custos'!Y27)","v":0},{"$f":"'Produto 22'!Z7+(AA14*'Rateio Custos'!Z27)","v":0},{"$f":"'Produto 22'!AA7+(AB14*'Rateio Custos'!AA27)","v":0},{"$f":"'Produto 22'!AB7+(AC14*'Rateio Custos'!AB27)","v":0},{"$f":"'Produto 22'!AC7+(AD14*'Rateio Custos'!AC27)","v":0},{"$f":"'Produto 22'!AD7+(AE14*'Rateio Custos'!AD27)","v":0},{"$f":"'Produto 22'!AE7+(AF14*'Rateio Custos'!AE27)","v":0},{"$f":"'Produto 22'!AF7+(AG14*'Rateio Custos'!AF27)","v":0},{"$f":"'Produto 22'!AG7+(AH14*'Rateio Custos'!AG27)","v":0}]
[{"$f":"IF(LEN('Parâmetros Gerais'!B36)=0,\" \",'Parâmetros Gerais'!B36)","v":"biomassa"},0,0,null,{"$f":"'Produto 23'!D7+(E14*'Rateio Custos'!D28)","v":0},{"$f":"'Produto 23'!E7+(F14*'Rateio Custos'!E28)","v":0},{"$f":"'Produto 23'!F7+(G14*'Rateio Custos'!F28)","v":0},{"$f":"'Produto 23'!G7+(H14*'Rateio Custos'!G28)","v":0},{"$f":"'Produto 23'!H7+(I14*'Rateio Custos'!H28)","v":0},{"$f":"'Produto 23'!I7+(J14*'Rateio Custos'!I28)","v":0},{"$f":"'Produto 23'!J7+(K14*'Rateio Custos'!J28)","v":0},{"$f":"'Produto 23'!K7+(L14*'Rateio Custos'!K28)","v":0},{"$f":"'Produto 23'!L7+(M14*'Rateio Custos'!L28)","v":0},{"$f":"'Produto 23'!M7+(N14*'Rateio Custos'!M28)","v":0},{"$f":"'Produto 23'!N7+(O14*'Rateio Custos'!N28)","v":0},{"$f":"'Produto 23'!O7+(P14*'Rateio Custos'!O28)","v":0},{"$f":"'Produto 23'!P7+(Q14*'Rateio Custos'!P28)","v":0},{"$f":"'Produto 23'!Q7+(R14*'Rateio Custos'!Q28)","v":0},{"$f":"'Produto 23'!R7+(S14*'Rateio Custos'!R28)","v":0},{"$f":"'Produto 23'!S7+(T14*'Rateio Custos'!S28)","v":0},{"$f":"'Produto 23'!T7+(U14*'Rateio Custos'!T28)","v":0},{"$f":"'Produto 23'!U7+(V14*'Rateio Custos'!U28)","v":0},{"$f":"'Produto 23'!V7+(W14*'Rateio Custos'!V28)","v":0},{"$f":"'Produto 23'!W7+(X14*'Rateio Custos'!W28)","v":0},{"$f":"'Produto 23'!X7+(Y14*'Rateio Custos'!X28)","v":0},{"$f":"'Produto 23'!Y7+(Z14*'Rateio Custos'!Y28)","v":0},{"$f":"'Produto 23'!Z7+(AA14*'Rateio Custos'!Z28)","v":0},{"$f":"'Produto 23'!AA7+(AB14*'Rateio Custos'!AA28)","v":0},{"$f":"'Produto 23'!AB7+(AC14*'Rateio Custos'!AB28)","v":0},{"$f":"'Produto 23'!AC7+(AD14*'Rateio Custos'!AC28)","v":0},{"$f":"'Produto 23'!AD7+(AE14*'Rateio Custos'!AD28)","v":0},{"$f":"'Produto 23'!AE7+(AF14*'Rateio Custos'!AE28)","v":0},{"$f":"'Produto 23'!AF7+(AG14*'Rateio Custos'!AF28)","v":0},{"$f":"'Produto 23'!AG7+(AH14*'Rateio Custos'!AG28)","v":0}]
[{"$f":"IF(LEN('Parâmetros Gerais'!B37)=0,\" \",'Parâmetros Gerais'!B37)","v":"grão caupi"},{"$f":"IF(C40<>0,C40/$C$12,0)","v":0},{"$f":"SUM(D40:AH40)","v":0},null,{"$f":"'Produto 24'!D7+(E14*'Rateio Custos'!D29)","v":0},{"$f":"'Produto 24'!E7+(F14*'Rateio Custos'!E29)","v":0},{"$f":"'Produto 24'!F7+(G14*'Rateio Custos'!F29)","v":0},{"$f":"'Produto 24'!G7+(H14*'Rateio Custos'!G29)","v":0},{"$f":"'Produto 24'!H7+(I14*'Rateio Custos'!H29)","v":0},{"$f":"'Produto 24'!I7+(J14*'Rateio Custos'!I29)","v":0},{"$f":"'Produto 24'!J7+(K14*'Rateio Custos'!J29)","v":0},{"$f":"'Produto 24'!K7+(L14*'Rateio Custos'!K29)","v":0},{"$f":"'Produto 24'!L7+(M14*'Rateio Custos'!L29)","v":0},{"$f":"'Produto 24'!M7+(N14*'Rateio Custos'!M29)","v":0},{"$f":"'Produto 24'!N7+(O14*'Rateio Custos'!N29)","v":0},{"$f":"'Produto 24'!O7+(P14*'Rateio Custos'!O29)","v":0},{"$f":"'Produto 24'!P7+(Q14*'Rateio Custos'!P29)","v":0},{"$f":"'Produto 24'!Q7+(R14*'Rateio Custos'!Q29)","v":0},{"$f":"'Produto 24'!R7+(S14*'Rateio Custos'!R29)","v":0},{"$f":"'Produto 24'!S7+(T14*'Rateio Custos'!S29)","v":0},{"$f":"'Produto 24'!T7+(U14*'Rateio Custos'!T29)","v":0},{"$f":"'Produto 24'!U7+(V14*'Rateio Custos'!U29)","v":0},{"$f":"'Produto 24'!V7+(W14*'Rateio Custos'!V29)","v":0},{"$f":"'Produto 24'!W7+(X14*'Rateio Custos'!W29)","v":0},{"$f":"'Produto 24'!X7+(Y14*'Rateio Custos'!X29)","v":0},{"$f":"'Produto 24'!Y7+(Z14*'Rateio Custos'!Y29)","v":0},{"$f":"'Produto 24'!Z7+(AA14*'Rateio Custos'!Z29)","v":0},{"$f":"'Produto 24'!AA7+(AB14*'Rateio Custos'!AA29)","v":0},{"$f":"'Produto 24'!AB7+(AC14*'Rateio Custos'!AB29)","v":0},{"$f":"'Produto 24'!AC7+(AD14*'Rateio Custos'!AC29)","v":0},{"$f":"'Produto 24'!AD7+(AE14*'Rateio Custos'!AD29)","v":0},{"$f":"'Produto 24'!AE7+(AF14*'Rateio Custos'!AE29)","v":0},{"$f":"'Produto 24'!AF7+(AG14*'Rateio Custos'!AF29)","v":0},{"$f":"'Produto 24'!AG7+(AH14*'Rateio Custos'!AG29)","v":0}]
[]
["Custos de Insumos",{"$f":"C42/$C$10","v":{"$error":"#DIV/0!"}},{"$f":"SUM(D42:AH42)","v":0},{"$f":"D44","v":0},{"$f":"SUM(E47:E70)","v":0},0,0,0,0,0,0,0,0,0,0,0,0,0,0,0,0,0,0,0,0,0,0,0,0,0,0,0,0,0]
[]
["Insumos Gerais",null,null,{"$f":"'Preparo e Gerais'!D20","v":0},{"$f":"'Preparo e Gerais'!E20","v":0},{"$f":"'Preparo e Gerais'!F20","v":0},{"$f":"'Preparo e Gerais'!G20","v":0},{"$f":"'Preparo e Gerais'!H20","v":0},{"$f":"'Preparo e Gerais'!I20","v":0},{"$f":"'Preparo e Gerais'!J20","v":0},{"$f":"'Preparo e Gerais'!K20","v":0},{"$f":"'Preparo e Gerais'!L20","v":0},{"$f":"'Preparo e Gerais'!M20","v":0},{"$f":"'Preparo e Gerais'!N20","v":0},{"$f":"'Preparo e Gerais'!O20","v":0},{"$f":"'Preparo e Gerais'!P20","v":0},{"$f":"'Preparo e Gerais'!Q20","v":0},{"$f":"'Preparo e Gerais'!R20","v":0},{"$f":"'Preparo e Gerais'!S20","v":0},{"$f":"'Preparo e Gerais'!T20","v":0},{"$f":"'Preparo e Gerais'!U20","v":0},{"$f":"'Preparo e Gerais'!V20","v":0},{"$f":"'Preparo e Gerais'!W20","v":0},{"$f":"'Preparo e Gerais'!X20","v":0},{"$f":"'Preparo e Gerais'!Y20","v":0},{"$f":"'Preparo e Gerais'!Z20","v":0},{"$f":"'Preparo e Gerais'!AA20","v":0},{"$f":"'Preparo e Gerais'!AB20","v":0},{"$f":"'Preparo e Gerais'!AC20","v":0},{"$f":"'Preparo e Gerais'!AD20","v":0},{"$f":"'Preparo e Gerais'!AE20","v":0},{"$f":"'Preparo e Gerais'!AF20","v":0},{"$f":"'Preparo e Gerais'!AG20","v":0},{"$f":"'Preparo e Gerais'!AH20","v":0}]
[]
["Culturas"]
[{"$f":"IF(LEN('Parâmetros Gerais'!B14)=0,\" \",'Parâmetros Gerais'!B14)","v":"latex"},{"$f":"IF(C47<>0,C47/$C$12,0)","v":0},{"$f":"SUM(D47:AH47)","v":0},null,{"$f":"latex!D24+(E44*Descrição!$P$12)","v":0},{"$f":"latex!E24+(F44*Descrição!$P$12)","v":0},{"$f":"latex!F24+(G44*Descrição!$P$12)","v":0},{"$f":"latex!G24+(H44*Descrição!$P$12)","v":0},{"$f":"latex!H24+(I44*Descrição!$P$12)","v":0},{"$f":"latex!I24+(J44*Descrição!$P$12)","v":0},{"$f":"latex!J24+(K44*Descrição!$P$12)","v":0},{"$f":"latex!K24+(L44*Descrição!$P$12)","v":0},{"$f":"latex!L24+(M44*Descrição!$P$12)","v":0},{"$f":"latex!M24+(N44*Descrição!$P$12)","v":0},{"$f":"latex!N24+(O44*Descrição!$P$12)","v":0},{"$f":"latex!O24+(P44*Descrição!$P$12)","v":0},{"$f":"latex!P24+(Q44*Descrição!$P$12)","v":0},{"$f":"latex!Q24+(R44*Descrição!$P$12)","v":0},{"$f":"latex!R24+(S44*Descrição!$P$12)","v":0},{"$f":"latex!S24+(T44*Descrição!$P$12)","v":0},{"$f":"latex!T24+(U44*Descrição!$P$12)","v":0},{"$f":"latex!U24+(V44*Descrição!$P$12)","v":0},{"$f":"latex!V24+(W44*Descrição!$P$12)","v":0},{"$f":"latex!W24+(X44*Descrição!$P$12)","v":0},{"$f":"latex!X24+(Y44*Descrição!$P$12)","v":0},{"$f":"latex!Y24+(Z44*Descrição!$P$12)","v":0},{"$f":"latex!Z24+(AA44*Descrição!$P$12)","v":0},{"$f":"latex!AA24+(AB44*Descrição!$P$12)","v":0},{"$f":"latex!AB24+(AC44*Descrição!$P$12)","v":0},{"$f":"latex!AC24+(AD44*Descrição!$P$12)","v":0},{"$f":"latex!AD24+(AE44*Descrição!$P$12)","v":0},{"$f":"latex!AE24+(AF44*Descrição!$P$12)","v":0},{"$f":"latex!AF24+(AG44*Descrição!$P$12)","v":0},{"$f":"latex!AG24+(AH44*Descrição!$P$12)","v":0}]
[{"$f":"IF(LEN('Parâmetros Gerais'!B15)=0,\" \",'Parâmetros Gerais'!B15)","v":"fruto genipapo"},0,0,null,{"$f":"'fruto genipapo'!D24+(E44*Descrição!$P$13)","v":0},{"$f":"'fruto genipapo'!E24+(F44*Descrição!$P$13)","v":0},{"$f":"'fruto genipapo'!F24+(G44*Descrição!$P$13)","v":0},{"$f":"'fruto genipapo'!G24+(H44*Descrição!$P$13)","v":0},{"$f":"'fruto genipapo'!H24+(I44*Descrição!$P$13)","v":0},{"$f":"'fruto genipapo'!I24+(J44*Descrição!$P$13)","v":0},{"$f":"'fruto genipapo'!J24+(K44*Descrição!$P$13)","v":0},{"$f":"'fruto genipapo'!K24+(L44*Descrição!$P$13)","v":0},{"$f":"'fruto genipapo'!L24+(M44*Descrição!$P$13)","v":0},{"$f":"'fruto genipapo'!M24+(N44*Descrição!$P$13)","v":0},{"$f":"'fruto genipapo'!N24+(O44*Descrição!$P$13)","v":0},{"$f":"'fruto genipapo'!O24+(P44*Descrição!$P$13)","v":0},{"$f":"'fruto genipapo'!P24+(Q44*Descrição!$P$13)","v":0},{"$f":"'fruto genipapo'!Q24+(R44*Descrição!$P$13)","v":0},{"$f":"'fruto genipapo'!R24+(S44*Descrição!$P$13)","v":0},{"$f":"'fruto genipapo'!S24+(T44*Descrição!$P$13)","v":0},{"$f":"'fruto genipapo'!T24+(U44*Descrição!$P$13)","v":0},{"$f":"'fruto genipapo'!U24+(V44*Descrição!$P$13)","v":0},{"$f":"'fruto genipapo'!V24+(W44*Descrição!$P$13)","v":0},{"$f":"'fruto genipapo'!W24+(X44*Descrição!$P$13)","v":0},{"$f":"'fruto genipapo'!X24+(Y44*Descrição!$P$13)","v":0},{"$f":"'fruto genipapo'!Y24+(Z44*Descrição!$P$13)","v":0},{"$f":"'fruto genipapo'!Z24+(AA44*Descrição!$P$13)","v":0},{"$f":"'fruto genipapo'!AA24+(AB44*Descrição!$P$13)","v":0},{"$f":"'fruto genipapo'!AB24+(AC44*Descrição!$P$13)","v":0},{"$f":"'fruto genipapo'!AC24+(AD44*Descrição!$P$13)","v":0},{"$f":"'fruto genipapo'!AD24+(AE44*Descrição!$P$13)","v":0},{"$f":"'fruto genipapo'!AE24+(AF44*Descrição!$P$13)","v":0},{"$f":"'fruto genipapo'!AF24+(AG44*Descrição!$P$13)","v":0},{"$f":"'fruto genipapo'!AG24+(AH44*Descrição!$P$13)","v":0}]
[{"$f":"IF(LEN('Parâmetros Gerais'!B16)=0,\" \",'Parâmetros Gerais'!B16)","v":"fruto araçauna"},0,0,null,{"$f":"'fruto araçauna'!D24+(E44*Descrição!$P$14)","v":0},{"$f":"'fruto araçauna'!E24+(F44*Descrição!$P$14)","v":0},{"$f":"'fruto araçauna'!F24+(G44*Descrição!$P$14)","v":0},{"$f":"'fruto araçauna'!G24+(H44*Descrição!$P$14)","v":0},{"$f":"'fruto araçauna'!H24+(I44*Descrição!$P$14)","v":0},{"$f":"'fruto araçauna'!I24+(J44*Descrição!$P$14)","v":0},{"$f":"'fruto araçauna'!J24+(K44*Descrição!$P$14)","v":0},{"$f":"'fruto araçauna'!K24+(L44*Descrição!$P$14)","v":0},{"$f":"'fruto araçauna'!L24+(M44*Descrição!$P$14)","v":0},{"$f":"'fruto araçauna'!M24+(N44*Descrição!$P$14)","v":0},{"$f":"'fruto araçauna'!N24+(O44*Descrição!$P$14)","v":0},{"$f":"'fruto araçauna'!O24+(P44*Descrição!$P$14)","v":0},{"$f":"'fruto araçauna'!P24+(Q44*Descrição!$P$14)","v":0},{"$f":"'fruto araçauna'!Q24+(R44*Descrição!$P$14)","v":0},{"$f":"'fruto araçauna'!R24+(S44*Descrição!$P$14)","v":0},{"$f":"'fruto araçauna'!S24+(T44*Descrição!$P$14)","v":0},{"$f":"'fruto araçauna'!T24+(U44*Descrição!$P$14)","v":0},{"$f":"'fruto araçauna'!U24+(V44*Descrição!$P$14)","v":0},{"$f":"'fruto araçauna'!V24+(W44*Descrição!$P$14)","v":0},{"$f":"'fruto araçauna'!W24+(X44*Descrição!$P$14)","v":0},{"$f":"'fruto araçauna'!X24+(Y44*Descrição!$P$14)","v":0},{"$f":"'fruto araçauna'!Y24+(Z44*Descrição!$P$14)","v":0},{"$f":"'fruto araçauna'!Z24+(AA44*Descrição!$P$14)","v":0},{"$f":"'fruto araçauna'!AA24+(AB44*Descrição!$P$14)","v":0},{"$f":"'fruto araçauna'!AB24+(AC44*Descrição!$P$14)","v":0},{"$f":"'fruto araçauna'!AC24+(AD44*Descrição!$P$14)","v":0},{"$f":"'fruto araçauna'!AD24+(AE44*Descrição!$P$14)","v":0},{"$f":"'fruto araçauna'!AE24+(AF44*Descrição!$P$14)","v":0},{"$f":"'fruto araçauna'!AF24+(AG44*Descrição!$P$14)","v":0},{"$f":"'fruto araçauna'!AG24+(AH44*Descrição!$P$14)","v":0}]
[{"$f":"IF(LEN('Parâmetros Gerais'!B17)=0,\" \",'Parâmetros Gerais'!B17)","v":"fruto pitanga"},0,0,null,{"$f":"'fruto pitanga'!D24+(E44*Descrição!$P$15)","v":0},{"$f":"'fruto pitanga'!E24+(F44*Descrição!$P$15)","v":0},{"$f":"'fruto pitanga'!F24+(G44*Descrição!$P$15)","v":0},{"$f":"'fruto pitanga'!G24+(H44*Descrição!$P$15)","v":0},{"$f":"'fruto pitanga'!H24+(I44*Descrição!$P$15)","v":0},{"$f":"'fruto pitanga'!I24+(J44*Descrição!$P$15)","v":0},{"$f":"'fruto pitanga'!J24+(K44*Descrição!$P$15)","v":0},{"$f":"'fruto pitanga'!K24+(L44*Descrição!$P$15)","v":0},{"$f":"'fruto pitanga'!L24+(M44*Descrição!$P$15)","v":0},{"$f":"'fruto pitanga'!M24+(N44*Descrição!$P$15)","v":0},{"$f":"'fruto pitanga'!N24+(O44*Descrição!$P$15)","v":0},{"$f":"'fruto pitanga'!O24+(P44*Descrição!$P$15)","v":0},{"$f":"'fruto pitanga'!P24+(Q44*Descrição!$P$15)","v":0},{"$f":"'fruto pitanga'!Q24+(R44*Descrição!$P$15)","v":0},{"$f":"'fruto pitanga'!R24+(S44*Descrição!$P$15)","v":0},{"$f":"'fruto pitanga'!S24+(T44*Descrição!$P$15)","v":0},{"$f":"'fruto pitanga'!T24+(U44*Descrição!$P$15)","v":0},{"$f":"'fruto pitanga'!U24+(V44*Descrição!$P$15)","v":0},{"$f":"'fruto pitanga'!V24+(W44*Descrição!$P$15)","v":0},{"$f":"'fruto pitanga'!W24+(X44*Descrição!$P$15)","v":0},{"$f":"'fruto pitanga'!X24+(Y44*Descrição!$P$15)","v":0},{"$f":"'fruto pitanga'!Y24+(Z44*Descrição!$P$15)","v":0},{"$f":"'fruto pitanga'!Z24+(AA44*Descrição!$P$15)","v":0},{"$f":"'fruto pitanga'!AA24+(AB44*Descrição!$P$15)","v":0},{"$f":"'fruto pitanga'!AB24+(AC44*Descrição!$P$15)","v":0},{"$f":"'fruto pitanga'!AC24+(AD44*Descrição!$P$15)","v":0},{"$f":"'fruto pitanga'!AD24+(AE44*Descrição!$P$15)","v":0},{"$f":"'fruto pitanga'!AE24+(AF44*Descrição!$P$15)","v":0},{"$f":"'fruto pitanga'!AF24+(AG44*Descrição!$P$15)","v":0},{"$f":"'fruto pitanga'!AG24+(AH44*Descrição!$P$15)","v":0}]
[{"$f":"IF(LEN('Parâmetros Gerais'!B18)=0,\" \",'Parâmetros Gerais'!B18)","v":"castanha sapucaia"},0,0,null,{"$f":"Castanha!D24+(E44*Descrição!$P$16)","v":0},{"$f":"Castanha!E24+(F44*Descrição!$P$16)","v":0},{"$f":"Castanha!F24+(G44*Descrição!$P$16)","v":0},{"$f":"Castanha!G24+(H44*Descrição!$P$16)","v":0},{"$f":"Castanha!H24+(I44*Descrição!$P$16)","v":0},{"$f":"Castanha!I24+(J44*Descrição!$P$16)","v":0},{"$f":"Castanha!J24+(K44*Descrição!$P$16)","v":0},{"$f":"Castanha!K24+(L44*Descrição!$P$16)","v":0},{"$f":"Castanha!L24+(M44*Descrição!$P$16)","v":0},{"$f":"Castanha!M24+(N44*Descrição!$P$16)","v":0},{"$f":"Castanha!N24+(O44*Descrição!$P$16)","v":0},{"$f":"Castanha!O24+(P44*Descrição!$P$16)","v":0},{"$f":"Castanha!P24+(Q44*Descrição!$P$16)","v":0},{"$f":"Castanha!Q24+(R44*Descrição!$P$16)","v":0},{"$f":"Castanha!R24+(S44*Descrição!$P$16)","v":0},{"$f":"Castanha!S24+(T44*Descrição!$P$16)","v":0},{"$f":"Castanha!T24+(U44*Descrição!$P$16)","v":0},{"$f":"Castanha!U24+(V44*Descrição!$P$16)","v":0},{"$f":"Castanha!V24+(W44*Descrição!$P$16)","v":0},{"$f":"Castanha!W24+(X44*Descrição!$P$16)","v":0},{"$f":"Castanha!X24+(Y44*Descrição!$P$16)","v":0},{"$f":"Castanha!Y24+(Z44*Descrição!$P$16)","v":0},{"$f":"Castanha!Z24+(AA44*Descrição!$P$16)","v":0},{"$f":"Castanha!AA24+(AB44*Descrição!$P$16)","v":0},{"$f":"Castanha!AB24+(AC44*Descrição!$P$16)","v":0},{"$f":"Castanha!AC24+(AD44*Descrição!$P$16)","v":0},{"$f":"Castanha!AD24+(AE44*Descrição!$P$16)","v":0},{"$f":"Castanha!AE24+(AF44*Descrição!$P$16)","v":0},{"$f":"Castanha!AF24+(AG44*Descrição!$P$16)","v":0},{"$f":"Castanha!AG24+(AH44*Descrição!$P$16)","v":0}]
[{"$f":"IF(LEN('Parâmetros Gerais'!B19)=0,\" \",'Parâmetros Gerais'!B19)","v":"fruto cajá"},0,{"$f":"SUM(D52:AH52)","v":0},null,{"$f":"'fruto cajá'!D24+(E44*Descrição!$P$17)","v":0},{"$f":"'fruto cajá'!E24+(F44*Descrição!$P$17)","v":0},{"$f":"'fruto cajá'!F24+(G44*Descrição!$P$17)","v":0},{"$f":"'fruto cajá'!G24+(H44*Descrição!$P$17)","v":0},{"$f":"'fruto cajá'!H24+(I44*Descrição!$P$17)","v":0},{"$f":"'fruto cajá'!I24+(J44*Descrição!$P$17)","v":0},{"$f":"'fruto cajá'!J24+(K44*Descrição!$P$17)","v":0},{"$f":"'fruto cajá'!K24+(L44*Descrição!$P$17)","v":0},{"$f":"'fruto cajá'!L24+(M44*Descrição!$P$17)","v":0},{"$f":"'fruto cajá'!M24+(N44*Descrição!$P$17)","v":0},{"$f":"'fruto cajá'!N24+(O44*Descrição!$P$17)","v":0},{"$f":"'fruto cajá'!O24+(P44*Descrição!$P$17)","v":0},{"$f":"'fruto cajá'!P24+(Q44*Descrição!$P$17)","v":0},{"$f":"'fruto cajá'!Q24+(R44*Descrição!$P$17)","v":0},{"$f":"'fruto cajá'!R24+(S44*Descrição!$P$17)","v":0},{"$f":"'fruto cajá'!S24+(T44*Descrição!$P$17)","v":0},{"$f":"'fruto cajá'!T24+(U44*Descrição!$P$17)","v":0},{"$f":"'fruto cajá'!U24+(V44*Descrição!$P$17)","v":0},{"$f":"'fruto cajá'!V24+(W44*Descrição!$P$17)","v":0},{"$f":"'fruto cajá'!W24+(X44*Descrição!$P$17)","v":0},{"$f":"'fruto cajá'!X24+(Y44*Descrição!$P$17)","v":0},{"$f":"'fruto cajá'!Y24+(Z44*Descrição!$P$17)","v":0},{"$f":"'fruto cajá'!Z24+(AA44*Descrição!$P$17)","v":0},{"$f":"'fruto cajá'!AA24+(AB44*Descrição!$P$17)","v":0},{"$f":"'fruto cajá'!AB24+(AC44*Descrição!$P$17)","v":0},{"$f":"'fruto cajá'!AC24+(AD44*Descrição!$P$17)","v":0},{"$f":"'fruto cajá'!AD24+(AE44*Descrição!$P$17)","v":0},{"$f":"'fruto cajá'!AE24+(AF44*Descrição!$P$17)","v":0},{"$f":"'fruto cajá'!AF24+(AG44*Descrição!$P$17)","v":0},{"$f":"'fruto cajá'!AG24+(AH44*Descrição!$P$17)","v":0}]
[{"$f":"IF(LEN('Parâmetros Gerais'!B20)=0,\" \",'Parâmetros Gerais'!B20)","v":"semente urucum"},0,0,null,{"$f":"'semente urucum'!D24+(E44*Descrição!$P$118)","v":0},{"$f":"'semente urucum'!E24+(F44*Descrição!$P$118)","v":0},{"$f":"'semente urucum'!F24+(G44*Descrição!$P$118)","v":0},{"$f":"'semente urucum'!G24+(H44*Descrição!$P$118)","v":0},{"$f":"'semente urucum'!H24+(I44*Descrição!$P$118)","v":0},{"$f":"'semente urucum'!I24+(J44*Descrição!$P$118)","v":0},{"$f":"'semente urucum'!J24+(K44*Descrição!$P$118)","v":0},{"$f":"'semente urucum'!K24+(L44*Descrição!$P$118)","v":0},{"$f":"'semente urucum'!L24+(M44*Descrição!$P$118)","v":0},{"$f":"'semente urucum'!M24+(N44*Descrição!$P$118)","v":0},{"$f":"'semente urucum'!N24+(O44*Descrição!$P$118)","v":0},{"$f":"'semente urucum'!O24+(P44*Descrição!$P$118)","v":0},{"$f":"'semente urucum'!P24+(Q44*Descrição!$P$118)","v":0},{"$f":"'semente urucum'!Q24+(R44*Descrição!$P$118)","v":0},{"$f":"'semente urucum'!R24+(S44*Descrição!$P$118)","v":0},{"$f":"'semente urucum'!S24+(T44*Descrição!$P$118)","v":0},{"$f":"'semente urucum'!T24+(U44*Descrição!$P$118)","v":0},{"$f":"'semente urucum'!U24+(V44*Descrição!$P$118)","v":0},{"$f":"'semente urucum'!V24+(W44*Descrição!$P$118)","v":0},{"$f":"'semente urucum'!W24+(X44*Descrição!$P$118)","v":0},{"$f":"'semente urucum'!X24+(Y44*Descrição!$P$118)","v":0},{"$f":"'semente urucum'!Y24+(Z44*Descrição!$P$118)","v":0},{"$f":"'semente urucum'!Z24+(AA44*Descrição!$P$118)","v":0},{"$f":"'semente urucum'!AA24+(AB44*Descrição!$P$118)","v":0},{"$f":"'semente urucum'!AB24+(AC44*Descrição!$P$118)","v":0},{"$f":"'semente urucum'!AC24+(AD44*Descrição!$P$118)","v":0},{"$f":"'semente urucum'!AD24+(AE44*Descrição!$P$118)","v":0},{"$f":"'semente urucum'!AE24+(AF44*Descrição!$P$118)","v":0},{"$f":"'semente urucum'!AF24+(AG44*Descrição!$P$118)","v":0},{"$f":"'semente urucum'!AG24+(AH44*Descrição!$P$118)","v":0}]
[{"$f":"IF(LEN('Parâmetros Gerais'!B21)=0,\" \",'Parâmetros Gerais'!B21)","v":"semente aroeira"},0,0,null,{"$f":"'semente aroeira'!D24+(E44*Descrição!$P$19)","v":0},{"$f":"'semente aroeira'!E24+(F44*Descrição!$P$19)","v":0},{"$f":"'semente aroeira'!F24+(G44*Descrição!$P$19)","v":0},{"$f":"'semente aroeira'!G24+(H44*Descrição!$P$19)","v":0},{"$f":"'semente aroeira'!H24+(I44*Descrição!$P$19)","v":0},{"$f":"'semente aroeira'!I24+(J44*Descrição!$P$19)","v":0},{"$f":"'semente aroeira'!J24+(K44*Descrição!$P$19)","v":0},{"$f":"'semente aroeira'!K24+(L44*Descrição!$P$19)","v":0},{"$f":"'semente aroeira'!L24+(M44*Descrição!$P$19)","v":0},{"$f":"'semente aroeira'!M24+(N44*Descrição!$P$19)","v":0},{"$f":"'semente aroeira'!N24+(O44*Descrição!$P$19)","v":0},{"$f":"'semente aroeira'!O24+(P44*Descrição!$P$19)","v":0},{"$f":"'semente aroeira'!P24+(Q44*Descrição!$P$19)","v":0},{"$f":"'semente aroeira'!Q24+(R44*Descrição!$P$19)","v":0},{"$f":"'semente aroeira'!R24+(S44*Descrição!$P$19)","v":0},{"$f":"'semente aroeira'!S24+(T44*Descrição!$P$19)","v":0},{"$f":"'semente aroeira'!T24+(U44*Descrição!$P$19)","v":0},{"$f":"'semente aroeira'!U24+(V44*Descrição!$P$19)","v":0},{"$f":"'semente aroeira'!V24+(W44*Descrição!$P$19)","v":0},{"$f":"'semente aroeira'!W24+(X44*Descrição!$P$19)","v":0},{"$f":"'semente aroeira'!X24+(Y44*Descrição!$P$19)","v":0},{"$f":"'semente aroeira'!Y24+(Z44*Descrição!$P$19)","v":0},{"$f":"'semente aroeira'!Z24+(AA44*Descrição!$P$19)","v":0},{"$f":"'semente aroeira'!AA24+(AB44*Descrição!$P$19)","v":0},{"$f":"'semente aroeira'!AB24+(AC44*Descrição!$P$19)","v":0},{"$f":"'semente aroeira'!AC24+(AD44*Descrição!$P$19)","v":0},{"$f":"'semente aroeira'!AD24+(AE44*Descrição!$P$19)","v":0},{"$f":"'semente aroeira'!AE24+(AF44*Descrição!$P$19)","v":0},{"$f":"'semente aroeira'!AF24+(AG44*Descrição!$P$19)","v":0},{"$f":"'semente aroeira'!AG24+(AH44*Descrição!$P$19)","v":0}]
[{"$f":"IF(LEN('Parâmetros Gerais'!B22)=0,\" \",'Parâmetros Gerais'!B22)","v":"raiz mandioca"},0,0,null,{"$f":"'raiz mandioca'!D24+(E44*Descrição!$P$20)","v":0},{"$f":"'raiz mandioca'!E24+(F44*Descrição!$P$20)","v":0},{"$f":"'raiz mandioca'!F24+(G44*Descrição!$P$20)","v":0},{"$f":"'raiz mandioca'!G24+(H44*Descrição!$P$20)","v":0},{"$f":"'raiz mandioca'!H24+(I44*Descrição!$P$20)","v":0},{"$f":"'raiz mandioca'!I24+(J44*Descrição!$P$20)","v":0},{"$f":"'raiz mandioca'!J24+(K44*Descrição!$P$20)","v":0},{"$f":"'raiz mandioca'!K24+(L44*Descrição!$P$20)","v":0},{"$f":"'raiz mandioca'!L24+(M44*Descrição!$P$20)","v":0},{"$f":"'raiz mandioca'!M24+(N44*Descrição!$P$20)","v":0},{"$f":"'raiz mandioca'!N24+(O44*Descrição!$P$20)","v":0},{"$f":"'raiz mandioca'!O24+(P44*Descrição!$P$20)","v":0},{"$f":"'raiz mandioca'!P24+(Q44*Descrição!$P$20)","v":0},{"$f":"'raiz mandioca'!Q24+(R44*Descrição!$P$20)","v":0},{"$f":"'raiz mandioca'!R24+(S44*Descrição!$P$20)","v":0},{"$f":"'raiz mandioca'!S24+(T44*Descrição!$P$20)","v":0},{"$f":"'raiz mandioca'!T24+(U44*Descrição!$P$20)","v":0},{"$f":"'raiz mandioca'!U24+(V44*Descrição!$P$20)","v":0},{"$f":"'raiz mandioca'!V24+(W44*Descrição!$P$20)","v":0},{"$f":"'raiz mandioca'!W24+(X44*Descrição!$P$20)","v":0},{"$f":"'raiz mandioca'!X24+(Y44*Descrição!$P$20)","v":0},{"$f":"'raiz mandioca'!Y24+(Z44*Descrição!$P$20)","v":0},{"$f":"'raiz mandioca'!Z24+(AA44*Descrição!$P$20)","v":0},{"$f":"'raiz mandioca'!AA24+(AB44*Descrição!$P$20)","v":0},{"$f":"'raiz mandioca'!AB24+(AC44*Descrição!$P$20)","v":0},{"$f":"'raiz mandioca'!AC24+(AD44*Descrição!$P$20)","v":0},{"$f":"'raiz mandioca'!AD24+(AE44*Descrição!$P$20)","v":0},{"$f":"'raiz mandioca'!AE24+(AF44*Descrição!$P$20)","v":0},{"$f":"'raiz mandioca'!AF24+(AG44*Descrição!$P$20)","v":0},{"$f":"'raiz mandioca'!AG24+(AH44*Descrição!$P$20)","v":0}]
[{"$f":"IF(LEN('Parâmetros Gerais'!B23)=0,\" \",'Parâmetros Gerais'!B23)","v":"fruto abacaxi"},{"$f":"IF(C56<>0,C56/$C$12,0)","v":0},{"$f":"SUM(D56:AH56)","v":0},null,{"$f":"abacaxi!D24+(E44*Descrição!$P$21)","v":0},{"$f":"abacaxi!E24+(F44*Descrição!$P$21)","v":0},{"$f":"abacaxi!F24+(G44*Descrição!$P$21)","v":0},{"$f":"abacaxi!G24+(H44*Descrição!$P$21)","v":0},{"$f":"abacaxi!H24+(I44*Descrição!$P$21)","v":0},{"$f":"abacaxi!I24+(J44*Descrição!$P$21)","v":0},{"$f":"abacaxi!J24+(K44*Descrição!$P$21)","v":0},{"$f":"abacaxi!K24+(L44*Descrição!$P$21)","v":0},{"$f":"abacaxi!L24+(M44*Descrição!$P$21)","v":0},{"$f":"abacaxi!M24+(N44*Descrição!$P$21)","v":0},{"$f":"abacaxi!N24+(O44*Descrição!$P$21)","v":0},{"$f":"abacaxi!O24+(P44*Descrição!$P$21)","v":0},{"$f":"abacaxi!P24+(Q44*Descrição!$P$21)","v":0},{"$f":"abacaxi!Q24+(R44*Descrição!$P$21)","v":0},{"$f":"abacaxi!R24+(S44*Descrição!$P$21)","v":0},{"$f":"abacaxi!S24+(T44*Descrição!$P$21)","v":0},{"$f":"abacaxi!T24+(U44*Descrição!$P$21)","v":0},{"$f":"abacaxi!U24+(V44*Descrição!$P$21)","v":0},{"$f":"abacaxi!V24+(W44*Descrição!$P$21)","v":0},{"$f":"abacaxi!W24+(X44*Descrição!$P$21)","v":0},{"$f":"abacaxi!X24+(Y44*Descrição!$P$21)","v":0},{"$f":"abacaxi!Y24+(Z44*Descrição!$P$21)","v":0},{"$f":"abacaxi!Z24+(AA44*Descrição!$P$21)","v":0},{"$f":"abacaxi!AA24+(AB44*Descrição!$P$21)","v":0},{"$f":"abacaxi!AB24+(AC44*Descrição!$P$21)","v":0},{"$f":"abacaxi!AC24+(AD44*Descrição!$P$21)","v":0},{"$f":"abacaxi!AD24+(AE44*Descrição!$P$21)","v":0},{"$f":"abacaxi!AE24+(AF44*Descrição!$P$21)","v":0},{"$f":"abacaxi!AF24+(AG44*Descrição!$P$21)","v":0},{"$f":"abacaxi!AG24+(AH44*Descrição!$P$21)","v":0}]
[{"$f":"IF(LEN('Parâmetros Gerais'!B24)=0,\" \",'Parâmetros Gerais'!B24)","v":"espigas milho"},0,0,null,{"$f":"espigas!D24+(E44*Descrição!$P$22)","v":0},{"$f":"espigas!E24+(F44*Descrição!$P$22)","v":0},{"$f":"espigas!F24+(G44*Descrição!$P$22)","v":0},{"$f":"espigas!G24+(H44*Descrição!$P$22)","v":0},{"$f":"espigas!H24+(I44*Descrição!$P$22)","v":0},{"$f":"espigas!I24+(J44*Descrição!$P$22)","v":0},{"$f":"espigas!J24+(K44*Descrição!$P$22)","v":0},{"$f":"espigas!K24+(L44*Descrição!$P$22)","v":0},{"$f":"espigas!L24+(M44*Descrição!$P$22)","v":0},{"$f":"espigas!M24+(N44*Descrição!$P$22)","v":0},{"$f":"espigas!N24+(O44*Descrição!$P$22)","v":0},{"$f":"espigas!O24+(P44*Descrição!$P$22)","v":0},{"$f":"espigas!P24+(Q44*Descrição!$P$22)","v":0},{"$f":"espigas!Q24+(R44*Descrição!$P$22)","v":0},{"$f":"espigas!R24+(S44*Descrição!$P$22)","v":0},{"$f":"espigas!S24+(T44*Descrição!$P$22)","v":0},{"$f":"espigas!T24+(U44*Descrição!$P$22)","v":0},{"$f":"espigas!U24+(V44*Descrição!$P$22)","v":0},{"$f":"espigas!V24+(W44*Descrição!$P$22)","v":0},{"$f":"espigas!W24+(X44*Descrição!$P$22)","v":0},{"$f":"espigas!X24+(Y44*Descrição!$P$22)","v":0},{"$f":"espigas!Y24+(Z44*Descrição!$P$22)","v":0},{"$f":"espigas!Z24+(AA44*Descrição!$P$22)","v":0},{"$f":"espigas!AA24+(AB44*Descrição!$P$22)","v":0},{"$f":"espigas!AB24+(AC44*Descrição!$P$22)","v":0},{"$f":"espigas!AC24+(AD44*Descrição!$P$22)","v":0},{"$f":"espigas!AD24+(AE44*Descrição!$P$22)","v":0},{"$f":"espigas!AE24+(AF44*Descrição!$P$22)","v":0},{"$f":"espigas!AF24+(AG44*Descrição!$P$22)","v":0},{"$f":"espigas!AG24+(AH44*Descrição!$P$22)","v":0}]
[{"$f":"IF(LEN('Parâmetros Gerais'!B25)=0,\" \",'Parâmetros Gerais'!B25)","v":"estaca sansão do campo"},0,0,null,{"$f":"'semente caupi'!D24+(E44*Descrição!$P$23)","v":0},{"$f":"'semente caupi'!E24+(F44*Descrição!$P$23)","v":0},{"$f":"'semente caupi'!F24+(G44*Descrição!$P$23)","v":0},{"$f":"'semente caupi'!G24+(H44*Descrição!$P$23)","v":0},{"$f":"'semente caupi'!H24+(I44*Descrição!$P$23)","v":0},{"$f":"'semente caupi'!I24+(J44*Descrição!$P$23)","v":0},{"$f":"'semente caupi'!J24+(K44*Descrição!$P$23)","v":0},{"$f":"'semente caupi'!K24+(L44*Descrição!$P$23)","v":0},{"$f":"'semente caupi'!L24+(M44*Descrição!$P$23)","v":0},{"$f":"'semente caupi'!M24+(N44*Descrição!$P$23)","v":0},{"$f":"'semente caupi'!N24+(O44*Descrição!$P$23)","v":0},{"$f":"'semente caupi'!O24+(P44*Descrição!$P$23)","v":0},{"$f":"'semente caupi'!P24+(Q44*Descrição!$P$23)","v":0},{"$f":"'semente caupi'!Q24+(R44*Descrição!$P$23)","v":0},{"$f":"'semente caupi'!R24+(S44*Descrição!$P$23)","v":0},{"$f":"'semente caupi'!S24+(T44*Descrição!$P$23)","v":0},{"$f":"'semente caupi'!T24+(U44*Descrição!$P$23)","v":0},{"$f":"'semente caupi'!U24+(V44*Descrição!$P$23)","v":0},{"$f":"'semente caupi'!V24+(W44*Descrição!$P$23)","v":0},{"$f":"'semente caupi'!W24+(X44*Descrição!$P$23)","v":0},{"$f":"'semente caupi'!X24+(Y44*Descrição!$P$23)","v":0},{"$f":"'semente caupi'!Y24+(Z44*Descrição!$P$23)","v":0},{"$f":"'semente caupi'!Z24+(AA44*Descrição!$P$23)","v":0},{"$f":"'semente caupi'!AA24+(AB44*Descrição!$P$23)","v":0},{"$f":"'semente caupi'!AB24+(AC44*Descrição!$P$23)","v":0},{"$f":"'semente caupi'!AC24+(AD44*Descrição!$P$23)","v":0},{"$f":"'semente caupi'!AD24+(AE44*Descrição!$P$23)","v":0},{"$f":"'semente caupi'!AE24+(AF44*Descrição!$P$23)","v":0},{"$f":"'semente caupi'!AF24+(AG44*Descrição!$P$23)","v":0},{"$f":"'semente caupi'!AG24+(AH44*Descrição!$P$23)","v":0}]
[{"$f":"IF(LEN('Parâmetros Gerais'!B26)=0,\" \",'Parâmetros Gerais'!B26)","v":"madeira madeira nova"},0,0,null,{"$f":"biomassa!D24+(E44*Descrição!$P$24)","v":0},{"$f":"biomassa!E24+(F44*Descrição!$P$24)","v":0},{"$f":"biomassa!F24+(G44*Descrição!$P$24)","v":0},{"$f":"biomassa!G24+(H44*Descrição!$P$24)","v":0},{"$f":"biomassa!H24+(I44*Descrição!$P$24)","v":0},{"$f":"biomassa!I24+(J44*Descrição!$P$24)","v":0},{"$f":"biomassa!J24+(K44*Descrição!$P$24)","v":0},{"$f":"biomassa!K24+(L44*Descrição!$P$24)","v":0},{"$f":"biomassa!L24+(M44*Descrição!$P$24)","v":0},{"$f":"biomassa!M24+(N44*Descrição!$P$24)","v":0},{"$f":"biomassa!N24+(O44*Descrição!$P$24)","v":0},{"$f":"biomassa!O24+(P44*Descrição!$P$24)","v":0},{"$f":"biomassa!P24+(Q44*Descrição!$P$24)","v":0},{"$f":"biomassa!Q24+(R44*Descrição!$P$24)","v":0},{"$f":"biomassa!R24+(S44*Descrição!$P$24)","v":0},{"$f":"biomassa!S24+(T44*Descrição!$P$24)","v":0},{"$f":"biomassa!T24+(U44*Descrição!$P$24)","v":0},{"$f":"biomassa!U24+(V44*Descrição!$P$24)","v":0},{"$f":"biomassa!V24+(W44*Descrição!$P$24)","v":0},{"$f":"biomassa!W24+(X44*Descrição!$P$24)","v":0},{"$f":"biomassa!X24+(Y44*Descrição!$P$24)","v":0},{"$f":"biomassa!Y24+(Z44*Descrição!$P$24)","v":0},{"$f":"biomassa!Z24+(AA44*Descrição!$P$24)","v":0},{"$f":"biomassa!AA24+(AB44*Descrição!$P$24)","v":0},{"$f":"biomassa!AB24+(AC44*Descrição!$P$24)","v":0},{"$f":"biomassa!AC24+(AD44*Descrição!$P$24)","v":0},{"$f":"biomassa!AD24+(AE44*Descrição!$P$24)","v":0},{"$f":"biomassa!AE24+(AF44*Descrição!$P$24)","v":0},{"$f":"biomassa!AF24+(AG44*Descrição!$P$24)","v":0},{"$f":"biomassa!AG24+(AH44*Descrição!$P$24)","v":0}]
[{"$f":"IF(LEN('Parâmetros Gerais'!B27)=0,\" \",'Parâmetros Gerais'!B27)","v":"lenha fedegoso"},0,0,null,{"$f":"madeira!D24+(E44*Descrição!$P$25)","v":0},{"$f":"madeira!E24+(F44*Descrição!$P$25)","v":0},{"$f":"madeira!F24+(G44*Descrição!$P$25)","v":0},{"$f":"madeira!G24+(H44*Descrição!$P$25)","v":0},{"$f":"madeira!H24+(I44*Descrição!$P$25)","v":0},{"$f":"madeira!I24+(J44*Descrição!$P$25)","v":0},{"$f":"madeira!J24+(K44*Descrição!$P$25)","v":0},{"$f":"madeira!K24+(L44*Descrição!$P$25)","v":0},{"$f":"madeira!L24+(M44*Descrição!$P$25)","v":0},{"$f":"madeira!M24+(N44*Descrição!$P$25)","v":0},{"$f":"madeira!N24+(O44*Descrição!$P$25)","v":0},{"$f":"madeira!O24+(P44*Descrição!$P$25)","v":0},{"$f":"madeira!P24+(Q44*Descrição!$P$25)","v":0},{"$f":"madeira!Q24+(R44*Descrição!$P$25)","v":0},{"$f":"madeira!R24+(S44*Descrição!$P$25)","v":0},{"$f":"madeira!S24+(T44*Descrição!$P$25)","v":0},{"$f":"madeira!T24+(U44*Descrição!$P$25)","v":0},{"$f":"madeira!U24+(V44*Descrição!$P$25)","v":0},{"$f":"madeira!V24+(W44*Descrição!$P$25)","v":0},{"$f":"madeira!W24+(X44*Descrição!$P$25)","v":0},{"$f":"madeira!X24+(Y44*Descrição!$P$25)","v":0},{"$f":"madeira!Y24+(Z44*Descrição!$P$25)","v":0},{"$f":"madeira!Z24+(AA44*Descrição!$P$25)","v":0},{"$f":"madeira!AA24+(AB44*Descrição!$P$25)","v":0},{"$f":"madeira!AB24+(AC44*Descrição!$P$25)","v":0},{"$f":"madeira!AC24+(AD44*Descrição!$P$25)","v":0},{"$f":"madeira!AD24+(AE44*Descrição!$P$25)","v":0},{"$f":"madeira!AE24+(AF44*Descrição!$P$25)","v":0},{"$f":"madeira!AF24+(AG44*Descrição!$P$25)","v":0},{"$f":"madeira!AG24+(AH44*Descrição!$P$25)","v":0}]
[{"$f":"IF(LEN('Parâmetros Gerais'!B28)=0,\" \",'Parâmetros Gerais'!B28)","v":"estaca pau d'alho"},0,0,null,{"$f":"'Produto 15'!D24+(E44*Descrição!$P$26)","v":0},{"$f":"'Produto 15'!E24+(F44*Descrição!$P$26)","v":0},{"$f":"'Produto 15'!F24+(G44*Descrição!$P$26)","v":0},{"$f":"'Produto 15'!G24+(H44*Descrição!$P$26)","v":0},{"$f":"'Produto 15'!H24+(I44*Descrição!$P$26)","v":0},{"$f":"'Produto 15'!I24+(J44*Descrição!$P$26)","v":0},{"$f":"'Produto 15'!J24+(K44*Descrição!$P$26)","v":0},{"$f":"'Produto 15'!K24+(L44*Descrição!$P$26)","v":0},{"$f":"'Produto 15'!L24+(M44*Descrição!$P$26)","v":0},{"$f":"'Produto 15'!M24+(N44*Descrição!$P$26)","v":0},{"$f":"'Produto 15'!N24+(O44*Descrição!$P$26)","v":0},{"$f":"'Produto 15'!O24+(P44*Descrição!$P$26)","v":0},{"$f":"'Produto 15'!P24+(Q44*Descrição!$P$26)","v":0},{"$f":"'Produto 15'!Q24+(R44*Descrição!$P$26)","v":0},{"$f":"'Produto 15'!R24+(S44*Descrição!$P$26)","v":0},{"$f":"'Produto 15'!S24+(T44*Descrição!$P$26)","v":0},{"$f":"'Produto 15'!T24+(U44*Descrição!$P$26)","v":0},{"$f":"'Produto 15'!U24+(V44*Descrição!$P$26)","v":0},{"$f":"'Produto 15'!V24+(W44*Descrição!$P$26)","v":0},{"$f":"'Produto 15'!W24+(X44*Descrição!$P$26)","v":0},{"$f":"'Produto 15'!X24+(Y44*Descrição!$P$26)","v":0},{"$f":"'Produto 15'!Y24+(Z44*Descrição!$P$26)","v":0},{"$f":"'Produto 15'!Z24+(AA44*Descrição!$P$26)","v":0},{"$f":"'Produto 15'!AA24+(AB44*Descrição!$P$26)","v":0},{"$f":"'Produto 15'!AB24+(AC44*Descrição!$P$26)","v":0},{"$f":"'Produto 15'!AC24+(AD44*Descrição!$P$26)","v":0},{"$f":"'Produto 15'!AD24+(AE44*Descrição!$P$26)","v":0},{"$f":"'Produto 15'!AE24+(AF44*Descrição!$P$26)","v":0},{"$f":"'Produto 15'!AF24+(AG44*Descrição!$P$26)","v":0},{"$f":"'Produto 15'!AG24+(AH44*Descrição!$P$26)","v":0}]
[{"$f":"IF(LEN('Parâmetros Gerais'!B29)=0,\" \",'Parâmetros Gerais'!B29)","v":"caixotaria boleira"},0,0,null,{"$f":"'Produto 16'!D24+(E44*Descrição!$P$27)","v":0},{"$f":"'Produto 16'!E24+(F44*Descrição!$P$27)","v":0},{"$f":"'Produto 16'!F24+(G44*Descrição!$P$27)","v":0},{"$f":"'Produto 16'!G24+(H44*Descrição!$P$27)","v":0},{"$f":"'Produto 16'!H24+(I44*Descrição!$P$27)","v":0},{"$f":"'Produto 16'!I24+(J44*Descrição!$P$27)","v":0},{"$f":"'Produto 16'!J24+(K44*Descrição!$P$27)","v":0},{"$f":"'Produto 16'!K24+(L44*Descrição!$P$27)","v":0},{"$f":"'Produto 16'!L24+(M44*Descrição!$P$27)","v":0},{"$f":"'Produto 16'!M24+(N44*Descrição!$P$27)","v":0},{"$f":"'Produto 16'!N24+(O44*Descrição!$P$27)","v":0},{"$f":"'Produto 16'!O24+(P44*Descrição!$P$27)","v":0},{"$f":"'Produto 16'!P24+(Q44*Descrição!$P$27)","v":0},{"$f":"'Produto 16'!Q24+(R44*Descrição!$P$27)","v":0},{"$f":"'Produto 16'!R24+(S44*Descrição!$P$27)","v":0},{"$f":"'Produto 16'!S24+(T44*Descrição!$P$27)","v":0},{"$f":"'Produto 16'!T24+(U44*Descrição!$P$27)","v":0},{"$f":"'Produto 16'!U24+(V44*Descrição!$P$27)","v":0},{"$f":"'Produto 16'!V24+(W44*Descrição!$P$27)","v":0},{"$f":"'Produto 16'!W24+(X44*Descrição!$P$27)","v":0},{"$f":"'Produto 16'!X24+(Y44*Descrição!$P$27)","v":0},{"$f":"'Produto 16'!Y24+(Z44*Descrição!$P$27)","v":0},{"$f":"'Produto 16'!Z24+(AA44*Descrição!$P$27)","v":0},{"$f":"'Produto 16'!AA24+(AB44*Descrição!$P$27)","v":0},{"$f":"'Produto 16'!AB24+(AC44*Descrição!$P$27)","v":0},{"$f":"'Produto 16'!AC24+(AD44*Descrição!$P$27)","v":0},{"$f":"'Produto 16'!AD24+(AE44*Descrição!$P$27)","v":0},{"$f":"'Produto 16'!AE24+(AF44*Descrição!$P$27)","v":0},{"$f":"'Produto 16'!AF24+(AG44*Descrição!$P$27)","v":0},{"$f":"'Produto 16'!AG24+(AH44*Descrição!$P$27)","v":0}]
[{"$f":"IF(LEN('Parâmetros Gerais'!B30)=0,\" \",'Parâmetros Gerais'!B30)","v":"madeira angico roxo"},{"$f":"IF(C63<>0,C63/$C$12,0)","v":0},{"$f":"SUM(D63:AH63)","v":0},null,{"$f":"'Produto 17'!D24+(E44*Descrição!$P$28)","v":0},{"$f":"'Produto 17'!E24+(F44*Descrição!$P$28)","v":0},{"$f":"'Produto 17'!F24+(G44*Descrição!$P$28)","v":0},{"$f":"'Produto 17'!G24+(H44*Descrição!$P$28)","v":0},{"$f":"'Produto 17'!H24+(I44*Descrição!$P$28)","v":0},{"$f":"'Produto 17'!I24+(J44*Descrição!$P$28)","v":0},{"$f":"'Produto 17'!J24+(K44*Descrição!$P$28)","v":0},{"$f":"'Produto 17'!K24+(L44*Descrição!$P$28)","v":0},{"$f":"'Produto 17'!L24+(M44*Descrição!$P$28)","v":0},{"$f":"'Produto 17'!M24+(N44*Descrição!$P$28)","v":0},{"$f":"'Produto 17'!N24+(O44*Descrição!$P$28)","v":0},{"$f":"'Produto 17'!O24+(P44*Descrição!$P$28)","v":0},{"$f":"'Produto 17'!P24+(Q44*Descrição!$P$28)","v":0},{"$f":"'Produto 17'!Q24+(R44*Descrição!$P$28)","v":0},{"$f":"'Produto 17'!R24+(S44*Descrição!$P$28)","v":0},{"$f":"'Produto 17'!S24+(T44*Descrição!$P$28)","v":0},{"$f":"'Produto 17'!T24+(U44*Descrição!$P$28)","v":0},{"$f":"'Produto 17'!U24+(V44*Descrição!$P$28)","v":0},{"$f":"'Produto 17'!V24+(W44*Descrição!$P$28)","v":0},{"$f":"'Produto 17'!W24+(X44*Descrição!$P$28)","v":0},{"$f":"'Produto 17'!X24+(Y44*Descrição!$P$28)","v":0},{"$f":"'Produto 17'!Y24+(Z44*Descrição!$P$28)","v":0},{"$f":"'Produto 17'!Z24+(AA44*Descrição!$P$28)","v":0},{"$f":"'Produto 17'!AA24+(AB44*Descrição!$P$28)","v":0},{"$f":"'Produto 17'!AB24+(AC44*Descrição!$P$28)","v":0},{"$f":"'Produto 17'!AC24+(AD44*Descrição!$P$28)","v":0},{"$f":"'Produto 17'!AD24+(AE44*Descrição!$P$28)","v":0},{"$f":"'Produto 17'!AE24+(AF44*Descrição!$P$28)","v":0},{"$f":"'Produto 17'!AF24+(AG44*Descrição!$P$28)","v":0},{"$f":"'Produto 17'!AG24+(AH44*Descrição!$P$28)","v":0}]
[{"$f":"IF(LEN('Parâmetros Gerais'!B31)=0,\" \",'Parâmetros Gerais'!B31)","v":"madeira ipê roxo"},0,0,null,{"$f":"'Produto 18'!D24+(E44*Descrição!$P$29)","v":0},{"$f":"'Produto 18'!E24+(F44*Descrição!$P$29)","v":0},{"$f":"'Produto 18'!F24+(G44*Descrição!$P$29)","v":0},{"$f":"'Produto 18'!G24+(H44*Descrição!$P$29)","v":0},{"$f":"'Produto 18'!H24+(I44*Descrição!$P$29)","v":0},{"$f":"'Produto 18'!I24+(J44*Descrição!$P$29)","v":0},{"$f":"'Produto 18'!J24+(K44*Descrição!$P$29)","v":0},{"$f":"'Produto 18'!K24+(L44*Descrição!$P$29)","v":0},{"$f":"'Produto 18'!L24+(M44*Descrição!$P$29)","v":0},{"$f":"'Produto 18'!M24+(N44*Descrição!$P$29)","v":0},{"$f":"'Produto 18'!N24+(O44*Descrição!$P$29)","v":0},{"$f":"'Produto 18'!O24+(P44*Descrição!$P$29)","v":0},{"$f":"'Produto 18'!P24+(Q44*Descrição!$P$29)","v":0},{"$f":"'Produto 18'!Q24+(R44*Descrição!$P$29)","v":0},{"$f":"'Produto 18'!R24+(S44*Descrição!$P$29)","v":0},{"$f":"'Produto 18'!S24+(T44*Descrição!$P$29)","v":0},{"$f":"'Produto 18'!T24+(U44*Descrição!$P$29)","v":0},{"$f":"'Produto 18'!U24+(V44*Descrição!$P$29)","v":0},{"$f":"'Produto 18'!V24+(W44*Descrição!$P$29)","v":0},{"$f":"'Produto 18'!W24+(X44*Descrição!$P$29)","v":0},{"$f":"'Produto 18'!X24+(Y44*Descrição!$P$29)","v":0},{"$f":"'Produto 18'!Y24+(Z44*Descrição!$P$29)","v":0},{"$f":"'Produto 18'!Z24+(AA44*Descrição!$P$29)","v":0},{"$f":"'Produto 18'!AA24+(AB44*Descrição!$P$29)","v":0},{"$f":"'Produto 18'!AB24+(AC44*Descrição!$P$29)","v":0},{"$f":"'Produto 18'!AC24+(AD44*Descrição!$P$29)","v":0},{"$f":"'Produto 18'!AD24+(AE44*Descrição!$P$29)","v":0},{"$f":"'Produto 18'!AE24+(AF44*Descrição!$P$29)","v":0},{"$f":"'Produto 18'!AF24+(AG44*Descrição!$P$29)","v":0},{"$f":"'Produto 18'!AG24+(AH44*Descrição!$P$29)","v":0}]
[{"$f":"IF(LEN('Parâmetros Gerais'!B32)=0,\" \",'Parâmetros Gerais'!B32)","v":"madeira ipê amarelo"},0,0,null,{"$f":"'Produto 19'!D24+(E44*Descrição!$P$30)","v":0},{"$f":"'Produto 19'!E24+(F44*Descrição!$P$30)","v":0},{"$f":"'Produto 19'!F24+(G44*Descrição!$P$30)","v":0},{"$f":"'Produto 19'!G24+(H44*Descrição!$P$30)","v":0},{"$f":"'Produto 19'!H24+(I44*Descrição!$P$30)","v":0},{"$f":"'Produto 19'!I24+(J44*Descrição!$P$30)","v":0},{"$f":"'Produto 19'!J24+(K44*Descrição!$P$30)","v":0},{"$f":"'Produto 19'!K24+(L44*Descrição!$P$30)","v":0},{"$f":"'Produto 19'!L24+(M44*Descrição!$P$30)","v":0},{"$f":"'Produto 19'!M24+(N44*Descrição!$P$30)","v":0},{"$f":"'Produto 19'!N24+(O44*Descrição!$P$30)","v":0},{"$f":"'Produto 19'!O24+(P44*Descrição!$P$30)","v":0},{"$f":"'Produto 19'!P24+(Q44*Descrição!$P$30)","v":0},{"$f":"'Produto 19'!Q24+(R44*Descrição!$P$30)","v":0},{"$f":"'Produto 19'!R24+(S44*Descrição!$P$30)","v":0},{"$f":"'Produto 19'!S24+(T44*Descrição!$P$30)","v":0},{"$f":"'Produto 19'!T24+(U44*Descrição!$P$30)","v":0},{"$f":"'Produto 19'!U24+(V44*Descrição!$P$30)","v":0},{"$f":"'Produto 19'!V24+(W44*Descrição!$P$30)","v":0},{"$f":"'Produto 19'!W24+(X44*Descrição!$P$30)","v":0},{"$f":"'Produto 19'!X24+(Y44*Descrição!$P$30)","v":0},{"$f":"'Produto 19'!Y24+(Z44*Descrição!$P$30)","v":0},{"$f":"'Produto 19'!Z24+(AA44*Descrição!$P$30)","v":0},{"$f":"'Produto 19'!AA24+(AB44*Descrição!$P$30)","v":0},{"$f":"'Produto 19'!AB24+(AC44*Descrição!$P$30)","v":0},{"$f":"'Produto 19'!AC24+(AD44*Descrição!$P$30)","v":0},{"$f":"'Produto 19'!AD24+(AE44*Descrição!$P$30)","v":0},{"$f":"'Produto 19'!AE24+(AF44*Descrição!$P$30)","v":0},{"$f":"'Produto 19'!AF24+(AG44*Descrição!$P$30)","v":0},{"$f":"'Produto 19'!AG24+(AH44*Descrição!$P$30)","v":0}]
[{"$f":"IF(LEN('Parâmetros Gerais'!B33)=0,\" \",'Parâmetros Gerais'!B33)","v":"madeira gonçalo alves"},0,0,null,{"$f":"'Produto 20'!D24+(E44*Descrição!$P$31)","v":0},{"$f":"'Produto 20'!E24+(F44*Descrição!$P$31)","v":0},{"$f":"'Produto 20'!F24+(G44*Descrição!$P$31)","v":0},{"$f":"'Produto 20'!G24+(H44*Descrição!$P$31)","v":0},{"$f":"'Produto 20'!H24+(I44*Descrição!$P$31)","v":0},{"$f":"'Produto 20'!I24+(J44*Descrição!$P$31)","v":0},{"$f":"'Produto 20'!J24+(K44*Descrição!$P$31)","v":0},{"$f":"'Produto 20'!K24+(L44*Descrição!$P$31)","v":0},{"$f":"'Produto 20'!L24+(M44*Descrição!$P$31)","v":0},{"$f":"'Produto 20'!M24+(N44*Descrição!$P$31)","v":0},{"$f":"'Produto 20'!N24+(O44*Descrição!$P$31)","v":0},{"$f":"'Produto 20'!O24+(P44*Descrição!$P$31)","v":0},{"$f":"'Produto 20'!P24+(Q44*Descrição!$P$31)","v":0},{"$f":"'Produto 20'!Q24+(R44*Descrição!$P$31)","v":0},{"$f":"'Produto 20'!R24+(S44*Descrição!$P$31)","v":0},{"$f":"'Produto 20'!S24+(T44*Descrição!$P$31)","v":0},{"$f":"'Produto 20'!T24+(U44*Descrição!$P$31)","v":0},{"$f":"'Produto 20'!U24+(V44*Descrição!$P$31)","v":0},{"$f":"'Produto 20'!V24+(W44*Descrição!$P$31)","v":0},{"$f":"'Produto 20'!W24+(X44*Descrição!$P$31)","v":0},{"$f":"'Produto 20'!X24+(Y44*Descrição!$P$31)","v":0},{"$f":"'Produto 20'!Y24+(Z44*Descrição!$P$31)","v":0},{"$f":"'Produto 20'!Z24+(AA44*Descrição!$P$31)","v":0},{"$f":"'Produto 20'!AA24+(AB44*Descrição!$P$31)","v":0},{"$f":"'Produto 20'!AB24+(AC44*Descrição!$P$31)","v":0},{"$f":"'Produto 20'!AC24+(AD44*Descrição!$P$31)","v":0},{"$f":"'Produto 20'!AD24+(AE44*Descrição!$P$31)","v":0},{"$f":"'Produto 20'!AE24+(AF44*Descrição!$P$31)","v":0},{"$f":"'Produto 20'!AF24+(AG44*Descrição!$P$31)","v":0},{"$f":"'Produto 20'!AG24+(AH44*Descrição!$P$31)","v":0}]
[{"$f":"IF(LEN('Parâmetros Gerais'!B34)=0,\" \",'Parâmetros Gerais'!B34)","v":"madeira vinhatico"},0,0,null,{"$f":"'Produto 21'!D24+(E44*Descrição!$P$32)","v":0},{"$f":"'Produto 21'!E24+(F44*Descrição!$P$32)","v":0},{"$f":"'Produto 21'!F24+(G44*Descrição!$P$32)","v":0},{"$f":"'Produto 21'!G24+(H44*Descrição!$P$32)","v":0},{"$f":"'Produto 21'!H24+(I44*Descrição!$P$32)","v":0},{"$f":"'Produto 21'!I24+(J44*Descrição!$P$32)","v":0},{"$f":"'Produto 21'!J24+(K44*Descrição!$P$32)","v":0},{"$f":"'Produto 21'!K24+(L44*Descrição!$P$32)","v":0},{"$f":"'Produto 21'!L24+(M44*Descrição!$P$32)","v":0},{"$f":"'Produto 21'!M24+(N44*Descrição!$P$32)","v":0},{"$f":"'Produto 21'!N24+(O44*Descrição!$P$32)","v":0},{"$f":"'Produto 21'!O24+(P44*Descrição!$P$32)","v":0},{"$f":"'Produto 21'!P24+(Q44*Descrição!$P$32)","v":0},{"$f":"'Produto 21'!Q24+(R44*Descrição!$P$32)","v":0},{"$f":"'Produto 21'!R24+(S44*Descrição!$P$32)","v":0},{"$f":"'Produto 21'!S24+(T44*Descrição!$P$32)","v":0},{"$f":"'Produto 21'!T24+(U44*Descrição!$P$32)","v":0},{"$f":"'Produto 21'!U24+(V44*Descrição!$P$32)","v":0},{"$f":"'Produto 21'!V24+(W44*Descrição!$P$32)","v":0},{"$f":"'Produto 21'!W24+(X44*Descrição!$P$32)","v":0},{"$f":"'Produto 21'!X24+(Y44*Descrição!$P$32)","v":0},{"$f":"'Produto 21'!Y24+(Z44*Descrição!$P$32)","v":0},{"$f":"'Produto 21'!Z24+(AA44*Descrição!$P$32)","v":0},{"$f":"'Produto 21'!AA24+(AB44*Descrição!$P$32)","v":0},{"$f":"'Produto 21'!AB24+(AC44*Descrição!$P$32)","v":0},{"$f":"'Produto 21'!AC24+(AD44*Descrição!$P$32)","v":0},{"$f":"'Produto 21'!AD24+(AE44*Descrição!$P$32)","v":0},{"$f":"'Produto 21'!AE24+(AF44*Descrição!$P$32)","v":0},{"$f":"'Produto 21'!AF24+(AG44*Descrição!$P$32)","v":0},{"$f":"'Produto 21'!AG24+(AH44*Descrição!$P$32)","v":0}]
[{"$f":"IF(LEN('Parâmetros Gerais'!B35)=0,\" \",'Parâmetros Gerais'!B35)","v":"madeira jequitiba"},0,0,null,{"$f":"'Produto 22'!D24+(E44*Descrição!$P$33)","v":0},{"$f":"'Produto 22'!E24+(F44*Descrição!$P$33)","v":0},{"$f":"'Produto 22'!F24+(G44*Descrição!$P$33)","v":0},{"$f":"'Produto 22'!G24+(H44*Descrição!$P$33)","v":0},{"$f":"'Produto 22'!H24+(I44*Descrição!$P$33)","v":0},{"$f":"'Produto 22'!I24+(J44*Descrição!$P$33)","v":0},{"$f":"'Produto 22'!J24+(K44*Descrição!$P$33)","v":0},{"$f":"'Produto 22'!K24+(L44*Descrição!$P$33)","v":0},{"$f":"'Produto 22'!L24+(M44*Descrição!$P$33)","v":0},{"$f":"'Produto 22'!M24+(N44*Descrição!$P$33)","v":0},{"$f":"'Produto 22'!N24+(O44*Descrição!$P$33)","v":0},{"$f":"'Produto 22'!O24+(P44*Descrição!$P$33)","v":0},{"$f":"'Produto 22'!P24+(Q44*Descrição!$P$33)","v":0},{"$f":"'Produto 22'!Q24+(R44*Descrição!$P$33)","v":0},{"$f":"'Produto 22'!R24+(S44*Descrição!$P$33)","v":0},{"$f":"'Produto 22'!S24+(T44*Descrição!$P$33)","v":0},{"$f":"'Produto 22'!T24+(U44*Descrição!$P$33)","v":0},{"$f":"'Produto 22'!U24+(V44*Descrição!$P$33)","v":0},{"$f":"'Produto 22'!V24+(W44*Descrição!$P$33)","v":0},{"$f":"'Produto 22'!W24+(X44*Descrição!$P$33)","v":0},{"$f":"'Produto 22'!X24+(Y44*Descrição!$P$33)","v":0},{"$f":"'Produto 22'!Y24+(Z44*Descrição!$P$33)","v":0},{"$f":"'Produto 22'!Z24+(AA44*Descrição!$P$33)","v":0},{"$f":"'Produto 22'!AA24+(AB44*Descrição!$P$33)","v":0},{"$f":"'Produto 22'!AB24+(AC44*Descrição!$P$33)","v":0},{"$f":"'Produto 22'!AC24+(AD44*Descrição!$P$33)","v":0},{"$f":"'Produto 22'!AD24+(AE44*Descrição!$P$33)","v":0},{"$f":"'Produto 22'!AE24+(AF44*Descrição!$P$33)","v":0},{"$f":"'Produto 22'!AF24+(AG44*Descrição!$P$33)","v":0},{"$f":"'Produto 22'!AG24+(AH44*Descrição!$P$33)","v":0}]
[{"$f":"IF(LEN('Parâmetros Gerais'!B36)=0,\" \",'Parâmetros Gerais'!B36)","v":"biomassa"},0,0,null,{"$f":"'Produto 23'!D24+(E44*Descrição!$P$34)","v":0},{"$f":"'Produto 23'!E24+(F44*Descrição!$P$34)","v":0},{"$f":"'Produto 23'!F24+(G44*Descrição!$P$34)","v":0},{"$f":"'Produto 23'!G24+(H44*Descrição!$P$34)","v":0},{"$f":"'Produto 23'!H24+(I44*Descrição!$P$34)","v":0},{"$f":"'Produto 23'!I24+(J44*Descrição!$P$34)","v":0},{"$f":"'Produto 23'!J24+(K44*Descrição!$P$34)","v":0},{"$f":"'Produto 23'!K24+(L44*Descrição!$P$34)","v":0},{"$f":"'Produto 23'!L24+(M44*Descrição!$P$34)","v":0},{"$f":"'Produto 23'!M24+(N44*Descrição!$P$34)","v":0},{"$f":"'Produto 23'!N24+(O44*Descrição!$P$34)","v":0},{"$f":"'Produto 23'!O24+(P44*Descrição!$P$34)","v":0},{"$f":"'Produto 23'!P24+(Q44*Descrição!$P$34)","v":0},{"$f":"'Produto 23'!Q24+(R44*Descrição!$P$34)","v":0},{"$f":"'Produto 23'!R24+(S44*Descrição!$P$34)","v":0},{"$f":"'Produto 23'!S24+(T44*Descrição!$P$34)","v":0},{"$f":"'Produto 23'!T24+(U44*Descrição!$P$34)","v":0},{"$f":"'Produto 23'!U24+(V44*Descrição!$P$34)","v":0},{"$f":"'Produto 23'!V24+(W44*Descrição!$P$34)","v":0},{"$f":"'Produto 23'!W24+(X44*Descrição!$P$34)","v":0},{"$f":"'Produto 23'!X24+(Y44*Descrição!$P$34)","v":0},{"$f":"'Produto 23'!Y24+(Z44*Descrição!$P$34)","v":0},{"$f":"'Produto 23'!Z24+(AA44*Descrição!$P$34)","v":0},{"$f":"'Produto 23'!AA24+(AB44*Descrição!$P$34)","v":0},{"$f":"'Produto 23'!AB24+(AC44*Descrição!$P$34)","v":0},{"$f":"'Produto 23'!AC24+(AD44*Descrição!$P$34)","v":0},{"$f":"'Produto 23'!AD24+(AE44*Descrição!$P$34)","v":0},{"$f":"'Produto 23'!AE24+(AF44*Descrição!$P$34)","v":0},{"$f":"'Produto 23'!AF24+(AG44*Descrição!$P$34)","v":0},{"$f":"'Produto 23'!AG24+(AH44*Descrição!$P$34)","v":0}]
[{"$f":"IF(LEN('Parâmetros Gerais'!B37)=0,\" \",'Parâmetros Gerais'!B37)","v":"grão caupi"},{"$f":"IF(C70<>0,C70/$C$12,0)","v":0},{"$f":"SUM(D70:AH70)","v":0},null,{"$f":"'Produto 24'!D24+(E44*Descrição!$P$35)","v":0},{"$f":"'Produto 24'!E24+(F44*Descrição!$P$35)","v":0},{"$f":"'Produto 24'!F24+(G44*Descrição!$P$35)","v":0},{"$f":"'Produto 24'!G24+(H44*Descrição!$P$35)","v":0},{"$f":"'Produto 24'!H24+(I44*Descrição!$P$35)","v":0},{"$f":"'Produto 24'!I24+(J44*Descrição!$P$35)","v":0},{"$f":"'Produto 24'!J24+(K44*Descrição!$P$35)","v":0},{"$f":"'Produto 24'!K24+(L44*Descrição!$P$35)","v":0},{"$f":"'Produto 24'!L24+(M44*Descrição!$P$35)","v":0},{"$f":"'Produto 24'!M24+(N44*Descrição!$P$35)","v":0},{"$f":"'Produto 24'!N24+(O44*Descrição!$P$35)","v":0},{"$f":"'Produto 24'!O24+(P44*Descrição!$P$35)","v":0},{"$f":"'Produto 24'!P24+(Q44*Descrição!$P$35)","v":0},{"$f":"'Produto 24'!Q24+(R44*Descrição!$P$35)","v":0},{"$f":"'Produto 24'!R24+(S44*Descrição!$P$35)","v":0},{"$f":"'Produto 24'!S24+(T44*Descrição!$P$35)","v":0},{"$f":"'Produto 24'!T24+(U44*Descrição!$P$35)","v":0},{"$f":"'Produto 24'!U24+(V44*Descrição!$P$35)","v":0},{"$f":"'Produto 24'!V24+(W44*Descrição!$P$35)","v":0},{"$f":"'Produto 24'!W24+(X44*Descrição!$P$35)","v":0},{"$f":"'Produto 24'!X24+(Y44*Descrição!$P$35)","v":0},{"$f":"'Produto 24'!Y24+(Z44*Descrição!$P$35)","v":0},{"$f":"'Produto 24'!Z24+(AA44*Descrição!$P$35)","v":0},{"$f":"'Produto 24'!AA24+(AB44*Descrição!$P$35)","v":0},{"$f":"'Produto 24'!AB24+(AC44*Descrição!$P$35)","v":0},{"$f":"'Produto 24'!AC24+(AD44*Descrição!$P$35)","v":0},{"$f":"'Produto 24'!AD24+(AE44*Descrição!$P$35)","v":0},{"$f":"'Produto 24'!AE24+(AF44*Descrição!$P$35)","v":0},{"$f":"'Produto 24'!AF24+(AG44*Descrição!$P$35)","v":0},{"$f":"'Produto 24'!AG24+(AH44*Descrição!$P$35)","v":0}]
[]
["Receitas (novo cenário)",null,{"$f":"SUM(D72:AH72)","v":302894},{"$f":"SUM(D75:D98)","v":0},49075,20420,7300,11264,12080,5060,3669.5,4839,4165,5758.5,4358.5,8418.5,9542.5,13838.5,21794.5,20194.5,20194.5,20890.5,20890.5,39140.5,0,0,0,0,0,0,0,0,0,0]
[]
["Culturas"]
[{"$f":"IF(LEN('Parâmetros Gerais'!B14)=0,\" \",'Parâmetros Gerais'!B14)","v":"latex"},{"$f":"IF(C75<>0,C75/$C$72,0)","v":4.0499316592603356E-2},{"$f":"SUM(D75:AH75)","v":12267},null,{"$f":"('Parâmetros Gerais'!$F$14*(1+'% Variação Preços'!D6))*(Produção!D6*(1-'% Perdas'!D6))","v":0},{"$f":"('Parâmetros Gerais'!$F$14*(1+'% Variação Preços'!E6))*(Produção!E6*(1-'% Perdas'!E6))","v":0},{"$f":"('Parâmetros Gerais'!$F$14*(1+'% Variação Preços'!F6))*(Produção!F6*(1-'% Perdas'!F6))","v":0},{"$f":"('Parâmetros Gerais'!$F$14*(1+'% Variação Preços'!G6))*(Produção!G6*(1-'% Perdas'!G6))","v":0},{"$f":"('Parâmetros Gerais'!$F$14*(1+'% Variação Preços'!H6))*(Produção!H6*(1-'% Perdas'!H6))","v":0},{"$f":"('Parâmetros Gerais'!$F$14*(1+'% Variação Preços'!I6))*(Produção!I6*(1-'% Perdas'!I6))","v":0},{"$f":"('Parâmetros Gerais'!$F$14*(1+'% Variação Preços'!J6))*(Produção!J6*(1-'% Perdas'!J6))","v":319.5},{"$f":"('Parâmetros Gerais'!$F$14*(1+'% Variação Preços'!K6))*(Produção!K6*(1-'% Perdas'!K6))","v":639},{"$f":"('Parâmetros Gerais'!$F$14*(1+'% Variação Preços'!L6))*(Produção!L6*(1-'% Perdas'!L6))","v":765},{"$f":"('Parâmetros Gerais'!$F$14*(1+'% Variação Preços'!M6))*(Produção!M6*(1-'% Perdas'!M6))","v":958.5},{"$f":"('Parâmetros Gerais'!$F$14*(1+'% Variação Preços'!N6))*(Produção!N6*(1-'% Perdas'!N6))","v":958.5},{"$f":"('Parâmetros Gerais'!$F$14*(1+'% Variação Preços'!O6))*(Produção!O6*(1-'% Perdas'!O6))","v":958.5},{"$f":"('Parâmetros Gerais'!$F$14*(1+'% Variação Preços'!P6))*(Produção!P6*(1-'% Perdas'!P6))","v":958.5},{"$f":"('Parâmetros Gerais'!$F$14*(1+'% Variação Preços'!Q6))*(Produção!Q6*(1-'% Perdas'!Q6))","v":958.5},{"$f":"('Parâmetros Gerais'!$F$14*(1+'% Variação Preços'!R6))*(Produção!R6*(1-'% Perdas'!R6))","v":958.5},{"$f":"('Parâmetros Gerais'!$F$14*(1+'% Variação Preços'!S6))*(Produção!S6*(1-'% Perdas'!S6))","v":958.5},{"$f":"('Parâmetros Gerais'!$F$14*(1+'% Variação Preços'!T6))*(Produção!T6*(1-'% Perdas'!T6))","v":958.5},{"$f":"('Parâmetros Gerais'!$F$14*(1+'% Variação Preços'!U6))*(Produção!U6*(1-'% Perdas'!U6))","v":958.5},{"$f":"('Parâmetros Gerais'!$F$14*(1+'% Variação Preços'!V6))*(Produção!V6*(1-'% Perdas'!V6))","v":958.5},{"$f":"('Parâmetros Gerais'!$F$14*(1+'% Variação Preços'!W6))*(Produção!W6*(1-'% Perdas'!W6))","v":958.5},{"$f":"('Parâmetros Gerais'!$F$14*(1+'% Variação Preços'!X6))*(Produção!X6*(1-'% Perdas'!X6))","v":0},{"$f":"('Parâmetros Gerais'!$F$14*(1+'% Variação Preços'!Y6))*(Produção!Y6*(1-'% Perdas'!Y6))","v":0},{"$f":"('Parâmetros Gerais'!$F$14*(1+'% Variação Preços'!Z6))*(Produção!Z6*(1-'% Perdas'!Z6))","v":0},{"$f":"('Parâmetros Gerais'!$F$14*(1+'% Variação Preços'!AA6))*(Produção!AA6*(1-'% Perdas'!AA6))","v":0},{"$f":"('Parâmetros Gerais'!$F$14*(1+'% Variação Preços'!AB6))*(Produção!AB6*(1-'% Perdas'!AB6))","v":0},{"$f":"('Parâmetros Gerais'!$F$14*(1+'% Variação Preços'!AC6))*(Produção!AC6*(1-'% Perdas'!AC6))","v":0},{"$f":"('Parâmetros Gerais'!$F$14*(1+'% Variação Preços'!AD6))*(Produção!AD6*(1-'% Perdas'!AD6))","v":0},{"$f":"('Parâmetros Gerais'!$F$14*(1+'% Variação Preços'!AE6))*(Produção!AE6*(1-'% Perdas'!AE6))","v":0},{"$f":"('Parâmetros Gerais'!$F$14*(1+'% Variação Preços'!AF6))*(Produção!AF6*(1-'% Perdas'!AF6))","v":0},{"$f":"('Parâmetros Gerais'!$F$14*(1+'% Variação Preços'!AG6))*(Produção!AG6*(1-'% Perdas'!AG6))","v":0}]
[{"$f":"IF(LEN('Parâmetros Gerais'!B15)=0,\" \",'Parâmetros Gerais'!B15)","v":"fruto genipapo"},{"$f":"IF(C76<>0,C76/$C$72,0)","v":0.14093379201965045},{"$f":"SUM(D76:AH76)","v":42688},null,{"$f":"('Parâmetros Gerais'!$F$15*(1+'% Variação Preços'!D7))*(Produção!D7*(1-'% Perdas'!D7))","v":0},{"$f":"('Parâmetros Gerais'!$F$15*(1+'% Variação Preços'!E7))*(Produção!E7*(1-'% Perdas'!E7))","v":0},{"$f":"('Parâmetros Gerais'!$F$15*(1+'% Variação Preços'!F7))*(Produção!F7*(1-'% Perdas'!F7))","v":0},{"$f":"('Parâmetros Gerais'!$F$15*(1+'% Variação Preços'!G7))*(Produção!G7*(1-'% Perdas'!G7))","v":0},{"$f":"('Parâmetros Gerais'!$F$15*(1+'% Variação Preços'!H7))*(Produção!H7*(1-'% Perdas'!H7))","v":0},{"$f":"('Parâmetros Gerais'!$F$15*(1+'% Variação Preços'!I7))*(Produção!I7*(1-'% Perdas'!I7))","v":0},{"$f":"('Parâmetros Gerais'!$F$15*(1+'% Variação Preços'!J7))*(Produção!J7*(1-'% Perdas'!J7))","v":0},{"$f":"('Parâmetros Gerais'!$F$15*(1+'% Variação Preços'!K7))*(Produção!K7*(1-'% Perdas'!K7))","v":0},{"$f":"('Parâmetros Gerais'!$F$15*(1+'% Variação Preços'!L7))*(Produção!L7*(1-'% Perdas'!L7))","v":0},{"$f":"('Parâmetros Gerais'!$F$15*(1+'% Variação Preços'!M7))*(Produção!M7*(1-'% Perdas'!M7))","v":0},{"$f":"('Parâmetros Gerais'!$F$15*(1+'% Variação Preços'!N7))*(Produção!N7*(1-'% Perdas'!N7))","v":0},{"$f":"('Parâmetros Gerais'!$F$15*(1+'% Variação Preços'!O7))*(Produção!O7*(1-'% Perdas'!O7))","v":2320},{"$f":"('Parâmetros Gerais'!$F$15*(1+'% Variação Preços'!P7))*(Produção!P7*(1-'% Perdas'!P7))","v":2784},{"$f":"('Parâmetros Gerais'!$F$15*(1+'% Variação Preços'!Q7))*(Produção!Q7*(1-'% Perdas'!Q7))","v":3480},{"$f":"('Parâmetros Gerais'!$F$15*(1+'% Variação Preços'!R7))*(Produção!R7*(1-'% Perdas'!R7))","v":5336},{"$f":"('Parâmetros Gerais'!$F$15*(1+'% Variação Preços'!S7))*(Produção!S7*(1-'% Perdas'!S7))","v":5336},{"$f":"('Parâmetros Gerais'!$F$15*(1+'% Variação Preços'!T7))*(Produção!T7*(1-'% Perdas'!T7))","v":5336},{"$f":"('Parâmetros Gerais'!$F$15*(1+'% Variação Preços'!U7))*(Produção!U7*(1-'% Perdas'!U7))","v":6032},{"$f":"('Parâmetros Gerais'!$F$15*(1+'% Variação Preços'!V7))*(Produção!V7*(1-'% Perdas'!V7))","v":6032},{"$f":"('Parâmetros Gerais'!$F$15*(1+'% Variação Preços'!W7))*(Produção!W7*(1-'% Perdas'!W7))","v":6032},{"$f":"('Parâmetros Gerais'!$F$15*(1+'% Variação Preços'!X7))*(Produção!X7*(1-'% Perdas'!X7))","v":0},{"$f":"('Parâmetros Gerais'!$F$15*(1+'% Variação Preços'!Y7))*(Produção!Y7*(1-'% Perdas'!Y7))","v":0},{"$f":"('Parâmetros Gerais'!$F$15*(1+'% Variação Preços'!Z7))*(Produção!Z7*(1-'% Perdas'!Z7))","v":0},{"$f":"('Parâmetros Gerais'!$F$15*(1+'% Variação Preços'!AA7))*(Produção!AA7*(1-'% Perdas'!AA7))","v":0},{"$f":"('Parâmetros Gerais'!$F$15*(1+'% Variação Preços'!AB7))*(Produção!AB7*(1-'% Perdas'!AB7))","v":0},{"$f":"('Parâmetros Gerais'!$F$15*(1+'% Variação Preços'!AC7))*(Produção!AC7*(1-'% Perdas'!AC7))","v":0},{"$f":"('Parâmetros Gerais'!$F$15*(1+'% Variação Preços'!AD7))*(Produção!AD7*(1-'% Perdas'!AD7))","v":0},{"$f":"('Parâmetros Gerais'!$F$15*(1+'% Variação Preços'!AE7))*(Produção!AE7*(1-'% Perdas'!AE7))","v":0},{"$f":"('Parâmetros Gerais'!$F$15*(1+'% Variação Preços'!AF7))*(Produção!AF7*(1-'% Perdas'!AF7))","v":0},{"$f":"('Parâmetros Gerais'!$F$15*(1+'% Variação Preços'!AG7))*(Produção!AG7*(1-'% Perdas'!AG7))","v":0}]
[{"$f":"IF(LEN('Parâmetros Gerais'!B16)=0,\" \",'Parâmetros Gerais'!B16)","v":"fruto araçauna"},1.2941821231189789E-2,3920,null,{"$f":"('Parâmetros Gerais'!$F$16*(1+'% Variação Preços'!D8))*(Produção!D8*(1-'% Perdas'!D8))","v":0},{"$f":"('Parâmetros Gerais'!$F$16*(1+'% Variação Preços'!E8))*(Produção!E8*(1-'% Perdas'!E8))","v":0},{"$f":"('Parâmetros Gerais'!$F$16*(1+'% Variação Preços'!F8))*(Produção!F8*(1-'% Perdas'!F8))","v":920},{"$f":"('Parâmetros Gerais'!$F$16*(1+'% Variação Preços'!G8))*(Produção!G8*(1-'% Perdas'!G8))","v":920},{"$f":"('Parâmetros Gerais'!$F$16*(1+'% Variação Preços'!H8))*(Produção!H8*(1-'% Perdas'!H8))","v":1160},{"$f":"('Parâmetros Gerais'!$F$16*(1+'% Variação Preços'!I8))*(Produção!I8*(1-'% Perdas'!I8))","v":920},{"$f":"('Parâmetros Gerais'!$F$16*(1+'% Variação Preços'!J8))*(Produção!J8*(1-'% Perdas'!J8))","v":0},{"$f":"('Parâmetros Gerais'!$F$16*(1+'% Variação Preços'!K8))*(Produção!K8*(1-'% Perdas'!K8))","v":0},{"$f":"('Parâmetros Gerais'!$F$16*(1+'% Variação Preços'!L8))*(Produção!L8*(1-'% Perdas'!L8))","v":0},{"$f":"('Parâmetros Gerais'!$F$16*(1+'% Variação Preços'!M8))*(Produção!M8*(1-'% Perdas'!M8))","v":0},{"$f":"('Parâmetros Gerais'!$F$16*(1+'% Variação Preços'!N8))*(Produção!N8*(1-'% Perdas'!N8))","v":0},{"$f":"('Parâmetros Gerais'!$F$16*(1+'% Variação Preços'!O8))*(Produção!O8*(1-'% Perdas'!O8))","v":0},{"$f":"('Parâmetros Gerais'!$F$16*(1+'% Variação Preços'!P8))*(Produção!P8*(1-'% Perdas'!P8))","v":0},{"$f":"('Parâmetros Gerais'!$F$16*(1+'% Variação Preços'!Q8))*(Produção!Q8*(1-'% Perdas'!Q8))","v":0},{"$f":"('Parâmetros Gerais'!$F$16*(1+'% Variação Preços'!R8))*(Produção!R8*(1-'% Perdas'!R8))","v":0},{"$f":"('Parâmetros Gerais'!$F$16*(1+'% Variação Preços'!S8))*(Produção!S8*(1-'% Perdas'!S8))","v":0},{"$f":"('Parâmetros Gerais'!$F$16*(1+'% Variação Preços'!T8))*(Produção!T8*(1-'% Perdas'!T8))","v":0},{"$f":"('Parâmetros Gerais'!$F$16*(1+'% Variação Preços'!U8))*(Produção!U8*(1-'% Perdas'!U8))","v":0},{"$f":"('Parâmetros Gerais'!$F$16*(1+'% Variação Preços'!V8))*(Produção!V8*(1-'% Perdas'!V8))","v":0},{"$f":"('Parâmetros Gerais'!$F$16*(1+'% Variação Preços'!W8))*(Produção!W8*(1-'% Perdas'!W8))","v":0},{"$f":"('Parâmetros Gerais'!$F$16*(1+'% Variação Preços'!X8))*(Produção!X8*(1-'% Perdas'!X8))","v":0},{"$f":"('Parâmetros Gerais'!$F$16*(1+'% Variação Preços'!Y8))*(Produção!Y8*(1-'% Perdas'!Y8))","v":0},{"$f":"('Parâmetros Gerais'!$F$16*(1+'% Variação Preços'!Z8))*(Produção!Z8*(1-'% Perdas'!Z8))","v":0},{"$f":"('Parâmetros Gerais'!$F$16*(1+'% Variação Preços'!AA8))*(Produção!AA8*(1-'% Perdas'!AA8))","v":0},{"$f":"('Parâmetros Gerais'!$F$16*(1+'% Variação Preços'!AB8))*(Produção!AB8*(1-'% Perdas'!AB8))","v":0},{"$f":"('Parâmetros Gerais'!$F$16*(1+'% Variação Preços'!AC8))*(Produção!AC8*(1-'% Perdas'!AC8))","v":0},{"$f":"('Parâmetros Gerais'!$F$16*(1+'% Variação Preços'!AD8))*(Produção!AD8*(1-'% Perdas'!AD8))","v":0},{"$f":"('Parâmetros Gerais'!$F$16*(1+'% Variação Preços'!AE8))*(Produção!AE8*(1-'% Perdas'!AE8))","v":0},{"$f":"('Parâmetros Gerais'!$F$16*(1+'% Variação Preços'!AF8))*(Produção!AF8*(1-'% Perdas'!AF8))","v":0},{"$f":"('Parâmetros Gerais'!$F$16*(1+'% Variação Preços'!AG8))*(Produção!AG8*(1-'% Perdas'!AG8))","v":0}]
[{"$f":"IF(LEN('Parâmetros Gerais'!B17)=0,\" \",'Parâmetros Gerais'!B17)","v":"fruto pitanga"},1.317292518174675E-2,3990,null,{"$f":"('Parâmetros Gerais'!$F$17*(1+'% Variação Preços'!D9))*(Produção!D9*(1-'% Perdas'!D9))","v":0},{"$f":"('Parâmetros Gerais'!$F$17*(1+'% Variação Preços'!E9))*(Produção!E9*(1-'% Perdas'!E9))","v":570},{"$f":"('Parâmetros Gerais'!$F$17*(1+'% Variação Preços'!F9))*(Produção!F9*(1-'% Perdas'!F9))","v":1140},{"$f":"('Parâmetros Gerais'!$F$17*(1+'% Variação Preços'!G9))*(Produção!G9*(1-'% Perdas'!G9))","v":1140},{"$f":"('Parâmetros Gerais'!$F$17*(1+'% Variação Preços'!H9))*(Produção!H9*(1-'% Perdas'!H9))","v":1140},{"$f":"('Parâmetros Gerais'!$F$17*(1+'% Variação Preços'!I9))*(Produção!I9*(1-'% Perdas'!I9))","v":0},{"$f":"('Parâmetros Gerais'!$F$17*(1+'% Variação Preços'!J9))*(Produção!J9*(1-'% Perdas'!J9))","v":0},{"$f":"('Parâmetros Gerais'!$F$17*(1+'% Variação Preços'!K9))*(Produção!K9*(1-'% Perdas'!K9))","v":0},{"$f":"('Parâmetros Gerais'!$F$17*(1+'% Variação Preços'!L9))*(Produção!L9*(1-'% Perdas'!L9))","v":0},{"$f":"('Parâmetros Gerais'!$F$17*(1+'% Variação Preços'!M9))*(Produção!M9*(1-'% Perdas'!M9))","v":0},{"$f":"('Parâmetros Gerais'!$F$17*(1+'% Variação Preços'!N9))*(Produção!N9*(1-'% Perdas'!N9))","v":0},{"$f":"('Parâmetros Gerais'!$F$17*(1+'% Variação Preços'!O9))*(Produção!O9*(1-'% Perdas'!O9))","v":0},{"$f":"('Parâmetros Gerais'!$F$17*(1+'% Variação Preços'!P9))*(Produção!P9*(1-'% Perdas'!P9))","v":0},{"$f":"('Parâmetros Gerais'!$F$17*(1+'% Variação Preços'!Q9))*(Produção!Q9*(1-'% Perdas'!Q9))","v":0},{"$f":"('Parâmetros Gerais'!$F$17*(1+'% Variação Preços'!R9))*(Produção!R9*(1-'% Perdas'!R9))","v":0},{"$f":"('Parâmetros Gerais'!$F$17*(1+'% Variação Preços'!S9))*(Produção!S9*(1-'% Perdas'!S9))","v":0},{"$f":"('Parâmetros Gerais'!$F$17*(1+'% Variação Preços'!T9))*(Produção!T9*(1-'% Perdas'!T9))","v":0},{"$f":"('Parâmetros Gerais'!$F$17*(1+'% Variação Preços'!U9))*(Produção!U9*(1-'% Perdas'!U9))","v":0},{"$f":"('Parâmetros Gerais'!$F$17*(1+'% Variação Preços'!V9))*(Produção!V9*(1-'% Perdas'!V9))","v":0},{"$f":"('Parâmetros Gerais'!$F$17*(1+'% Variação Preços'!W9))*(Produção!W9*(1-'% Perdas'!W9))","v":0},{"$f":"('Parâmetros Gerais'!$F$17*(1+'% Variação Preços'!X9))*(Produção!X9*(1-'% Perdas'!X9))","v":0},{"$f":"('Parâmetros Gerais'!$F$17*(1+'% Variação Preços'!Y9))*(Produção!Y9*(1-'% Perdas'!Y9))","v":0},{"$f":"('Parâmetros Gerais'!$F$17*(1+'% Variação Preços'!Z9))*(Produção!Z9*(1-'% Perdas'!Z9))","v":0},{"$f":"('Parâmetros Gerais'!$F$17*(1+'% Variação Preços'!AA9))*(Produção!AA9*(1-'% Perdas'!AA9))","v":0},{"$f":"('Parâmetros Gerais'!$F$17*(1+'% Variação Preços'!AB9))*(Produção!AB9*(1-'% Perdas'!AB9))","v":0},{"$f":"('Parâmetros Gerais'!$F$17*(1+'% Variação Preços'!AC9))*(Produção!AC9*(1-'% Perdas'!AC9))","v":0},{"$f":"('Parâmetros Gerais'!$F$17*(1+'% Variação Preços'!AD9))*(Produção!AD9*(1-'% Perdas'!AD9))","v":0},{"$f":"('Parâmetros Gerais'!$F$17*(1+'% Variação Preços'!AE9))*(Produção!AE9*(1-'% Perdas'!AE9))","v":0},{"$f":"('Parâmetros Gerais'!$F$17*(1+'% Variação Preços'!AF9))*(Produção!AF9*(1-'% Perdas'!AF9))","v":0},{"$f":"('Parâmetros Gerais'!$F$17*(1+'% Variação Preços'!AG9))*(Produção!AG9*(1-'% Perdas'!AG9))","v":0}]
[{"$f":"IF(LEN('Parâmetros Gerais'!B18)=0,\" \",'Parâmetros Gerais'!B18)","v":"castanha sapucaia"},0.23849927697478326,72240,null,{"$f":"('Parâmetros Gerais'!$F$18*(1+'% Variação Preços'!D10))*(Produção!D10*(1-'% Perdas'!D10))","v":0},{"$f":"('Parâmetros Gerais'!$F$18*(1+'% Variação Preços'!E10))*(Produção!E10*(1-'% Perdas'!E10))","v":0},{"$f":"('Parâmetros Gerais'!$F$18*(1+'% Variação Preços'!F10))*(Produção!F10*(1-'% Perdas'!F10))","v":0},{"$f":"('Parâmetros Gerais'!$F$18*(1+'% Variação Preços'!G10))*(Produção!G10*(1-'% Perdas'!G10))","v":0},{"$f":"('Parâmetros Gerais'!$F$18*(1+'% Variação Preços'!H10))*(Produção!H10*(1-'% Perdas'!H10))","v":0},{"$f":"('Parâmetros Gerais'!$F$18*(1+'% Variação Preços'!I10))*(Produção!I10*(1-'% Perdas'!I10))","v":0},{"$f":"('Parâmetros Gerais'!$F$18*(1+'% Variação Preços'!J10))*(Produção!J10*(1-'% Perdas'!J10))","v":0},{"$f":"('Parâmetros Gerais'!$F$18*(1+'% Variação Preços'!K10))*(Produção!K10*(1-'% Perdas'!K10))","v":0},{"$f":"('Parâmetros Gerais'!$F$18*(1+'% Variação Preços'!L10))*(Produção!L10*(1-'% Perdas'!L10))","v":0},{"$f":"('Parâmetros Gerais'!$F$18*(1+'% Variação Preços'!M10))*(Produção!M10*(1-'% Perdas'!M10))","v":0},{"$f":"('Parâmetros Gerais'!$F$18*(1+'% Variação Preços'!N10))*(Produção!N10*(1-'% Perdas'!N10))","v":0},{"$f":"('Parâmetros Gerais'!$F$18*(1+'% Variação Preços'!O10))*(Produção!O10*(1-'% Perdas'!O10))","v":1740},{"$f":"('Parâmetros Gerais'!$F$18*(1+'% Variação Preços'!P10))*(Produção!P10*(1-'% Perdas'!P10))","v":2400},{"$f":"('Parâmetros Gerais'!$F$18*(1+'% Variação Preços'!Q10))*(Produção!Q10*(1-'% Perdas'!Q10))","v":6000},{"$f":"('Parâmetros Gerais'!$F$18*(1+'% Variação Preços'!R10))*(Produção!R10*(1-'% Perdas'!R10))","v":9600},{"$f":"('Parâmetros Gerais'!$F$18*(1+'% Variação Preços'!S10))*(Produção!S10*(1-'% Perdas'!S10))","v":10500},{"$f":"('Parâmetros Gerais'!$F$18*(1+'% Variação Preços'!T10))*(Produção!T10*(1-'% Perdas'!T10))","v":10500},{"$f":"('Parâmetros Gerais'!$F$18*(1+'% Variação Preços'!U10))*(Produção!U10*(1-'% Perdas'!U10))","v":10500},{"$f":"('Parâmetros Gerais'!$F$18*(1+'% Variação Preços'!V10))*(Produção!V10*(1-'% Perdas'!V10))","v":10500},{"$f":"('Parâmetros Gerais'!$F$18*(1+'% Variação Preços'!W10))*(Produção!W10*(1-'% Perdas'!W10))","v":10500},{"$f":"('Parâmetros Gerais'!$F$18*(1+'% Variação Preços'!X10))*(Produção!X10*(1-'% Perdas'!X10))","v":0},{"$f":"('Parâmetros Gerais'!$F$18*(1+'% Variação Preços'!Y10))*(Produção!Y10*(1-'% Perdas'!Y10))","v":0},{"$f":"('Parâmetros Gerais'!$F$18*(1+'% Variação Preços'!Z10))*(Produção!Z10*(1-'% Perdas'!Z10))","v":0},{"$f":"('Parâmetros Gerais'!$F$18*(1+'% Variação Preços'!AA10))*(Produção!AA10*(1-'% Perdas'!AA10))","v":0},{"$f":"('Parâmetros Gerais'!$F$18*(1+'% Variação Preços'!AB10))*(Produção!AB10*(1-'% Perdas'!AB10))","v":0},{"$f":"('Parâmetros Gerais'!$F$18*(1+'% Variação Preços'!AC10))*(Produção!AC10*(1-'% Perdas'!AC10))","v":0},{"$f":"('Parâmetros Gerais'!$F$18*(1+'% Variação Preços'!AD10))*(Produção!AD10*(1-'% Perdas'!AD10))","v":0},{"$f":"('Parâmetros Gerais'!$F$18*(1+'% Variação Preços'!AE10))*(Produção!AE10*(1-'% Perdas'!AE10))","v":0},{"$f":"('Parâmetros Gerais'!$F$18*(1+'% Variação Preços'!AF10))*(Produção!AF10*(1-'% Perdas'!AF10))","v":0},{"$f":"('Parâmetros Gerais'!$F$18*(1+'% Variação Preços'!AG10))*(Produção!AG10*(1-'% Perdas'!AG10))","v":0}]
[{"$f":"IF(LEN('Parâmetros Gerais'!B19)=0,\" \",'Parâmetros Gerais'!B19)","v":"fruto cajá"},{"$f":"IF(C80<>0,C80/$C$72,0)","v":0.1722846936552061},{"$f":"SUM(D80:AH80)","v":52184},null,{"$f":"('Parâmetros Gerais'!$F$19*(1+'% Variação Preços'!D11))*(Produção!D11*(1-'% Perdas'!D11))","v":0},{"$f":"('Parâmetros Gerais'!$F$19*(1+'% Variação Preços'!E11))*(Produção!E11*(1-'% Perdas'!E11))","v":0},{"$f":"('Parâmetros Gerais'!$F$19*(1+'% Variação Preços'!F11))*(Produção!F11*(1-'% Perdas'!F11))","v":0},{"$f":"('Parâmetros Gerais'!$F$19*(1+'% Variação Preços'!G11))*(Produção!G11*(1-'% Perdas'!G11))","v":1344},{"$f":"('Parâmetros Gerais'!$F$19*(1+'% Variação Preços'!H11))*(Produção!H11*(1-'% Perdas'!H11))","v":1920},{"$f":"('Parâmetros Gerais'!$F$19*(1+'% Variação Preços'!I11))*(Produção!I11*(1-'% Perdas'!I11))","v":2400},{"$f":"('Parâmetros Gerais'!$F$19*(1+'% Variação Preços'!J11))*(Produção!J11*(1-'% Perdas'!J11))","v":2600},{"$f":"('Parâmetros Gerais'!$F$19*(1+'% Variação Preços'!K11))*(Produção!K11*(1-'% Perdas'!K11))","v":3120},{"$f":"('Parâmetros Gerais'!$F$19*(1+'% Variação Preços'!L11))*(Produção!L11*(1-'% Perdas'!L11))","v":3400},{"$f":"('Parâmetros Gerais'!$F$19*(1+'% Variação Preços'!M11))*(Produção!M11*(1-'% Perdas'!M11))","v":3400},{"$f":"('Parâmetros Gerais'!$F$19*(1+'% Variação Preços'!N11))*(Produção!N11*(1-'% Perdas'!N11))","v":3400},{"$f":"('Parâmetros Gerais'!$F$19*(1+'% Variação Preços'!O11))*(Produção!O11*(1-'% Perdas'!O11))","v":3400},{"$f":"('Parâmetros Gerais'!$F$19*(1+'% Variação Preços'!P11))*(Produção!P11*(1-'% Perdas'!P11))","v":3400},{"$f":"('Parâmetros Gerais'!$F$19*(1+'% Variação Preços'!Q11))*(Produção!Q11*(1-'% Perdas'!Q11))","v":3400},{"$f":"('Parâmetros Gerais'!$F$19*(1+'% Variação Preços'!R11))*(Produção!R11*(1-'% Perdas'!R11))","v":3400},{"$f":"('Parâmetros Gerais'!$F$19*(1+'% Variação Preços'!S11))*(Produção!S11*(1-'% Perdas'!S11))","v":3400},{"$f":"('Parâmetros Gerais'!$F$19*(1+'% Variação Preços'!T11))*(Produção!T11*(1-'% Perdas'!T11))","v":3400},{"$f":"('Parâmetros Gerais'!$F$19*(1+'% Variação Preços'!U11))*(Produção!U11*(1-'% Perdas'!U11))","v":3400},{"$f":"('Parâmetros Gerais'!$F$19*(1+'% Variação Preços'!V11))*(Produção!V11*(1-'% Perdas'!V11))","v":3400},{"$f":"('Parâmetros Gerais'!$F$19*(1+'% Variação Preços'!W11))*(Produção!W11*(1-'% Perdas'!W11))","v":3400},{"$f":"('Parâmetros Gerais'!$F$19*(1+'% Variação Preços'!X11))*(Produção!X11*(1-'% Perdas'!X11))","v":0},{"$f":"('Parâmetros Gerais'!$F$19*(1+'% Variação Preços'!Y11))*(Produção!Y11*(1-'% Perdas'!Y11))","v":0},{"$f":"('Parâmetros Gerais'!$F$19*(1+'% Variação Preços'!Z11))*(Produção!Z11*(1-'% Perdas'!Z11))","v":0},{"$f":"('Parâmetros Gerais'!$F$19*(1+'% Variação Preços'!AA11))*(Produção!AA11*(1-'% Perdas'!AA11))","v":0},{"$f":"('Parâmetros Gerais'!$F$19*(1+'% Variação Preços'!AB11))*(Produção!AB11*(1-'% Perdas'!AB11))","v":0},{"$f":"('Parâmetros Gerais'!$F$19*(1+'% Variação Preços'!AC11))*(Produção!AC11*(1-'% Perdas'!AC11))","v":0},{"$f":"('Parâmetros Gerais'!$F$19*(1+'% Variação Preços'!AD11))*(Produção!AD11*(1-'% Perdas'!AD11))","v":0},{"$f":"('Parâmetros Gerais'!$F$19*(1+'% Variação Preços'!AE11))*(Produção!AE11*(1-'% Perdas'!AE11))","v":0},{"$f":"('Parâmetros Gerais'!$F$19*(1+'% Variação Preços'!AF11))*(Produção!AF11*(1-'% Perdas'!AF11))","v":0},{"$f":"('Parâmetros Gerais'!$F$19*(1+'% Variação Preços'!AG11))*(Produção!AG11*(1-'% Perdas'!AG11))","v":0}]
[{"$f":"IF(LEN('Parâmetros Gerais'!B20)=0,\" \",'Parâmetros Gerais'!B20)","v":"semente urucum"},7.5009739380773474E-2,22720,null,{"$f":"('Parâmetros Gerais'!$F$20*(1+'% Variação Preços'!D12))*(Produção!D12*(1-'% Perdas'!D12))","v":0},{"$f":"('Parâmetros Gerais'!$F$20*(1+'% Variação Preços'!E12))*(Produção!E12*(1-'% Perdas'!E12))","v":4544},{"$f":"('Parâmetros Gerais'!$F$20*(1+'% Variação Preços'!F12))*(Produção!F12*(1-'% Perdas'!F12))","v":4544},{"$f":"('Parâmetros Gerais'!$F$20*(1+'% Variação Preços'!G12))*(Produção!G12*(1-'% Perdas'!G12))","v":6816},{"$f":"('Parâmetros Gerais'!$F$20*(1+'% Variação Preços'!H12))*(Produção!H12*(1-'% Perdas'!H12))","v":6816},{"$f":"('Parâmetros Gerais'!$F$20*(1+'% Variação Preços'!I12))*(Produção!I12*(1-'% Perdas'!I12))","v":0},{"$f":"('Parâmetros Gerais'!$F$20*(1+'% Variação Preços'!J12))*(Produção!J12*(1-'% Perdas'!J12))","v":0},{"$f":"('Parâmetros Gerais'!$F$20*(1+'% Variação Preços'!K12))*(Produção!K12*(1-'% Perdas'!K12))","v":0},{"$f":"('Parâmetros Gerais'!$F$20*(1+'% Variação Preços'!L12))*(Produção!L12*(1-'% Perdas'!L12))","v":0},{"$f":"('Parâmetros Gerais'!$F$20*(1+'% Variação Preços'!M12))*(Produção!M12*(1-'% Perdas'!M12))","v":0},{"$f":"('Parâmetros Gerais'!$F$20*(1+'% Variação Preços'!N12))*(Produção!N12*(1-'% Perdas'!N12))","v":0},{"$f":"('Parâmetros Gerais'!$F$20*(1+'% Variação Preços'!O12))*(Produção!O12*(1-'% Perdas'!O12))","v":0},{"$f":"('Parâmetros Gerais'!$F$20*(1+'% Variação Preços'!P12))*(Produção!P12*(1-'% Perdas'!P12))","v":0},{"$f":"('Parâmetros Gerais'!$F$20*(1+'% Variação Preços'!Q12))*(Produção!Q12*(1-'% Perdas'!Q12))","v":0},{"$f":"('Parâmetros Gerais'!$F$20*(1+'% Variação Preços'!R12))*(Produção!R12*(1-'% Perdas'!R12))","v":0},{"$f":"('Parâmetros Gerais'!$F$20*(1+'% Variação Preços'!S12))*(Produção!S12*(1-'% Perdas'!S12))","v":0},{"$f":"('Parâmetros Gerais'!$F$20*(1+'% Variação Preços'!T12))*(Produção!T12*(1-'% Perdas'!T12))","v":0},{"$f":"('Parâmetros Gerais'!$F$20*(1+'% Variação Preços'!U12))*(Produção!U12*(1-'% Perdas'!U12))","v":0},{"$f":"('Parâmetros Gerais'!$F$20*(1+'% Variação Preços'!V12))*(Produção!V12*(1-'% Perdas'!V12))","v":0},{"$f":"('Parâmetros Gerais'!$F$20*(1+'% Variação Preços'!W12))*(Produção!W12*(1-'% Perdas'!W12))","v":0},{"$f":"('Parâmetros Gerais'!$F$20*(1+'% Variação Preços'!X12))*(Produção!X12*(1-'% Perdas'!X12))","v":0},{"$f":"('Parâmetros Gerais'!$F$20*(1+'% Variação Preços'!Y12))*(Produção!Y12*(1-'% Perdas'!Y12))","v":0},{"$f":"('Parâmetros Gerais'!$F$20*(1+'% Variação Preços'!Z12))*(Produção!Z12*(1-'% Perdas'!Z12))","v":0},{"$f":"('Parâmetros Gerais'!$F$20*(1+'% Variação Preços'!AA12))*(Produção!AA12*(1-'% Perdas'!AA12))","v":0},{"$f":"('Parâmetros Gerais'!$F$20*(1+'% Variação Preços'!AB12))*(Produção!AB12*(1-'% Perdas'!AB12))","v":0},{"$f":"('Parâmetros Gerais'!$F$20*(1+'% Variação Preços'!AC12))*(Produção!AC12*(1-'% Perdas'!AC12))","v":0},{"$f":"('Parâmetros Gerais'!$F$20*(1+'% Variação Preços'!AD12))*(Produção!AD12*(1-'% Perdas'!AD12))","v":0},{"$f":"('Parâmetros Gerais'!$F$20*(1+'% Variação Preços'!AE12))*(Produção!AE12*(1-'% Perdas'!AE12))","v":0},{"$f":"('Parâmetros Gerais'!$F$20*(1+'% Variação Preços'!AF12))*(Produção!AF12*(1-'% Perdas'!AF12))","v":0},{"$f":"('Parâmetros Gerais'!$F$20*(1+'% Variação Preços'!AG12))*(Produção!AG12*(1-'% Perdas'!AG12))","v":0}]
[{"$f":"IF(LEN('Parâmetros Gerais'!B21)=0,\" \",'Parâmetros Gerais'!B21)","v":"semente aroeira"},1.723375174153334E-2,5220,null,{"$f":"('Parâmetros Gerais'!$F$21*(1+'% Variação Preços'!D13))*(Produção!D13*(1-'% Perdas'!D13))","v":0},{"$f":"('Parâmetros Gerais'!$F$21*(1+'% Variação Preços'!E13))*(Produção!E13*(1-'% Perdas'!E13))","v":696},{"$f":"('Parâmetros Gerais'!$F$21*(1+'% Variação Preços'!F13))*(Produção!F13*(1-'% Perdas'!F13))","v":696},{"$f":"('Parâmetros Gerais'!$F$21*(1+'% Variação Preços'!G13))*(Produção!G13*(1-'% Perdas'!G13))","v":1044},{"$f":"('Parâmetros Gerais'!$F$21*(1+'% Variação Preços'!H13))*(Produção!H13*(1-'% Perdas'!H13))","v":1044},{"$f":"('Parâmetros Gerais'!$F$21*(1+'% Variação Preços'!I13))*(Produção!I13*(1-'% Perdas'!I13))","v":1740},{"$f":"('Parâmetros Gerais'!$F$21*(1+'% Variação Preços'!J13))*(Produção!J13*(1-'% Perdas'!J13))","v":0},{"$f":"('Parâmetros Gerais'!$F$21*(1+'% Variação Preços'!K13))*(Produção!K13*(1-'% Perdas'!K13))","v":0},{"$f":"('Parâmetros Gerais'!$F$21*(1+'% Variação Preços'!L13))*(Produção!L13*(1-'% Perdas'!L13))","v":0},{"$f":"('Parâmetros Gerais'!$F$21*(1+'% Variação Preços'!M13))*(Produção!M13*(1-'% Perdas'!M13))","v":0},{"$f":"('Parâmetros Gerais'!$F$21*(1+'% Variação Preços'!N13))*(Produção!N13*(1-'% Perdas'!N13))","v":0},{"$f":"('Parâmetros Gerais'!$F$21*(1+'% Variação Preços'!O13))*(Produção!O13*(1-'% Perdas'!O13))","v":0},{"$f":"('Parâmetros Gerais'!$F$21*(1+'% Variação Preços'!P13))*(Produção!P13*(1-'% Perdas'!P13))","v":0},{"$f":"('Parâmetros Gerais'!$F$21*(1+'% Variação Preços'!Q13))*(Produção!Q13*(1-'% Perdas'!Q13))","v":0},{"$f":"('Parâmetros Gerais'!$F$21*(1+'% Variação Preços'!R13))*(Produção!R13*(1-'% Perdas'!R13))","v":0},{"$f":"('Parâmetros Gerais'!$F$21*(1+'% Variação Preços'!S13))*(Produção!S13*(1-'% Perdas'!S13))","v":0},{"$f":"('Parâmetros Gerais'!$F$21*(1+'% Variação Preços'!T13))*(Produção!T13*(1-'% Perdas'!T13))","v":0},{"$f":"('Parâmetros Gerais'!$F$21*(1+'% Variação Preços'!U13))*(Produção!U13*(1-'% Perdas'!U13))","v":0},{"$f":"('Parâmetros Gerais'!$F$21*(1+'% Variação Preços'!V13))*(Produção!V13*(1-'% Perdas'!V13))","v":0},{"$f":"('Parâmetros Gerais'!$F$21*(1+'% Variação Preços'!W13))*(Produção!W13*(1-'% Perdas'!W13))","v":0},{"$f":"('Parâmetros Gerais'!$F$21*(1+'% Variação Preços'!X13))*(Produção!X13*(1-'% Perdas'!X13))","v":0},{"$f":"('Parâmetros Gerais'!$F$21*(1+'% Variação Preços'!Y13))*(Produção!Y13*(1-'% Perdas'!Y13))","v":0},{"$f":"('Parâmetros Gerais'!$F$21*(1+'% Variação Preços'!Z13))*(Produção!Z13*(1-'% Perdas'!Z13))","v":0},{"$f":"('Parâmetros Gerais'!$F$21*(1+'% Variação Preços'!AA13))*(Produção!AA13*(1-'% Perdas'!AA13))","v":0},{"$f":"('Parâmetros Gerais'!$F$21*(1+'% Variação Preços'!AB13))*(Produção!AB13*(1-'% Perdas'!AB13))","v":0},{"$f":"('Parâmetros Gerais'!$F$21*(1+'% Variação Preços'!AC13))*(Produção!AC13*(1-'% Perdas'!AC13))","v":0},{"$f":"('Parâmetros Gerais'!$F$21*(1+'% Variação Preços'!AD13))*(Produção!AD13*(1-'% Perdas'!AD13))","v":0},{"$f":"('Parâmetros Gerais'!$F$21*(1+'% Variação Preços'!AE13))*(Produção!AE13*(1-'% Perdas'!AE13))","v":0},{"$f":"('Parâmetros Gerais'!$F$21*(1+'% Variação Preços'!AF13))*(Produção!AF13*(1-'% Perdas'!AF13))","v":0},{"$f":"('Parâmetros Gerais'!$F$21*(1+'% Variação Preços'!AG13))*(Produção!AG13*(1-'% Perdas'!AG13))","v":0}]
[{"$f":"IF(LEN('Parâmetros Gerais'!B22)=0,\" \",'Parâmetros Gerais'!B22)","v":"raiz mandioca"},3.0109543272563998E-2,9120,null,{"$f":"('Parâmetros Gerais'!$F$22*(1+'% Variação Preços'!D14))*(Produção!D14*(1-'% Perdas'!D14))","v":0},{"$f":"('Parâmetros Gerais'!$F$22*(1+'% Variação Preços'!E14))*(Produção!E14*(1-'% Perdas'!E14))","v":9120},{"$f":"('Parâmetros Gerais'!$F$22*(1+'% Variação Preços'!F14))*(Produção!F14*(1-'% Perdas'!F14))","v":0},{"$f":"('Parâmetros Gerais'!$F$22*(1+'% Variação Preços'!G14))*(Produção!G14*(1-'% Perdas'!G14))","v":0},{"$f":"('Parâmetros Gerais'!$F$22*(1+'% Variação Preços'!H14))*(Produção!H14*(1-'% Perdas'!H14))","v":0},{"$f":"('Parâmetros Gerais'!$F$22*(1+'% Variação Preços'!I14))*(Produção!I14*(1-'% Perdas'!I14))","v":0},{"$f":"('Parâmetros Gerais'!$F$22*(1+'% Variação Preços'!J14))*(Produção!J14*(1-'% Perdas'!J14))","v":0},{"$f":"('Parâmetros Gerais'!$F$22*(1+'% Variação Preços'!K14))*(Produção!K14*(1-'% Perdas'!K14))","v":0},{"$f":"('Parâmetros Gerais'!$F$22*(1+'% Variação Preços'!L14))*(Produção!L14*(1-'% Perdas'!L14))","v":0},{"$f":"('Parâmetros Gerais'!$F$22*(1+'% Variação Preços'!M14))*(Produção!M14*(1-'% Perdas'!M14))","v":0},{"$f":"('Parâmetros Gerais'!$F$22*(1+'% Variação Preços'!N14))*(Produção!N14*(1-'% Perdas'!N14))","v":0},{"$f":"('Parâmetros Gerais'!$F$22*(1+'% Variação Preços'!O14))*(Produção!O14*(1-'% Perdas'!O14))","v":0},{"$f":"('Parâmetros Gerais'!$F$22*(1+'% Variação Preços'!P14))*(Produção!P14*(1-'% Perdas'!P14))","v":0},{"$f":"('Parâmetros Gerais'!$F$22*(1+'% Variação Preços'!Q14))*(Produção!Q14*(1-'% Perdas'!Q14))","v":0},{"$f":"('Parâmetros Gerais'!$F$22*(1+'% Variação Preços'!R14))*(Produção!R14*(1-'% Perdas'!R14))","v":0},{"$f":"('Parâmetros Gerais'!$F$22*(1+'% Variação Preços'!S14))*(Produção!S14*(1-'% Perdas'!S14))","v":0},{"$f":"('Parâmetros Gerais'!$F$22*(1+'% Variação Preços'!T14))*(Produção!T14*(1-'% Perdas'!T14))","v":0},{"$f":"('Parâmetros Gerais'!$F$22*(1+'% Variação Preços'!U14))*(Produção!U14*(1-'% Perdas'!U14))","v":0},{"$f":"('Parâmetros Gerais'!$F$22*(1+'% Variação Preços'!V14))*(Produção!V14*(1-'% Perdas'!V14))","v":0},{"$f":"('Parâmetros Gerais'!$F$22*(1+'% Variação Preços'!W14))*(Produção!W14*(1-'% Perdas'!W14))","v":0},{"$f":"('Parâmetros Gerais'!$F$22*(1+'% Variação Preços'!X14))*(Produção!X14*(1-'% Perdas'!X14))","v":0},{"$f":"('Parâmetros Gerais'!$F$22*(1+'% Variação Preços'!Y14))*(Produção!Y14*(1-'% Perdas'!Y14))","v":0},{"$f":"('Parâmetros Gerais'!$F$22*(1+'% Variação Preços'!Z14))*(Produção!Z14*(1-'% Perdas'!Z14))","v":0},{"$f":"('Parâmetros Gerais'!$F$22*(1+'% Variação Preços'!AA14))*(Produção!AA14*(1-'% Perdas'!AA14))","v":0},{"$f":"('Parâmetros Gerais'!$F$22*(1+'% Variação Preços'!AB14))*(Produção!AB14*(1-'% Perdas'!AB14))","v":0},{"$f":"('Parâmetros Gerais'!$F$22*(1+'% Variação Preços'!AC14))*(Produção!AC14*(1-'% Perdas'!AC14))","v":0},{"$f":"('Parâmetros Gerais'!$F$22*(1+'% Variação Preços'!AD14))*(Produção!AD14*(1-'% Perdas'!AD14))","v":0},{"$f":"('Parâmetros Gerais'!$F$22*(1+'% Variação Preços'!AE14))*(Produção!AE14*(1-'% Perdas'!AE14))","v":0},{"$f":"('Parâmetros Gerais'!$F$22*(1+'% Variação Preços'!AF14))*(Produção!AF14*(1-'% Perdas'!AF14))","v":0},{"$f":"('Parâmetros Gerais'!$F$22*(1+'% Variação Preços'!AG14))*(Produção!AG14*(1-'% Perdas'!AG14))","v":0}]
[{"$f":"IF(LEN('Parâmetros Gerais'!B23)=0,\" \",'Parâmetros Gerais'!B23)","v":"fruto abacaxi"},{"$f":"IF(C84<>0,C84/$C$72,0)","v":1.8125152693681618E-2},{"$f":"SUM(D84:AH84)","v":5490},null,{"$f":"('Parâmetros Gerais'!$F$23*(1+'% Variação Preços'!D15))*(Produção!D15*(1-'% Perdas'!D15))","v":0},{"$f":"('Parâmetros Gerais'!$F$23*(1+'% Variação Preços'!E15))*(Produção!E15*(1-'% Perdas'!E15))","v":5490},{"$f":"('Parâmetros Gerais'!$F$23*(1+'% Variação Preços'!F15))*(Produção!F15*(1-'% Perdas'!F15))","v":0},{"$f":"('Parâmetros Gerais'!$F$23*(1+'% Variação Preços'!G15))*(Produção!G15*(1-'% Perdas'!G15))","v":0},{"$f":"('Parâmetros Gerais'!$F$23*(1+'% Variação Preços'!H15))*(Produção!H15*(1-'% Perdas'!H15))","v":0},{"$f":"('Parâmetros Gerais'!$F$23*(1+'% Variação Preços'!I15))*(Produção!I15*(1-'% Perdas'!I15))","v":0},{"$f":"('Parâmetros Gerais'!$F$23*(1+'% Variação Preços'!J15))*(Produção!J15*(1-'% Perdas'!J15))","v":0},{"$f":"('Parâmetros Gerais'!$F$23*(1+'% Variação Preços'!K15))*(Produção!K15*(1-'% Perdas'!K15))","v":0},{"$f":"('Parâmetros Gerais'!$F$23*(1+'% Variação Preços'!L15))*(Produção!L15*(1-'% Perdas'!L15))","v":0},{"$f":"('Parâmetros Gerais'!$F$23*(1+'% Variação Preços'!M15))*(Produção!M15*(1-'% Perdas'!M15))","v":0},{"$f":"('Parâmetros Gerais'!$F$23*(1+'% Variação Preços'!N15))*(Produção!N15*(1-'% Perdas'!N15))","v":0},{"$f":"('Parâmetros Gerais'!$F$23*(1+'% Variação Preços'!O15))*(Produção!O15*(1-'% Perdas'!O15))","v":0},{"$f":"('Parâmetros Gerais'!$F$23*(1+'% Variação Preços'!P15))*(Produção!P15*(1-'% Perdas'!P15))","v":0},{"$f":"('Parâmetros Gerais'!$F$23*(1+'% Variação Preços'!Q15))*(Produção!Q15*(1-'% Perdas'!Q15))","v":0},{"$f":"('Parâmetros Gerais'!$F$23*(1+'% Variação Preços'!R15))*(Produção!R15*(1-'% Perdas'!R15))","v":0},{"$f":"('Parâmetros Gerais'!$F$23*(1+'% Variação Preços'!S15))*(Produção!S15*(1-'% Perdas'!S15))","v":0},{"$f":"('Parâmetros Gerais'!$F$23*(1+'% Variação Preços'!T15))*(Produção!T15*(1-'% Perdas'!T15))","v":0},{"$f":"('Parâmetros Gerais'!$F$23*(1+'% Variação Preços'!U15))*(Produção!U15*(1-'% Perdas'!U15))","v":0},{"$f":"('Parâmetros Gerais'!$F$23*(1+'% Variação Preços'!V15))*(Produção!V15*(1-'% Perdas'!V15))","v":0},{"$f":"('Parâmetros Gerais'!$F$23*(1+'% Variação Preços'!W15))*(Produção!W15*(1-'% Perdas'!W15))","v":0},{"$f":"('Parâmetros Gerais'!$F$23*(1+'% Variação Preços'!X15))*(Produção!X15*(1-'% Perdas'!X15))","v":0},{"$f":"('Parâmetros Gerais'!$F$23*(1+'% Variação Preços'!Y15))*(Produção!Y15*(1-'% Perdas'!Y15))","v":0},{"$f":"('Parâmetros Gerais'!$F$23*(1+'% Variação Preços'!Z15))*(Produção!Z15*(1-'% Perdas'!Z15))","v":0},{"$f":"('Parâmetros Gerais'!$F$23*(1+'% Variação Preços'!AA15))*(Produção!AA15*(1-'% Perdas'!AA15))","v":0},{"$f":"('Parâmetros Gerais'!$F$23*(1+'% Variação Preços'!AB15))*(Produção!AB15*(1-'% Perdas'!AB15))","v":0},{"$f":"('Parâmetros Gerais'!$F$23*(1+'% Variação Preços'!AC15))*(Produção!AC15*(1-'% Perdas'!AC15))","v":0},{"$f":"('Parâmetros Gerais'!$F$23*(1+'% Variação Preços'!AD15))*(Produção!AD15*(1-'% Perdas'!AD15))","v":0},{"$f":"('Parâmetros Gerais'!$F$23*(1+'% Variação Preços'!AE15))*(Produção!AE15*(1-'% Perdas'!AE15))","v":0},{"$f":"('Parâmetros Gerais'!$F$23*(1+'% Variação Preços'!AF15))*(Produção!AF15*(1-'% Perdas'!AF15))","v":0},{"$f":"('Parâmetros Gerais'!$F$23*(1+'% Variação Preços'!AG15))*(Produção!AG15*(1-'% Perdas'!AG15))","v":0}]
[{"$f":"IF(LEN('Parâmetros Gerais'!B24)=0,\" \",'Parâmetros Gerais'!B24)","v":"espigas milho"},1.4113848409014374E-2,4275,null,{"$f":"('Parâmetros Gerais'!$F$24*(1+'% Variação Preços'!D16))*(Produção!D16*(1-'% Perdas'!D16))","v":4275},{"$f":"('Parâmetros Gerais'!$F$24*(1+'% Variação Preços'!E16))*(Produção!E16*(1-'% Perdas'!E16))","v":0},{"$f":"('Parâmetros Gerais'!$F$24*(1+'% Variação Preços'!F16))*(Produção!F16*(1-'% Perdas'!F16))","v":0},{"$f":"('Parâmetros Gerais'!$F$24*(1+'% Variação Preços'!G16))*(Produção!G16*(1-'% Perdas'!G16))","v":0},{"$f":"('Parâmetros Gerais'!$F$24*(1+'% Variação Preços'!H16))*(Produção!H16*(1-'% Perdas'!H16))","v":0},{"$f":"('Parâmetros Gerais'!$F$24*(1+'% Variação Preços'!I16))*(Produção!I16*(1-'% Perdas'!I16))","v":0},{"$f":"('Parâmetros Gerais'!$F$24*(1+'% Variação Preços'!J16))*(Produção!J16*(1-'% Perdas'!J16))","v":0},{"$f":"('Parâmetros Gerais'!$F$24*(1+'% Variação Preços'!K16))*(Produção!K16*(1-'% Perdas'!K16))","v":0},{"$f":"('Parâmetros Gerais'!$F$24*(1+'% Variação Preços'!L16))*(Produção!L16*(1-'% Perdas'!L16))","v":0},{"$f":"('Parâmetros Gerais'!$F$24*(1+'% Variação Preços'!M16))*(Produção!M16*(1-'% Perdas'!M16))","v":0},{"$f":"('Parâmetros Gerais'!$F$24*(1+'% Variação Preços'!N16))*(Produção!N16*(1-'% Perdas'!N16))","v":0},{"$f":"('Parâmetros Gerais'!$F$24*(1+'% Variação Preços'!O16))*(Produção!O16*(1-'% Perdas'!O16))","v":0},{"$f":"('Parâmetros Gerais'!$F$24*(1+'% Variação Preços'!P16))*(Produção!P16*(1-'% Perdas'!P16))","v":0},{"$f":"('Parâmetros Gerais'!$F$24*(1+'% Variação Preços'!Q16))*(Produção!Q16*(1-'% Perdas'!Q16))","v":0},{"$f":"('Parâmetros Gerais'!$F$24*(1+'% Variação Preços'!R16))*(Produção!R16*(1-'% Perdas'!R16))","v":0},{"$f":"('Parâmetros Gerais'!$F$24*(1+'% Variação Preços'!S16))*(Produção!S16*(1-'% Perdas'!S16))","v":0},{"$f":"('Parâmetros Gerais'!$F$24*(1+'% Variação Preços'!T16))*(Produção!T16*(1-'% Perdas'!T16))","v":0},{"$f":"('Parâmetros Gerais'!$F$24*(1+'% Variação Preços'!U16))*(Produção!U16*(1-'% Perdas'!U16))","v":0},{"$f":"('Parâmetros Gerais'!$F$24*(1+'% Variação Preços'!V16))*(Produção!V16*(1-'% Perdas'!V16))","v":0},{"$f":"('Parâmetros Gerais'!$F$24*(1+'% Variação Preços'!W16))*(Produção!W16*(1-'% Perdas'!W16))","v":0},{"$f":"('Parâmetros Gerais'!$F$24*(1+'% Variação Preços'!X16))*(Produção!X16*(1-'% Perdas'!X16))","v":0},{"$f":"('Parâmetros Gerais'!$F$24*(1+'% Variação Preços'!Y16))*(Produção!Y16*(1-'% Perdas'!Y16))","v":0},{"$f":"('Parâmetros Gerais'!$F$24*(1+'% Variação Preços'!Z16))*(Produção!Z16*(1-'% Perdas'!Z16))","v":0},{"$f":"('Parâmetros Gerais'!$F$24*(1+'% Variação Preços'!AA16))*(Produção!AA16*(1-'% Perdas'!AA16))","v":0},{"$f":"('Parâmetros Gerais'!$F$24*(1+'% Variação Preços'!AB16))*(Produção!AB16*(1-'% Perdas'!AB16))","v":0},{"$f":"('Parâmetros Gerais'!$F$24*(1+'% Variação Preços'!AC16))*(Produção!AC16*(1-'% Perdas'!AC16))","v":0},{"$f":"('Parâmetros Gerais'!$F$24*(1+'% Variação Preços'!AD16))*(Produção!AD16*(1-'% Perdas'!AD16))","v":0},{"$f":"('Parâmetros Gerais'!$F$24*(1+'% Variação Preços'!AE16))*(Produção!AE16*(1-'% Perdas'!AE16))","v":0},{"$f":"('Parâmetros Gerais'!$F$24*(1+'% Variação Preços'!AF16))*(Produção!AF16*(1-'% Perdas'!AF16))","v":0},{"$f":"('Parâmetros Gerais'!$F$24*(1+'% Variação Preços'!AG16))*(Produção!AG16*(1-'% Perdas'!AG16))","v":0}]
[{"$f":"IF(LEN('Parâmetros Gerais'!B25)=0,\" \",'Parâmetros Gerais'!B25)","v":"estaca sansão do campo"},3.5656038085931053E-3,1080,null,{"$f":"('Parâmetros Gerais'!$F$25*(1+'% Variação Preços'!D17))*(Produção!D17*(1-'% Perdas'!D17))","v":0},{"$f":"('Parâmetros Gerais'!$F$25*(1+'% Variação Preços'!E17))*(Produção!E17*(1-'% Perdas'!E17))","v":0},{"$f":"('Parâmetros Gerais'!$F$25*(1+'% Variação Preços'!F17))*(Produção!F17*(1-'% Perdas'!F17))","v":0},{"$f":"('Parâmetros Gerais'!$F$25*(1+'% Variação Preços'!G17))*(Produção!G17*(1-'% Perdas'!G17))","v":0},{"$f":"('Parâmetros Gerais'!$F$25*(1+'% Variação Preços'!H17))*(Produção!H17*(1-'% Perdas'!H17))","v":0},{"$f":"('Parâmetros Gerais'!$F$25*(1+'% Variação Preços'!I17))*(Produção!I17*(1-'% Perdas'!I17))","v":0},{"$f":"('Parâmetros Gerais'!$F$25*(1+'% Variação Preços'!J17))*(Produção!J17*(1-'% Perdas'!J17))","v":0},{"$f":"('Parâmetros Gerais'!$F$25*(1+'% Variação Preços'!K17))*(Produção!K17*(1-'% Perdas'!K17))","v":1080},{"$f":"('Parâmetros Gerais'!$F$25*(1+'% Variação Preços'!L17))*(Produção!L17*(1-'% Perdas'!L17))","v":0},{"$f":"('Parâmetros Gerais'!$F$25*(1+'% Variação Preços'!M17))*(Produção!M17*(1-'% Perdas'!M17))","v":0},{"$f":"('Parâmetros Gerais'!$F$25*(1+'% Variação Preços'!N17))*(Produção!N17*(1-'% Perdas'!N17))","v":0},{"$f":"('Parâmetros Gerais'!$F$25*(1+'% Variação Preços'!O17))*(Produção!O17*(1-'% Perdas'!O17))","v":0},{"$f":"('Parâmetros Gerais'!$F$25*(1+'% Variação Preços'!P17))*(Produção!P17*(1-'% Perdas'!P17))","v":0},{"$f":"('Parâmetros Gerais'!$F$25*(1+'% Variação Preços'!Q17))*(Produção!Q17*(1-'% Perdas'!Q17))","v":0},{"$f":"('Parâmetros Gerais'!$F$25*(1+'% Variação Preços'!R17))*(Produção!R17*(1-'% Perdas'!R17))","v":0},{"$f":"('Parâmetros Gerais'!$F$25*(1+'% Variação Preços'!S17))*(Produção!S17*(1-'% Perdas'!S17))","v":0},{"$f":"('Parâmetros Gerais'!$F$25*(1+'% Variação Preços'!T17))*(Produção!T17*(1-'% Perdas'!T17))","v":0},{"$f":"('Parâmetros Gerais'!$F$25*(1+'% Variação Preços'!U17))*(Produção!U17*(1-'% Perdas'!U17))","v":0},{"$f":"('Parâmetros Gerais'!$F$25*(1+'% Variação Preços'!V17))*(Produção!V17*(1-'% Perdas'!V17))","v":0},{"$f":"('Parâmetros Gerais'!$F$25*(1+'% Variação Preços'!W17))*(Produção!W17*(1-'% Perdas'!W17))","v":0},{"$f":"('Parâmetros Gerais'!$F$25*(1+'% Variação Preços'!X17))*(Produção!X17*(1-'% Perdas'!X17))","v":0},{"$f":"('Parâmetros Gerais'!$F$25*(1+'% Variação Preços'!Y17))*(Produção!Y17*(1-'% Perdas'!Y17))","v":0},{"$f":"('Parâmetros Gerais'!$F$25*(1+'% Variação Preços'!Z17))*(Produção!Z17*(1-'% Perdas'!Z17))","v":0},{"$f":"('Parâmetros Gerais'!$F$25*(1+'% Variação Preços'!AA17))*(Produção!AA17*(1-'% Perdas'!AA17))","v":0},{"$f":"('Parâmetros Gerais'!$F$25*(1+'% Variação Preços'!AB17))*(Produção!AB17*(1-'% Perdas'!AB17))","v":0},{"$f":"('Parâmetros Gerais'!$F$25*(1+'% Variação Preços'!AC17))*(Produção!AC17*(1-'% Perdas'!AC17))","v":0},{"$f":"('Parâmetros Gerais'!$F$25*(1+'% Variação Preços'!AD17))*(Produção!AD17*(1-'% Perdas'!AD17))","v":0},{"$f":"('Parâmetros Gerais'!$F$25*(1+'% Variação Preços'!AE17))*(Produção!AE17*(1-'% Perdas'!AE17))","v":0},{"$f":"('Parâmetros Gerais'!$F$25*(1+'% Variação Preços'!AF17))*(Produção!AF17*(1-'% Perdas'!AF17))","v":0},{"$f":"('Parâmetros Gerais'!$F$25*(1+'% Variação Preços'!AG17))*(Produção!AG17*(1-'% Perdas'!AG17))","v":0}]
[{"$f":"IF(LEN('Parâmetros Gerais'!B26)=0,\" \",'Parâmetros Gerais'!B26)","v":"madeira madeira nova"},8.2537125198914475E-3,2500,null,{"$f":"('Parâmetros Gerais'!$F$26*(1+'% Variação Preços'!D18))*(Produção!D18*(1-'% Perdas'!D18))","v":0},{"$f":"('Parâmetros Gerais'!$F$26*(1+'% Variação Preços'!E18))*(Produção!E18*(1-'% Perdas'!E18))","v":0},{"$f":"('Parâmetros Gerais'!$F$26*(1+'% Variação Preços'!F18))*(Produção!F18*(1-'% Perdas'!F18))","v":0},{"$f":"('Parâmetros Gerais'!$F$26*(1+'% Variação Preços'!G18))*(Produção!G18*(1-'% Perdas'!G18))","v":0},{"$f":"('Parâmetros Gerais'!$F$26*(1+'% Variação Preços'!H18))*(Produção!H18*(1-'% Perdas'!H18))","v":0},{"$f":"('Parâmetros Gerais'!$F$26*(1+'% Variação Preços'!I18))*(Produção!I18*(1-'% Perdas'!I18))","v":0},{"$f":"('Parâmetros Gerais'!$F$26*(1+'% Variação Preços'!J18))*(Produção!J18*(1-'% Perdas'!J18))","v":0},{"$f":"('Parâmetros Gerais'!$F$26*(1+'% Variação Preços'!K18))*(Produção!K18*(1-'% Perdas'!K18))","v":0},{"$f":"('Parâmetros Gerais'!$F$26*(1+'% Variação Preços'!L18))*(Produção!L18*(1-'% Perdas'!L18))","v":0},{"$f":"('Parâmetros Gerais'!$F$26*(1+'% Variação Preços'!M18))*(Produção!M18*(1-'% Perdas'!M18))","v":0},{"$f":"('Parâmetros Gerais'!$F$26*(1+'% Variação Preços'!N18))*(Produção!N18*(1-'% Perdas'!N18))","v":0},{"$f":"('Parâmetros Gerais'!$F$26*(1+'% Variação Preços'!O18))*(Produção!O18*(1-'% Perdas'!O18))","v":0},{"$f":"('Parâmetros Gerais'!$F$26*(1+'% Variação Preços'!P18))*(Produção!P18*(1-'% Perdas'!P18))","v":0},{"$f":"('Parâmetros Gerais'!$F$26*(1+'% Variação Preços'!Q18))*(Produção!Q18*(1-'% Perdas'!Q18))","v":0},{"$f":"('Parâmetros Gerais'!$F$26*(1+'% Variação Preços'!R18))*(Produção!R18*(1-'% Perdas'!R18))","v":2500},{"$f":"('Parâmetros Gerais'!$F$26*(1+'% Variação Preços'!S18))*(Produção!S18*(1-'% Perdas'!S18))","v":0},{"$f":"('Parâmetros Gerais'!$F$26*(1+'% Variação Preços'!T18))*(Produção!T18*(1-'% Perdas'!T18))","v":0},{"$f":"('Parâmetros Gerais'!$F$26*(1+'% Variação Preços'!U18))*(Produção!U18*(1-'% Perdas'!U18))","v":0},{"$f":"('Parâmetros Gerais'!$F$26*(1+'% Variação Preços'!V18))*(Produção!V18*(1-'% Perdas'!V18))","v":0},{"$f":"('Parâmetros Gerais'!$F$26*(1+'% Variação Preços'!W18))*(Produção!W18*(1-'% Perdas'!W18))","v":0},{"$f":"('Parâmetros Gerais'!$F$26*(1+'% Variação Preços'!X18))*(Produção!X18*(1-'% Perdas'!X18))","v":0},{"$f":"('Parâmetros Gerais'!$F$26*(1+'% Variação Preços'!Y18))*(Produção!Y18*(1-'% Perdas'!Y18))","v":0},{"$f":"('Parâmetros Gerais'!$F$26*(1+'% Variação Preços'!Z18))*(Produção!Z18*(1-'% Perdas'!Z18))","v":0},{"$f":"('Parâmetros Gerais'!$F$26*(1+'% Variação Preços'!AA18))*(Produção!AA18*(1-'% Perdas'!AA18))","v":0},{"$f":"('Parâmetros Gerais'!$F$26*(1+'% Variação Preços'!AB18))*(Produção!AB18*(1-'% Perdas'!AB18))","v":0},{"$f":"('Parâmetros Gerais'!$F$26*(1+'% Variação Preços'!AC18))*(Produção!AC18*(1-'% Perdas'!AC18))","v":0},{"$f":"('Parâmetros Gerais'!$F$26*(1+'% Variação Preços'!AD18))*(Produção!AD18*(1-'% Perdas'!AD18))","v":0},{"$f":"('Parâmetros Gerais'!$F$26*(1+'% Variação Preços'!AE18))*(Produção!AE18*(1-'% Perdas'!AE18))","v":0},{"$f":"('Parâmetros Gerais'!$F$26*(1+'% Variação Preços'!AF18))*(Produção!AF18*(1-'% Perdas'!AF18))","v":0},{"$f":"('Parâmetros Gerais'!$F$26*(1+'% Variação Preços'!AG18))*(Produção!AG18*(1-'% Perdas'!AG18))","v":0}]
[{"$f":"IF(LEN('Parâmetros Gerais'!B27)=0,\" \",'Parâmetros Gerais'!B27)","v":"lenha fedegoso"},8.253712519891447E-4,250,null,{"$f":"('Parâmetros Gerais'!$F$27*(1+'% Variação Preços'!D19))*(Produção!D19*(1-'% Perdas'!D19))","v":0},{"$f":"('Parâmetros Gerais'!$F$27*(1+'% Variação Preços'!E19))*(Produção!E19*(1-'% Perdas'!E19))","v":0},{"$f":"('Parâmetros Gerais'!$F$27*(1+'% Variação Preços'!F19))*(Produção!F19*(1-'% Perdas'!F19))","v":0},{"$f":"('Parâmetros Gerais'!$F$27*(1+'% Variação Preços'!G19))*(Produção!G19*(1-'% Perdas'!G19))","v":0},{"$f":"('Parâmetros Gerais'!$F$27*(1+'% Variação Preços'!H19))*(Produção!H19*(1-'% Perdas'!H19))","v":0},{"$f":"('Parâmetros Gerais'!$F$27*(1+'% Variação Preços'!I19))*(Produção!I19*(1-'% Perdas'!I19))","v":0},{"$f":"('Parâmetros Gerais'!$F$27*(1+'% Variação Preços'!J19))*(Produção!J19*(1-'% Perdas'!J19))","v":250},{"$f":"('Parâmetros Gerais'!$F$27*(1+'% Variação Preços'!K19))*(Produção!K19*(1-'% Perdas'!K19))","v":0},{"$f":"('Parâmetros Gerais'!$F$27*(1+'% Variação Preços'!L19))*(Produção!L19*(1-'% Perdas'!L19))","v":0},{"$f":"('Parâmetros Gerais'!$F$27*(1+'% Variação Preços'!M19))*(Produção!M19*(1-'% Perdas'!M19))","v":0},{"$f":"('Parâmetros Gerais'!$F$27*(1+'% Variação Preços'!N19))*(Produção!N19*(1-'% Perdas'!N19))","v":0},{"$f":"('Parâmetros Gerais'!$F$27*(1+'% Variação Preços'!O19))*(Produção!O19*(1-'% Perdas'!O19))","v":0},{"$f":"('Parâmetros Gerais'!$F$27*(1+'% Variação Preços'!P19))*(Produção!P19*(1-'% Perdas'!P19))","v":0},{"$f":"('Parâmetros Gerais'!$F$27*(1+'% Variação Preços'!Q19))*(Produção!Q19*(1-'% Perdas'!Q19))","v":0},{"$f":"('Parâmetros Gerais'!$F$27*(1+'% Variação Preços'!R19))*(Produção!R19*(1-'% Perdas'!R19))","v":0},{"$f":"('Parâmetros Gerais'!$F$27*(1+'% Variação Preços'!S19))*(Produção!S19*(1-'% Perdas'!S19))","v":0},{"$f":"('Parâmetros Gerais'!$F$27*(1+'% Variação Preços'!T19))*(Produção!T19*(1-'% Perdas'!T19))","v":0},{"$f":"('Parâmetros Gerais'!$F$27*(1+'% Variação Preços'!U19))*(Produção!U19*(1-'% Perdas'!U19))","v":0},{"$f":"('Parâmetros Gerais'!$F$27*(1+'% Variação Preços'!V19))*(Produção!V19*(1-'% Perdas'!V19))","v":0},{"$f":"('Parâmetros Gerais'!$F$27*(1+'% Variação Preços'!W19))*(Produção!W19*(1-'% Perdas'!W19))","v":0},{"$f":"('Parâmetros Gerais'!$F$27*(1+'% Variação Preços'!X19))*(Produção!X19*(1-'% Perdas'!X19))","v":0},{"$f":"('Parâmetros Gerais'!$F$27*(1+'% Variação Preços'!Y19))*(Produção!Y19*(1-'% Perdas'!Y19))","v":0},{"$f":"('Parâmetros Gerais'!$F$27*(1+'% Variação Preços'!Z19))*(Produção!Z19*(1-'% Perdas'!Z19))","v":0},{"$f":"('Parâmetros Gerais'!$F$27*(1+'% Variação Preços'!AA19))*(Produção!AA19*(1-'% Perdas'!AA19))","v":0},{"$f":"('Parâmetros Gerais'!$F$27*(1+'% Variação Preços'!AB19))*(Produção!AB19*(1-'% Perdas'!AB19))","v":0},{"$f":"('Parâmetros Gerais'!$F$27*(1+'% Variação Preços'!AC19))*(Produção!AC19*(1-'% Perdas'!AC19))","v":0},{"$f":"('Parâmetros Gerais'!$F$27*(1+'% Variação Preços'!AD19))*(Produção!AD19*(1-'% Perdas'!AD19))","v":0},{"$f":"('Parâmetros Gerais'!$F$27*(1+'% Variação Preços'!AE19))*(Produção!AE19*(1-'% Perdas'!AE19))","v":0},{"$f":"('Parâmetros Gerais'!$F$27*(1+'% Variação Preços'!AF19))*(Produção!AF19*(1-'% Perdas'!AF19))","v":0},{"$f":"('Parâmetros Gerais'!$F$27*(1+'% Variação Preços'!AG19))*(Produção!AG19*(1-'% Perdas'!AG19))","v":0}]
[{"$f":"IF(LEN('Parâmetros Gerais'!B28)=0,\" \",'Parâmetros Gerais'!B28)","v":"estaca pau d'alho"},0,0,null,{"$f":"('Parâmetros Gerais'!$F$28*(1+'% Variação Preços'!D20))*(Produção!D20*(1-'% Perdas'!D20))","v":0},{"$f":"('Parâmetros Gerais'!$F$28*(1+'% Variação Preços'!E20))*(Produção!E20*(1-'% Perdas'!E20))","v":0},{"$f":"('Parâmetros Gerais'!$F$28*(1+'% Variação Preços'!F20))*(Produção!F20*(1-'% Perdas'!F20))","v":0},{"$f":"('Parâmetros Gerais'!$F$28*(1+'% Variação Preços'!G20))*(Produção!G20*(1-'% Perdas'!G20))","v":0},{"$f":"('Parâmetros Gerais'!$F$28*(1+'% Variação Preços'!H20))*(Produção!H20*(1-'% Perdas'!H20))","v":0},{"$f":"('Parâmetros Gerais'!$F$28*(1+'% Variação Preços'!I20))*(Produção!I20*(1-'% Perdas'!I20))","v":0},{"$f":"('Parâmetros Gerais'!$F$28*(1+'% Variação Preços'!J20))*(Produção!J20*(1-'% Perdas'!J20))","v":0},{"$f":"('Parâmetros Gerais'!$F$28*(1+'% Variação Preços'!K20))*(Produção!K20*(1-'% Perdas'!K20))","v":0},{"$f":"('Parâmetros Gerais'!$F$28*(1+'% Variação Preços'!L20))*(Produção!L20*(1-'% Perdas'!L20))","v":0},{"$f":"('Parâmetros Gerais'!$F$28*(1+'% Variação Preços'!M20))*(Produção!M20*(1-'% Perdas'!M20))","v":0},{"$f":"('Parâmetros Gerais'!$F$28*(1+'% Variação Preços'!N20))*(Produção!N20*(1-'% Perdas'!N20))","v":0},{"$f":"('Parâmetros Gerais'!$F$28*(1+'% Variação Preços'!O20))*(Produção!O20*(1-'% Perdas'!O20))","v":0},{"$f":"('Parâmetros Gerais'!$F$28*(1+'% Variação Preços'!P20))*(Produção!P20*(1-'% Perdas'!P20))","v":0},{"$f":"('Parâmetros Gerais'!$F$28*(1+'% Variação Preços'!Q20))*(Produção!Q20*(1-'% Perdas'!Q20))","v":0},{"$f":"('Parâmetros Gerais'!$F$28*(1+'% Variação Preços'!R20))*(Produção!R20*(1-'% Perdas'!R20))","v":0},{"$f":"('Parâmetros Gerais'!$F$28*(1+'% Variação Preços'!S20))*(Produção!S20*(1-'% Perdas'!S20))","v":0},{"$f":"('Parâmetros Gerais'!$F$28*(1+'% Variação Preços'!T20))*(Produção!T20*(1-'% Perdas'!T20))","v":0},{"$f":"('Parâmetros Gerais'!$F$28*(1+'% Variação Preços'!U20))*(Produção!U20*(1-'% Perdas'!U20))","v":0},{"$f":"('Parâmetros Gerais'!$F$28*(1+'% Variação Preços'!V20))*(Produção!V20*(1-'% Perdas'!V20))","v":0},{"$f":"('Parâmetros Gerais'!$F$28*(1+'% Variação Preços'!W20))*(Produção!W20*(1-'% Perdas'!W20))","v":0},{"$f":"('Parâmetros Gerais'!$F$28*(1+'% Variação Preços'!X20))*(Produção!X20*(1-'% Perdas'!X20))","v":0},{"$f":"('Parâmetros Gerais'!$F$28*(1+'% Variação Preços'!Y20))*(Produção!Y20*(1-'% Perdas'!Y20))","v":0},{"$f":"('Parâmetros Gerais'!$F$28*(1+'% Variação Preços'!Z20))*(Produção!Z20*(1-'% Perdas'!Z20))","v":0},{"$f":"('Parâmetros Gerais'!$F$28*(1+'% Variação Preços'!AA20))*(Produção!AA20*(1-'% Perdas'!AA20))","v":0},{"$f":"('Parâmetros Gerais'!$F$28*(1+'% Variação Preços'!AB20))*(Produção!AB20*(1-'% Perdas'!AB20))","v":0},{"$f":"('Parâmetros Gerais'!$F$28*(1+'% Variação Preços'!AC20))*(Produção!AC20*(1-'% Perdas'!AC20))","v":0},{"$f":"('Parâmetros Gerais'!$F$28*(1+'% Variação Preços'!AD20))*(Produção!AD20*(1-'% Perdas'!AD20))","v":0},{"$f":"('Parâmetros Gerais'!$F$28*(1+'% Variação Preços'!AE20))*(Produção!AE20*(1-'% Perdas'!AE20))","v":0},{"$f":"('Parâmetros Gerais'!$F$28*(1+'% Variação Preços'!AF20))*(Produção!AF20*(1-'% Perdas'!AF20))","v":0},{"$f":"('Parâmetros Gerais'!$F$28*(1+'% Variação Preços'!AG20))*(Produção!AG20*(1-'% Perdas'!AG20))","v":0}]
[{"$f":"IF(LEN('Parâmetros Gerais'!B29)=0,\" \",'Parâmetros Gerais'!B29)","v":"caixotaria boleira"},1.6507425039782894E-3,500,null,{"$f":"('Parâmetros Gerais'!$F$29*(1+'% Variação Preços'!D21))*(Produção!D21*(1-'% Perdas'!D21))","v":0},{"$f":"('Parâmetros Gerais'!$F$29*(1+'% Variação Preços'!E21))*(Produção!E21*(1-'% Perdas'!E21))","v":0},{"$f":"('Parâmetros Gerais'!$F$29*(1+'% Variação Preços'!F21))*(Produção!F21*(1-'% Perdas'!F21))","v":0},{"$f":"('Parâmetros Gerais'!$F$29*(1+'% Variação Preços'!G21))*(Produção!G21*(1-'% Perdas'!G21))","v":0},{"$f":"('Parâmetros Gerais'!$F$29*(1+'% Variação Preços'!H21))*(Produção!H21*(1-'% Perdas'!H21))","v":0},{"$f":"('Parâmetros Gerais'!$F$29*(1+'% Variação Preços'!I21))*(Produção!I21*(1-'% Perdas'!I21))","v":0},{"$f":"('Parâmetros Gerais'!$F$29*(1+'% Variação Preços'!J21))*(Produção!J21*(1-'% Perdas'!J21))","v":500},{"$f":"('Parâmetros Gerais'!$F$29*(1+'% Variação Preços'!K21))*(Produção!K21*(1-'% Perdas'!K21))","v":0},{"$f":"('Parâmetros Gerais'!$F$29*(1+'% Variação Preços'!L21))*(Produção!L21*(1-'% Perdas'!L21))","v":0},{"$f":"('Parâmetros Gerais'!$F$29*(1+'% Variação Preços'!M21))*(Produção!M21*(1-'% Perdas'!M21))","v":0},{"$f":"('Parâmetros Gerais'!$F$29*(1+'% Variação Preços'!N21))*(Produção!N21*(1-'% Perdas'!N21))","v":0},{"$f":"('Parâmetros Gerais'!$F$29*(1+'% Variação Preços'!O21))*(Produção!O21*(1-'% Perdas'!O21))","v":0},{"$f":"('Parâmetros Gerais'!$F$29*(1+'% Variação Preços'!P21))*(Produção!P21*(1-'% Perdas'!P21))","v":0},{"$f":"('Parâmetros Gerais'!$F$29*(1+'% Variação Preços'!Q21))*(Produção!Q21*(1-'% Perdas'!Q21))","v":0},{"$f":"('Parâmetros Gerais'!$F$29*(1+'% Variação Preços'!R21))*(Produção!R21*(1-'% Perdas'!R21))","v":0},{"$f":"('Parâmetros Gerais'!$F$29*(1+'% Variação Preços'!S21))*(Produção!S21*(1-'% Perdas'!S21))","v":0},{"$f":"('Parâmetros Gerais'!$F$29*(1+'% Variação Preços'!T21))*(Produção!T21*(1-'% Perdas'!T21))","v":0},{"$f":"('Parâmetros Gerais'!$F$29*(1+'% Variação Preços'!U21))*(Produção!U21*(1-'% Perdas'!U21))","v":0},{"$f":"('Parâmetros Gerais'!$F$29*(1+'% Variação Preços'!V21))*(Produção!V21*(1-'% Perdas'!V21))","v":0},{"$f":"('Parâmetros Gerais'!$F$29*(1+'% Variação Preços'!W21))*(Produção!W21*(1-'% Perdas'!W21))","v":0},{"$f":"('Parâmetros Gerais'!$F$29*(1+'% Variação Preços'!X21))*(Produção!X21*(1-'% Perdas'!X21))","v":0},{"$f":"('Parâmetros Gerais'!$F$29*(1+'% Variação Preços'!Y21))*(Produção!Y21*(1-'% Perdas'!Y21))","v":0},{"$f":"('Parâmetros Gerais'!$F$29*(1+'% Variação Preços'!Z21))*(Produção!Z21*(1-'% Perdas'!Z21))","v":0},{"$f":"('Parâmetros Gerais'!$F$29*(1+'% Variação Preços'!AA21))*(Produção!AA21*(1-'% Perdas'!AA21))","v":0},{"$f":"('Parâmetros Gerais'!$F$29*(1+'% Variação Preços'!AB21))*(Produção!AB21*(1-'% Perdas'!AB21))","v":0},{"$f":"('Parâmetros Gerais'!$F$29*(1+'% Variação Preços'!AC21))*(Produção!AC21*(1-'% Perdas'!AC21))","v":0},{"$f":"('Parâmetros Gerais'!$F$29*(1+'% Variação Preços'!AD21))*(Produção!AD21*(1-'% Perdas'!AD21))","v":0},{"$f":"('Parâmetros Gerais'!$F$29*(1+'% Variação Preços'!AE21))*(Produção!AE21*(1-'% Perdas'!AE21))","v":0},{"$f":"('Parâmetros Gerais'!$F$29*(1+'% Variação Preços'!AF21))*(Produção!AF21*(1-'% Perdas'!AF21))","v":0},{"$f":"('Parâmetros Gerais'!$F$29*(1+'% Variação Preços'!AG21))*(Produção!AG21*(1-'% Perdas'!AG21))","v":0}]
[{"$f":"IF(LEN('Parâmetros Gerais'!B30)=0,\" \",'Parâmetros Gerais'!B30)","v":"madeira angico roxo"},{"$f":"IF(C91<>0,C91/$C$72,0)","v":1.0399677775063223E-2},{"$f":"SUM(D91:AH91)","v":3150},null,{"$f":"('Parâmetros Gerais'!$F$30*(1+'% Variação Preços'!D22))*(Produção!D22*(1-'% Perdas'!D22))","v":0},{"$f":"('Parâmetros Gerais'!$F$30*(1+'% Variação Preços'!E22))*(Produção!E22*(1-'% Perdas'!E22))","v":0},{"$f":"('Parâmetros Gerais'!$F$30*(1+'% Variação Preços'!F22))*(Produção!F22*(1-'% Perdas'!F22))","v":0},{"$f":"('Parâmetros Gerais'!$F$30*(1+'% Variação Preços'!G22))*(Produção!G22*(1-'% Perdas'!G22))","v":0},{"$f":"('Parâmetros Gerais'!$F$30*(1+'% Variação Preços'!H22))*(Produção!H22*(1-'% Perdas'!H22))","v":0},{"$f":"('Parâmetros Gerais'!$F$30*(1+'% Variação Preços'!I22))*(Produção!I22*(1-'% Perdas'!I22))","v":0},{"$f":"('Parâmetros Gerais'!$F$30*(1+'% Variação Preços'!J22))*(Produção!J22*(1-'% Perdas'!J22))","v":0},{"$f":"('Parâmetros Gerais'!$F$30*(1+'% Variação Preços'!K22))*(Produção!K22*(1-'% Perdas'!K22))","v":0},{"$f":"('Parâmetros Gerais'!$F$30*(1+'% Variação Preços'!L22))*(Produção!L22*(1-'% Perdas'!L22))","v":0},{"$f":"('Parâmetros Gerais'!$F$30*(1+'% Variação Preços'!M22))*(Produção!M22*(1-'% Perdas'!M22))","v":1400},{"$f":"('Parâmetros Gerais'!$F$30*(1+'% Variação Preços'!N22))*(Produção!N22*(1-'% Perdas'!N22))","v":0},{"$f":"('Parâmetros Gerais'!$F$30*(1+'% Variação Preços'!O22))*(Produção!O22*(1-'% Perdas'!O22))","v":0},{"$f":"('Parâmetros Gerais'!$F$30*(1+'% Variação Preços'!P22))*(Produção!P22*(1-'% Perdas'!P22))","v":0},{"$f":"('Parâmetros Gerais'!$F$30*(1+'% Variação Preços'!Q22))*(Produção!Q22*(1-'% Perdas'!Q22))","v":0},{"$f":"('Parâmetros Gerais'!$F$30*(1+'% Variação Preços'!R22))*(Produção!R22*(1-'% Perdas'!R22))","v":0},{"$f":"('Parâmetros Gerais'!$F$30*(1+'% Variação Preços'!S22))*(Produção!S22*(1-'% Perdas'!S22))","v":0},{"$f":"('Parâmetros Gerais'!$F$30*(1+'% Variação Preços'!T22))*(Produção!T22*(1-'% Perdas'!T22))","v":0},{"$f":"('Parâmetros Gerais'!$F$30*(1+'% Variação Preços'!U22))*(Produção!U22*(1-'% Perdas'!U22))","v":0},{"$f":"('Parâmetros Gerais'!$F$30*(1+'% Variação Preços'!V22))*(Produção!V22*(1-'% Perdas'!V22))","v":0},{"$f":"('Parâmetros Gerais'!$F$30*(1+'% Variação Preços'!W22))*(Produção!W22*(1-'% Perdas'!W22))","v":1750},{"$f":"('Parâmetros Gerais'!$F$30*(1+'% Variação Preços'!X22))*(Produção!X22*(1-'% Perdas'!X22))","v":0},{"$f":"('Parâmetros Gerais'!$F$30*(1+'% Variação Preços'!Y22))*(Produção!Y22*(1-'% Perdas'!Y22))","v":0},{"$f":"('Parâmetros Gerais'!$F$30*(1+'% Variação Preços'!Z22))*(Produção!Z22*(1-'% Perdas'!Z22))","v":0},{"$f":"('Parâmetros Gerais'!$F$30*(1+'% Variação Preços'!AA22))*(Produção!AA22*(1-'% Perdas'!AA22))","v":0},{"$f":"('Parâmetros Gerais'!$F$30*(1+'% Variação Preços'!AB22))*(Produção!AB22*(1-'% Perdas'!AB22))","v":0},{"$f":"('Parâmetros Gerais'!$F$30*(1+'% Variação Preços'!AC22))*(Produção!AC22*(1-'% Perdas'!AC22))","v":0},{"$f":"('Parâmetros Gerais'!$F$30*(1+'% Variação Preços'!AD22))*(Produção!AD22*(1-'% Perdas'!AD22))","v":0},{"$f":"('Parâmetros Gerais'!$F$30*(1+'% Variação Preços'!AE22))*(Produção!AE22*(1-'% Perdas'!AE22))","v":0},{"$f":"('Parâmetros Gerais'!$F$30*(1+'% Variação Preços'!AF22))*(Produção!AF22*(1-'% Perdas'!AF22))","v":0},{"$f":"('Parâmetros Gerais'!$F$30*(1+'% Variação Preços'!AG22))*(Produção!AG22*(1-'% Perdas'!AG22))","v":0}]
[{"$f":"IF(LEN('Parâmetros Gerais'!B31)=0,\" \",'Parâmetros Gerais'!B31)","v":"madeira ipê roxo"},0,0,null,{"$f":"('Parâmetros Gerais'!$F$31*(1+'% Variação Preços'!D23))*(Produção!D23*(1-'% Perdas'!D23))","v":0},{"$f":"('Parâmetros Gerais'!$F$31*(1+'% Variação Preços'!E23))*(Produção!E23*(1-'% Perdas'!E23))","v":0},{"$f":"('Parâmetros Gerais'!$F$31*(1+'% Variação Preços'!F23))*(Produção!F23*(1-'% Perdas'!F23))","v":0},{"$f":"('Parâmetros Gerais'!$F$31*(1+'% Variação Preços'!G23))*(Produção!G23*(1-'% Perdas'!G23))","v":0},{"$f":"('Parâmetros Gerais'!$F$31*(1+'% Variação Preços'!H23))*(Produção!H23*(1-'% Perdas'!H23))","v":0},{"$f":"('Parâmetros Gerais'!$F$31*(1+'% Variação Preços'!I23))*(Produção!I23*(1-'% Perdas'!I23))","v":0},{"$f":"('Parâmetros Gerais'!$F$31*(1+'% Variação Preços'!J23))*(Produção!J23*(1-'% Perdas'!J23))","v":0},{"$f":"('Parâmetros Gerais'!$F$31*(1+'% Variação Preços'!K23))*(Produção!K23*(1-'% Perdas'!K23))","v":0},{"$f":"('Parâmetros Gerais'!$F$31*(1+'% Variação Preços'!L23))*(Produção!L23*(1-'% Perdas'!L23))","v":0},{"$f":"('Parâmetros Gerais'!$F$31*(1+'% Variação Preços'!M23))*(Produção!M23*(1-'% Perdas'!M23))","v":0},{"$f":"('Parâmetros Gerais'!$F$31*(1+'% Variação Preços'!N23))*(Produção!N23*(1-'% Perdas'!N23))","v":0},{"$f":"('Parâmetros Gerais'!$F$31*(1+'% Variação Preços'!O23))*(Produção!O23*(1-'% Perdas'!O23))","v":0},{"$f":"('Parâmetros Gerais'!$F$31*(1+'% Variação Preços'!P23))*(Produção!P23*(1-'% Perdas'!P23))","v":0},{"$f":"('Parâmetros Gerais'!$F$31*(1+'% Variação Preços'!Q23))*(Produção!Q23*(1-'% Perdas'!Q23))","v":0},{"$f":"('Parâmetros Gerais'!$F$31*(1+'% Variação Preços'!R23))*(Produção!R23*(1-'% Perdas'!R23))","v":0},{"$f":"('Parâmetros Gerais'!$F$31*(1+'% Variação Preços'!S23))*(Produção!S23*(1-'% Perdas'!S23))","v":0},{"$f":"('Parâmetros Gerais'!$F$31*(1+'% Variação Preços'!T23))*(Produção!T23*(1-'% Perdas'!T23))","v":0},{"$f":"('Parâmetros Gerais'!$F$31*(1+'% Variação Preços'!U23))*(Produção!U23*(1-'% Perdas'!U23))","v":0},{"$f":"('Parâmetros Gerais'!$F$31*(1+'% Variação Preços'!V23))*(Produção!V23*(1-'% Perdas'!V23))","v":0},{"$f":"('Parâmetros Gerais'!$F$31*(1+'% Variação Preços'!W23))*(Produção!W23*(1-'% Perdas'!W23))","v":0},{"$f":"('Parâmetros Gerais'!$F$31*(1+'% Variação Preços'!X23))*(Produção!X23*(1-'% Perdas'!X23))","v":0},{"$f":"('Parâmetros Gerais'!$F$31*(1+'% Variação Preços'!Y23))*(Produção!Y23*(1-'% Perdas'!Y23))","v":0},{"$f":"('Parâmetros Gerais'!$F$31*(1+'% Variação Preços'!Z23))*(Produção!Z23*(1-'% Perdas'!Z23))","v":0},{"$f":"('Parâmetros Gerais'!$F$31*(1+'% Variação Preços'!AA23))*(Produção!AA23*(1-'% Perdas'!AA23))","v":0},{"$f":"('Parâmetros Gerais'!$F$31*(1+'% Variação Preços'!AB23))*(Produção!AB23*(1-'% Perdas'!AB23))","v":0},{"$f":"('Parâmetros Gerais'!$F$31*(1+'% Variação Preços'!AC23))*(Produção!AC23*(1-'% Perdas'!AC23))","v":0},{"$f":"('Parâmetros Gerais'!$F$31*(1+'% Variação Preços'!AD23))*(Produção!AD23*(1-'% Perdas'!AD23))","v":0},{"$f":"('Parâmetros Gerais'!$F$31*(1+'% Variação Preços'!AE23))*(Produção!AE23*(1-'% Perdas'!AE23))","v":0},{"$f":"('Parâmetros Gerais'!$F$31*(1+'% Variação Preços'!AF23))*(Produção!AF23*(1-'% Perdas'!AF23))","v":0},{"$f":"('Parâmetros Gerais'!$F$31*(1+'% Variação Preços'!AG23))*(Produção!AG23*(1-'% Perdas'!AG23))","v":0}]
[{"$f":"IF(LEN('Parâmetros Gerais'!B32)=0,\" \",'Parâmetros Gerais'!B32)","v":"madeira ipê amarelo"},4.1598711100252893E-2,12600,null,{"$f":"('Parâmetros Gerais'!$F$32*(1+'% Variação Preços'!D24))*(Produção!D24*(1-'% Perdas'!D24))","v":0},{"$f":"('Parâmetros Gerais'!$F$32*(1+'% Variação Preços'!E24))*(Produção!E24*(1-'% Perdas'!E24))","v":0},{"$f":"('Parâmetros Gerais'!$F$32*(1+'% Variação Preços'!F24))*(Produção!F24*(1-'% Perdas'!F24))","v":0},{"$f":"('Parâmetros Gerais'!$F$32*(1+'% Variação Preços'!G24))*(Produção!G24*(1-'% Perdas'!G24))","v":0},{"$f":"('Parâmetros Gerais'!$F$32*(1+'% Variação Preços'!H24))*(Produção!H24*(1-'% Perdas'!H24))","v":0},{"$f":"('Parâmetros Gerais'!$F$32*(1+'% Variação Preços'!I24))*(Produção!I24*(1-'% Perdas'!I24))","v":0},{"$f":"('Parâmetros Gerais'!$F$32*(1+'% Variação Preços'!J24))*(Produção!J24*(1-'% Perdas'!J24))","v":0},{"$f":"('Parâmetros Gerais'!$F$32*(1+'% Variação Preços'!K24))*(Produção!K24*(1-'% Perdas'!K24))","v":0},{"$f":"('Parâmetros Gerais'!$F$32*(1+'% Variação Preços'!L24))*(Produção!L24*(1-'% Perdas'!L24))","v":0},{"$f":"('Parâmetros Gerais'!$F$32*(1+'% Variação Preços'!M24))*(Produção!M24*(1-'% Perdas'!M24))","v":0},{"$f":"('Parâmetros Gerais'!$F$32*(1+'% Variação Preços'!N24))*(Produção!N24*(1-'% Perdas'!N24))","v":0},{"$f":"('Parâmetros Gerais'!$F$32*(1+'% Variação Preços'!O24))*(Produção!O24*(1-'% Perdas'!O24))","v":0},{"$f":"('Parâmetros Gerais'!$F$32*(1+'% Variação Preços'!P24))*(Produção!P24*(1-'% Perdas'!P24))","v":0},{"$f":"('Parâmetros Gerais'!$F$32*(1+'% Variação Preços'!Q24))*(Produção!Q24*(1-'% Perdas'!Q24))","v":0},{"$f":"('Parâmetros Gerais'!$F$32*(1+'% Variação Preços'!R24))*(Produção!R24*(1-'% Perdas'!R24))","v":0},{"$f":"('Parâmetros Gerais'!$F$32*(1+'% Variação Preços'!S24))*(Produção!S24*(1-'% Perdas'!S24))","v":0},{"$f":"('Parâmetros Gerais'!$F$32*(1+'% Variação Preços'!T24))*(Produção!T24*(1-'% Perdas'!T24))","v":0},{"$f":"('Parâmetros Gerais'!$F$32*(1+'% Variação Preços'!U24))*(Produção!U24*(1-'% Perdas'!U24))","v":0},{"$f":"('Parâmetros Gerais'!$F$32*(1+'% Variação Preços'!V24))*(Produção!V24*(1-'% Perdas'!V24))","v":0},{"$f":"('Parâmetros Gerais'!$F$32*(1+'% Variação Preços'!W24))*(Produção!W24*(1-'% Perdas'!W24))","v":12600},{"$f":"('Parâmetros Gerais'!$F$32*(1+'% Variação Preços'!X24))*(Produção!X24*(1-'% Perdas'!X24))","v":0},{"$f":"('Parâmetros Gerais'!$F$32*(1+'% Variação Preços'!Y24))*(Produção!Y24*(1-'% Perdas'!Y24))","v":0},{"$f":"('Parâmetros Gerais'!$F$32*(1+'% Variação Preços'!Z24))*(Produção!Z24*(1-'% Perdas'!Z24))","v":0},{"$f":"('Parâmetros Gerais'!$F$32*(1+'% Variação Preços'!AA24))*(Produção!AA24*(1-'% Perdas'!AA24))","v":0},{"$f":"('Parâmetros Gerais'!$F$32*(1+'% Variação Preços'!AB24))*(Produção!AB24*(1-'% Perdas'!AB24))","v":0},{"$f":"('Parâmetros Gerais'!$F$32*(1+'% Variação Preços'!AC24))*(Produção!AC24*(1-'% Perdas'!AC24))","v":0},{"$f":"('Parâmetros Gerais'!$F$32*(1+'% Variação Preços'!AD24))*(Produção!AD24*(1-'% Perdas'!AD24))","v":0},{"$f":"('Parâmetros Gerais'!$F$32*(1+'% Variação Preços'!AE24))*(Produção!AE24*(1-'% Perdas'!AE24))","v":0},{"$f":"('Parâmetros Gerais'!$F$32*(1+'% Variação Preços'!AF24))*(Produção!AF24*(1-'% Perdas'!AF24))","v":0},{"$f":"('Parâmetros Gerais'!$F$32*(1+'% Variação Preços'!AG24))*(Produção!AG24*(1-'% Perdas'!AG24))","v":0}]
[{"$f":"IF(LEN('Parâmetros Gerais'!B33)=0,\" \",'Parâmetros Gerais'!B33)","v":"madeira gonçalo alves"},0,0,null,{"$f":"('Parâmetros Gerais'!$F$32*(1+'% Variação Preços'!D25))*(Produção!D25*(1-'% Perdas'!D25))","v":0},{"$f":"('Parâmetros Gerais'!$F$32*(1+'% Variação Preços'!E25))*(Produção!E25*(1-'% Perdas'!E25))","v":0},{"$f":"('Parâmetros Gerais'!$F$32*(1+'% Variação Preços'!F25))*(Produção!F25*(1-'% Perdas'!F25))","v":0},{"$f":"('Parâmetros Gerais'!$F$32*(1+'% Variação Preços'!G25))*(Produção!G25*(1-'% Perdas'!G25))","v":0},{"$f":"('Parâmetros Gerais'!$F$32*(1+'% Variação Preços'!H25))*(Produção!H25*(1-'% Perdas'!H25))","v":0},{"$f":"('Parâmetros Gerais'!$F$32*(1+'% Variação Preços'!I25))*(Produção!I25*(1-'% Perdas'!I25))","v":0},{"$f":"('Parâmetros Gerais'!$F$32*(1+'% Variação Preços'!J25))*(Produção!J25*(1-'% Perdas'!J25))","v":0},{"$f":"('Parâmetros Gerais'!$F$32*(1+'% Variação Preços'!K25))*(Produção!K25*(1-'% Perdas'!K25))","v":0},{"$f":"('Parâmetros Gerais'!$F$32*(1+'% Variação Preços'!L25))*(Produção!L25*(1-'% Perdas'!L25))","v":0},{"$f":"('Parâmetros Gerais'!$F$32*(1+'% Variação Preços'!M25))*(Produção!M25*(1-'% Perdas'!M25))","v":0},{"$f":"('Parâmetros Gerais'!$F$32*(1+'% Variação Preços'!N25))*(Produção!N25*(1-'% Perdas'!N25))","v":0},{"$f":"('Parâmetros Gerais'!$F$32*(1+'% Variação Preços'!O25))*(Produção!O25*(1-'% Perdas'!O25))","v":0},{"$f":"('Parâmetros Gerais'!$F$32*(1+'% Variação Preços'!P25))*(Produção!P25*(1-'% Perdas'!P25))","v":0},{"$f":"('Parâmetros Gerais'!$F$32*(1+'% Variação Preços'!Q25))*(Produção!Q25*(1-'% Perdas'!Q25))","v":0},{"$f":"('Parâmetros Gerais'!$F$32*(1+'% Variação Preços'!R25))*(Produção!R25*(1-'% Perdas'!R25))","v":0},{"$f":"('Parâmetros Gerais'!$F$32*(1+'% Variação Preços'!S25))*(Produção!S25*(1-'% Perdas'!S25))","v":0},{"$f":"('Parâmetros Gerais'!$F$32*(1+'% Variação Preços'!T25))*(Produção!T25*(1-'% Perdas'!T25))","v":0},{"$f":"('Parâmetros Gerais'!$F$32*(1+'% Variação Preços'!U25))*(Produção!U25*(1-'% Perdas'!U25))","v":0},{"$f":"('Parâmetros Gerais'!$F$32*(1+'% Variação Preços'!V25))*(Produção!V25*(1-'% Perdas'!V25))","v":0},{"$f":"('Parâmetros Gerais'!$F$32*(1+'% Variação Preços'!W25))*(Produção!W25*(1-'% Perdas'!W25))","v":0},{"$f":"('Parâmetros Gerais'!$F$32*(1+'% Variação Preços'!X25))*(Produção!X25*(1-'% Perdas'!X25))","v":0},{"$f":"('Parâmetros Gerais'!$F$32*(1+'% Variação Preços'!Y25))*(Produção!Y25*(1-'% Perdas'!Y25))","v":0},{"$f":"('Parâmetros Gerais'!$F$32*(1+'% Variação Preços'!Z25))*(Produção!Z25*(1-'% Perdas'!Z25))","v":0},{"$f":"('Parâmetros Gerais'!$F$32*(1+'% Variação Preços'!AA25))*(Produção!AA25*(1-'% Perdas'!AA25))","v":0},{"$f":"('Parâmetros Gerais'!$F$32*(1+'% Variação Preços'!AB25))*(Produção!AB25*(1-'% Perdas'!AB25))","v":0},{"$f":"('Parâmetros Gerais'!$F$32*(1+'% Variação Preços'!AC25))*(Produção!AC25*(1-'% Perdas'!AC25))","v":0},{"$f":"('Parâmetros Gerais'!$F$32*(1+'% Variação Preços'!AD25))*(Produção!AD25*(1-'% Perdas'!AD25))","v":0},{"$f":"('Parâmetros Gerais'!$F$32*(1+'% Variação Preços'!AE25))*(Produção!AE25*(1-'% Perdas'!AE25))","v":0},{"$f":"('Parâmetros Gerais'!$F$32*(1+'% Variação Preços'!AF25))*(Produção!AF25*(1-'% Perdas'!AF25))","v":0},{"$f":"('Parâmetros Gerais'!$F$32*(1+'% Variação Preços'!AG25))*(Produção!AG25*(1-'% Perdas'!AG25))","v":0}]
[{"$f":"IF(LEN('Parâmetros Gerais'!B34)=0,\" \",'Parâmetros Gerais'!B34)","v":"madeira vinhatico"},8.2537125198914475E-3,2500,null,{"$f":"('Parâmetros Gerais'!$F$33*(1+'% Variação Preços'!D26))*(Produção!D26*(1-'% Perdas'!D26))","v":0},{"$f":"('Parâmetros Gerais'!$F$33*(1+'% Variação Preços'!E26))*(Produção!E26*(1-'% Perdas'!E26))","v":0},{"$f":"('Parâmetros Gerais'!$F$33*(1+'% Variação Preços'!F26))*(Produção!F26*(1-'% Perdas'!F26))","v":0},{"$f":"('Parâmetros Gerais'!$F$33*(1+'% Variação Preços'!G26))*(Produção!G26*(1-'% Perdas'!G26))","v":0},{"$f":"('Parâmetros Gerais'!$F$33*(1+'% Variação Preços'!H26))*(Produção!H26*(1-'% Perdas'!H26))","v":0},{"$f":"('Parâmetros Gerais'!$F$33*(1+'% Variação Preços'!I26))*(Produção!I26*(1-'% Perdas'!I26))","v":0},{"$f":"('Parâmetros Gerais'!$F$33*(1+'% Variação Preços'!J26))*(Produção!J26*(1-'% Perdas'!J26))","v":0},{"$f":"('Parâmetros Gerais'!$F$33*(1+'% Variação Preços'!K26))*(Produção!K26*(1-'% Perdas'!K26))","v":0},{"$f":"('Parâmetros Gerais'!$F$33*(1+'% Variação Preços'!L26))*(Produção!L26*(1-'% Perdas'!L26))","v":0},{"$f":"('Parâmetros Gerais'!$F$33*(1+'% Variação Preços'!M26))*(Produção!M26*(1-'% Perdas'!M26))","v":0},{"$f":"('Parâmetros Gerais'!$F$33*(1+'% Variação Preços'!N26))*(Produção!N26*(1-'% Perdas'!N26))","v":0},{"$f":"('Parâmetros Gerais'!$F$33*(1+'% Variação Preços'!O26))*(Produção!O26*(1-'% Perdas'!O26))","v":0},{"$f":"('Parâmetros Gerais'!$F$33*(1+'% Variação Preços'!P26))*(Produção!P26*(1-'% Perdas'!P26))","v":0},{"$f":"('Parâmetros Gerais'!$F$33*(1+'% Variação Preços'!Q26))*(Produção!Q26*(1-'% Perdas'!Q26))","v":0},{"$f":"('Parâmetros Gerais'!$F$33*(1+'% Variação Preços'!R26))*(Produção!R26*(1-'% Perdas'!R26))","v":0},{"$f":"('Parâmetros Gerais'!$F$33*(1+'% Variação Preços'!S26))*(Produção!S26*(1-'% Perdas'!S26))","v":0},{"$f":"('Parâmetros Gerais'!$F$33*(1+'% Variação Preços'!T26))*(Produção!T26*(1-'% Perdas'!T26))","v":0},{"$f":"('Parâmetros Gerais'!$F$33*(1+'% Variação Preços'!U26))*(Produção!U26*(1-'% Perdas'!U26))","v":0},{"$f":"('Parâmetros Gerais'!$F$33*(1+'% Variação Preços'!V26))*(Produção!V26*(1-'% Perdas'!V26))","v":0},{"$f":"('Parâmetros Gerais'!$F$33*(1+'% Variação Preços'!W26))*(Produção!W26*(1-'% Perdas'!W26))","v":2500},{"$f":"('Parâmetros Gerais'!$F$33*(1+'% Variação Preços'!X26))*(Produção!X26*(1-'% Perdas'!X26))","v":0},{"$f":"('Parâmetros Gerais'!$F$33*(1+'% Variação Preços'!Y26))*(Produção!Y26*(1-'% Perdas'!Y26))","v":0},{"$f":"('Parâmetros Gerais'!$F$33*(1+'% Variação Preços'!Z26))*(Produção!Z26*(1-'% Perdas'!Z26))","v":0},{"$f":"('Parâmetros Gerais'!$F$33*(1+'% Variação Preços'!AA26))*(Produção!AA26*(1-'% Perdas'!AA26))","v":0},{"$f":"('Parâmetros Gerais'!$F$33*(1+'% Variação Preços'!AB26))*(Produção!AB26*(1-'% Perdas'!AB26))","v":0},{"$f":"('Parâmetros Gerais'!$F$33*(1+'% Variação Preços'!AC26))*(Produção!AC26*(1-'% Perdas'!AC26))","v":0},{"$f":"('Parâmetros Gerais'!$F$33*(1+'% Variação Preços'!AD26))*(Produção!AD26*(1-'% Perdas'!AD26))","v":0},{"$f":"('Parâmetros Gerais'!$F$33*(1+'% Variação Preços'!AE26))*(Produção!AE26*(1-'% Perdas'!AE26))","v":0},{"$f":"('Parâmetros Gerais'!$F$33*(1+'% Variação Preços'!AF26))*(Produção!AF26*(1-'% Perdas'!AF26))","v":0},{"$f":"('Parâmetros Gerais'!$F$33*(1+'% Variação Preços'!AG26))*(Produção!AG26*(1-'% Perdas'!AG26))","v":0}]
[{"$f":"IF(LEN('Parâmetros Gerais'!B35)=0,\" \",'Parâmetros Gerais'!B35)","v":"madeira jequitiba"},4.6220790111392105E-3,1400,null,{"$f":"('Parâmetros Gerais'!$F$34*(1+'% Variação Preços'!D27))*(Produção!D27*(1-'% Perdas'!D27))","v":0},{"$f":"('Parâmetros Gerais'!$F$34*(1+'% Variação Preços'!E27))*(Produção!E27*(1-'% Perdas'!E27))","v":0},{"$f":"('Parâmetros Gerais'!$F$34*(1+'% Variação Preços'!F27))*(Produção!F27*(1-'% Perdas'!F27))","v":0},{"$f":"('Parâmetros Gerais'!$F$34*(1+'% Variação Preços'!G27))*(Produção!G27*(1-'% Perdas'!G27))","v":0},{"$f":"('Parâmetros Gerais'!$F$34*(1+'% Variação Preços'!H27))*(Produção!H27*(1-'% Perdas'!H27))","v":0},{"$f":"('Parâmetros Gerais'!$F$34*(1+'% Variação Preços'!I27))*(Produção!I27*(1-'% Perdas'!I27))","v":0},{"$f":"('Parâmetros Gerais'!$F$34*(1+'% Variação Preços'!J27))*(Produção!J27*(1-'% Perdas'!J27))","v":0},{"$f":"('Parâmetros Gerais'!$F$34*(1+'% Variação Preços'!K27))*(Produção!K27*(1-'% Perdas'!K27))","v":0},{"$f":"('Parâmetros Gerais'!$F$34*(1+'% Variação Preços'!L27))*(Produção!L27*(1-'% Perdas'!L27))","v":0},{"$f":"('Parâmetros Gerais'!$F$34*(1+'% Variação Preços'!M27))*(Produção!M27*(1-'% Perdas'!M27))","v":0},{"$f":"('Parâmetros Gerais'!$F$34*(1+'% Variação Preços'!N27))*(Produção!N27*(1-'% Perdas'!N27))","v":0},{"$f":"('Parâmetros Gerais'!$F$34*(1+'% Variação Preços'!O27))*(Produção!O27*(1-'% Perdas'!O27))","v":0},{"$f":"('Parâmetros Gerais'!$F$34*(1+'% Variação Preços'!P27))*(Produção!P27*(1-'% Perdas'!P27))","v":0},{"$f":"('Parâmetros Gerais'!$F$34*(1+'% Variação Preços'!Q27))*(Produção!Q27*(1-'% Perdas'!Q27))","v":0},{"$f":"('Parâmetros Gerais'!$F$34*(1+'% Variação Preços'!R27))*(Produção!R27*(1-'% Perdas'!R27))","v":0},{"$f":"('Parâmetros Gerais'!$F$34*(1+'% Variação Preços'!S27))*(Produção!S27*(1-'% Perdas'!S27))","v":0},{"$f":"('Parâmetros Gerais'!$F$34*(1+'% Variação Preços'!T27))*(Produção!T27*(1-'% Perdas'!T27))","v":0},{"$f":"('Parâmetros Gerais'!$F$34*(1+'% Variação Preços'!U27))*(Produção!U27*(1-'% Perdas'!U27))","v":0},{"$f":"('Parâmetros Gerais'!$F$34*(1+'% Variação Preços'!V27))*(Produção!V27*(1-'% Perdas'!V27))","v":0},{"$f":"('Parâmetros Gerais'!$F$34*(1+'% Variação Preços'!W27))*(Produção!W27*(1-'% Perdas'!W27))","v":1400},{"$f":"('Parâmetros Gerais'!$F$34*(1+'% Variação Preços'!X27))*(Produção!X27*(1-'% Perdas'!X27))","v":0},{"$f":"('Parâmetros Gerais'!$F$34*(1+'% Variação Preços'!Y27))*(Produção!Y27*(1-'% Perdas'!Y27))","v":0},{"$f":"('Parâmetros Gerais'!$F$34*(1+'% Variação Preços'!Z27))*(Produção!Z27*(1-'% Perdas'!Z27))","v":0},{"$f":"('Parâmetros Gerais'!$F$34*(1+'% Variação Preços'!AA27))*(Produção!AA27*(1-'% Perdas'!AA27))","v":0},{"$f":"('Parâmetros Gerais'!$F$34*(1+'% Variação Preços'!AB27))*(Produção!AB27*(1-'% Perdas'!AB27))","v":0},{"$f":"('Parâmetros Gerais'!$F$34*(1+'% Variação Preços'!AC27))*(Produção!AC27*(1-'% Perdas'!AC27))","v":0},{"$f":"('Parâmetros Gerais'!$F$34*(1+'% Variação Preços'!AD27))*(Produção!AD27*(1-'% Perdas'!AD27))","v":0},{"$f":"('Parâmetros Gerais'!$F$34*(1+'% Variação Preços'!AE27))*(Produção!AE27*(1-'% Perdas'!AE27))","v":0},{"$f":"('Parâmetros Gerais'!$F$34*(1+'% Variação Preços'!AF27))*(Produção!AF27*(1-'% Perdas'!AF27))","v":0},{"$f":"('Parâmetros Gerais'!$F$34*(1+'% Variação Preços'!AG27))*(Produção!AG27*(1-'% Perdas'!AG27))","v":0}]
[{"$f":"IF(LEN('Parâmetros Gerais'!B36)=0,\" \",'Parâmetros Gerais'!B36)","v":"biomassa"},{"$f":"IF(C97<>0,C97/$C$72,0)","v":0},{"$f":"SUM(D97:AH97)","v":0},null,{"$f":"('Parâmetros Gerais'!$F$34*(1+'% Variação Preços'!D28))*(Produção!D28*(1-'% Perdas'!D28))","v":0},{"$f":"('Parâmetros Gerais'!$F$34*(1+'% Variação Preços'!E28))*(Produção!E28*(1-'% Perdas'!E28))","v":0},{"$f":"('Parâmetros Gerais'!$F$34*(1+'% Variação Preços'!F28))*(Produção!F28*(1-'% Perdas'!F28))","v":0},{"$f":"('Parâmetros Gerais'!$F$34*(1+'% Variação Preços'!G28))*(Produção!G28*(1-'% Perdas'!G28))","v":0},{"$f":"('Parâmetros Gerais'!$F$34*(1+'% Variação Preços'!H28))*(Produção!H28*(1-'% Perdas'!H28))","v":0},{"$f":"('Parâmetros Gerais'!$F$34*(1+'% Variação Preços'!I28))*(Produção!I28*(1-'% Perdas'!I28))","v":0},{"$f":"('Parâmetros Gerais'!$F$34*(1+'% Variação Preços'!J28))*(Produção!J28*(1-'% Perdas'!J28))","v":0},{"$f":"('Parâmetros Gerais'!$F$34*(1+'% Variação Preços'!K28))*(Produção!K28*(1-'% Perdas'!K28))","v":0},{"$f":"('Parâmetros Gerais'!$F$34*(1+'% Variação Preços'!L28))*(Produção!L28*(1-'% Perdas'!L28))","v":0},{"$f":"('Parâmetros Gerais'!$F$34*(1+'% Variação Preços'!M28))*(Produção!M28*(1-'% Perdas'!M28))","v":0},{"$f":"('Parâmetros Gerais'!$F$34*(1+'% Variação Preços'!N28))*(Produção!N28*(1-'% Perdas'!N28))","v":0},{"$f":"('Parâmetros Gerais'!$F$34*(1+'% Variação Preços'!O28))*(Produção!O28*(1-'% Perdas'!O28))","v":0},{"$f":"('Parâmetros Gerais'!$F$34*(1+'% Variação Preços'!P28))*(Produção!P28*(1-'% Perdas'!P28))","v":0},{"$f":"('Parâmetros Gerais'!$F$34*(1+'% Variação Preços'!Q28))*(Produção!Q28*(1-'% Perdas'!Q28))","v":0},{"$f":"('Parâmetros Gerais'!$F$34*(1+'% Variação Preços'!R28))*(Produção!R28*(1-'% Perdas'!R28))","v":0},{"$f":"('Parâmetros Gerais'!$F$34*(1+'% Variação Preços'!S28))*(Produção!S28*(1-'% Perdas'!S28))","v":0},{"$f":"('Parâmetros Gerais'!$F$34*(1+'% Variação Preços'!T28))*(Produção!T28*(1-'% Perdas'!T28))","v":0},{"$f":"('Parâmetros Gerais'!$F$34*(1+'% Variação Preços'!U28))*(Produção!U28*(1-'% Perdas'!U28))","v":0},{"$f":"('Parâmetros Gerais'!$F$34*(1+'% Variação Preços'!V28))*(Produção!V28*(1-'% Perdas'!V28))","v":0},{"$f":"('Parâmetros Gerais'!$F$34*(1+'% Variação Preços'!W28))*(Produção!W28*(1-'% Perdas'!W28))","v":0},{"$f":"('Parâmetros Gerais'!$F$34*(1+'% Variação Preços'!X28))*(Produção!X28*(1-'% Perdas'!X28))","v":0},{"$f":"('Parâmetros Gerais'!$F$34*(1+'% Variação Preços'!Y28))*(Produção!Y28*(1-'% Perdas'!Y28))","v":0},{"$f":"('Parâmetros Gerais'!$F$34*(1+'% Variação Preços'!Z28))*(Produção!Z28*(1-'% Perdas'!Z28))","v":0},{"$f":"('Parâmetros Gerais'!$F$34*(1+'% Variação Preços'!AA28))*(Produção!AA28*(1-'% Perdas'!AA28))","v":0},{"$f":"('Parâmetros Gerais'!$F$34*(1+'% Variação Preços'!AB28))*(Produção!AB28*(1-'% Perdas'!AB28))","v":0},{"$f":"('Parâmetros Gerais'!$F$34*(1+'% Variação Preços'!AC28))*(Produção!AC28*(1-'% Perdas'!AC28))","v":0},{"$f":"('Parâmetros Gerais'!$F$34*(1+'% Variação Preços'!AD28))*(Produção!AD28*(1-'% Perdas'!AD28))","v":0},{"$f":"('Parâmetros Gerais'!$F$34*(1+'% Variação Preços'!AE28))*(Produção!AE28*(1-'% Perdas'!AE28))","v":0},{"$f":"('Parâmetros Gerais'!$F$34*(1+'% Variação Preços'!AF28))*(Produção!AF28*(1-'% Perdas'!AF28))","v":0},{"$f":"('Parâmetros Gerais'!$F$34*(1+'% Variação Preços'!AG28))*(Produção!AG28*(1-'% Perdas'!AG28))","v":0}]
[{"$f":"IF(LEN('Parâmetros Gerais'!B37)=0,\" \",'Parâmetros Gerais'!B37)","v":"grão caupi"},0.14790652835645474,44800,null,{"$f":"('Parâmetros Gerais'!$F$34*(1+'% Variação Preços'!D29))*(Produção!D29*(1-'% Perdas'!D29))","v":44800},{"$f":"('Parâmetros Gerais'!$F$34*(1+'% Variação Preços'!E29))*(Produção!E29*(1-'% Perdas'!E29))","v":0},{"$f":"('Parâmetros Gerais'!$F$34*(1+'% Variação Preços'!F29))*(Produção!F29*(1-'% Perdas'!F29))","v":0},{"$f":"('Parâmetros Gerais'!$F$34*(1+'% Variação Preços'!G29))*(Produção!G29*(1-'% Perdas'!G29))","v":0},{"$f":"('Parâmetros Gerais'!$F$34*(1+'% Variação Preços'!H29))*(Produção!H29*(1-'% Perdas'!H29))","v":0},{"$f":"('Parâmetros Gerais'!$F$34*(1+'% Variação Preços'!I29))*(Produção!I29*(1-'% Perdas'!I29))","v":0},{"$f":"('Parâmetros Gerais'!$F$34*(1+'% Variação Preços'!J29))*(Produção!J29*(1-'% Perdas'!J29))","v":0},{"$f":"('Parâmetros Gerais'!$F$34*(1+'% Variação Preços'!K29))*(Produção!K29*(1-'% Perdas'!K29))","v":0},{"$f":"('Parâmetros Gerais'!$F$34*(1+'% Variação Preços'!L29))*(Produção!L29*(1-'% Perdas'!L29))","v":0},{"$f":"('Parâmetros Gerais'!$F$34*(1+'% Variação Preços'!M29))*(Produção!M29*(1-'% Perdas'!M29))","v":0},{"$f":"('Parâmetros Gerais'!$F$34*(1+'% Variação Preços'!N29))*(Produção!N29*(1-'% Perdas'!N29))","v":0},{"$f":"('Parâmetros Gerais'!$F$34*(1+'% Variação Preços'!O29))*(Produção!O29*(1-'% Perdas'!O29))","v":0},{"$f":"('Parâmetros Gerais'!$F$34*(1+'% Variação Preços'!P29))*(Produção!P29*(1-'% Perdas'!P29))","v":0},{"$f":"('Parâmetros Gerais'!$F$34*(1+'% Variação Preços'!Q29))*(Produção!Q29*(1-'% Perdas'!Q29))","v":0},{"$f":"('Parâmetros Gerais'!$F$34*(1+'% Variação Preços'!R29))*(Produção!R29*(1-'% Perdas'!R29))","v":0},{"$f":"('Parâmetros Gerais'!$F$34*(1+'% Variação Preços'!S29))*(Produção!S29*(1-'% Perdas'!S29))","v":0},{"$f":"('Parâmetros Gerais'!$F$34*(1+'% Variação Preços'!T29))*(Produção!T29*(1-'% Perdas'!T29))","v":0},{"$f":"('Parâmetros Gerais'!$F$34*(1+'% Variação Preços'!U29))*(Produção!U29*(1-'% Perdas'!U29))","v":0},{"$f":"('Parâmetros Gerais'!$F$34*(1+'% Variação Preços'!V29))*(Produção!V29*(1-'% Perdas'!V29))","v":0},{"$f":"('Parâmetros Gerais'!$F$34*(1+'% Variação Preços'!W29))*(Produção!W29*(1-'% Perdas'!W29))","v":0},{"$f":"('Parâmetros Gerais'!$F$34*(1+'% Variação Preços'!X29))*(Produção!X29*(1-'% Perdas'!X29))","v":0},{"$f":"('Parâmetros Gerais'!$F$34*(1+'% Variação Preços'!Y29))*(Produção!Y29*(1-'% Perdas'!Y29))","v":0},{"$f":"('Parâmetros Gerais'!$F$34*(1+'% Variação Preços'!Z29))*(Produção!Z29*(1-'% Perdas'!Z29))","v":0},{"$f":"('Parâmetros Gerais'!$F$34*(1+'% Variação Preços'!AA29))*(Produção!AA29*(1-'% Perdas'!AA29))","v":0},{"$f":"('Parâmetros Gerais'!$F$34*(1+'% Variação Preços'!AB29))*(Produção!AB29*(1-'% Perdas'!AB29))","v":0},{"$f":"('Parâmetros Gerais'!$F$34*(1+'% Variação Preços'!AC29))*(Produção!AC29*(1-'% Perdas'!AC29))","v":0},{"$f":"('Parâmetros Gerais'!$F$34*(1+'% Variação Preços'!AD29))*(Produção!AD29*(1-'% Perdas'!AD29))","v":0},{"$f":"('Parâmetros Gerais'!$F$34*(1+'% Variação Preços'!AE29))*(Produção!AE29*(1-'% Perdas'!AE29))","v":0},{"$f":"('Parâmetros Gerais'!$F$34*(1+'% Variação Preços'!AF29))*(Produção!AF29*(1-'% Perdas'!AF29))","v":0},{"$f":"('Parâmetros Gerais'!$F$34*(1+'% Variação Preços'!AG29))*(Produção!AG29*(1-'% Perdas'!AG29))","v":0}]
[]
["LAJIR",null,null,{"$f":"D72-D12","v":0},49075,20420,7300,11264,12080,5060,3669.5,4839,4165,5758.5,4358.5,8418.5,9542.5,13838.5,21794.5,20194.5,20194.5,20890.5,20890.5,39140.5,0,0,0,0,0,0,0,0,0,0]
["(Lucro Antes dos Juros e Impostos sobre a Renda)"]

{"sheet":"Fluxo de Caixa (2)","index":41,"n_rows":28,"n_cols":32,"rows_kept":28,"cut":false,"hidden":false,"merged":[[1,0,1,2]]}
[{"$f":"'Parâmetros Gerais'!A1","v":"Análise Financeira de Sistemas Produtivos Integrados (V. 4.16 11/2016)"}]
["Diagrama de Fluxo de Caixa"]
[]
[]
["Entradas Aj",null,{"$f":"C6/((1+'Parâmetros Gerais'!$F$7)^C11)","v":49075},{"$f":"D6/((1+'Parâmetros Gerais'!$F$7)^D11)","v":20420},{"$f":"E6/((1+'Parâmetros Gerais'!$F$7)^E11)","v":7300},{"$f":"F6/((1+'Parâmetros Gerais'!$F$7)^F11)","v":11264},{"$f":"G6/((1+'Parâmetros Gerais'!$F$7)^G11)","v":12080},{"$f":"H6/((1+'Parâmetros Gerais'!$F$7)^H11)","v":5060},{"$f":"I6/((1+'Parâmetros Gerais'!$F$7)^I11)","v":3669.5},{"$f":"J6/((1+'Parâmetros Gerais'!$F$7)^J11)","v":4839},{"$f":"K6/((1+'Parâmetros Gerais'!$F$7)^K11)","v":4165},{"$f":"L6/((1+'Parâmetros Gerais'!$F$7)^L11)","v":5758.5},{"$f":"M6/((1+'Parâmetros Gerais'!$F$7)^M11)","v":4358.5},{"$f":"N6/((1+'Parâmetros Gerais'!$F$7)^N11)","v":8418.5},{"$f":"O6/((1+'Parâmetros Gerais'!$F$7)^O11)","v":9542.5},{"$f":"P6/((1+'Parâmetros Gerais'!$F$7)^P11)","v":13838.5},{"$f":"Q6/((1+'Parâmetros Gerais'!$F$7)^Q11)","v":21794.5},{"$f":"R6/((1+'Parâmetros Gerais'!$F$7)^R11)","v":20194.5},{"$f":"S6/((1+'Parâmetros Gerais'!$F$7)^S11)","v":20194.5},{"$f":"T6/((1+'Parâmetros Gerais'!$F$7)^T11)","v":20890.5},{"$f":"U6/((1+'Parâmetros Gerais'!$F$7)^U11)","v":20890.5},{"$f":"V6/((1+'Parâmetros Gerais'!$F$7)^V11)","v":39140.5},{"$f":"W6/((1+'Parâmetros Gerais'!$F$7)^W11)","v":0},{"$f":"X6/((1+'Parâmetros Gerais'!$F$7)^X11)","v":0},{"$f":"Y6/((1+'Parâmetros Gerais'!$F$7)^Y11)","v":0},{"$f":"Z6/((1+'Parâmetros Gerais'!$F$7)^Z11)","v":0},{"$f":"AA6/((1+'Parâmetros Gerais'!$F$7)^AA11)","v":0},{"$f":"AB6/((1+'Parâmetros Gerais'!$F$7)^AB11)","v":0},{"$f":"AC6/((1+'Parâmetros Gerais'!$F$7)^AC11)","v":0},{"$f":"AD6/((1+'Parâmetros Gerais'!$F$7)^AD11)","v":0},{"$f":"AE6/((1+'Parâmetros Gerais'!$F$7)^AE11)","v":0},{"$f":"AF6/((1+'Parâmetros Gerais'!$F$7)^AF11)","v":0}]
["Entradas",null,{"$f":"'Resultado Fin (2)'!E72","v":49075},{"$f":"'Resultado Fin (2)'!F72","v":20420},{"$f":"'Resultado Fin (2)'!G72","v":7300},{"$f":"'Resultado Fin (2)'!H72","v":11264},{"$f":"'Resultado Fin (2)'!I72","v":12080},{"$f":"'Resultado Fin (2)'!J72","v":5060},{"$f":"'Resultado Fin (2)'!K72","v":3669.5},{"$f":"'Resultado Fin (2)'!L72","v":4839},{"$f":"'Resultado Fin (2)'!M72","v":4165},{"$f":"'Resultado Fin (2)'!N72","v":5758.5},{"$f":"'Resultado Fin (2)'!O72","v":4358.5},{"$f":"'Resultado Fin (2)'!P72","v":8418.5},{"$f":"'Resultado Fin (2)'!Q72","v":9542.5},{"$f":"'Resultado Fin (2)'!R72","v":13838.5},{"$f":"'Resultado Fin (2)'!S72","v":21794.5},{"$f":"'Resultado Fin (2)'!T72","v":20194.5},{"$f":"'Resultado Fin (2)'!U72","v":20194.5},{"$f":"'Resultado Fin (2)'!V72","v":20890.5},{"$f":"'Resultado Fin (2)'!W72","v":20890.5},{"$f":"'Resultado Fin (2)'!X72","v":39140.5},{"$f":"'Resultado Fin (2)'!Y72","v":0},{"$f":"'Resultado Fin (2)'!Z72","v":0},{"$f":"'Resultado Fin (2)'!AA72","v":0},{"$f":"'Resultado Fin (2)'!AB72","v":0},{"$f":"'Resultado Fin (2)'!AC72","v":0},{"$f":"'Resultado Fin (2)'!AD72","v":0},{"$f":"'Resultado Fin (2)'!AE72","v":0},{"$f":"'Resultado Fin (2)'!AF72","v":0},{"$f":"'Resultado Fin (2)'!AG72","v":0},{"$f":"'Resultado Fin (2)'!AH72","v":0}]
[]
[]
[]
[]
[{"$f":"Produção!D3","v":"Período"},0,1,2,3,4,5,6,7,8,9,10,11,12,13,14,15,16,17,18,19,20,21,22,23,24,25,26,27,28,29,30]
[]
[]
[]
[]
["Saídas",{"$f":"'Resultado Fin (2)'!D6","v":0},{"$f":"'Resultado Fin (2)'!E6","v":0},{"$f":"'Resultado Fin (2)'!F6","v":0},{"$f":"'Resultado Fin (2)'!G6","v":0},{"$f":"'Resultado Fin (2)'!H6","v":0},{"$f":"'Resultado Fin (2)'!I6","v":0},{"$f":"'Resultado Fin (2)'!J6","v":0},{"$f":"'Resultado Fin (2)'!K6","v":0},{"$f":"'Resultado Fin (2)'!L6","v":0},{"$f":"'Resultado Fin (2)'!M6","v":0},{"$f":"'Resultado Fin (2)'!N6","v":0},{"$f":"'Resultado Fin (2)'!O6","v":0},{"$f":"'Resultado Fin (2)'!P6","v":0},{"$f":"'Resultado Fin (2)'!Q6","v":0},{"$f":"'Resultado Fin (2)'!R6","v":0},{"$f":"'Resultado Fin (2)'!S6","v":0},{"$f":"'Resultado Fin (2)'!T6","v":0},{"$f":"'Resultado Fin (2)'!U6","v":0},{"$f":"'Resultado Fin (2)'!V6","v":0},{"$f":"'Resultado Fin (2)'!W6","v":0},{"$f":"'Resultado Fin (2)'!X6","v":0},{"$f":"'Resultado Fin (2)'!Y6","v":0},{"$f":"'Resultado Fin (2)'!Z6","v":0},{"$f":"'Resultado Fin (2)'!AA6","v":0},{"$f":"'Resultado Fin (2)'!AB6","v":0},{"$f":"'Resultado Fin (2)'!AC6","v":0},{"$f":"'Resultado Fin (2)'!AD6","v":0},{"$f":"'Resultado Fin (2)'!AE6","v":0},{"$f":"'Resultado Fin (2)'!AF6","v":0},{"$f":"'Resultado Fin (2)'!AG6","v":0},{"$f":"'Resultado Fin (2)'!AH6","v":0}]
["Saídas Aj",{"$f":"B16","v":0},{"$f":"C16/((1+'Parâmetros Gerais'!$F$7)^C11)","v":0},{"$f":"D16/((1+'Parâmetros Gerais'!$F$7)^D11)","v":0},{"$f":"E16/((1+'Parâmetros Gerais'!$F$7)^E11)","v":0},{"$f":"F16/((1+'Parâmetros Gerais'!$F$7)^F11)","v":0},{"$f":"G16/((1+'Parâmetros Gerais'!$F$7)^G11)","v":0},{"$f":"H16/((1+'Parâmetros Gerais'!$F$7)^H11)","v":0},{"$f":"I16/((1+'Parâmetros Gerais'!$F$7)^I11)","v":0},{"$f":"J16/((1+'Parâmetros Gerais'!$F$7)^J11)","v":0},{"$f":"K16/((1+'Parâmetros Gerais'!$F$7)^K11)","v":0},{"$f":"L16/((1+'Parâmetros Gerais'!$F$7)^L11)","v":0},{"$f":"M16/((1+'Parâmetros Gerais'!$F$7)^M11)","v":0},{"$f":"N16/((1+'Parâmetros Gerais'!$F$7)^N11)","v":0},{"$f":"O16/((1+'Parâmetros Gerais'!$F$7)^O11)","v":0},{"$f":"P16/((1+'Parâmetros Gerais'!$F$7)^P11)","v":0},{"$f":"Q16/((1+'Parâmetros Gerais'!$F$7)^Q11)","v":0},{"$f":"R16/((1+'Parâmetros Gerais'!$F$7)^R11)","v":0},{"$f":"S16/((1+'Parâmetros Gerais'!$F$7)^S11)","v":0},{"$f":"T16/((1+'Parâmetros Gerais'!$F$7)^T11)","v":0},{"$f":"U16/((1+'Parâmetros Gerais'!$F$7)^U11)","v":0},{"$f":"V16/((1+'Parâmetros Gerais'!$F$7)^V11)","v":0},{"$f":"W16/((1+'Parâmetros Gerais'!$F$7)^W11)","v":0},{"$f":"X16/((1+'Parâmetros Gerais'!$F$7)^X11)","v":0},{"$f":"Y16/((1+'Parâmetros Gerais'!$F$7)^Y11)","v":0},{"$f":"Z16/((1+'Parâmetros Gerais'!$F$7)^Z11)","v":0},{"$f":"AA16/((1+'Parâmetros Gerais'!$F$7)^AA11)","v":0},{"$f":"AB16/((1+'Parâmetros Gerais'!$F$7)^AB11)","v":0},{"$f":"AC16/((1+'Parâmetros Gerais'!$F$7)^AC11)","v":0},{"$f":"AD16/((1+'Parâmetros Gerais'!$F$7)^AD11)","v":0},{"$f":"AE16/((1+'Parâmetros Gerais'!$F$7)^AE11)","v":0},{"$f":"AF16/((1+'Parâmetros Gerais'!$F$7)^AF11)","v":0}]
[]
["Fl Cx",{"$f":"B6-B16","v":0},{"$f":"C6-C16","v":49075},20420,7300,11264,12080,5060,3669.5,4839,4165,5758.5,4358.5,8418.5,9542.5,13838.5,21794.5,20194.5,20194.5,20890.5,20890.5,39140.5,0,0,0,0,0,0,0,0,0,0]
[]
["Fl Cx Acum",{"$f":"B19","v":0},{"$f":"B21+C19","v":49075},{"$f":"C21+D19","v":69495},{"$f":"D21+E19","v":76795},88059,100139,105199,108868.5,113707.5,117872.5,123631,127989.5,136408,145950.5,159789,181583.5,201778,221972.5,242863,263753.5,302894,302894,302894,302894,302894,302894,302894,302894,302894,302894,302894]
[]
["Fl Cx Aj",{"$f":"B5-B17","v":0},49075,20420,7300,11264,12080,5060,3669.5,4839,4165,5758.5,4358.5,8418.5,9542.5,13838.5,21794.5,20194.5,20194.5,20890.5,20890.5,39140.5,0,0,0,0,0,0,0,0,0,0]
[]
["Fl Cx Acum Aj",{"$f":"B23","v":0},{"$f":"B25+C23","v":49075},{"$f":"C25+D23","v":69495},{"$f":"D25+E23","v":76795},88059,100139,105199,108868.5,113707.5,117872.5,123631,127989.5,136408,145950.5,159789,181583.5,201778,221972.5,242863,263753.5,302894,302894,302894,302894,302894,302894,302894,302894,302894,302894,302894]
[]
["Entr Acum Aj",{"$f":"B5","v":0},{"$f":"B27+C5","v":49075},{"$f":"C27+D5","v":69495},76795,88059,100139,105199,108868.5,113707.5,117872.5,123631,127989.5,136408,145950.5,159789,181583.5,201778,221972.5,242863,263753.5,302894,302894,302894,302894,302894,302894,302894,302894,302894,302894,302894]
["Said Acum Aj",{"$f":"B17","v":0},{"$f":"B28+C17","v":0},{"$f":"C28+D17","v":0},0,0,0,0,0,0,0,0,0,0,0,0,0,0,0,0,0,0,0,0,0,0,0,0,0,0,0,0]

{"sheet":"Ind Financeiros (2)","index":42,"n_rows":19,"n_cols":13,"rows_kept":19,"cut":false,"hidden":false,"merged":[[1,0,1,6],[7,8,7,9],[8,8,8,9],[10,8,10,9],[3,1,4,2],[3,3,4,3],[3,8,3,9],[4,8,4,9],[5,8,5,9],[6,8,6,9]]}
[{"$f":"'Parâmetros Gerais'!A1","v":"Análise Financeira de Sistemas Produtivos Integrados (V. 4.16 11/2016)"}]
["Resumo do Projeto, Indicadores Financeiros e Sensibilidade (Novo Cenário)"]
[]
[null,"Resumo do Projeto",null,"Não Ajustado",null,"Ajustado (por período)",null,null,"Avaliação Financeira",null,10,20,30]
[null,null,null,null,10,20,30,null,"TMA do Projeto:",null,{"$f":"'Parâmetros Gerais'!F9","v":0},{"$f":"K5","v":0},{"$f":"K5","v":0}]
[null,"Receitas:",null,{"$f":"SUM('Fluxo de Caixa (2)'!B6:AF6)","v":302894},{"$f":"NPV('Parâmetros Gerais'!$F$7,'Fluxo de Caixa (2)'!$C$6:$L$6)","v":123631},{"$f":"NPV('Parâmetros Gerais'!$F$7,'Fluxo de Caixa (2)'!$C$6:$V$6)","v":302894},{"$f":"NPV('Parâmetros Gerais'!$F$7,'Fluxo de Caixa (2)'!$C$6:$AF$6)","v":302894},null,"TIR do Projeto:",null,{"$f":"IRR('Fluxo de Caixa (2)'!B19:L19)","v":{"$error":"#NUM!"}},{"$f":"IRR('Fluxo de Caixa (2)'!B19:V19)","v":{"$error":"#NUM!"}},{"$f":"IRR('Fluxo de Caixa (2)'!B19:AF19)","v":{"$error":"#NUM!"}}]
[null,"Despesas:",null,{"$f":"SUM('Fluxo de Caixa (2)'!B16:AF16)","v":0},{"$f":"NPV('Parâmetros Gerais'!$F$7,'Fluxo de Caixa (2)'!$C$16:$L$16)+'Fluxo de Caixa (2)'!$B$16","v":0},{"$f":"NPV('Parâmetros Gerais'!$F$7,'Fluxo de Caixa (2)'!$C$16:$V$16)+'Fluxo de Caixa (2)'!$B$16","v":0},{"$f":"NPV('Parâmetros Gerais'!$F$7,'Fluxo de Caixa (2)'!$C$16:$AF$16)+'Fluxo de Caixa (2)'!$B$16","v":0},null,"VPL do Projeto:",null,{"$f":"NPV($K$5,'Fluxo de Caixa (2)'!$C$19:$L$19)+'Fluxo de Caixa (2)'!$B$19","v":123631},{"$f":"NPV($K$5,'Fluxo de Caixa (2)'!$C$19:$V$19)+'Fluxo de Caixa (2)'!$B$19","v":302894},{"$f":"NPV($K$5,'Fluxo de Caixa (2)'!$C$19:$AF$19)+'Fluxo de Caixa (2)'!$B$19","v":302894}]
[null,"Saldo Final:",null,{"$f":"D6-D7","v":302894},{"$f":"E6-E7","v":123631},{"$f":"F6-F7","v":302894},{"$f":"G6-G7","v":302894},null,"Payback Simples:",null,{"$f":"COUNTIF('Fluxo de Caixa (2)'!C21:AF21,\"<0\")+1","v":1},{"$f":"K8","v":1},{"$f":"K8","v":1}]
[null,null,null,null,null,null,null,null,"Payback Descontado:",null,{"$f":"COUNTIF('Fluxo de Caixa (2)'!C25:AF25,\"<0\")+1","v":1},{"$f":"K9","v":1},{"$f":"K9","v":1}]
[null,null,null,null,null,null,null,null,"VAE do Projeto:",null,{"$f":"(K7*K5)/(1-(1+K5)^(-10))","v":{"$error":"#DIV/0!"}},{"$f":"(L7*L5)/(1-(1+L5)^(-20))","v":{"$error":"#DIV/0!"}},{"$f":"(M7*M5)/(1-(1+M5)^(-30))","v":{"$error":"#DIV/0!"}}]
[null,null,null,null,null,null,null,null,"Relação B/C:",null,{"$f":"E6/E7","v":{"$error":"#DIV/0!"}},{"$f":"F6/F7","v":{"$error":"#DIV/0!"}},{"$f":"G6/G7","v":{"$error":"#DIV/0!"}}]
[]
[null,"TMA","VPL"]
[null,{"$f":"B15/2","v":0},{"$f":"NPV(B14,'Fluxo de Caixa (2)'!$C$19:$V$19)+'Fluxo de Caixa (2)'!$B$19","v":302894}]
[null,{"$f":"K5","v":0},{"$f":"NPV(B15,'Fluxo de Caixa (2)'!$C$19:$V$19)+'Fluxo de Caixa (2)'!$B$19","v":302894}]
[null,{"$f":"B15*2","v":0},{"$f":"NPV(B16,'Fluxo de Caixa (2)'!$C$19:$V$19)+'Fluxo de Caixa (2)'!$B$19","v":302894}]
[null,{"$f":"B16*2","v":0},{"$f":"NPV(B17,'Fluxo de Caixa (2)'!$C$19:$V$19)+'Fluxo de Caixa (2)'!$B$19","v":302894}]
[null,{"$f":"B17*2","v":0},{"$f":"NPV(B18,'Fluxo de Caixa (2)'!$C$19:$V$19)+'Fluxo de Caixa (2)'!$B$19","v":302894}]
[null,{"$f":"B18*2","v":0},{"$f":"NPV(B19,'Fluxo de Caixa (2)'!$C$19:$V$19)+'Fluxo de Caixa (2)'!$B$19","v":302894}]

{"sheet":"Gráficos 10 (2)","index":43,"n_rows":124,"n_cols":49,"rows_kept":124,"cut":false,"hidden":false,"merged":[]}
[]
[null,null,null,null,null,null,null,null,null,null,null,null,null,null,null,null,0,1,2,3,4,5,6,7,8,9,10,11,12,13,14,15,16,17,18,19,20,21,22,23,24,25,26,27,28,29,30]
[null,null,null,null,null,null,null,null,null,null,null,null,null,null,null,"Uso de MO",{"$f":"SUM(Q4:Q32)","v":0},{"$f":"SUM(R4:R32)","v":0},0,0,0,0,0,0,0,0,0,0,0,0,0,0,0,0,0,0,0,0,0,0,0,0,0,0,0,0,0]
[null,null,null,null,null,null,null,null,null,null,null,null,null,null,null,"Atividades Gerais",{"$f":"'Preparo e Gerais'!D19","v":0}]
[null,null,null,null,null,null,null,null,null,null,null,null,null,null,null,{"$f":"Produção!$A$6","v":"latex"},null,{"$f":"latex!D$23","v":0},{"$f":"latex!E$23","v":0},{"$f":"latex!F$23","v":0},{"$f":"latex!G$23","v":0},{"$f":"latex!H$23","v":0},{"$f":"latex!I$23","v":0},{"$f":"latex!J$23","v":0},{"$f":"latex!K$23","v":0},{"$f":"latex!L$23","v":0},{"$f":"latex!M$23","v":0},{"$f":"latex!N$23","v":0},{"$f":"latex!O$23","v":0},{"$f":"latex!P$23","v":0},{"$f":"latex!Q$23","v":0},{"$f":"latex!R$23","v":0},{"$f":"latex!S$23","v":0},{"$f":"latex!T$23","v":0},{"$f":"latex!U$23","v":0},{"$f":"latex!V$23","v":0},{"$f":"latex!W$23","v":0},{"$f":"latex!X$23","v":0},{"$f":"latex!Y$23","v":0},{"$f":"latex!Z$23","v":0},{"$f":"latex!AA$23","v":0},{"$f":"latex!AB$23","v":0},{"$f":"latex!AC$23","v":0},{"$f":"latex!AD$23","v":0},{"$f":"latex!AE$23","v":0},{"$f":"latex!AF$23","v":0},{"$f":"latex!AG$23","v":0}]
[null,null,null,null,null,null,null,null,null,null,null,null,null,null,null,{"$f":"Produção!$A$7","v":"fruto genipapo"},null,{"$f":"'fruto genipapo'!D$23","v":0},{"$f":"'fruto genipapo'!E$23","v":0},{"$f":"'fruto genipapo'!F$23","v":0},{"$f":"'fruto genipapo'!G$23","v":0},{"$f":"'fruto genipapo'!H$23","v":0},{"$f":"'fruto genipapo'!I$23","v":0},{"$f":"'fruto genipapo'!J$23","v":0},{"$f":"'fruto genipapo'!K$23","v":0},{"$f":"'fruto genipapo'!L$23","v":0},{"$f":"'fruto genipapo'!M$23","v":0},{"$f":"'fruto genipapo'!N$23","v":0},{"$f":"'fruto genipapo'!O$23","v":0},{"$f":"'fruto genipapo'!P$23","v":0},{"$f":"'fruto genipapo'!Q$23","v":0},{"$f":"'fruto genipapo'!R$23","v":0},{"$f":"'fruto genipapo'!S$23","v":0},{"$f":"'fruto genipapo'!T$23","v":0},{"$f":"'fruto genipapo'!U$23","v":0},{"$f":"'fruto genipapo'!V$23","v":0},{"$f":"'fruto genipapo'!W$23","v":0},{"$f":"'fruto genipapo'!X$23","v":0},{"$f":"'fruto genipapo'!Y$23","v":0},{"$f":"'fruto genipapo'!Z$23","v":0},{"$f":"'fruto genipapo'!AA$23","v":0},{"$f":"'fruto genipapo'!AB$23","v":0},{"$f":"'fruto genipapo'!AC$23","v":0},{"$f":"'fruto genipapo'!AD$23","v":0},{"$f":"'fruto genipapo'!AE$23","v":0},{"$f":"'fruto genipapo'!AF$23","v":0},{"$f":"'fruto genipapo'!AG$23","v":0}]
[null,null,null,null,null,null,null,null,null,null,null,null,null,null,null,{"$f":"Produção!$A$8","v":"fruto araçauna"},null,{"$f":"'fruto araçauna'!D$23","v":0},{"$f":"'fruto araçauna'!E$23","v":0},{"$f":"'fruto araçauna'!F$23","v":0},{"$f":"'fruto araçauna'!G$23","v":0},{"$f":"'fruto araçauna'!H$23","v":0},{"$f":"'fruto araçauna'!I$23","v":0},{"$f":"'fruto araçauna'!J$23","v":0},{"$f":"'fruto araçauna'!K$23","v":0},{"$f":"'fruto araçauna'!L$23","v":0},{"$f":"'fruto araçauna'!M$23","v":0},{"$f":"'fruto araçauna'!N$23","v":0},{"$f":"'fruto araçauna'!O$23","v":0},{"$f":"'fruto araçauna'!P$23","v":0},{"$f":"'fruto araçauna'!Q$23","v":0},{"$f":"'fruto araçauna'!R$23","v":0},{"$f":"'fruto araçauna'!S$23","v":0},{"$f":"'fruto araçauna'!T$23","v":0},{"$f":"'fruto araçauna'!U$23","v":0},{"$f":"'fruto araçauna'!V$23","v":0},{"$f":"'fruto araçauna'!W$23","v":0},{"$f":"'fruto araçauna'!X$23","v":0},{"$f":"'fruto araçauna'!Y$23","v":0},{"$f":"'fruto araçauna'!Z$23","v":0},{"$f":"'fruto araçauna'!AA$23","v":0},{"$f":"'fruto araçauna'!AB$23","v":0},{"$f":"'fruto araçauna'!AC$23","v":0},{"$f":"'fruto araçauna'!AD$23","v":0},{"$f":"'fruto araçauna'!AE$23","v":0},{"$f":"'fruto araçauna'!AF$23","v":0},{"$f":"'fruto araçauna'!AG$23","v":0}]
[null,null,null,null,null,null,null,null,null,null,null,null,null,null,null,{"$f":"Produção!$A$9","v":"fruto pitanga"},null,{"$f":"'fruto pitanga'!D$23","v":0},{"$f":"'fruto pitanga'!E$23","v":0},{"$f":"'fruto pitanga'!F$23","v":0},{"$f":"'fruto pitanga'!G$23","v":0},{"$f":"'fruto pitanga'!H$23","v":0},{"$f":"'fruto pitanga'!I$23","v":0},{"$f":"'fruto pitanga'!J$23","v":0},{"$f":"'fruto pitanga'!K$23","v":0},{"$f":"'fruto pitanga'!L$23","v":0},{"$f":"'fruto pitanga'!M$23","v":0},{"$f":"'fruto pitanga'!N$23","v":0},{"$f":"'fruto pitanga'!O$23","v":0},{"$f":"'fruto pitanga'!P$23","v":0},{"$f":"'fruto pitanga'!Q$23","v":0},{"$f":"'fruto pitanga'!R$23","v":0},{"$f":"'fruto pitanga'!S$23","v":0},{"$f":"'fruto pitanga'!T$23","v":0},{"$f":"'fruto pitanga'!U$23","v":0},{"$f":"'fruto pitanga'!V$23","v":0},{"$f":"'fruto pitanga'!W$23","v":0},{"$f":"'fruto pitanga'!X$23","v":0},{"$f":"'fruto pitanga'!Y$23","v":0},{"$f":"'fruto pitanga'!Z$23","v":0},{"$f":"'fruto pitanga'!AA$23","v":0},{"$f":"'fruto pitanga'!AB$23","v":0},{"$f":"'fruto pitanga'!AC$23","v":0},{"$f":"'fruto pitanga'!AD$23","v":0},{"$f":"'fruto pitanga'!AE$23","v":0},{"$f":"'fruto pitanga'!AF$23","v":0},{"$f":"'fruto pitanga'!AG$23","v":0}]
[null,null,null,null,null,null,null,null,null,null,null,null,null,null,null,{"$f":"Produção!$A$10","v":"castanha sapucaia"},null,{"$f":"Castanha!D$23","v":0},{"$f":"Castanha!E$23","v":0},{"$f":"Castanha!F$23","v":0},{"$f":"Castanha!G$23","v":0},{"$f":"Castanha!H$23","v":0},{"$f":"Castanha!I$23","v":0},{"$f":"Castanha!J$23","v":0},{"$f":"Castanha!K$23","v":0},{"$f":"Castanha!L$23","v":0},{"$f":"Castanha!M$23","v":0},{"$f":"Castanha!N$23","v":0},{"$f":"Castanha!O$23","v":0},{"$f":"Castanha!P$23","v":0},{"$f":"Castanha!Q$23","v":0},{"$f":"Castanha!R$23","v":0},{"$f":"Castanha!S$23","v":0},{"$f":"Castanha!T$23","v":0},{"$f":"Castanha!U$23","v":0},{"$f":"Castanha!V$23","v":0},{"$f":"Castanha!W$23","v":0},{"$f":"Castanha!X$23","v":0},{"$f":"Castanha!Y$23","v":0},{"$f":"Castanha!Z$23","v":0},{"$f":"Castanha!AA$23","v":0},{"$f":"Castanha!AB$23","v":0},{"$f":"Castanha!AC$23","v":0},{"$f":"Castanha!AD$23","v":0},{"$f":"Castanha!AE$23","v":0},{"$f":"Castanha!AF$23","v":0},{"$f":"Castanha!AG$23","v":0}]
[]
[null,null,null,null,null,null,null,null,null,null,null,null,null,null,null,{"$f":"Produção!$A$11","v":"fruto cajá"},null,{"$f":"'fruto cajá'!D$23","v":0},{"$f":"'fruto cajá'!E$23","v":0},{"$f":"'fruto cajá'!F$23","v":0},{"$f":"'fruto cajá'!G$23","v":0},{"$f":"'fruto cajá'!H$23","v":0},{"$f":"'fruto cajá'!I$23","v":0},{"$f":"'fruto cajá'!J$23","v":0},{"$f":"'fruto cajá'!K$23","v":0},{"$f":"'fruto cajá'!L$23","v":0},{"$f":"'fruto cajá'!M$23","v":0},{"$f":"'fruto cajá'!N$23","v":0},{"$f":"'fruto cajá'!O$23","v":0},{"$f":"'fruto cajá'!P$23","v":0},{"$f":"'fruto cajá'!Q$23","v":0},{"$f":"'fruto cajá'!R$23","v":0},{"$f":"'fruto cajá'!S$23","v":0},{"$f":"'fruto cajá'!T$23","v":0},{"$f":"'fruto cajá'!U$23","v":0},{"$f":"'fruto cajá'!V$23","v":0},{"$f":"'fruto cajá'!W$23","v":0},{"$f":"'fruto cajá'!X$23","v":0},{"$f":"'fruto cajá'!Y$23","v":0},{"$f":"'fruto cajá'!Z$23","v":0},{"$f":"'fruto cajá'!AA$23","v":0},{"$f":"'fruto cajá'!AB$23","v":0},{"$f":"'fruto cajá'!AC$23","v":0},{"$f":"'fruto cajá'!AD$23","v":0},{"$f":"'fruto cajá'!AE$23","v":0},{"$f":"'fruto cajá'!AF$23","v":0},{"$f":"'fruto cajá'!AG$23","v":0}]
[null,null,null,null,null,null,null,null,null,null,null,null,null,null,null,{"$f":"Produção!$A$12","v":"semente urucum"},null,{"$f":"'semente urucum'!D$23","v":0},{"$f":"'semente urucum'!E$23","v":0},{"$f":"'semente urucum'!F$23","v":0},{"$f":"'semente urucum'!G$23","v":0},{"$f":"'semente urucum'!H$23","v":0},{"$f":"'semente urucum'!I$23","v":0},{"$f":"'semente urucum'!J$23","v":0},{"$f":"'semente urucum'!K$23","v":0},{"$f":"'semente urucum'!L$23","v":0},{"$f":"'semente urucum'!M$23","v":0},{"$f":"'semente urucum'!N$23","v":0},{"$f":"'semente urucum'!O$23","v":0},{"$f":"'semente urucum'!P$23","v":0},{"$f":"'semente urucum'!Q$23","v":0},{"$f":"'semente urucum'!R$23","v":0},{"$f":"'semente urucum'!S$23","v":0},{"$f":"'semente urucum'!T$23","v":0},{"$f":"'semente urucum'!U$23","v":0},{"$f":"'semente urucum'!V$23","v":0},{"$f":"'semente urucum'!W$23","v":0},{"$f":"'semente urucum'!X$23","v":0},{"$f":"'semente urucum'!Y$23","v":0},{"$f":"'semente urucum'!Z$23","v":0},{"$f":"'semente urucum'!AA$23","v":0},{"$f":"'semente urucum'!AB$23","v":0},{"$f":"'semente urucum'!AC$23","v":0},{"$f":"'semente urucum'!AD$23","v":0},{"$f":"'semente urucum'!AE$23","v":0},{"$f":"'semente urucum'!AF$23","v":0},{"$f":"'semente urucum'!AG$23","v":0}]
[null,null,null,null,null,null,null,null,null,null,null,null,null,null,null,{"$f":"Produção!$A$13","v":"semente aroeira"},null,{"$f":"'semente aroeira'!D$23","v":0},{"$f":"'semente aroeira'!E$23","v":0},{"$f":"'semente aroeira'!F$23","v":0},{"$f":"'semente aroeira'!G$23","v":0},{"$f":"'semente aroeira'!H$23","v":0},{"$f":"'semente aroeira'!I$23","v":0},{"$f":"'semente aroeira'!J$23","v":0},{"$f":"'semente aroeira'!K$23","v":0},{"$f":"'semente aroeira'!L$23","v":0},{"$f":"'semente aroeira'!M$23","v":0},{"$f":"'semente aroeira'!N$23","v":0},{"$f":"'semente aroeira'!O$23","v":0},{"$f":"'semente aroeira'!P$23","v":0},{"$f":"'semente aroeira'!Q$23","v":0},{"$f":"'semente aroeira'!R$23","v":0},{"$f":"'semente aroeira'!S$23","v":0},{"$f":"'semente aroeira'!T$23","v":0},{"$f":"'semente aroeira'!U$23","v":0},{"$f":"'semente aroeira'!V$23","v":0},{"$f":"'semente aroeira'!W$23","v":0},{"$f":"'semente aroeira'!X$23","v":0},{"$f":"'semente aroeira'!Y$23","v":0},{"$f":"'semente aroeira'!Z$23","v":0},{"$f":"'semente aroeira'!AA$23","v":0},{"$f":"'semente aroeira'!AB$23","v":0},{"$f":"'semente aroeira'!AC$23","v":0},{"$f":"'semente aroeira'!AD$23","v":0},{"$f":"'semente aroeira'!AE$23","v":0},{"$f":"'semente aroeira'!AF$23","v":0},{"$f":"'semente aroeira'!AG$23","v":0}]
[null,null,null,null,null,null,null,null,null,null,null,null,null,null,null,{"$f":"Produção!$A$14","v":"raiz mandioca"},null,{"$f":"'raiz mandioca'!D$23","v":0},{"$f":"'raiz mandioca'!E$23","v":0},{"$f":"'raiz mandioca'!F$23","v":0},{"$f":"'raiz mandioca'!G$23","v":0},{"$f":"'raiz mandioca'!H$23","v":0},{"$f":"'raiz mandioca'!I$23","v":0},{"$f":"'raiz mandioca'!J$23","v":0},{"$f":"'raiz mandioca'!K$23","v":0},{"$f":"'raiz mandioca'!L$23","v":0},{"$f":"'raiz mandioca'!M$23","v":0},{"$f":"'raiz mandioca'!N$23","v":0},{"$f":"'raiz mandioca'!O$23","v":0},{"$f":"'raiz mandioca'!P$23","v":0},{"$f":"'raiz mandioca'!Q$23","v":0},{"$f":"'raiz mandioca'!R$23","v":0},{"$f":"'raiz mandioca'!S$23","v":0},{"$f":"'raiz mandioca'!T$23","v":0},{"$f":"'raiz mandioca'!U$23","v":0},{"$f":"'raiz mandioca'!V$23","v":0},{"$f":"'raiz mandioca'!W$23","v":0},{"$f":"'raiz mandioca'!X$23","v":0},{"$f":"'raiz mandioca'!Y$23","v":0},{"$f":"'raiz mandioca'!Z$23","v":0},{"$f":"'raiz mandioca'!AA$23","v":0},{"$f":"'raiz mandioca'!AB$23","v":0},{"$f":"'raiz mandioca'!AC$23","v":0},{"$f":"'raiz mandioca'!AD$23","v":0},{"$f":"'raiz mandioca'!AE$23","v":0},{"$f":"'raiz mandioca'!AF$23","v":0},{"$f":"'raiz mandioca'!AG$23","v":0}]
[]
[null,null,null,null,null,null,null,null,null,null,null,null,null,null,null,{"$f":"Produção!$A$15","v":"fruto abacaxi"},null,{"$f":"abacaxi!D$23","v":0},{"$f":"abacaxi!E$23","v":0},{"$f":"abacaxi!F$23","v":0},{"$f":"abacaxi!G$23","v":0},{"$f":"abacaxi!H$23","v":0},{"$f":"abacaxi!I$23","v":0},{"$f":"abacaxi!J$23","v":0},{"$f":"abacaxi!K$23","v":0},{"$f":"abacaxi!L$23","v":0},{"$f":"abacaxi!M$23","v":0},{"$f":"abacaxi!N$23","v":0},{"$f":"abacaxi!O$23","v":0},{"$f":"abacaxi!P$23","v":0},{"$f":"abacaxi!Q$23","v":0},{"$f":"abacaxi!R$23","v":0},{"$f":"abacaxi!S$23","v":0},{"$f":"abacaxi!T$23","v":0},{"$f":"abacaxi!U$23","v":0},{"$f":"abacaxi!V$23","v":0},{"$f":"abacaxi!W$23","v":0},{"$f":"abacaxi!X$23","v":0},{"$f":"abacaxi!Y$23","v":0},{"$f":"abacaxi!Z$23","v":0},{"$f":"abacaxi!AA$23","v":0},{"$f":"abacaxi!AB$23","v":0},{"$f":"abacaxi!AC$23","v":0},{"$f":"abacaxi!AD$23","v":0},{"$f":"abacaxi!AE$23","v":0},{"$f":"abacaxi!AF$23","v":0},{"$f":"abacaxi!AG$23","v":0}]
[null,null,null,null,null,null,null,null,null,null,null,null,null,null,null,{"$f":"Produção!$A$16","v":"espigas milho"},null,{"$f":"espigas!D$23","v":0},{"$f":"espigas!E$23","v":0},{"$f":"espigas!F$23","v":0},{"$f":"espigas!G$23","v":0},{"$f":"espigas!H$23","v":0},{"$f":"espigas!I$23","v":0},{"$f":"espigas!J$23","v":0},{"$f":"espigas!K$23","v":0},{"$f":"espigas!L$23","v":0},{"$f":"espigas!M$23","v":0},{"$f":"espigas!N$23","v":0},{"$f":"espigas!O$23","v":0},{"$f":"espigas!P$23","v":0},{"$f":"espigas!Q$23","v":0},{"$f":"espigas!R$23","v":0},{"$f":"espigas!S$23","v":0},{"$f":"espigas!T$23","v":0},{"$f":"espigas!U$23","v":0},{"$f":"espigas!V$23","v":0},{"$f":"espigas!W$23","v":0},{"$f":"espigas!X$23","v":0},{"$f":"espigas!Y$23","v":0},{"$f":"espigas!Z$23","v":0},{"$f":"espigas!AA$23","v":0},{"$f":"espigas!AB$23","v":0},{"$f":"espigas!AC$23","v":0},{"$f":"espigas!AD$23","v":0},{"$f":"espigas!AE$23","v":0},{"$f":"espigas!AF$23","v":0},{"$f":"espigas!AG$23","v":0}]
[null,null,null,null,null,null,null,null,null,null,null,null,null,null,null,{"$f":"Produção!$A$17","v":"estaca sansão do campo"},null,{"$f":"'semente caupi'!D$23","v":0},{"$f":"'semente caupi'!E$23","v":0},{"$f":"'semente caupi'!F$23","v":0},{"$f":"'semente caupi'!G$23","v":0},{"$f":"'semente caupi'!H$23","v":0},{"$f":"'semente caupi'!I$23","v":0},{"$f":"'semente caupi'!J$23","v":0},{"$f":"'semente caupi'!K$23","v":0},{"$f":"'semente caupi'!L$23","v":0},{"$f":"'semente caupi'!M$23","v":0},{"$f":"'semente caupi'!N$23","v":0},{"$f":"'semente caupi'!O$23","v":0},{"$f":"'semente caupi'!P$23","v":0},{"$f":"'semente caupi'!Q$23","v":0},{"$f":"'semente caupi'!R$23","v":0},{"$f":"'semente caupi'!S$23","v":0},{"$f":"'semente caupi'!T$23","v":0},{"$f":"'semente caupi'!U$23","v":0},{"$f":"'semente caupi'!V$23","v":0},{"$f":"'semente caupi'!W$23","v":0},{"$f":"'semente caupi'!X$23","v":0},{"$f":"'semente caupi'!Y$23","v":0},{"$f":"'semente caupi'!Z$23","v":0},{"$f":"'semente caupi'!AA$23","v":0},{"$f":"'semente caupi'!AB$23","v":0},{"$f":"'semente caupi'!AC$23","v":0},{"$f":"'semente caupi'!AD$23","v":0},{"$f":"'semente caupi'!AE$23","v":0},{"$f":"'semente caupi'!AF$23","v":0},{"$f":"'semente caupi'!AG$23","v":0}]
[null,null,null,null,null,null,null,null,null,null,null,null,null,null,null,{"$f":"Produção!$A$18","v":"madeira madeira nova"},null,{"$f":"biomassa!D$23","v":0},{"$f":"biomassa!E$23","v":0},{"$f":"biomassa!F$23","v":0},{"$f":"biomassa!G$23","v":0},{"$f":"biomassa!H$23","v":0},{"$f":"biomassa!I$23","v":0},{"$f":"biomassa!J$23","v":0},{"$f":"biomassa!K$23","v":0},{"$f":"biomassa!L$23","v":0},{"$f":"biomassa!M$23","v":0},{"$f":"biomassa!N$23","v":0},{"$f":"biomassa!O$23","v":0},{"$f":"biomassa!P$23","v":0},{"$f":"biomassa!Q$23","v":0},{"$f":"biomassa!R$23","v":0},{"$f":"biomassa!S$23","v":0},{"$f":"biomassa!T$23","v":0},{"$f":"biomassa!U$23","v":0},{"$f":"biomassa!V$23","v":0},{"$f":"biomassa!W$23","v":0},{"$f":"biomassa!X$23","v":0},{"$f":"biomassa!Y$23","v":0},{"$f":"biomassa!Z$23","v":0},{"$f":"biomassa!AA$23","v":0},{"$f":"biomassa!AB$23","v":0},{"$f":"biomassa!AC$23","v":0},{"$f":"biomassa!AD$23","v":0},{"$f":"biomassa!AE$23","v":0},{"$f":"biomassa!AF$23","v":0},{"$f":"biomassa!AG$23","v":0}]
[null,null,null,null,null,null,null,null,null,null,null,null,null,null,null,{"$f":"Produção!$A$19","v":"lenha fedegoso"},null,{"$f":"madeira!D$23","v":0},{"$f":"madeira!E$23","v":0},{"$f":"madeira!F$23","v":0},{"$f":"madeira!G$23","v":0},{"$f":"madeira!H$23","v":0},{"$f":"madeira!I$23","v":0},{"$f":"madeira!J$23","v":0},{"$f":"madeira!K$23","v":0},{"$f":"madeira!L$23","v":0},{"$f":"madeira!M$23","v":0},{"$f":"madeira!N$23","v":0},{"$f":"madeira!O$23","v":0},{"$f":"madeira!P$23","v":0},{"$f":"madeira!Q$23","v":0},{"$f":"madeira!R$23","v":0},{"$f":"madeira!S$23","v":0},{"$f":"madeira!T$23","v":0},{"$f":"madeira!U$23","v":0},{"$f":"madeira!V$23","v":0},{"$f":"madeira!W$23","v":0},{"$f":"madeira!X$23","v":0},{"$f":"madeira!Y$23","v":0},{"$f":"madeira!Z$23","v":0},{"$f":"madeira!AA$23","v":0},{"$f":"madeira!AB$23","v":0},{"$f":"madeira!AC$23","v":0},{"$f":"madeira!AD$23","v":0},{"$f":"madeira!AE$23","v":0},{"$f":"madeira!AF$23","v":0},{"$f":"madeira!AG$23","v":0}]
[null,null,null,null,null,null,null,null,null,null,null,null,null,null,null,{"$f":"Produção!$A$20","v":"estaca pau d'alho"},null,{"$f":"'Produto 15'!D$23","v":0},{"$f":"'Produto 15'!E$23","v":0},{"$f":"'Produto 15'!F$23","v":0},{"$f":"'Produto 15'!G$23","v":0},{"$f":"'Produto 15'!H$23","v":0},{"$f":"'Produto 15'!I$23","v":0},{"$f":"'Produto 15'!J$23","v":0},{"$f":"'Produto 15'!K$23","v":0},{"$f":"'Produto 15'!L$23","v":0},{"$f":"'Produto 15'!M$23","v":0},{"$f":"'Produto 15'!N$23","v":0},{"$f":"'Produto 15'!O$23","v":0},{"$f":"'Produto 15'!P$23","v":0},{"$f":"'Produto 15'!Q$23","v":0},{"$f":"'Produto 15'!R$23","v":0},{"$f":"'Produto 15'!S$23","v":0},{"$f":"'Produto 15'!T$23","v":0},{"$f":"'Produto 15'!U$23","v":0},{"$f":"'Produto 15'!V$23","v":0},{"$f":"'Produto 15'!W$23","v":0},{"$f":"'Produto 15'!X$23","v":0},{"$f":"'Produto 15'!Y$23","v":0},{"$f":"'Produto 15'!Z$23","v":0},{"$f":"'Produto 15'!AA$23","v":0},{"$f":"'Produto 15'!AB$23","v":0},{"$f":"'Produto 15'!AC$23","v":0},{"$f":"'Produto 15'!AD$23","v":0},{"$f":"'Produto 15'!AE$23","v":0},{"$f":"'Produto 15'!AF$23","v":0},{"$f":"'Produto 15'!AG$23","v":0}]
[null,null,null,null,null,null,null,null,null,null,null,null,null,null,null,{"$f":"Produção!$A$21","v":"caixotaria boleira"},null,{"$f":"'Produto 16'!D$23","v":0},{"$f":"'Produto 16'!E$23","v":0},{"$f":"'Produto 16'!F$23","v":0},{"$f":"'Produto 16'!G$23","v":0},{"$f":"'Produto 16'!H$23","v":0},{"$f":"'Produto 16'!I$23","v":0},{"$f":"'Produto 16'!J$23","v":0},{"$f":"'Produto 16'!K$23","v":0},{"$f":"'Produto 16'!L$23","v":0},{"$f":"'Produto 16'!M$23","v":0},{"$f":"'Produto 16'!N$23","v":0},{"$f":"'Produto 16'!O$23","v":0},{"$f":"'Produto 16'!P$23","v":0},{"$f":"'Produto 16'!Q$23","v":0},{"$f":"'Produto 16'!R$23","v":0},{"$f":"'Produto 16'!S$23","v":0},{"$f":"'Produto 16'!T$23","v":0},{"$f":"'Produto 16'!U$23","v":0},{"$f":"'Produto 16'!V$23","v":0},{"$f":"'Produto 16'!W$23","v":0},{"$f":"'Produto 16'!X$23","v":0},{"$f":"'Produto 16'!Y$23","v":0},{"$f":"'Produto 16'!Z$23","v":0},{"$f":"'Produto 16'!AA$23","v":0},{"$f":"'Produto 16'!AB$23","v":0},{"$f":"'Produto 16'!AC$23","v":0},{"$f":"'Produto 16'!AD$23","v":0},{"$f":"'Produto 16'!AE$23","v":0},{"$f":"'Produto 16'!AF$23","v":0},{"$f":"'Produto 16'!AG$23","v":0}]
[]
[null,null,null,null,null,null,null,null,null,null,null,null,null,null,null,{"$f":"Produção!$A$22","v":"madeira angico roxo"},null,{"$f":"'Produto 17'!D$23","v":0},{"$f":"'Produto 17'!E$23","v":0},{"$f":"'Produto 17'!F$23","v":0},{"$f":"'Produto 17'!G$23","v":0},{"$f":"'Produto 17'!H$23","v":0},{"$f":"'Produto 17'!I$23","v":0},{"$f":"'Produto 17'!J$23","v":0},{"$f":"'Produto 17'!K$23","v":0},{"$f":"'Produto 17'!L$23","v":0},{"$f":"'Produto 17'!M$23","v":0},{"$f":"'Produto 17'!N$23","v":0},{"$f":"'Produto 17'!O$23","v":0},{"$f":"'Produto 17'!P$23","v":0},{"$f":"'Produto 17'!Q$23","v":0},{"$f":"'Produto 17'!R$23","v":0},{"$f":"'Produto 17'!S$23","v":0},{"$f":"'Produto 17'!T$23","v":0},{"$f":"'Produto 17'!U$23","v":0},{"$f":"'Produto 17'!V$23","v":0},{"$f":"'Produto 17'!W$23","v":0},{"$f":"'Produto 17'!X$23","v":0},{"$f":"'Produto 17'!Y$23","v":0},{"$f":"'Produto 17'!Z$23","v":0},{"$f":"'Produto 17'!AA$23","v":0},{"$f":"'Produto 17'!AB$23","v":0},{"$f":"'Produto 17'!AC$23","v":0},{"$f":"'Produto 17'!AD$23","v":0},{"$f":"'Produto 17'!AE$23","v":0},{"$f":"'Produto 17'!AF$23","v":0},{"$f":"'Produto 17'!AG$23","v":0}]
[null,null,null,null,null,null,null,null,null,null,null,null,null,null,null,{"$f":"Produção!$A$23","v":"madeira ipê roxo"},null,{"$f":"'Produto 18'!D$23","v":0},{"$f":"'Produto 18'!E$23","v":0},{"$f":"'Produto 18'!F$23","v":0},{"$f":"'Produto 18'!G$23","v":0},{"$f":"'Produto 18'!H$23","v":0},{"$f":"'Produto 18'!I$23","v":0},{"$f":"'Produto 18'!J$23","v":0},{"$f":"'Produto 18'!K$23","v":0},{"$f":"'Produto 18'!L$23","v":0},{"$f":"'Produto 18'!M$23","v":0},{"$f":"'Produto 18'!N$23","v":0},{"$f":"'Produto 18'!O$23","v":0},{"$f":"'Produto 18'!P$23","v":0},{"$f":"'Produto 18'!Q$23","v":0},{"$f":"'Produto 18'!R$23","v":0},{"$f":"'Produto 18'!S$23","v":0},{"$f":"'Produto 18'!T$23","v":0},{"$f":"'Produto 18'!U$23","v":0},{"$f":"'Produto 18'!V$23","v":0},{"$f":"'Produto 18'!W$23","v":0},{"$f":"'Produto 18'!X$23","v":0},{"$f":"'Produto 18'!Y$23","v":0},{"$f":"'Produto 18'!Z$23","v":0},{"$f":"'Produto 18'!AA$23","v":0},{"$f":"'Produto 18'!AB$23","v":0},{"$f":"'Produto 18'!AC$23","v":0},{"$f":"'Produto 18'!AD$23","v":0},{"$f":"'Produto 18'!AE$23","v":0},{"$f":"'Produto 18'!AF$23","v":0},{"$f":"'Produto 18'!AG$23","v":0}]
[null,null,null,null,null,null,null,null,null,null,null,null,null,null,null,{"$f":"Produção!$A$24","v":"madeira ipê amarelo"},null,{"$f":"'Produto 19'!D$23","v":0},{"$f":"'Produto 19'!E$23","v":0},{"$f":"'Produto 19'!F$23","v":0},{"$f":"'Produto 19'!G$23","v":0},{"$f":"'Produto 19'!H$23","v":0},{"$f":"'Produto 19'!I$23","v":0},{"$f":"'Produto 19'!J$23","v":0},{"$f":"'Produto 19'!K$23","v":0},{"$f":"'Produto 19'!L$23","v":0},{"$f":"'Produto 19'!M$23","v":0},{"$f":"'Produto 19'!N$23","v":0},{"$f":"'Produto 19'!O$23","v":0},{"$f":"'Produto 19'!P$23","v":0},{"$f":"'Produto 19'!Q$23","v":0},{"$f":"'Produto 19'!R$23","v":0},{"$f":"'Produto 19'!S$23","v":0},{"$f":"'Produto 19'!T$23","v":0},{"$f":"'Produto 19'!U$23","v":0},{"$f":"'Produto 19'!V$23","v":0},{"$f":"'Produto 19'!W$23","v":0},{"$f":"'Produto 19'!X$23","v":0},{"$f":"'Produto 19'!Y$23","v":0},{"$f":"'Produto 19'!Z$23","v":0},{"$f":"'Produto 19'!AA$23","v":0},{"$f":"'Produto 19'!AB$23","v":0},{"$f":"'Produto 19'!AC$23","v":0},{"$f":"'Produto 19'!AD$23","v":0},{"$f":"'Produto 19'!AE$23","v":0},{"$f":"'Produto 19'!AF$23","v":0},{"$f":"'Produto 19'!AG$23","v":0}]
[null,null,null,null,null,null,null,null,null,null,null,null,null,null,null,{"$f":"Produção!$A$25","v":"madeira gonçalo alves"},null,{"$f":"'Produto 20'!D$23","v":0},{"$f":"'Produto 20'!E$23","v":0},{"$f":"'Produto 20'!F$23","v":0},{"$f":"'Produto 20'!G$23","v":0},{"$f":"'Produto 20'!H$23","v":0},{"$f":"'Produto 20'!I$23","v":0},{"$f":"'Produto 20'!J$23","v":0},{"$f":"'Produto 20'!K$23","v":0},{"$f":"'Produto 20'!L$23","v":0},{"$f":"'Produto 20'!M$23","v":0},{"$f":"'Produto 20'!N$23","v":0},{"$f":"'Produto 20'!O$23","v":0},{"$f":"'Produto 20'!P$23","v":0},{"$f":"'Produto 20'!Q$23","v":0},{"$f":"'Produto 20'!R$23","v":0},{"$f":"'Produto 20'!S$23","v":0},{"$f":"'Produto 20'!T$23","v":0},{"$f":"'Produto 20'!U$23","v":0},{"$f":"'Produto 20'!V$23","v":0},{"$f":"'Produto 20'!W$23","v":0},{"$f":"'Produto 20'!X$23","v":0},{"$f":"'Produto 20'!Y$23","v":0},{"$f":"'Produto 20'!Z$23","v":0},{"$f":"'Produto 20'!AA$23","v":0},{"$f":"'Produto 20'!AB$23","v":0},{"$f":"'Produto 20'!AC$23","v":0},{"$f":"'Produto 20'!AD$23","v":0},{"$f":"'Produto 20'!AE$23","v":0},{"$f":"'Produto 20'!AF$23","v":0},{"$f":"'Produto 20'!AG$23","v":0}]
[null,null,null,null,null,null,null,null,null,null,null,null,null,null,null,{"$f":"Produção!$A$26","v":"madeira vinhatico"},null,{"$f":"'Produto 21'!D$23","v":0},{"$f":"'Produto 21'!E$23","v":0},{"$f":"'Produto 21'!F$23","v":0},{"$f":"'Produto 21'!G$23","v":0},{"$f":"'Produto 21'!H$23","v":0},{"$f":"'Produto 21'!I$23","v":0},{"$f":"'Produto 21'!J$23","v":0},{"$f":"'Produto 21'!K$23","v":0},{"$f":"'Produto 21'!L$23","v":0},{"$f":"'Produto 21'!M$23","v":0},{"$f":"'Produto 21'!N$23","v":0},{"$f":"'Produto 21'!O$23","v":0},{"$f":"'Produto 21'!P$23","v":0},{"$f":"'Produto 21'!Q$23","v":0},{"$f":"'Produto 21'!R$23","v":0},{"$f":"'Produto 21'!S$23","v":0},{"$f":"'Produto 21'!T$23","v":0},{"$f":"'Produto 21'!U$23","v":0},{"$f":"'Produto 21'!V$23","v":0},{"$f":"'Produto 21'!W$23","v":0},{"$f":"'Produto 21'!X$23","v":0},{"$f":"'Produto 21'!Y$23","v":0},{"$f":"'Produto 21'!Z$23","v":0},{"$f":"'Produto 21'!AA$23","v":0},{"$f":"'Produto 21'!AB$23","v":0},{"$f":"'Produto 21'!AC$23","v":0},{"$f":"'Produto 21'!AD$23","v":0},{"$f":"'Produto 21'!AE$23","v":0},{"$f":"'Produto 21'!AF$23","v":0},{"$f":"'Produto 21'!AG$23","v":0}]
[null,null,null,null,null,null,null,null,null,null,null,null,null,null,null,{"$f":"Produção!$A$27","v":"madeira jequitiba"},null,{"$f":"'Produto 22'!D$23","v":0},{"$f":"'Produto 22'!E$23","v":0},{"$f":"'Produto 22'!F$23","v":0},{"$f":"'Produto 22'!G$23","v":0},{"$f":"'Produto 22'!H$23","v":0},{"$f":"'Produto 22'!I$23","v":0},{"$f":"'Produto 22'!J$23","v":0},{"$f":"'Produto 22'!K$23","v":0},{"$f":"'Produto 22'!L$23","v":0},{"$f":"'Produto 22'!M$23","v":0},{"$f":"'Produto 22'!N$23","v":0},{"$f":"'Produto 22'!O$23","v":0},{"$f":"'Produto 22'!P$23","v":0},{"$f":"'Produto 22'!Q$23","v":0},{"$f":"'Produto 22'!R$23","v":0},{"$f":"'Produto 22'!S$23","v":0},{"$f":"'Produto 22'!T$23","v":0},{"$f":"'Produto 22'!U$23","v":0},{"$f":"'Produto 22'!V$23","v":0},{"$f":"'Produto 22'!W$23","v":0},{"$f":"'Produto 22'!X$23","v":0},{"$f":"'Produto 22'!Y$23","v":0},{"$f":"'Produto 22'!Z$23","v":0},{"$f":"'Produto 22'!AA$23","v":0},{"$f":"'Produto 22'!AB$23","v":0},{"$f":"'Produto 22'!AC$23","v":0},{"$f":"'Produto 22'!AD$23","v":0},{"$f":"'Produto 22'!AE$23","v":0},{"$f":"'Produto 22'!AF$23","v":0},{"$f":"'Produto 22'!AG$23","v":0}]
[null,null,null,null,null,null,null,null,null,null,null,null,null,null,null,{"$f":"Produção!$A$29","v":"grão caupi"},null,{"$f":"'Produto 23'!D$23","v":0},{"$f":"'Produto 23'!E$23","v":0},{"$f":"'Produto 23'!F$23","v":0},{"$f":"'Produto 23'!G$23","v":0},{"$f":"'Produto 23'!H$23","v":0},{"$f":"'Produto 23'!I$23","v":0},{"$f":"'Produto 23'!J$23","v":0},{"$f":"'Produto 23'!K$23","v":0},{"$f":"'Produto 23'!L$23","v":0},{"$f":"'Produto 23'!M$23","v":0},{"$f":"'Produto 23'!N$23","v":0},{"$f":"'Produto 23'!O$23","v":0},{"$f":"'Produto 23'!P$23","v":0},{"$f":"'Produto 23'!Q$23","v":0},{"$f":"'Produto 23'!R$23","v":0},{"$f":"'Produto 23'!S$23","v":0},{"$f":"'Produto 23'!T$23","v":0},{"$f":"'Produto 23'!U$23","v":0},{"$f":"'Produto 23'!V$23","v":0},{"$f":"'Produto 23'!W$23","v":0},{"$f":"'Produto 23'!X$23","v":0},{"$f":"'Produto 23'!Y$23","v":0},{"$f":"'Produto 23'!Z$23","v":0},{"$f":"'Produto 23'!AA$23","v":0},{"$f":"'Produto 23'!AB$23","v":0},{"$f":"'Produto 23'!AC$23","v":0},{"$f":"'Produto 23'!AD$23","v":0},{"$f":"'Produto 23'!AE$23","v":0},{"$f":"'Produto 23'!AF$23","v":0},{"$f":"'Produto 23'!AG$23","v":0}]
[]
[null,null,null,null,null,null,null,null,null,null,null,null,null,null,null,{"$f":"'Parâmetros Gerais'!$B$37","v":"grão caupi"},null,{"$f":"'Produto 24'!D$23","v":0},{"$f":"'Produto 24'!E$23","v":0},{"$f":"'Produto 24'!F$23","v":0},{"$f":"'Produto 24'!G$23","v":0},{"$f":"'Produto 24'!H$23","v":0},{"$f":"'Produto 24'!I$23","v":0},{"$f":"'Produto 24'!J$23","v":0},{"$f":"'Produto 24'!K$23","v":0},{"$f":"'Produto 24'!L$23","v":0},{"$f":"'Produto 24'!M$23","v":0},{"$f":"'Produto 24'!N$23","v":0},{"$f":"'Produto 24'!O$23","v":0},{"$f":"'Produto 24'!P$23","v":0},{"$f":"'Produto 24'!Q$23","v":0},{"$f":"'Produto 24'!R$23","v":0},{"$f":"'Produto 24'!S$23","v":0},{"$f":"'Produto 24'!T$23","v":0},{"$f":"'Produto 24'!U$23","v":0},{"$f":"'Produto 24'!V$23","v":0},{"$f":"'Produto 24'!W$23","v":0},{"$f":"'Produto 24'!X$23","v":0},{"$f":"'Produto 24'!Y$23","v":0},{"$f":"'Produto 24'!Z$23","v":0},{"$f":"'Produto 24'!AA$23","v":0},{"$f":"'Produto 24'!AB$23","v":0},{"$f":"'Produto 24'!AC$23","v":0},{"$f":"'Produto 24'!AD$23","v":0},{"$f":"'Produto 24'!AE$23","v":0},{"$f":"'Produto 24'!AF$23","v":0},{"$f":"'Produto 24'!AG$23","v":0}]
[]
[]
[]
[null,null,null,null,null,null,null,null,null,null,null,null,null,null,null,"Custos de MO",{"$f":"'Resultado Fin (2)'!D7","v":0},{"$f":"'Resultado Fin (2)'!E7","v":0},{"$f":"'Resultado Fin (2)'!F7","v":0},{"$f":"'Resultado Fin (2)'!G7","v":0},{"$f":"'Resultado Fin (2)'!H7","v":0},{"$f":"'Resultado Fin (2)'!I7","v":0},{"$f":"'Resultado Fin (2)'!J7","v":0},{"$f":"'Resultado Fin (2)'!K7","v":0},{"$f":"'Resultado Fin (2)'!L7","v":0},{"$f":"'Resultado Fin (2)'!M7","v":0},{"$f":"'Resultado Fin (2)'!N7","v":0},{"$f":"'Resultado Fin (2)'!O7","v":0},{"$f":"'Resultado Fin (2)'!P7","v":0},{"$f":"'Resultado Fin (2)'!Q7","v":0},{"$f":"'Resultado Fin (2)'!R7","v":0},{"$f":"'Resultado Fin (2)'!S7","v":0},{"$f":"'Resultado Fin (2)'!T7","v":0},{"$f":"'Resultado Fin (2)'!U7","v":0},{"$f":"'Resultado Fin (2)'!V7","v":0},{"$f":"'Resultado Fin (2)'!W7","v":0},{"$f":"'Resultado Fin (2)'!X7","v":0},{"$f":"'Resultado Fin (2)'!Y7","v":0},{"$f":"'Resultado Fin (2)'!Z7","v":0},{"$f":"'Resultado Fin (2)'!AA7","v":0},{"$f":"'Resultado Fin (2)'!AB7","v":0},{"$f":"'Resultado Fin (2)'!AC7","v":0},{"$f":"'Resultado Fin (2)'!AD7","v":0},{"$f":"'Resultado Fin (2)'!AE7","v":0},{"$f":"'Resultado Fin (2)'!AF7","v":0},{"$f":"'Resultado Fin (2)'!AG7","v":0},{"$f":"'Resultado Fin (2)'!AH7","v":0},null,"TOTAL"]
[null,null,null,null,null,null,null,null,null,null,null,null,null,null,null,"Atividades Gerais",{"$f":"'Preparo e Gerais'!D6","v":0},null,null,null,null,null,null,null,null,null,null,null,null,null,null,null,null,null,null,null,null,null,null,null,null,null,null,null,null,null,null,null,{"$f":"SUM(Q37:AU37)","v":0}]
[null,null,null,null,null,null,null,null,null,null,null,null,null,null,null,{"$f":"Produção!$A$6","v":"latex"},null,{"$f":"latex!D$7","v":0},{"$f":"latex!E$7","v":0},{"$f":"latex!F$7","v":0},{"$f":"latex!G$7","v":0},{"$f":"latex!H$7","v":0},{"$f":"latex!I$7","v":0},{"$f":"latex!J$7","v":0},{"$f":"latex!K$7","v":0},{"$f":"latex!L$7","v":0},{"$f":"latex!M$7","v":0},{"$f":"latex!N$7","v":0},{"$f":"latex!O$7","v":0},{"$f":"latex!P$7","v":0},{"$f":"latex!Q$7","v":0},{"$f":"latex!R$7","v":0},{"$f":"latex!S$7","v":0},{"$f":"latex!T$7","v":0},{"$f":"latex!U$7","v":0},{"$f":"latex!V$7","v":0},{"$f":"latex!W$7","v":0},{"$f":"latex!X$7","v":0},{"$f":"latex!Y$7","v":0},{"$f":"latex!Z$7","v":0},{"$f":"latex!AA$7","v":0},{"$f":"latex!AB$7","v":0},{"$f":"latex!AC$7","v":0},{"$f":"latex!AD$7","v":0},{"$f":"latex!AE$7","v":0},{"$f":"latex!AF$7","v":0},{"$f":"latex!AG$7","v":0},null,0]
[null,null,null,null,null,null,null,null,null,null,null,null,null,null,null,{"$f":"Produção!$A$7","v":"fruto genipapo"},null,{"$f":"'fruto genipapo'!D$7","v":0},{"$f":"'fruto genipapo'!E$7","v":0},{"$f":"'fruto genipapo'!F$7","v":0},{"$f":"'fruto genipapo'!G$7","v":0},{"$f":"'fruto genipapo'!H$7","v":0},{"$f":"'fruto genipapo'!I$7","v":0},{"$f":"'fruto genipapo'!J$7","v":0},{"$f":"'fruto genipapo'!K$7","v":0},{"$f":"'fruto genipapo'!L$7","v":0},{"$f":"'fruto genipapo'!M$7","v":0},{"$f":"'fruto genipapo'!N$7","v":0},{"$f":"'fruto genipapo'!O$7","v":0},{"$f":"'fruto genipapo'!P$7","v":0},{"$f":"'fruto genipapo'!Q$7","v":0},{"$f":"'fruto genipapo'!R$7","v":0},{"$f":"'fruto genipapo'!S$7","v":0},{"$f":"'fruto genipapo'!T$7","v":0},{"$f":"'fruto genipapo'!U$7","v":0},{"$f":"'fruto genipapo'!V$7","v":0},{"$f":"'fruto genipapo'!W$7","v":0},{"$f":"'fruto genipapo'!X$7","v":0},{"$f":"'fruto genipapo'!Y$7","v":0},{"$f":"'fruto genipapo'!Z$7","v":0},{"$f":"'fruto genipapo'!AA$7","v":0},{"$f":"'fruto genipapo'!AB$7","v":0},{"$f":"'fruto genipapo'!AC$7","v":0},{"$f":"'fruto genipapo'!AD$7","v":0},{"$f":"'fruto genipapo'!AE$7","v":0},{"$f":"'fruto genipapo'!AF$7","v":0},{"$f":"'fruto genipapo'!AG$7","v":0},null,0]
[null,null,null,null,null,null,null,null,null,null,null,null,null,null,null,{"$f":"Produção!$A$8","v":"fruto araçauna"},null,{"$f":"'fruto araçauna'!D$7","v":0},{"$f":"'fruto araçauna'!E$7","v":0},{"$f":"'fruto araçauna'!F$7","v":0},{"$f":"'fruto araçauna'!G$7","v":0},{"$f":"'fruto araçauna'!H$7","v":0},{"$f":"'fruto araçauna'!I$7","v":0},{"$f":"'fruto araçauna'!J$7","v":0},{"$f":"'fruto araçauna'!K$7","v":0},{"$f":"'fruto araçauna'!L$7","v":0},{"$f":"'fruto araçauna'!M$7","v":0},{"$f":"'fruto araçauna'!N$7","v":0},{"$f":"'fruto araçauna'!O$7","v":0},{"$f":"'fruto araçauna'!P$7","v":0},{"$f":"'fruto araçauna'!Q$7","v":0},{"$f":"'fruto araçauna'!R$7","v":0},{"$f":"'fruto araçauna'!S$7","v":0},{"$f":"'fruto araçauna'!T$7","v":0},{"$f":"'fruto araçauna'!U$7","v":0},{"$f":"'fruto araçauna'!V$7","v":0},{"$f":"'fruto araçauna'!W$7","v":0},{"$f":"'fruto araçauna'!X$7","v":0},{"$f":"'fruto araçauna'!Y$7","v":0},{"$f":"'fruto araçauna'!Z$7","v":0},{"$f":"'fruto araçauna'!AA$7","v":0},{"$f":"'fruto araçauna'!AB$7","v":0},{"$f":"'fruto araçauna'!AC$7","v":0},{"$f":"'fruto araçauna'!AD$7","v":0},{"$f":"'fruto araçauna'!AE$7","v":0},{"$f":"'fruto araçauna'!AF$7","v":0},{"$f":"'fruto araçauna'!AG$7","v":0},null,0]
[null,null,null,null,null,null,null,null,null,null,null,null,null,null,null,{"$f":"Produção!$A$9","v":"fruto pitanga"},null,{"$f":"'fruto pitanga'!D$7","v":0},{"$f":"'fruto pitanga'!E$7","v":0},{"$f":"'fruto pitanga'!F$7","v":0},{"$f":"'fruto pitanga'!G$7","v":0},{"$f":"'fruto pitanga'!H$7","v":0},{"$f":"'fruto pitanga'!I$7","v":0},{"$f":"'fruto pitanga'!J$7","v":0},{"$f":"'fruto pitanga'!K$7","v":0},{"$f":"'fruto pitanga'!L$7","v":0},{"$f":"'fruto pitanga'!M$7","v":0},{"$f":"'fruto pitanga'!N$7","v":0},{"$f":"'fruto pitanga'!O$7","v":0},{"$f":"'fruto pitanga'!P$7","v":0},{"$f":"'fruto pitanga'!Q$7","v":0},{"$f":"'fruto pitanga'!R$7","v":0},{"$f":"'fruto pitanga'!S$7","v":0},{"$f":"'fruto pitanga'!T$7","v":0},{"$f":"'fruto pitanga'!U$7","v":0},{"$f":"'fruto pitanga'!V$7","v":0},{"$f":"'fruto pitanga'!W$7","v":0},{"$f":"'fruto pitanga'!X$7","v":0},{"$f":"'fruto pitanga'!Y$7","v":0},{"$f":"'fruto pitanga'!Z$7","v":0},{"$f":"'fruto pitanga'!AA$7","v":0},{"$f":"'fruto pitanga'!AB$7","v":0},{"$f":"'fruto pitanga'!AC$7","v":0},{"$f":"'fruto pitanga'!AD$7","v":0},{"$f":"'fruto pitanga'!AE$7","v":0},{"$f":"'fruto pitanga'!AF$7","v":0},{"$f":"'fruto pitanga'!AG$7","v":0},null,0]
[null,null,null,null,null,null,null,null,null,null,null,null,null,null,null,{"$f":"Produção!$A$10","v":"castanha sapucaia"},null,{"$f":"Castanha!D$7","v":0},{"$f":"Castanha!E$7","v":0},{"$f":"Castanha!F$7","v":0},{"$f":"Castanha!G$7","v":0},{"$f":"Castanha!H$7","v":0},{"$f":"Castanha!I$7","v":0},{"$f":"Castanha!J$7","v":0},{"$f":"Castanha!K$7","v":0},{"$f":"Castanha!L$7","v":0},{"$f":"Castanha!M$7","v":0},{"$f":"Castanha!N$7","v":0},{"$f":"Castanha!O$7","v":0},{"$f":"Castanha!P$7","v":0},{"$f":"Castanha!Q$7","v":0},{"$f":"Castanha!R$7","v":0},{"$f":"Castanha!S$7","v":0},{"$f":"Castanha!T$7","v":0},{"$f":"Castanha!U$7","v":0},{"$f":"Castanha!V$7","v":0},{"$f":"Castanha!W$7","v":0},{"$f":"Castanha!X$7","v":0},{"$f":"Castanha!Y$7","v":0},{"$f":"Castanha!Z$7","v":0},{"$f":"Castanha!AA$7","v":0},{"$f":"Castanha!AB$7","v":0},{"$f":"Castanha!AC$7","v":0},{"$f":"Castanha!AD$7","v":0},{"$f":"Castanha!AE$7","v":0},{"$f":"Castanha!AF$7","v":0},{"$f":"Castanha!AG$7","v":0},null,0]
[]
[null,null,null,null,null,null,null,null,null,null,null,null,null,null,null,{"$f":"Produção!$A$11","v":"fruto cajá"},null,{"$f":"'fruto cajá'!D$7","v":0},{"$f":"'fruto cajá'!E$7","v":0},{"$f":"'fruto cajá'!F$7","v":0},{"$f":"'fruto cajá'!G$7","v":0},{"$f":"'fruto cajá'!H$7","v":0},{"$f":"'fruto cajá'!I$7","v":0},{"$f":"'fruto cajá'!J$7","v":0},{"$f":"'fruto cajá'!K$7","v":0},{"$f":"'fruto cajá'!L$7","v":0},{"$f":"'fruto cajá'!M$7","v":0},{"$f":"'fruto cajá'!N$7","v":0},{"$f":"'fruto cajá'!O$7","v":0},{"$f":"'fruto cajá'!P$7","v":0},{"$f":"'fruto cajá'!Q$7","v":0},{"$f":"'fruto cajá'!R$7","v":0},{"$f":"'fruto cajá'!S$7","v":0},{"$f":"'fruto cajá'!T$7","v":0},{"$f":"'fruto cajá'!U$7","v":0},{"$f":"'fruto cajá'!V$7","v":0},{"$f":"'fruto cajá'!W$7","v":0},{"$f":"'fruto cajá'!X$7","v":0},{"$f":"'fruto cajá'!Y$7","v":0},{"$f":"'fruto cajá'!Z$7","v":0},{"$f":"'fruto cajá'!AA$7","v":0},{"$f":"'fruto cajá'!AB$7","v":0},{"$f":"'fruto cajá'!AC$7","v":0},{"$f":"'fruto cajá'!AD$7","v":0},{"$f":"'fruto cajá'!AE$7","v":0},{"$f":"'fruto cajá'!AF$7","v":0},{"$f":"'fruto cajá'!AG$7","v":0},null,{"$f":"SUM(Q44:AU44)","v":0}]
[null,null,null,null,null,null,null,null,null,null,null,null,null,null,null,{"$f":"Produção!$A$12","v":"semente urucum"},null,{"$f":"'semente urucum'!D$7","v":0},{"$f":"'semente urucum'!E$7","v":0},{"$f":"'semente urucum'!F$7","v":0},{"$f":"'semente urucum'!G$7","v":0},{"$f":"'semente urucum'!H$7","v":0},{"$f":"'semente urucum'!I$7","v":0},{"$f":"'semente urucum'!J$7","v":0},{"$f":"'semente urucum'!K$7","v":0},{"$f":"'semente urucum'!L$7","v":0},{"$f":"'semente urucum'!M$7","v":0},{"$f":"'semente urucum'!N$7","v":0},{"$f":"'semente urucum'!O$7","v":0},{"$f":"'semente urucum'!P$7","v":0},{"$f":"'semente urucum'!Q$7","v":0},{"$f":"'semente urucum'!R$7","v":0},{"$f":"'semente urucum'!S$7","v":0},{"$f":"'semente urucum'!T$7","v":0},{"$f":"'semente urucum'!U$7","v":0},{"$f":"'semente urucum'!V$7","v":0},{"$f":"'semente urucum'!W$7","v":0},{"$f":"'semente urucum'!X$7","v":0},{"$f":"'semente urucum'!Y$7","v":0},{"$f":"'semente urucum'!Z$7","v":0},{"$f":"'semente urucum'!AA$7","v":0},{"$f":"'semente urucum'!AB$7","v":0},{"$f":"'semente urucum'!AC$7","v":0},{"$f":"'semente urucum'!AD$7","v":0},{"$f":"'semente urucum'!AE$7","v":0},{"$f":"'semente urucum'!AF$7","v":0},{"$f":"'semente urucum'!AG$7","v":0},null,{"$f":"SUM(Q45:AU45)","v":0}]
[null,null,null,null,null,null,null,null,null,null,null,null,null,null,null,{"$f":"Produção!$A$13","v":"semente aroeira"},null,{"$f":"'semente aroeira'!D$7","v":0},{"$f":"'semente aroeira'!E$7","v":0},{"$f":"'semente aroeira'!F$7","v":0},{"$f":"'semente aroeira'!G$7","v":0},{"$f":"'semente aroeira'!H$7","v":0},{"$f":"'semente aroeira'!I$7","v":0},{"$f":"'semente aroeira'!J$7","v":0},{"$f":"'semente aroeira'!K$7","v":0},{"$f":"'semente aroeira'!L$7","v":0},{"$f":"'semente aroeira'!M$7","v":0},{"$f":"'semente aroeira'!N$7","v":0},{"$f":"'semente aroeira'!O$7","v":0},{"$f":"'semente aroeira'!P$7","v":0},{"$f":"'semente aroeira'!Q$7","v":0},{"$f":"'semente aroeira'!R$7","v":0},{"$f":"'semente aroeira'!S$7","v":0},{"$f":"'semente aroeira'!T$7","v":0},{"$f":"'semente aroeira'!U$7","v":0},{"$f":"'semente aroeira'!V$7","v":0},{"$f":"'semente aroeira'!W$7","v":0},{"$f":"'semente aroeira'!X$7","v":0},{"$f":"'semente aroeira'!Y$7","v":0},{"$f":"'semente aroeira'!Z$7","v":0},{"$f":"'semente aroeira'!AA$7","v":0},{"$f":"'semente aroeira'!AB$7","v":0},{"$f":"'semente aroeira'!AC$7","v":0},{"$f":"'semente aroeira'!AD$7","v":0},{"$f":"'semente aroeira'!AE$7","v":0},{"$f":"'semente aroeira'!AF$7","v":0},{"$f":"'semente aroeira'!AG$7","v":0},null,{"$f":"SUM(Q46:AU46)","v":0}]
[null,null,null,null,null,null,null,null,null,null,null,null,null,null,null,{"$f":"Produção!$A$14","v":"raiz mandioca"},null,{"$f":"'raiz mandioca'!D$7","v":0},{"$f":"'raiz mandioca'!E$7","v":0},{"$f":"'raiz mandioca'!F$7","v":0},{"$f":"'raiz mandioca'!G$7","v":0},{"$f":"'raiz mandioca'!H$7","v":0},{"$f":"'raiz mandioca'!I$7","v":0},{"$f":"'raiz mandioca'!J$7","v":0},{"$f":"'raiz mandioca'!K$7","v":0},{"$f":"'raiz mandioca'!L$7","v":0},{"$f":"'raiz mandioca'!M$7","v":0},{"$f":"'raiz mandioca'!N$7","v":0},{"$f":"'raiz mandioca'!O$7","v":0},{"$f":"'raiz mandioca'!P$7","v":0},{"$f":"'raiz mandioca'!Q$7","v":0},{"$f":"'raiz mandioca'!R$7","v":0},{"$f":"'raiz mandioca'!S$7","v":0},{"$f":"'raiz mandioca'!T$7","v":0},{"$f":"'raiz mandioca'!U$7","v":0},{"$f":"'raiz mandioca'!V$7","v":0},{"$f":"'raiz mandioca'!W$7","v":0},{"$f":"'raiz mandioca'!X$7","v":0},{"$f":"'raiz mandioca'!Y$7","v":0},{"$f":"'raiz mandioca'!Z$7","v":0},{"$f":"'raiz mandioca'!AA$7","v":0},{"$f":"'raiz mandioca'!AB$7","v":0},{"$f":"'raiz mandioca'!AC$7","v":0},{"$f":"'raiz mandioca'!AD$7","v":0},{"$f":"'raiz mandioca'!AE$7","v":0},{"$f":"'raiz mandioca'!AF$7","v":0},{"$f":"'raiz mandioca'!AG$7","v":0},null,{"$f":"SUM(Q47:AU47)","v":0}]
[]
[null,null,null,null,null,null,null,null,null,null,null,null,null,null,null,{"$f":"Produção!$A$15","v":"fruto abacaxi"},null,{"$f":"abacaxi!D$7","v":0},{"$f":"abacaxi!E$7","v":0},{"$f":"abacaxi!F$7","v":0},{"$f":"abacaxi!G$7","v":0},{"$f":"abacaxi!H$7","v":0},{"$f":"abacaxi!I$7","v":0},{"$f":"abacaxi!J$7","v":0},{"$f":"abacaxi!K$7","v":0},{"$f":"abacaxi!L$7","v":0},{"$f":"abacaxi!M$7","v":0},{"$f":"abacaxi!N$7","v":0},{"$f":"abacaxi!O$7","v":0},{"$f":"abacaxi!P$7","v":0},{"$f":"abacaxi!Q$7","v":0},{"$f":"abacaxi!R$7","v":0},{"$f":"abacaxi!S$7","v":0},{"$f":"abacaxi!T$7","v":0},{"$f":"abacaxi!U$7","v":0},{"$f":"abacaxi!V$7","v":0},{"$f":"abacaxi!W$7","v":0},{"$f":"abacaxi!X$7","v":0},{"$f":"abacaxi!Y$7","v":0},{"$f":"abacaxi!Z$7","v":0},{"$f":"abacaxi!AA$7","v":0},{"$f":"abacaxi!AB$7","v":0},{"$f":"abacaxi!AC$7","v":0},{"$f":"abacaxi!AD$7","v":0},{"$f":"abacaxi!AE$7","v":0},{"$f":"abacaxi!AF$7","v":0},{"$f":"abacaxi!AG$7","v":0},null,{"$f":"SUM(Q49:AU49)","v":0}]
[null,null,null,null,null,null,null,null,null,null,null,null,null,null,null,{"$f":"Produção!$A$16","v":"espigas milho"},null,{"$f":"espigas!D$7","v":0},{"$f":"espigas!E$7","v":0},{"$f":"espigas!F$7","v":0},{"$f":"espigas!G$7","v":0},{"$f":"espigas!H$7","v":0},{"$f":"espigas!I$7","v":0},{"$f":"espigas!J$7","v":0},{"$f":"espigas!K$7","v":0},{"$f":"espigas!L$7","v":0},{"$f":"espigas!M$7","v":0},{"$f":"espigas!N$7","v":0},{"$f":"espigas!O$7","v":0},{"$f":"espigas!P$7","v":0},{"$f":"espigas!Q$7","v":0},{"$f":"espigas!R$7","v":0},{"$f":"espigas!S$7","v":0},{"$f":"espigas!T$7","v":0},{"$f":"espigas!U$7","v":0},{"$f":"espigas!V$7","v":0},{"$f":"espigas!W$7","v":0},{"$f":"espigas!X$7","v":0},{"$f":"espigas!Y$7","v":0},{"$f":"espigas!Z$7","v":0},{"$f":"espigas!AA$7","v":0},{"$f":"espigas!AB$7","v":0},{"$f":"espigas!AC$7","v":0},{"$f":"espigas!AD$7","v":0},{"$f":"espigas!AE$7","v":0},{"$f":"espigas!AF$7","v":0},{"$f":"espigas!AG$7","v":0},null,0]
[null,null,null,null,null,null,null,null,null,null,null,null,null,null,null,{"$f":"Produção!$A$17","v":"estaca sansão do campo"},null,{"$f":"'semente caupi'!D$7","v":0},{"$f":"'semente caupi'!E$7","v":0},{"$f":"'semente caupi'!F$7","v":0},{"$f":"'semente caupi'!G$7","v":0},{"$f":"'semente caupi'!H$7","v":0},{"$f":"'semente caupi'!I$7","v":0},{"$f":"'semente caupi'!J$7","v":0},{"$f":"'semente caupi'!K$7","v":0},{"$f":"'semente caupi'!L$7","v":0},{"$f":"'semente caupi'!M$7","v":0},{"$f":"'semente caupi'!N$7","v":0},{"$f":"'semente caupi'!O$7","v":0},{"$f":"'semente caupi'!P$7","v":0},{"$f":"'semente caupi'!Q$7","v":0},{"$f":"'semente caupi'!R$7","v":0},{"$f":"'semente caupi'!S$7","v":0},{"$f":"'semente caupi'!T$7","v":0},{"$f":"'semente caupi'!U$7","v":0},{"$f":"'semente caupi'!V$7","v":0},{"$f":"'semente caupi'!W$7","v":0},{"$f":"'semente caupi'!X$7","v":0},{"$f":"'semente caupi'!Y$7","v":0},{"$f":"'semente caupi'!Z$7","v":0},{"$f":"'semente caupi'!AA$7","v":0},{"$f":"'semente caupi'!AB$7","v":0},{"$f":"'semente caupi'!AC$7","v":0},{"$f":"'semente caupi'!AD$7","v":0},{"$f":"'semente caupi'!AE$7","v":0},{"$f":"'semente caupi'!AF$7","v":0},{"$f":"'semente caupi'!AG$7","v":0},null,0]
[null,null,null,null,null,null,null,null,null,null,null,null,null,null,null,{"$f":"Produção!$A$18","v":"madeira madeira nova"},null,{"$f":"biomassa!D$7","v":0},{"$f":"biomassa!E$7","v":0},{"$f":"biomassa!F$7","v":0},{"$f":"biomassa!G$7","v":0},{"$f":"biomassa!H$7","v":0},{"$f":"biomassa!I$7","v":0},{"$f":"biomassa!J$7","v":0},{"$f":"biomassa!K$7","v":0},{"$f":"biomassa!L$7","v":0},{"$f":"biomassa!M$7","v":0},{"$f":"biomassa!N$7","v":0},{"$f":"biomassa!O$7","v":0},{"$f":"biomassa!P$7","v":0},{"$f":"biomassa!Q$7","v":0},{"$f":"biomassa!R$7","v":0},{"$f":"biomassa!S$7","v":0},{"$f":"biomassa!T$7","v":0},{"$f":"biomassa!U$7","v":0},{"$f":"biomassa!V$7","v":0},{"$f":"biomassa!W$7","v":0},{"$f":"biomassa!X$7","v":0},{"$f":"biomassa!Y$7","v":0},{"$f":"biomassa!Z$7","v":0},{"$f":"biomassa!AA$7","v":0},{"$f":"biomassa!AB$7","v":0},{"$f":"biomassa!AC$7","v":0},{"$f":"biomassa!AD$7","v":0},{"$f":"biomassa!AE$7","v":0},{"$f":"biomassa!AF$7","v":0},{"$f":"biomassa!AG$7","v":0},null,0]
[null,null,null,null,null,null,null,null,null,null,null,null,null,null,null,{"$f":"Produção!$A$19","v":"lenha fedegoso"},null,{"$f":"madeira!D$7","v":0},{"$f":"madeira!E$7","v":0},{"$f":"madeira!F$7","v":0},{"$f":"madeira!G$7","v":0},{"$f":"madeira!H$7","v":0},{"$f":"madeira!I$7","v":0},{"$f":"madeira!J$7","v":0},{"$f":"madeira!K$7","v":0},{"$f":"madeira!L$7","v":0},{"$f":"madeira!M$7","v":0},{"$f":"madeira!N$7","v":0},{"$f":"madeira!O$7","v":0},{"$f":"madeira!P$7","v":0},{"$f":"madeira!Q$7","v":0},{"$f":"madeira!R$7","v":0},{"$f":"madeira!S$7","v":0},{"$f":"madeira!T$7","v":0},{"$f":"madeira!U$7","v":0},{"$f":"madeira!V$7","v":0},{"$f":"madeira!W$7","v":0},{"$f":"madeira!X$7","v":0},{"$f":"madeira!Y$7","v":0},{"$f":"madeira!Z$7","v":0},{"$f":"madeira!AA$7","v":0},{"$f":"madeira!AB$7","v":0},{"$f":"madeira!AC$7","v":0},{"$f":"madeira!AD$7","v":0},{"$f":"madeira!AE$7","v":0},{"$f":"madeira!AF$7","v":0},{"$f":"madeira!AG$7","v":0},null,0]
[null,null,null,null,null,null,null,null,null,null,null,null,null,null,null,{"$f":"Produção!$A$20","v":"estaca pau d'alho"},null,{"$f":"'Produto 15'!D$7","v":0},{"$f":"'Produto 15'!E$7","v":0},{"$f":"'Produto 15'!F$7","v":0},{"$f":"'Produto 15'!G$7","v":0},{"$f":"'Produto 15'!H$7","v":0},{"$f":"'Produto 15'!I$7","v":0},{"$f":"'Produto 15'!J$7","v":0},{"$f":"'Produto 15'!K$7","v":0},{"$f":"'Produto 15'!L$7","v":0},{"$f":"'Produto 15'!M$7","v":0},{"$f":"'Produto 15'!N$7","v":0},{"$f":"'Produto 15'!O$7","v":0},{"$f":"'Produto 15'!P$7","v":0},{"$f":"'Produto 15'!Q$7","v":0},{"$f":"'Produto 15'!R$7","v":0},{"$f":"'Produto 15'!S$7","v":0},{"$f":"'Produto 15'!T$7","v":0},{"$f":"'Produto 15'!U$7","v":0},{"$f":"'Produto 15'!V$7","v":0},{"$f":"'Produto 15'!W$7","v":0},{"$f":"'Produto 15'!X$7","v":0},{"$f":"'Produto 15'!Y$7","v":0},{"$f":"'Produto 15'!Z$7","v":0},{"$f":"'Produto 15'!AA$7","v":0},{"$f":"'Produto 15'!AB$7","v":0},{"$f":"'Produto 15'!AC$7","v":0},{"$f":"'Produto 15'!AD$7","v":0},{"$f":"'Produto 15'!AE$7","v":0},{"$f":"'Produto 15'!AF$7","v":0},{"$f":"'Produto 15'!AG$7","v":0},null,0]
[null,null,null,null,null,null,null,null,null,null,null,null,null,null,null,{"$f":"Produção!$A$21","v":"caixotaria boleira"},null,{"$f":"'Produto 16'!D$7","v":0},{"$f":"'Produto 16'!E$7","v":0},{"$f":"'Produto 16'!F$7","v":0},{"$f":"'Produto 16'!G$7","v":0},{"$f":"'Produto 16'!H$7","v":0},{"$f":"'Produto 16'!I$7","v":0},{"$f":"'Produto 16'!J$7","v":0},{"$f":"'Produto 16'!K$7","v":0},{"$f":"'Produto 16'!L$7","v":0},{"$f":"'Produto 16'!M$7","v":0},{"$f":"'Produto 16'!N$7","v":0},{"$f":"'Produto 16'!O$7","v":0},{"$f":"'Produto 16'!P$7","v":0},{"$f":"'Produto 16'!Q$7","v":0},{"$f":"'Produto 16'!R$7","v":0},{"$f":"'Produto 16'!S$7","v":0},{"$f":"'Produto 16'!T$7","v":0},{"$f":"'Produto 16'!U$7","v":0},{"$f":"'Produto 16'!V$7","v":0},{"$f":"'Produto 16'!W$7","v":0},{"$f":"'Produto 16'!X$7","v":0},{"$f":"'Produto 16'!Y$7","v":0},{"$f":"'Produto 16'!Z$7","v":0},{"$f":"'Produto 16'!AA$7","v":0},{"$f":"'Produto 16'!AB$7","v":0},{"$f":"'Produto 16'!AC$7","v":0},{"$f":"'Produto 16'!AD$7","v":0},{"$f":"'Produto 16'!AE$7","v":0},{"$f":"'Produto 16'!AF$7","v":0},{"$f":"'Produto 16'!AG$7","v":0},null,0]
[]
[null,null,null,null,null,null,null,null,null,null,null,null,null,null,null,{"$f":"Produção!$A$22","v":"madeira angico roxo"},null,{"$f":"'Produto 17'!D$7","v":0},{"$f":"'Produto 17'!E$7","v":0},{"$f":"'Produto 17'!F$7","v":0},{"$f":"'Produto 17'!G$7","v":0},{"$f":"'Produto 17'!H$7","v":0},{"$f":"'Produto 17'!I$7","v":0},{"$f":"'Produto 17'!J$7","v":0},{"$f":"'Produto 17'!K$7","v":0},{"$f":"'Produto 17'!L$7","v":0},{"$f":"'Produto 17'!M$7","v":0},{"$f":"'Produto 17'!N$7","v":0},{"$f":"'Produto 17'!O$7","v":0},{"$f":"'Produto 17'!P$7","v":0},{"$f":"'Produto 17'!Q$7","v":0},{"$f":"'Produto 17'!R$7","v":0},{"$f":"'Produto 17'!S$7","v":0},{"$f":"'Produto 17'!T$7","v":0},{"$f":"'Produto 17'!U$7","v":0},{"$f":"'Produto 17'!V$7","v":0},{"$f":"'Produto 17'!W$7","v":0},{"$f":"'Produto 17'!X$7","v":0},{"$f":"'Produto 17'!Y$7","v":0},{"$f":"'Produto 17'!Z$7","v":0},{"$f":"'Produto 17'!AA$7","v":0},{"$f":"'Produto 17'!AB$7","v":0},{"$f":"'Produto 17'!AC$7","v":0},{"$f":"'Produto 17'!AD$7","v":0},{"$f":"'Produto 17'!AE$7","v":0},{"$f":"'Produto 17'!AF$7","v":0},{"$f":"'Produto 17'!AG$7","v":0},null,{"$f":"SUM(Q57:AU57)","v":0}]
[null,null,null,null,null,null,null,null,null,null,null,null,null,null,null,{"$f":"Produção!$A$23","v":"madeira ipê roxo"},null,{"$f":"'Produto 18'!D$7","v":0},{"$f":"'Produto 18'!E$7","v":0},{"$f":"'Produto 18'!F$7","v":0},{"$f":"'Produto 18'!G$7","v":0},{"$f":"'Produto 18'!H$7","v":0},{"$f":"'Produto 18'!I$7","v":0},{"$f":"'Produto 18'!J$7","v":0},{"$f":"'Produto 18'!K$7","v":0},{"$f":"'Produto 18'!L$7","v":0},{"$f":"'Produto 18'!M$7","v":0},{"$f":"'Produto 18'!N$7","v":0},{"$f":"'Produto 18'!O$7","v":0},{"$f":"'Produto 18'!P$7","v":0},{"$f":"'Produto 18'!Q$7","v":0},{"$f":"'Produto 18'!R$7","v":0},{"$f":"'Produto 18'!S$7","v":0},{"$f":"'Produto 18'!T$7","v":0},{"$f":"'Produto 18'!U$7","v":0},{"$f":"'Produto 18'!V$7","v":0},{"$f":"'Produto 18'!W$7","v":0},{"$f":"'Produto 18'!X$7","v":0},{"$f":"'Produto 18'!Y$7","v":0},{"$f":"'Produto 18'!Z$7","v":0},{"$f":"'Produto 18'!AA$7","v":0},{"$f":"'Produto 18'!AB$7","v":0},{"$f":"'Produto 18'!AC$7","v":0},{"$f":"'Produto 18'!AD$7","v":0},{"$f":"'Produto 18'!AE$7","v":0},{"$f":"'Produto 18'!AF$7","v":0},{"$f":"'Produto 18'!AG$7","v":0},null,0]
[null,null,null,null,null,null,null,null,null,null,null,null,null,null,null,{"$f":"Produção!$A$24","v":"madeira ipê amarelo"},null,{"$f":"'Produto 19'!D$7","v":0},{"$f":"'Produto 19'!E$7","v":0},{"$f":"'Produto 19'!F$7","v":0},{"$f":"'Produto 19'!G$7","v":0},{"$f":"'Produto 19'!H$7","v":0},{"$f":"'Produto 19'!I$7","v":0},{"$f":"'Produto 19'!J$7","v":0},{"$f":"'Produto 19'!K$7","v":0},{"$f":"'Produto 19'!L$7","v":0},{"$f":"'Produto 19'!M$7","v":0},{"$f":"'Produto 19'!N$7","v":0},{"$f":"'Produto 19'!O$7","v":0},{"$f":"'Produto 19'!P$7","v":0},{"$f":"'Produto 19'!Q$7","v":0},{"$f":"'Produto 19'!R$7","v":0},{"$f":"'Produto 19'!S$7","v":0},{"$f":"'Produto 19'!T$7","v":0},{"$f":"'Produto 19'!U$7","v":0},{"$f":"'Produto 19'!V$7","v":0},{"$f":"'Produto 19'!W$7","v":0},{"$f":"'Produto 19'!X$7","v":0},{"$f":"'Produto 19'!Y$7","v":0},{"$f":"'Produto 19'!Z$7","v":0},{"$f":"'Produto 19'!AA$7","v":0},{"$f":"'Produto 19'!AB$7","v":0},{"$f":"'Produto 19'!AC$7","v":0},{"$f":"'Produto 19'!AD$7","v":0},{"$f":"'Produto 19'!AE$7","v":0},{"$f":"'Produto 19'!AF$7","v":0},{"$f":"'Produto 19'!AG$7","v":0},null,0]
[null,null,null,null,null,null,null,null,null,null,null,null,null,null,null,{"$f":"Produção!$A$25","v":"madeira gonçalo alves"},null,{"$f":"'Produto 20'!D$7","v":0},{"$f":"'Produto 20'!E$7","v":0},{"$f":"'Produto 20'!F$7","v":0},{"$f":"'Produto 20'!G$7","v":0},{"$f":"'Produto 20'!H$7","v":0},{"$f":"'Produto 20'!I$7","v":0},{"$f":"'Produto 20'!J$7","v":0},{"$f":"'Produto 20'!K$7","v":0},{"$f":"'Produto 20'!L$7","v":0},{"$f":"'Produto 20'!M$7","v":0},{"$f":"'Produto 20'!N$7","v":0},{"$f":"'Produto 20'!O$7","v":0},{"$f":"'Produto 20'!P$7","v":0},{"$f":"'Produto 20'!Q$7","v":0},{"$f":"'Produto 20'!R$7","v":0},{"$f":"'Produto 20'!S$7","v":0},{"$f":"'Produto 20'!T$7","v":0},{"$f":"'Produto 20'!U$7","v":0},{"$f":"'Produto 20'!V$7","v":0},{"$f":"'Produto 20'!W$7","v":0},{"$f":"'Produto 20'!X$7","v":0},{"$f":"'Produto 20'!Y$7","v":0},{"$f":"'Produto 20'!Z$7","v":0},{"$f":"'Produto 20'!AA$7","v":0},{"$f":"'Produto 20'!AB$7","v":0},{"$f":"'Produto 20'!AC$7","v":0},{"$f":"'Produto 20'!AD$7","v":0},{"$f":"'Produto 20'!AE$7","v":0},{"$f":"'Produto 20'!AF$7","v":0},{"$f":"'Produto 20'!AG$7","v":0},null,0]
[null,null,null,null,null,null,null,null,null,null,null,null,null,null,null,{"$f":"Produção!$A$26","v":"madeira vinhatico"},null,{"$f":"'Produto 21'!D$7","v":0},{"$f":"'Produto 21'!E$7","v":0},{"$f":"'Produto 21'!F$7","v":0},{"$f":"'Produto 21'!G$7","v":0},{"$f":"'Produto 21'!H$7","v":0},{"$f":"'Produto 21'!I$7","v":0},{"$f":"'Produto 21'!J$7","v":0},{"$f":"'Produto 21'!K$7","v":0},{"$f":"'Produto 21'!L$7","v":0},{"$f":"'Produto 21'!M$7","v":0},{"$f":"'Produto 21'!N$7","v":0},{"$f":"'Produto 21'!O$7","v":0},{"$f":"'Produto 21'!P$7","v":0},{"$f":"'Produto 21'!Q$7","v":0},{"$f":"'Produto 21'!R$7","v":0},{"$f":"'Produto 21'!S$7","v":0},{"$f":"'Produto 21'!T$7","v":0},{"$f":"'Produto 21'!U$7","v":0},{"$f":"'Produto 21'!V$7","v":0},{"$f":"'Produto 21'!W$7","v":0},{"$f":"'Produto 21'!X$7","v":0},{"$f":"'Produto 21'!Y$7","v":0},{"$f":"'Produto 21'!Z$7","v":0},{"$f":"'Produto 21'!AA$7","v":0},{"$f":"'Produto 21'!AB$7","v":0},{"$f":"'Produto 21'!AC$7","v":0},{"$f":"'Produto 21'!AD$7","v":0},{"$f":"'Produto 21'!AE$7","v":0},{"$f":"'Produto 21'!AF$7","v":0},{"$f":"'Produto 21'!AG$7","v":0},null,0]
[null,null,null,null,null,null,null,null,null,null,null,null,null,null,null,{"$f":"Produção!$A$27","v":"madeira jequitiba"},null,{"$f":"'Produto 22'!D$7","v":0},{"$f":"'Produto 22'!E$7","v":0},{"$f":"'Produto 22'!F$7","v":0},{"$f":"'Produto 22'!G$7","v":0},{"$f":"'Produto 22'!H$7","v":0},{"$f":"'Produto 22'!I$7","v":0},{"$f":"'Produto 22'!J$7","v":0},{"$f":"'Produto 22'!K$7","v":0},{"$f":"'Produto 22'!L$7","v":0},{"$f":"'Produto 22'!M$7","v":0},{"$f":"'Produto 22'!N$7","v":0},{"$f":"'Produto 22'!O$7","v":0},{"$f":"'Produto 22'!P$7","v":0},{"$f":"'Produto 22'!Q$7","v":0},{"$f":"'Produto 22'!R$7","v":0},{"$f":"'Produto 22'!S$7","v":0},{"$f":"'Produto 22'!T$7","v":0},{"$f":"'Produto 22'!U$7","v":0},{"$f":"'Produto 22'!V$7","v":0},{"$f":"'Produto 22'!W$7","v":0},{"$f":"'Produto 22'!X$7","v":0},{"$f":"'Produto 22'!Y$7","v":0},{"$f":"'Produto 22'!Z$7","v":0},{"$f":"'Produto 22'!AA$7","v":0},{"$f":"'Produto 22'!AB$7","v":0},{"$f":"'Produto 22'!AC$7","v":0},{"$f":"'Produto 22'!AD$7","v":0},{"$f":"'Produto 22'!AE$7","v":0},{"$f":"'Produto 22'!AF$7","v":0},{"$f":"'Produto 22'!AG$7","v":0},null,0]
[null,null,null,null,null,null,null,null,null,null,null,null,null,null,null,{"$f":"Produção!$A$29","v":"grão caupi"},null,{"$f":"'Produto 23'!D$7","v":0},{"$f":"'Produto 23'!E$7","v":0},{"$f":"'Produto 23'!F$7","v":0},{"$f":"'Produto 23'!G$7","v":0},{"$f":"'Produto 23'!H$7","v":0},{"$f":"'Produto 23'!I$7","v":0},{"$f":"'Produto 23'!J$7","v":0},{"$f":"'Produto 23'!K$7","v":0},{"$f":"'Produto 23'!L$7","v":0},{"$f":"'Produto 23'!M$7","v":0},{"$f":"'Produto 23'!N$7","v":0},{"$f":"'Produto 23'!O$7","v":0},{"$f":"'Produto 23'!P$7","v":0},{"$f":"'Produto 23'!Q$7","v":0},{"$f":"'Produto 23'!R$7","v":0},{"$f":"'Produto 23'!S$7","v":0},{"$f":"'Produto 23'!T$7","v":0},{"$f":"'Produto 23'!U$7","v":0},{"$f":"'Produto 23'!V$7","v":0},{"$f":"'Produto 23'!W$7","v":0},{"$f":"'Produto 23'!X$7","v":0},{"$f":"'Produto 23'!Y$7","v":0},{"$f":"'Produto 23'!Z$7","v":0},{"$f":"'Produto 23'!AA$7","v":0},{"$f":"'Produto 23'!AB$7","v":0},{"$f":"'Produto 23'!AC$7","v":0},{"$f":"'Produto 23'!AD$7","v":0},{"$f":"'Produto 23'!AE$7","v":0},{"$f":"'Produto 23'!AF$7","v":0},{"$f":"'Produto 23'!AG$7","v":0},null,0]
[]
[null,null,null,null,null,null,null,null,null,null,null,null,null,null,null,{"$f":"'Parâmetros Gerais'!$B$37","v":"grão caupi"},null,{"$f":"'Produto 24'!D$7","v":0},{"$f":"'Produto 24'!E$7","v":0},{"$f":"'Produto 24'!F$7","v":0},{"$f":"'Produto 24'!G$7","v":0},{"$f":"'Produto 24'!H$7","v":0},{"$f":"'Produto 24'!I$7","v":0},{"$f":"'Produto 24'!J$7","v":0},{"$f":"'Produto 24'!K$7","v":0},{"$f":"'Produto 24'!L$7","v":0},{"$f":"'Produto 24'!M$7","v":0},{"$f":"'Produto 24'!N$7","v":0},{"$f":"'Produto 24'!O$7","v":0},{"$f":"'Produto 24'!P$7","v":0},{"$f":"'Produto 24'!Q$7","v":0},{"$f":"'Produto 24'!R$7","v":0},{"$f":"'Produto 24'!S$7","v":0},{"$f":"'Produto 24'!T$7","v":0},{"$f":"'Produto 24'!U$7","v":0},{"$f":"'Produto 24'!V$7","v":0},{"$f":"'Produto 24'!W$7","v":0},{"$f":"'Produto 24'!X$7","v":0},{"$f":"'Produto 24'!Y$7","v":0},{"$f":"'Produto 24'!Z$7","v":0},{"$f":"'Produto 24'!AA$7","v":0},{"$f":"'Produto 24'!AB$7","v":0},{"$f":"'Produto 24'!AC$7","v":0},{"$f":"'Produto 24'!AD$7","v":0},{"$f":"'Produto 24'!AE$7","v":0},{"$f":"'Produto 24'!AF$7","v":0},{"$f":"'Produto 24'!AG$7","v":0},null,{"$f":"SUM(Q65:AU65)","v":0}]
[]
[]
[null,null,null,null,null,null,null,null,null,null,null,null,null,null,null,"Custos de Insumos",{"$f":"'Resultado Fin (2)'!D8","v":0},{"$f":"'Resultado Fin (2)'!E8","v":0},{"$f":"'Resultado Fin (2)'!F8","v":0},{"$f":"'Resultado Fin (2)'!G8","v":0},{"$f":"'Resultado Fin (2)'!H8","v":0},{"$f":"'Resultado Fin (2)'!I8","v":0},{"$f":"'Resultado Fin (2)'!J8","v":0},{"$f":"'Resultado Fin (2)'!K8","v":0},{"$f":"'Resultado Fin (2)'!L8","v":0},{"$f":"'Resultado Fin (2)'!M8","v":0},{"$f":"'Resultado Fin (2)'!N8","v":0},{"$f":"'Resultado Fin (2)'!O8","v":0},{"$f":"'Resultado Fin (2)'!P8","v":0},{"$f":"'Resultado Fin (2)'!Q8","v":0},{"$f":"'Resultado Fin (2)'!R8","v":0},{"$f":"'Resultado Fin (2)'!S8","v":0},{"$f":"'Resultado Fin (2)'!T8","v":0},{"$f":"'Resultado Fin (2)'!U8","v":0},{"$f":"'Resultado Fin (2)'!V8","v":0},{"$f":"'Resultado Fin (2)'!W8","v":0},{"$f":"'Resultado Fin (2)'!X8","v":0},{"$f":"'Resultado Fin (2)'!Y8","v":0},{"$f":"'Resultado Fin (2)'!Z8","v":0},{"$f":"'Resultado Fin (2)'!AA8","v":0},{"$f":"'Resultado Fin (2)'!AB8","v":0},{"$f":"'Resultado Fin (2)'!AC8","v":0},{"$f":"'Resultado Fin (2)'!AD8","v":0},{"$f":"'Resultado Fin (2)'!AE8","v":0},{"$f":"'Resultado Fin (2)'!AF8","v":0},{"$f":"'Resultado Fin (2)'!AG8","v":0},{"$f":"'Resultado Fin (2)'!AH8","v":0}]
[null,null,null,null,null,null,null,null,null,null,null,null,null,null,null,"Atividades Gerais",{"$f":"'Preparo e Gerais'!D$20","v":0},null,null,null,null,null,null,null,null,null,null,null,null,null,null,null,null,null,null,null,null,null,null,null,null,null,null,null,null,null,null,null,{"$f":"SUM(Q69:AU69)","v":0}]
[null,null,null,null,null,null,null,null,null,null,null,null,null,null,null,{"$f":"Produção!$A$6","v":"latex"},null,{"$f":"latex!D$24","v":0},{"$f":"latex!E$24","v":0},{"$f":"latex!F$24","v":0},{"$f":"latex!G$24","v":0},{"$f":"latex!H$24","v":0},{"$f":"latex!I$24","v":0},{"$f":"latex!J$24","v":0},{"$f":"latex!K$24","v":0},{"$f":"latex!L$24","v":0},{"$f":"latex!M$24","v":0},{"$f":"latex!N$24","v":0},{"$f":"latex!O$24","v":0},{"$f":"latex!P$24","v":0},{"$f":"latex!Q$24","v":0},{"$f":"latex!R$24","v":0},{"$f":"latex!S$24","v":0},{"$f":"latex!T$24","v":0},{"$f":"latex!U$24","v":0},{"$f":"latex!V$24","v":0},{"$f":"latex!W$24","v":0},{"$f":"latex!X$24","v":0},{"$f":"latex!Y$24","v":0},{"$f":"latex!Z$24","v":0},{"$f":"latex!AA$24","v":0},{"$f":"latex!AB$24","v":0},{"$f":"latex!AC$24","v":0},{"$f":"latex!AD$24","v":0},{"$f":"latex!AE$24","v":0},{"$f":"latex!AF$24","v":0},{"$f":"latex!AG$24","v":0},null,0]
[null,null,null,null,null,null,null,null,null,null,null,null,null,null,null,{"$f":"Produção!$A$7","v":"fruto genipapo"},null,{"$f":"'fruto genipapo'!D$24","v":0},{"$f":"'fruto genipapo'!E$24","v":0},{"$f":"'fruto genipapo'!F$24","v":0},{"$f":"'fruto genipapo'!G$24","v":0},{"$f":"'fruto genipapo'!H$24","v":0},{"$f":"'fruto genipapo'!I$24","v":0},{"$f":"'fruto genipapo'!J$24","v":0},{"$f":"'fruto genipapo'!K$24","v":0},{"$f":"'fruto genipapo'!L$24","v":0},{"$f":"'fruto genipapo'!M$24","v":0},{"$f":"'fruto genipapo'!N$24","v":0},{"$f":"'fruto genipapo'!O$24","v":0},{"$f":"'fruto genipapo'!P$24","v":0},{"$f":"'fruto genipapo'!Q$24","v":0},{"$f":"'fruto genipapo'!R$24","v":0},{"$f":"'fruto genipapo'!S$24","v":0},{"$f":"'fruto genipapo'!T$24","v":0},{"$f":"'fruto genipapo'!U$24","v":0},{"$f":"'fruto genipapo'!V$24","v":0},{"$f":"'fruto genipapo'!W$24","v":0},{"$f":"'fruto genipapo'!X$24","v":0},{"$f":"'fruto genipapo'!Y$24","v":0},{"$f":"'fruto genipapo'!Z$24","v":0},{"$f":"'fruto genipapo'!AA$24","v":0},{"$f":"'fruto genipapo'!AB$24","v":0},{"$f":"'fruto genipapo'!AC$24","v":0},{"$f":"'fruto genipapo'!AD$24","v":0},{"$f":"'fruto genipapo'!AE$24","v":0},{"$f":"'fruto genipapo'!AF$24","v":0},{"$f":"'fruto genipapo'!AG$24","v":0},null,0]
[null,null,null,null,null,null,null,null,null,null,null,null,null,null,null,{"$f":"Produção!$A$8","v":"fruto araçauna"},null,{"$f":"'fruto araçauna'!D$24","v":0},{"$f":"'fruto araçauna'!E$24","v":0},{"$f":"'fruto araçauna'!F$24","v":0},{"$f":"'fruto araçauna'!G$24","v":0},{"$f":"'fruto araçauna'!H$24","v":0},{"$f":"'fruto araçauna'!I$24","v":0},{"$f":"'fruto araçauna'!J$24","v":0},{"$f":"'fruto araçauna'!K$24","v":0},{"$f":"'fruto araçauna'!L$24","v":0},{"$f":"'fruto araçauna'!M$24","v":0},{"$f":"'fruto araçauna'!N$24","v":0},{"$f":"'fruto araçauna'!O$24","v":0},{"$f":"'fruto araçauna'!P$24","v":0},{"$f":"'fruto araçauna'!Q$24","v":0},{"$f":"'fruto araçauna'!R$24","v":0},{"$f":"'fruto araçauna'!S$24","v":0},{"$f":"'fruto araçauna'!T$24","v":0},{"$f":"'fruto araçauna'!U$24","v":0},{"$f":"'fruto araçauna'!V$24","v":0},{"$f":"'fruto araçauna'!W$24","v":0},{"$f":"'fruto araçauna'!X$24","v":0},{"$f":"'fruto araçauna'!Y$24","v":0},{"$f":"'fruto araçauna'!Z$24","v":0},{"$f":"'fruto araçauna'!AA$24","v":0},{"$f":"'fruto araçauna'!AB$24","v":0},{"$f":"'fruto araçauna'!AC$24","v":0},{"$f":"'fruto araçauna'!AD$24","v":0},{"$f":"'fruto araçauna'!AE$24","v":0},{"$f":"'fruto araçauna'!AF$24","v":0},{"$f":"'fruto araçauna'!AG$24","v":0},null,0]
[null,null,null,null,null,null,null,null,null,null,null,null,null,null,null,{"$f":"Produção!$A$9","v":"fruto pitanga"},null,{"$f":"'fruto pitanga'!D$24","v":0},{"$f":"'fruto pitanga'!E$24","v":0},{"$f":"'fruto pitanga'!F$24","v":0},{"$f":"'fruto pitanga'!G$24","v":0},{"$f":"'fruto pitanga'!H$24","v":0},{"$f":"'fruto pitanga'!I$24","v":0},{"$f":"'fruto pitanga'!J$24","v":0},{"$f":"'fruto pitanga'!K$24","v":0},{"$f":"'fruto pitanga'!L$24","v":0},{"$f":"'fruto pitanga'!M$24","v":0},{"$f":"'fruto pitanga'!N$24","v":0},{"$f":"'fruto pitanga'!O$24","v":0},{"$f":"'fruto pitanga'!P$24","v":0},{"$f":"'fruto pitanga'!Q$24","v":0},{"$f":"'fruto pitanga'!R$24","v":0},{"$f":"'fruto pitanga'!S$24","v":0},{"$f":"'fruto pitanga'!T$24","v":0},{"$f":"'fruto pitanga'!U$24","v":0},{"$f":"'fruto pitanga'!V$24","v":0},{"$f":"'fruto pitanga'!W$24","v":0},{"$f":"'fruto pitanga'!X$24","v":0},{"$f":"'fruto pitanga'!Y$24","v":0},{"$f":"'fruto pitanga'!Z$24","v":0},{"$f":"'fruto pitanga'!AA$24","v":0},{"$f":"'fruto pitanga'!AB$24","v":0},{"$f":"'fruto pitanga'!AC$24","v":0},{"$f":"'fruto pitanga'!AD$24","v":0},{"$f":"'fruto pitanga'!AE$24","v":0},{"$f":"'fruto pitanga'!AF$24","v":0},{"$f":"'fruto pitanga'!AG$24","v":0},null,0]
[null,null,null,null,null,null,null,null,null,null,null,null,null,null,null,{"$f":"Produção!$A$10","v":"castanha sapucaia"},null,{"$f":"Castanha!D$24","v":0},{"$f":"Castanha!E$24","v":0},{"$f":"Castanha!F$24","v":0},{"$f":"Castanha!G$24","v":0},{"$f":"Castanha!H$24","v":0},{"$f":"Castanha!I$24","v":0},{"$f":"Castanha!J$24","v":0},{"$f":"Castanha!K$24","v":0},{"$f":"Castanha!L$24","v":0},{"$f":"Castanha!M$24","v":0},{"$f":"Castanha!N$24","v":0},{"$f":"Castanha!O$24","v":0},{"$f":"Castanha!P$24","v":0},{"$f":"Castanha!Q$24","v":0},{"$f":"Castanha!R$24","v":0},{"$f":"Castanha!S$24","v":0},{"$f":"Castanha!T$24","v":0},{"$f":"Castanha!U$24","v":0},{"$f":"Castanha!V$24","v":0},{"$f":"Castanha!W$24","v":0},{"$f":"Castanha!X$24","v":0},{"$f":"Castanha!Y$24","v":0},{"$f":"Castanha!Z$24","v":0},{"$f":"Castanha!AA$24","v":0},{"$f":"Castanha!AB$24","v":0},{"$f":"Castanha!AC$24","v":0},{"$f":"Castanha!AD$24","v":0},{"$f":"Castanha!AE$24","v":0},{"$f":"Castanha!AF$24","v":0},{"$f":"Castanha!AG$24","v":0},null,0]
[]
[null,null,null,null,null,null,null,null,null,null,null,null,null,null,null,{"$f":"Produção!$A$11","v":"fruto cajá"},null,{"$f":"'fruto cajá'!D$24","v":0},{"$f":"'fruto cajá'!E$24","v":0},{"$f":"'fruto cajá'!F$24","v":0},{"$f":"'fruto cajá'!G$24","v":0},{"$f":"'fruto cajá'!H$24","v":0},{"$f":"'fruto cajá'!I$24","v":0},{"$f":"'fruto cajá'!J$24","v":0},{"$f":"'fruto cajá'!K$24","v":0},{"$f":"'fruto cajá'!L$24","v":0},{"$f":"'fruto cajá'!M$24","v":0},{"$f":"'fruto cajá'!N$24","v":0},{"$f":"'fruto cajá'!O$24","v":0},{"$f":"'fruto cajá'!P$24","v":0},{"$f":"'fruto cajá'!Q$24","v":0},{"$f":"'fruto cajá'!R$24","v":0},{"$f":"'fruto cajá'!S$24","v":0},{"$f":"'fruto cajá'!T$24","v":0},{"$f":"'fruto cajá'!U$24","v":0},{"$f":"'fruto cajá'!V$24","v":0},{"$f":"'fruto cajá'!W$24","v":0},{"$f":"'fruto cajá'!X$24","v":0},{"$f":"'fruto cajá'!Y$24","v":0},{"$f":"'fruto cajá'!Z$24","v":0},{"$f":"'fruto cajá'!AA$24","v":0},{"$f":"'fruto cajá'!AB$24","v":0},{"$f":"'fruto cajá'!AC$24","v":0},{"$f":"'fruto cajá'!AD$24","v":0},{"$f":"'fruto cajá'!AE$24","v":0},{"$f":"'fruto cajá'!AF$24","v":0},{"$f":"'fruto cajá'!AG$24","v":0},null,{"$f":"SUM(Q76:AU76)","v":0}]
[null,null,null,null,null,null,null,null,null,null,null,null,null,null,null,{"$f":"Produção!$A$12","v":"semente urucum"},null,{"$f":"'semente urucum'!D$24","v":0},{"$f":"'semente urucum'!E$24","v":0},{"$f":"'semente urucum'!F$24","v":0},{"$f":"'semente urucum'!G$24","v":0},{"$f":"'semente urucum'!H$24","v":0},{"$f":"'semente urucum'!I$24","v":0},{"$f":"'semente urucum'!J$24","v":0},{"$f":"'semente urucum'!K$24","v":0},{"$f":"'semente urucum'!L$24","v":0},{"$f":"'semente urucum'!M$24","v":0},{"$f":"'semente urucum'!N$24","v":0},{"$f":"'semente urucum'!O$24","v":0},{"$f":"'semente urucum'!P$24","v":0},{"$f":"'semente urucum'!Q$24","v":0},{"$f":"'semente urucum'!R$24","v":0},{"$f":"'semente urucum'!S$24","v":0},{"$f":"'semente urucum'!T$24","v":0},{"$f":"'semente urucum'!U$24","v":0},{"$f":"'semente urucum'!V$24","v":0},{"$f":"'semente urucum'!W$24","v":0},{"$f":"'semente urucum'!X$24","v":0},{"$f":"'semente urucum'!Y$24","v":0},{"$f":"'semente urucum'!Z$24","v":0},{"$f":"'semente urucum'!AA$24","v":0},{"$f":"'semente urucum'!AB$24","v":0},{"$f":"'semente urucum'!AC$24","v":0},{"$f":"'semente urucum'!AD$24","v":0},{"$f":"'semente urucum'!AE$24","v":0},{"$f":"'semente urucum'!AF$24","v":0},{"$f":"'semente urucum'!AG$24","v":0},null,{"$f":"SUM(Q77:AU77)","v":0}]
[null,null,null,null,null,null,null,null,null,null,null,null,null,null,null,{"$f":"Produção!$A$13","v":"semente aroeira"},null,{"$f":"'semente aroeira'!D$24","v":0},{"$f":"'semente aroeira'!E$24","v":0},{"$f":"'semente aroeira'!F$24","v":0},{"$f":"'semente aroeira'!G$24","v":0},{"$f":"'semente aroeira'!H$24","v":0},{"$f":"'semente aroeira'!I$24","v":0},{"$f":"'semente aroeira'!J$24","v":0},{"$f":"'semente aroeira'!K$24","v":0},{"$f":"'semente aroeira'!L$24","v":0},{"$f":"'semente aroeira'!M$24","v":0},{"$f":"'semente aroeira'!N$24","v":0},{"$f":"'semente aroeira'!O$24","v":0},{"$f":"'semente aroeira'!P$24","v":0},{"$f":"'semente aroeira'!Q$24","v":0},{"$f":"'semente aroeira'!R$24","v":0},{"$f":"'semente aroeira'!S$24","v":0},{"$f":"'semente aroeira'!T$24","v":0},{"$f":"'semente aroeira'!U$24","v":0},{"$f":"'semente aroeira'!V$24","v":0},{"$f":"'semente aroeira'!W$24","v":0},{"$f":"'semente aroeira'!X$24","v":0},{"$f":"'semente aroeira'!Y$24","v":0},{"$f":"'semente aroeira'!Z$24","v":0},{"$f":"'semente aroeira'!AA$24","v":0},{"$f":"'semente aroeira'!AB$24","v":0},{"$f":"'semente aroeira'!AC$24","v":0},{"$f":"'semente aroeira'!AD$24","v":0},{"$f":"'semente aroeira'!AE$24","v":0},{"$f":"'semente aroeira'!AF$24","v":0},{"$f":"'semente aroeira'!AG$24","v":0},null,{"$f":"SUM(Q78:AU78)","v":0}]
[null,null,null,null,null,null,null,null,null,null,null,null,null,null,null,{"$f":"Produção!$A$14","v":"raiz mandioca"},null,{"$f":"'raiz mandioca'!D$24","v":0},{"$f":"'raiz mandioca'!E$24","v":0},{"$f":"'raiz mandioca'!F$24","v":0},{"$f":"'raiz mandioca'!G$24","v":0},{"$f":"'raiz mandioca'!H$24","v":0},{"$f":"'raiz mandioca'!I$24","v":0},{"$f":"'raiz mandioca'!J$24","v":0},{"$f":"'raiz mandioca'!K$24","v":0},{"$f":"'raiz mandioca'!L$24","v":0},{"$f":"'raiz mandioca'!M$24","v":0},{"$f":"'raiz mandioca'!N$24","v":0},{"$f":"'raiz mandioca'!O$24","v":0},{"$f":"'raiz mandioca'!P$24","v":0},{"$f":"'raiz mandioca'!Q$24","v":0},{"$f":"'raiz mandioca'!R$24","v":0},{"$f":"'raiz mandioca'!S$24","v":0},{"$f":"'raiz mandioca'!T$24","v":0},{"$f":"'raiz mandioca'!U$24","v":0},{"$f":"'raiz mandioca'!V$24","v":0},{"$f":"'raiz mandioca'!W$24","v":0},{"$f":"'raiz mandioca'!X$24","v":0},{"$f":"'raiz mandioca'!Y$24","v":0},{"$f":"'raiz mandioca'!Z$24","v":0},{"$f":"'raiz mandioca'!AA$24","v":0},{"$f":"'raiz mandioca'!AB$24","v":0},{"$f":"'raiz mandioca'!AC$24","v":0},{"$f":"'raiz mandioca'!AD$24","v":0},{"$f":"'raiz mandioca'!AE$24","v":0},{"$f":"'raiz mandioca'!AF$24","v":0},{"$f":"'raiz mandioca'!AG$24","v":0},null,{"$f":"SUM(Q79:AU79)","v":0}]
[]
[null,null,null,null,null,null,null,null,null,null,null,null,null,null,null,{"$f":"Produção!$A$15","v":"fruto abacaxi"},null,{"$f":"abacaxi!D$24","v":0},{"$f":"abacaxi!E$24","v":0},{"$f":"abacaxi!F$24","v":0},{"$f":"abacaxi!G$24","v":0},{"$f":"abacaxi!H$24","v":0},{"$f":"abacaxi!I$24","v":0},{"$f":"abacaxi!J$24","v":0},{"$f":"abacaxi!K$24","v":0},{"$f":"abacaxi!L$24","v":0},{"$f":"abacaxi!M$24","v":0},{"$f":"abacaxi!N$24","v":0},{"$f":"abacaxi!O$24","v":0},{"$f":"abacaxi!P$24","v":0},{"$f":"abacaxi!Q$24","v":0},{"$f":"abacaxi!R$24","v":0},{"$f":"abacaxi!S$24","v":0},{"$f":"abacaxi!T$24","v":0},{"$f":"abacaxi!U$24","v":0},{"$f":"abacaxi!V$24","v":0},{"$f":"abacaxi!W$24","v":0},{"$f":"abacaxi!X$24","v":0},{"$f":"abacaxi!Y$24","v":0},{"$f":"abacaxi!Z$24","v":0},{"$f":"abacaxi!AA$24","v":0},{"$f":"abacaxi!AB$24","v":0},{"$f":"abacaxi!AC$24","v":0},{"$f":"abacaxi!AD$24","v":0},{"$f":"abacaxi!AE$24","v":0},{"$f":"abacaxi!AF$24","v":0},{"$f":"abacaxi!AG$24","v":0},null,{"$f":"SUM(Q81:AU81)","v":0}]
[null,null,null,null,null,null,null,null,null,null,null,null,null,null,null,{"$f":"Produção!$A$16","v":"espigas milho"},null,{"$f":"espigas!D$24","v":0},{"$f":"espigas!E$24","v":0},{"$f":"espigas!F$24","v":0},{"$f":"espigas!G$24","v":0},{"$f":"espigas!H$24","v":0},{"$f":"espigas!I$24","v":0},{"$f":"espigas!J$24","v":0},{"$f":"espigas!K$24","v":0},{"$f":"espigas!L$24","v":0},{"$f":"espigas!M$24","v":0},{"$f":"espigas!N$24","v":0},{"$f":"espigas!O$24","v":0},{"$f":"espigas!P$24","v":0},{"$f":"espigas!Q$24","v":0},{"$f":"espigas!R$24","v":0},{"$f":"espigas!S$24","v":0},{"$f":"espigas!T$24","v":0},{"$f":"espigas!U$24","v":0},{"$f":"espigas!V$24","v":0},{"$f":"espigas!W$24","v":0},{"$f":"espigas!X$24","v":0},{"$f":"espigas!Y$24","v":0},{"$f":"espigas!Z$24","v":0},{"$f":"espigas!AA$24","v":0},{"$f":"espigas!AB$24","v":0},{"$f":"espigas!AC$24","v":0},{"$f":"espigas!AD$24","v":0},{"$f":"espigas!AE$24","v":0},{"$f":"espigas!AF$24","v":0},{"$f":"espigas!AG$24","v":0},null,0]
[null,null,null,null,null,null,null,null,null,null,null,null,null,null,null,{"$f":"Produção!$A$17","v":"estaca sansão do campo"},null,{"$f":"'semente caupi'!D$24","v":0},{"$f":"'semente caupi'!E$24","v":0},{"$f":"'semente caupi'!F$24","v":0},{"$f":"'semente caupi'!G$24","v":0},{"$f":"'semente caupi'!H$24","v":0},{"$f":"'semente caupi'!I$24","v":0},{"$f":"'semente caupi'!J$24","v":0},{"$f":"'semente caupi'!K$24","v":0},{"$f":"'semente caupi'!L$24","v":0},{"$f":"'semente caupi'!M$24","v":0},{"$f":"'semente caupi'!N$24","v":0},{"$f":"'semente caupi'!O$24","v":0},{"$f":"'semente caupi'!P$24","v":0},{"$f":"'semente caupi'!Q$24","v":0},{"$f":"'semente caupi'!R$24","v":0},{"$f":"'semente caupi'!S$24","v":0},{"$f":"'semente caupi'!T$24","v":0},{"$f":"'semente caupi'!U$24","v":0},{"$f":"'semente caupi'!V$24","v":0},{"$f":"'semente caupi'!W$24","v":0},{"$f":"'semente caupi'!X$24","v":0},{"$f":"'semente caupi'!Y$24","v":0},{"$f":"'semente caupi'!Z$24","v":0},{"$f":"'semente caupi'!AA$24","v":0},{"$f":"'semente caupi'!AB$24","v":0},{"$f":"'semente caupi'!AC$24","v":0},{"$f":"'semente caupi'!AD$24","v":0},{"$f":"'semente caupi'!AE$24","v":0},{"$f":"'semente caupi'!AF$24","v":0},{"$f":"'semente caupi'!AG$24","v":0},null,0]
[null,null,null,null,null,null,null,null,null,null,null,null,null,null,null,{"$f":"Produção!$A$18","v":"madeira madeira nova"},null,{"$f":"biomassa!D$24","v":0},{"$f":"biomassa!E$24","v":0},{"$f":"biomassa!F$24","v":0},{"$f":"biomassa!G$24","v":0},{"$f":"biomassa!H$24","v":0},{"$f":"biomassa!I$24","v":0},{"$f":"biomassa!J$24","v":0},{"$f":"biomassa!K$24","v":0},{"$f":"biomassa!L$24","v":0},{"$f":"biomassa!M$24","v":0},{"$f":"biomassa!N$24","v":0},{"$f":"biomassa!O$24","v":0},{"$f":"biomassa!P$24","v":0},{"$f":"biomassa!Q$24","v":0},{"$f":"biomassa!R$24","v":0},{"$f":"biomassa!S$24","v":0},{"$f":"biomassa!T$24","v":0},{"$f":"biomassa!U$24","v":0},{"$f":"biomassa!V$24","v":0},{"$f":"biomassa!W$24","v":0},{"$f":"biomassa!X$24","v":0},{"$f":"biomassa!Y$24","v":0},{"$f":"biomassa!Z$24","v":0},{"$f":"biomassa!AA$24","v":0},{"$f":"biomassa!AB$24","v":0},{"$f":"biomassa!AC$24","v":0},{"$f":"biomassa!AD$24","v":0},{"$f":"biomassa!AE$24","v":0},{"$f":"biomassa!AF$24","v":0},{"$f":"biomassa!AG$24","v":0},null,0]
[null,null,null,null,null,null,null,null,null,null,null,null,null,null,null,{"$f":"Produção!$A$19","v":"lenha fedegoso"},null,{"$f":"madeira!D$24","v":0},{"$f":"madeira!E$24","v":0},{"$f":"madeira!F$24","v":0},{"$f":"madeira!G$24","v":0},{"$f":"madeira!H$24","v":0},{"$f":"madeira!I$24","v":0},{"$f":"madeira!J$24","v":0},{"$f":"madeira!K$24","v":0},{"$f":"madeira!L$24","v":0},{"$f":"madeira!M$24","v":0},{"$f":"madeira!N$24","v":0},{"$f":"madeira!O$24","v":0},{"$f":"madeira!P$24","v":0},{"$f":"madeira!Q$24","v":0},{"$f":"madeira!R$24","v":0},{"$f":"madeira!S$24","v":0},{"$f":"madeira!T$24","v":0},{"$f":"madeira!U$24","v":0},{"$f":"madeira!V$24","v":0},{"$f":"madeira!W$24","v":0},{"$f":"madeira!X$24","v":0},{"$f":"madeira!Y$24","v":0},{"$f":"madeira!Z$24","v":0},{"$f":"madeira!AA$24","v":0},{"$f":"madeira!AB$24","v":0},{"$f":"madeira!AC$24","v":0},{"$f":"madeira!AD$24","v":0},{"$f":"madeira!AE$24","v":0},{"$f":"madeira!AF$24","v":0},{"$f":"madeira!AG$24","v":0},null,0]
[null,null,null,null,null,null,null,null,null,null,null,null,null,null,null,{"$f":"Produção!$A$20","v":"estaca pau d'alho"},null,{"$f":"'Produto 15'!D$24","v":0},{"$f":"'Produto 15'!E$24","v":0},{"$f":"'Produto 15'!F$24","v":0},{"$f":"'Produto 15'!G$24","v":0},{"$f":"'Produto 15'!H$24","v":0},{"$f":"'Produto 15'!I$24","v":0},{"$f":"'Produto 15'!J$24","v":0},{"$f":"'Produto 15'!K$24","v":0},{"$f":"'Produto 15'!L$24","v":0},{"$f":"'Produto 15'!M$24","v":0},{"$f":"'Produto 15'!N$24","v":0},{"$f":"'Produto 15'!O$24","v":0},{"$f":"'Produto 15'!P$24","v":0},{"$f":"'Produto 15'!Q$24","v":0},{"$f":"'Produto 15'!R$24","v":0},{"$f":"'Produto 15'!S$24","v":0},{"$f":"'Produto 15'!T$24","v":0},{"$f":"'Produto 15'!U$24","v":0},{"$f":"'Produto 15'!V$24","v":0},{"$f":"'Produto 15'!W$24","v":0},{"$f":"'Produto 15'!X$24","v":0},{"$f":"'Produto 15'!Y$24","v":0},{"$f":"'Produto 15'!Z$24","v":0},{"$f":"'Produto 15'!AA$24","v":0},{"$f":"'Produto 15'!AB$24","v":0},{"$f":"'Produto 15'!AC$24","v":0},{"$f":"'Produto 15'!AD$24","v":0},{"$f":"'Produto 15'!AE$24","v":0},{"$f":"'Produto 15'!AF$24","v":0},{"$f":"'Produto 15'!AG$24","v":0},null,0]
[null,null,null,null,null,null,null,null,null,null,null,null,null,null,null,{"$f":"Produção!$A$21","v":"caixotaria boleira"},null,{"$f":"'Produto 16'!D$24","v":0},{"$f":"'Produto 16'!E$24","v":0},{"$f":"'Produto 16'!F$24","v":0},{"$f":"'Produto 16'!G$24","v":0},{"$f":"'Produto 16'!H$24","v":0},{"$f":"'Produto 16'!I$24","v":0},{"$f":"'Produto 16'!J$24","v":0},{"$f":"'Produto 16'!K$24","v":0},{"$f":"'Produto 16'!L$24","v":0},{"$f":"'Produto 16'!M$24","v":0},{"$f":"'Produto 16'!N$24","v":0},{"$f":"'Produto 16'!O$24","v":0},{"$f":"'Produto 16'!P$24","v":0},{"$f":"'Produto 16'!Q$24","v":0},{"$f":"'Produto 16'!R$24","v":0},{"$f":"'Produto 16'!S$24","v":0},{"$f":"'Produto 16'!T$24","v":0},{"$f":"'Produto 16'!U$24","v":0},{"$f":"'Produto 16'!V$24","v":0},{"$f":"'Produto 16'!W$24","v":0},{"$f":"'Produto 16'!X$24","v":0},{"$f":"'Produto 16'!Y$24","v":0},{"$f":"'Produto 16'!Z$24","v":0},{"$f":"'Produto 16'!AA$24","v":0},{"$f":"'Produto 16'!AB$24","v":0},{"$f":"'Produto 16'!AC$24","v":0},{"$f":"'Produto 16'!AD$24","v":0},{"$f":"'Produto 16'!AE$24","v":0},{"$f":"'Produto 16'!AF$24","v":0},{"$f":"'Produto 16'!AG$24","v":0},null,0]
[]
[null,null,null,null,null,null,null,null,null,null,null,null,null,null,null,{"$f":"Produção!$A$22","v":"madeira angico roxo"},null,{"$f":"'Produto 17'!D$24","v":0},{"$f":"'Produto 17'!E$24","v":0},{"$f":"'Produto 17'!F$24","v":0},{"$f":"'Produto 17'!G$24","v":0},{"$f":"'Produto 17'!H$24","v":0},{"$f":"'Produto 17'!I$24","v":0},{"$f":"'Produto 17'!J$24","v":0},{"$f":"'Produto 17'!K$24","v":0},{"$f":"'Produto 17'!L$24","v":0},{"$f":"'Produto 17'!M$24","v":0},{"$f":"'Produto 17'!N$24","v":0},{"$f":"'Produto 17'!O$24","v":0},{"$f":"'Produto 17'!P$24","v":0},{"$f":"'Produto 17'!Q$24","v":0},{"$f":"'Produto 17'!R$24","v":0},{"$f":"'Produto 17'!S$24","v":0},{"$f":"'Produto 17'!T$24","v":0},{"$f":"'Produto 17'!U$24","v":0},{"$f":"'Produto 17'!V$24","v":0},{"$f":"'Produto 17'!W$24","v":0},{"$f":"'Produto 17'!X$24","v":0},{"$f":"'Produto 17'!Y$24","v":0},{"$f":"'Produto 17'!Z$24","v":0},{"$f":"'Produto 17'!AA$24","v":0},{"$f":"'Produto 17'!AB$24","v":0},{"$f":"'Produto 17'!AC$24","v":0},{"$f":"'Produto 17'!AD$24","v":0},{"$f":"'Produto 17'!AE$24","v":0},{"$f":"'Produto 17'!AF$24","v":0},{"$f":"'Produto 17'!AG$24","v":0},null,{"$f":"SUM(Q89:AU89)","v":0}]
[null,null,null,null,null,null,null,null,null,null,null,null,null,null,null,{"$f":"Produção!$A$23","v":"madeira ipê roxo"},null,{"$f":"'Produto 18'!D$24","v":0},{"$f":"'Produto 18'!E$24","v":0},{"$f":"'Produto 18'!F$24","v":0},{"$f":"'Produto 18'!G$24","v":0},{"$f":"'Produto 18'!H$24","v":0},{"$f":"'Produto 18'!I$24","v":0},{"$f":"'Produto 18'!J$24","v":0},{"$f":"'Produto 18'!K$24","v":0},{"$f":"'Produto 18'!L$24","v":0},{"$f":"'Produto 18'!M$24","v":0},{"$f":"'Produto 18'!N$24","v":0},{"$f":"'Produto 18'!O$24","v":0},{"$f":"'Produto 18'!P$24","v":0},{"$f":"'Produto 18'!Q$24","v":0},{"$f":"'Produto 18'!R$24","v":0},{"$f":"'Produto 18'!S$24","v":0},{"$f":"'Produto 18'!T$24","v":0},{"$f":"'Produto 18'!U$24","v":0},{"$f":"'Produto 18'!V$24","v":0},{"$f":"'Produto 18'!W$24","v":0},{"$f":"'Produto 18'!X$24","v":0},{"$f":"'Produto 18'!Y$24","v":0},{"$f":"'Produto 18'!Z$24","v":0},{"$f":"'Produto 18'!AA$24","v":0},{"$f":"'Produto 18'!AB$24","v":0},{"$f":"'Produto 18'!AC$24","v":0},{"$f":"'Produto 18'!AD$24","v":0},{"$f":"'Produto 18'!AE$24","v":0},{"$f":"'Produto 18'!AF$24","v":0},{"$f":"'Produto 18'!AG$24","v":0},null,0]
[null,null,null,null,null,null,null,null,null,null,null,null,null,null,null,{"$f":"Produção!$A$24","v":"madeira ipê amarelo"},null,{"$f":"'Produto 19'!D$24","v":0},{"$f":"'Produto 19'!E$24","v":0},{"$f":"'Produto 19'!F$24","v":0},{"$f":"'Produto 19'!G$24","v":0},{"$f":"'Produto 19'!H$24","v":0},{"$f":"'Produto 19'!I$24","v":0},{"$f":"'Produto 19'!J$24","v":0},{"$f":"'Produto 19'!K$24","v":0},{"$f":"'Produto 19'!L$24","v":0},{"$f":"'Produto 19'!M$24","v":0},{"$f":"'Produto 19'!N$24","v":0},{"$f":"'Produto 19'!O$24","v":0},{"$f":"'Produto 19'!P$24","v":0},{"$f":"'Produto 19'!Q$24","v":0},{"$f":"'Produto 19'!R$24","v":0},{"$f":"'Produto 19'!S$24","v":0},{"$f":"'Produto 19'!T$24","v":0},{"$f":"'Produto 19'!U$24","v":0},{"$f":"'Produto 19'!V$24","v":0},{"$f":"'Produto 19'!W$24","v":0},{"$f":"'Produto 19'!X$24","v":0},{"$f":"'Produto 19'!Y$24","v":0},{"$f":"'Produto 19'!Z$24","v":0},{"$f":"'Produto 19'!AA$24","v":0},{"$f":"'Produto 19'!AB$24","v":0},{"$f":"'Produto 19'!AC$24","v":0},{"$f":"'Produto 19'!AD$24","v":0},{"$f":"'Produto 19'!AE$24","v":0},{"$f":"'Produto 19'!AF$24","v":0},{"$f":"'Produto 19'!AG$24","v":0},null,0]
[null,null,null,null,null,null,null,null,null,null,null,null,null,null,null,{"$f":"Produção!$A$25","v":"madeira gonçalo alves"},null,{"$f":"'Produto 20'!D$24","v":0},{"$f":"'Produto 20'!E$24","v":0},{"$f":"'Produto 20'!F$24","v":0},{"$f":"'Produto 20'!G$24","v":0},{"$f":"'Produto 20'!H$24","v":0},{"$f":"'Produto 20'!I$24","v":0},{"$f":"'Produto 20'!J$24","v":0},{"$f":"'Produto 20'!K$24","v":0},{"$f":"'Produto 20'!L$24","v":0},{"$f":"'Produto 20'!M$24","v":0},{"$f":"'Produto 20'!N$24","v":0},{"$f":"'Produto 20'!O$24","v":0},{"$f":"'Produto 20'!P$24","v":0},{"$f":"'Produto 20'!Q$24","v":0},{"$f":"'Produto 20'!R$24","v":0},{"$f":"'Produto 20'!S$24","v":0},{"$f":"'Produto 20'!T$24","v":0},{"$f":"'Produto 20'!U$24","v":0},{"$f":"'Produto 20'!V$24","v":0},{"$f":"'Produto 20'!W$24","v":0},{"$f":"'Produto 20'!X$24","v":0},{"$f":"'Produto 20'!Y$24","v":0},{"$f":"'Produto 20'!Z$24","v":0},{"$f":"'Produto 20'!AA$24","v":0},{"$f":"'Produto 20'!AB$24","v":0},{"$f":"'Produto 20'!AC$24","v":0},{"$f":"'Produto 20'!AD$24","v":0},{"$f":"'Produto 20'!AE$24","v":0},{"$f":"'Produto 20'!AF$24","v":0},{"$f":"'Produto 20'!AG$24","v":0},null,0]
[null,null,null,null,null,null,null,null,null,null,null,null,null,null,null,{"$f":"Produção!$A$26","v":"madeira vinhatico"},null,{"$f":"'Produto 21'!D$24","v":0},{"$f":"'Produto 21'!E$24","v":0},{"$f":"'Produto 21'!F$24","v":0},{"$f":"'Produto 21'!G$24","v":0},{"$f":"'Produto 21'!H$24","v":0},{"$f":"'Produto 21'!I$24","v":0},{"$f":"'Produto 21'!J$24","v":0},{"$f":"'Produto 21'!K$24","v":0},{"$f":"'Produto 21'!L$24","v":0},{"$f":"'Produto 21'!M$24","v":0},{"$f":"'Produto 21'!N$24","v":0},{"$f":"'Produto 21'!O$24","v":0},{"$f":"'Produto 21'!P$24","v":0},{"$f":"'Produto 21'!Q$24","v":0},{"$f":"'Produto 21'!R$24","v":0},{"$f":"'Produto 21'!S$24","v":0},{"$f":"'Produto 21'!T$24","v":0},{"$f":"'Produto 21'!U$24","v":0},{"$f":"'Produto 21'!V$24","v":0},{"$f":"'Produto 21'!W$24","v":0},{"$f":"'Produto 21'!X$24","v":0},{"$f":"'Produto 21'!Y$24","v":0},{"$f":"'Produto 21'!Z$24","v":0},{"$f":"'Produto 21'!AA$24","v":0},{"$f":"'Produto 21'!AB$24","v":0},{"$f":"'Produto 21'!AC$24","v":0},{"$f":"'Produto 21'!AD$24","v":0},{"$f":"'Produto 21'!AE$24","v":0},{"$f":"'Produto 21'!AF$24","v":0},{"$f":"'Produto 21'!AG$24","v":0},null,0]
[null,null,null,null,null,null,null,null,null,null,null,null,null,null,null,{"$f":"Produção!$A$27","v":"madeira jequitiba"},null,{"$f":"'Produto 22'!D$24","v":0},{"$f":"'Produto 22'!E$24","v":0},{"$f":"'Produto 22'!F$24","v":0},{"$f":"'Produto 22'!G$24","v":0},{"$f":"'Produto 22'!H$24","v":0},{"$f":"'Produto 22'!I$24","v":0},{"$f":"'Produto 22'!J$24","v":0},{"$f":"'Produto 22'!K$24","v":0},{"$f":"'Produto 22'!L$24","v":0},{"$f":"'Produto 22'!M$24","v":0},{"$f":"'Produto 22'!N$24","v":0},{"$f":"'Produto 22'!O$24","v":0},{"$f":"'Produto 22'!P$24","v":0},{"$f":"'Produto 22'!Q$24","v":0},{"$f":"'Produto 22'!R$24","v":0},{"$f":"'Produto 22'!S$24","v":0},{"$f":"'Produto 22'!T$24","v":0},{"$f":"'Produto 22'!U$24","v":0},{"$f":"'Produto 22'!V$24","v":0},{"$f":"'Produto 22'!W$24","v":0},{"$f":"'Produto 22'!X$24","v":0},{"$f":"'Produto 22'!Y$24","v":0},{"$f":"'Produto 22'!Z$24","v":0},{"$f":"'Produto 22'!AA$24","v":0},{"$f":"'Produto 22'!AB$24","v":0},{"$f":"'Produto 22'!AC$24","v":0},{"$f":"'Produto 22'!AD$24","v":0},{"$f":"'Produto 22'!AE$24","v":0},{"$f":"'Produto 22'!AF$24","v":0},{"$f":"'Produto 22'!AG$24","v":0},null,0]
[null,null,null,null,null,null,null,null,null,null,null,null,null,null,null,{"$f":"Produção!$A$29","v":"grão caupi"},null,{"$f":"'Produto 23'!D$24","v":0},{"$f":"'Produto 23'!E$24","v":0},{"$f":"'Produto 23'!F$24","v":0},{"$f":"'Produto 23'!G$24","v":0},{"$f":"'Produto 23'!H$24","v":0},{"$f":"'Produto 23'!I$24","v":0},{"$f":"'Produto 23'!J$24","v":0},{"$f":"'Produto 23'!K$24","v":0},{"$f":"'Produto 23'!L$24","v":0},{"$f":"'Produto 23'!M$24","v":0},{"$f":"'Produto 23'!N$24","v":0},{"$f":"'Produto 23'!O$24","v":0},{"$f":"'Produto 23'!P$24","v":0},{"$f":"'Produto 23'!Q$24","v":0},{"$f":"'Produto 23'!R$24","v":0},{"$f":"'Produto 23'!S$24","v":0},{"$f":"'Produto 23'!T$24","v":0},{"$f":"'Produto 23'!U$24","v":0},{"$f":"'Produto 23'!V$24","v":0},{"$f":"'Produto 23'!W$24","v":0},{"$f":"'Produto 23'!X$24","v":0},{"$f":"'Produto 23'!Y$24","v":0},{"$f":"'Produto 23'!Z$24","v":0},{"$f":"'Produto 23'!AA$24","v":0},{"$f":"'Produto 23'!AB$24","v":0},{"$f":"'Produto 23'!AC$24","v":0},{"$f":"'Produto 23'!AD$24","v":0},{"$f":"'Produto 23'!AE$24","v":0},{"$f":"'Produto 23'!AF$24","v":0},{"$f":"'Produto 23'!AG$24","v":0},null,0]
[]
[null,null,null,null,null,null,null,null,null,null,null,null,null,null,null,{"$f":"'Parâmetros Gerais'!$B$37","v":"grão caupi"},null,{"$f":"'Produto 24'!D$24","v":0},{"$f":"'Produto 24'!E$24","v":0},{"$f":"'Produto 24'!F$24","v":0},{"$f":"'Produto 24'!G$24","v":0},{"$f":"'Produto 24'!H$24","v":0},{"$f":"'Produto 24'!I$24","v":0},{"$f":"'Produto 24'!J$24","v":0},{"$f":"'Produto 24'!K$24","v":0},{"$f":"'Produto 24'!L$24","v":0},{"$f":"'Produto 24'!M$24","v":0},{"$f":"'Produto 24'!N$24","v":0},{"$f":"'Produto 24'!O$24","v":0},{"$f":"'Produto 24'!P$24","v":0},{"$f":"'Produto 24'!Q$24","v":0},{"$f":"'Produto 24'!R$24","v":0},{"$f":"'Produto 24'!S$24","v":0},{"$f":"'Produto 24'!T$24","v":0},{"$f":"'Produto 24'!U$24","v":0},{"$f":"'Produto 24'!V$24","v":0},{"$f":"'Produto 24'!W$24","v":0},{"$f":"'Produto 24'!X$24","v":0},{"$f":"'Produto 24'!Y$24","v":0},{"$f":"'Produto 24'!Z$24","v":0},{"$f":"'Produto 24'!AA$24","v":0},{"$f":"'Produto 24'!AB$24","v":0},{"$f":"'Produto 24'!AC$24","v":0},{"$f":"'Produto 24'!AD$24","v":0},{"$f":"'Produto 24'!AE$24","v":0},{"$f":"'Produto 24'!AF$24","v":0},{"$f":"'Produto 24'!AG$24","v":0},null,{"$f":"SUM(Q97:AU97)","v":0}]
[]
[]
[null,null,null,null,null,null,null,null,null,null,null,null,null,null,null,null,"MO","Insumos",null,"CustTot","RecTot"]
[null,null,null,null,null,null,null,null,null,null,null,null,null,null,null,{"$f":"Produção!$A$6","v":"latex"},{"$f":"AW38","v":0},{"$f":"AW70","v":0},null,{"$f":"(Q101+R101)*-1","v":0},{"$f":"'Resultados Fin'!C71","v":12267}]
[null,null,null,null,null,null,null,null,null,null,null,null,null,null,null,{"$f":"Produção!$A$7","v":"fruto genipapo"},{"$f":"AW39","v":0},{"$f":"AW71","v":0},null,{"$f":"(Q102+R102)*-1","v":0},{"$f":"'Resultados Fin'!C72","v":42688}]
[null,null,null,null,null,null,null,null,null,null,null,null,null,null,null,{"$f":"Produção!$A$8","v":"fruto araçauna"},{"$f":"AW40","v":0},{"$f":"AW72","v":0},null,0,{"$f":"'Resultados Fin'!C73","v":3920}]
[null,null,null,null,null,null,null,null,null,null,null,null,null,null,null,{"$f":"Produção!$A$9","v":"fruto pitanga"},{"$f":"AW41","v":0},{"$f":"AW73","v":0},null,0,{"$f":"'Resultados Fin'!C74","v":3990}]
[null,null,null,null,null,null,null,null,null,null,null,null,null,null,null,{"$f":"Produção!$A$10","v":"castanha sapucaia"},{"$f":"AW42","v":0},{"$f":"AW74","v":0},null,0,{"$f":"'Resultados Fin'!C75","v":72240}]
[null,null,null,null,null,null,null,null,null,null,null,null,null,null,null,{"$f":"Produção!$A$11","v":"fruto cajá"},{"$f":"AW44","v":0},{"$f":"AW76","v":0},null,0,{"$f":"'Resultados Fin'!C76","v":52184}]
[null,null,null,null,null,null,null,null,null,null,null,null,null,null,null,{"$f":"Produção!$A$12","v":"semente urucum"},{"$f":"AW45","v":0},{"$f":"AW77","v":0},null,0,{"$f":"'Resultados Fin'!C77","v":22720}]
[null,null,null,null,null,null,null,null,null,null,null,null,null,null,null,{"$f":"Produção!$A$13","v":"semente aroeira"},{"$f":"AW46","v":0},{"$f":"AW78","v":0},null,0,{"$f":"'Resultados Fin'!C78","v":5220}]
[null,null,null,null,null,null,null,null,null,null,null,null,null,null,null,{"$f":"Produção!$A$14","v":"raiz mandioca"},{"$f":"AW47","v":0},{"$f":"AW79","v":0},null,0,{"$f":"'Resultados Fin'!C79","v":9120}]
[null,null,null,null,null,null,null,null,null,null,null,null,null,null,null,{"$f":"Produção!$A$15","v":"fruto abacaxi"},{"$f":"AW49","v":0},{"$f":"AW81","v":0},null,0,{"$f":"'Resultados Fin'!C80","v":5490}]
[null,null,null,null,null,null,null,null,null,null,null,null,null,null,null,{"$f":"Produção!$A$16","v":"espigas milho"},0,0,null,0,{"$f":"'Resultados Fin'!C81","v":4275}]
[null,null,null,null,null,null,null,null,null,null,null,null,null,null,null,{"$f":"Produção!$A$17","v":"estaca sansão do campo"},0,0,null,0,{"$f":"'Resultados Fin'!C82","v":1080}]
[null,null,null,null,null,null,null,null,null,null,null,null,null,null,null,{"$f":"Produção!$A$18","v":"madeira madeira nova"},0,0,null,0,{"$f":"'Resultados Fin'!C83","v":2500}]
[null,null,null,null,null,null,null,null,null,null,null,null,null,null,null,{"$f":"Produção!$A$19","v":"lenha fedegoso"},0,0,null,0,{"$f":"'Resultados Fin'!C84","v":250}]
[null,null,null,null,null,null,null,null,null,null,null,null,null,null,null,{"$f":"Produção!$A$20","v":"estaca pau d'alho"},0,0,null,0,{"$f":"'Resultados Fin'!C85","v":0}]
[null,null,null,null,null,null,null,null,null,null,null,null,null,null,null,{"$f":"Produção!$A$21","v":"caixotaria boleira"},0,0,null,0,{"$f":"'Resultados Fin'!C86","v":500}]
[null,null,null,null,null,null,null,null,null,null,null,null,null,null,null,{"$f":"Produção!$A$22","v":"madeira angico roxo"},{"$f":"AW57","v":0},{"$f":"AW89","v":0},null,0,{"$f":"'Resultados Fin'!C87","v":3150}]
[null,null,null,null,null,null,null,null,null,null,null,null,null,null,null,{"$f":"Produção!$A$23","v":"madeira ipê roxo"},0,0,null,0,{"$f":"'Resultados Fin'!C88","v":0}]
[null,null,null,null,null,null,null,null,null,null,null,null,null,null,null,{"$f":"Produção!$A$24","v":"madeira ipê amarelo"},0,0,null,0,{"$f":"'Resultados Fin'!C89","v":12600}]
[null,null,null,null,null,null,null,null,null,null,null,null,null,null,null,{"$f":"Produção!$A$25","v":"madeira gonçalo alves"},0,0,null,0,{"$f":"'Resultados Fin'!C90","v":0}]
[null,null,null,null,null,null,null,null,null,null,null,null,null,null,null,{"$f":"Produção!$A$26","v":"madeira vinhatico"},0,0,null,0,{"$f":"'Resultados Fin'!C91","v":3500}]
[null,null,null,null,null,null,null,null,null,null,null,null,null,null,null,{"$f":"Produção!$A$27","v":"madeira jequitiba"},0,0,null,0,{"$f":"'Resultados Fin'!C92","v":1400}]
[null,null,null,null,null,null,null,null,null,null,null,null,null,null,null,{"$f":"Produção!$A$29","v":"grão caupi"},0,0,null,0,{"$f":"'Resultados Fin'!C93","v":0}]
[null,null,null,null,null,null,null,null,null,null,null,null,null,null,null,{"$f":"'Parâmetros Gerais'!$B$37","v":"grão caupi"},{"$f":"AW65","v":0},{"$f":"AW97","v":0},null,0,0]

{"sheet":"Gráficos 20 (2)","index":44,"n_rows":124,"n_cols":49,"rows_kept":124,"cut":false,"hidden":false,"merged":[]}
[]
[null,null,null,null,null,null,null,null,null,null,null,null,null,null,null,null,0,1,2,3,4,5,6,7,8,9,10,11,12,13,14,15,16,17,18,19,20,21,22,23,24,25,26,27,28,29,30]
[null,null,null,null,null,null,null,null,null,null,null,null,null,null,null,"Uso de MO",{"$f":"SUM(Q4:Q32)","v":0},{"$f":"SUM(R4:R32)","v":0},0,0,0,0,0,0,0,0,0,0,0,0,0,0,0,0,0,0,0,0,0,0,0,0,0,0,0,0,0]
[null,null,null,null,null,null,null,null,null,null,null,null,null,null,null,"Atividades Gerais",{"$f":"'Preparo e Gerais'!D19","v":0}]
[null,null,null,null,null,null,null,null,null,null,null,null,null,null,null,{"$f":"Produção!$A$6","v":"latex"},null,{"$f":"latex!D$23","v":0},{"$f":"latex!E$23","v":0},{"$f":"latex!F$23","v":0},{"$f":"latex!G$23","v":0},{"$f":"latex!H$23","v":0},{"$f":"latex!I$23","v":0},{"$f":"latex!J$23","v":0},{"$f":"latex!K$23","v":0},{"$f":"latex!L$23","v":0},{"$f":"latex!M$23","v":0},{"$f":"latex!N$23","v":0},{"$f":"latex!O$23","v":0},{"$f":"latex!P$23","v":0},{"$f":"latex!Q$23","v":0},{"$f":"latex!R$23","v":0},{"$f":"latex!S$23","v":0},{"$f":"latex!T$23","v":0},{"$f":"latex!U$23","v":0},{"$f":"latex!V$23","v":0},{"$f":"latex!W$23","v":0},{"$f":"latex!X$23","v":0},{"$f":"latex!Y$23","v":0},{"$f":"latex!Z$23","v":0},{"$f":"latex!AA$23","v":0},{"$f":"latex!AB$23","v":0},{"$f":"latex!AC$23","v":0},{"$f":"latex!AD$23","v":0},{"$f":"latex!AE$23","v":0},{"$f":"latex!AF$23","v":0},{"$f":"latex!AG$23","v":0}]
[null,null,null,null,null,null,null,null,null,null,null,null,null,null,null,{"$f":"Produção!$A$7","v":"fruto genipapo"},null,{"$f":"'fruto genipapo'!D$23","v":0},{"$f":"'fruto genipapo'!E$23","v":0},{"$f":"'fruto genipapo'!F$23","v":0},{"$f":"'fruto genipapo'!G$23","v":0},{"$f":"'fruto genipapo'!H$23","v":0},{"$f":"'fruto genipapo'!I$23","v":0},{"$f":"'fruto genipapo'!J$23","v":0},{"$f":"'fruto genipapo'!K$23","v":0},{"$f":"'fruto genipapo'!L$23","v":0},{"$f":"'fruto genipapo'!M$23","v":0},{"$f":"'fruto genipapo'!N$23","v":0},{"$f":"'fruto genipapo'!O$23","v":0},{"$f":"'fruto genipapo'!P$23","v":0},{"$f":"'fruto genipapo'!Q$23","v":0},{"$f":"'fruto genipapo'!R$23","v":0},{"$f":"'fruto genipapo'!S$23","v":0},{"$f":"'fruto genipapo'!T$23","v":0},{"$f":"'fruto genipapo'!U$23","v":0},{"$f":"'fruto genipapo'!V$23","v":0},{"$f":"'fruto genipapo'!W$23","v":0},{"$f":"'fruto genipapo'!X$23","v":0},{"$f":"'fruto genipapo'!Y$23","v":0},{"$f":"'fruto genipapo'!Z$23","v":0},{"$f":"'fruto genipapo'!AA$23","v":0},{"$f":"'fruto genipapo'!AB$23","v":0},{"$f":"'fruto genipapo'!AC$23","v":0},{"$f":"'fruto genipapo'!AD$23","v":0},{"$f":"'fruto genipapo'!AE$23","v":0},{"$f":"'fruto genipapo'!AF$23","v":0},{"$f":"'fruto genipapo'!AG$23","v":0}]
[null,null,null,null,null,null,null,null,null,null,null,null,null,null,null,{"$f":"Produção!$A$8","v":"fruto araçauna"},null,{"$f":"'fruto araçauna'!D$23","v":0},{"$f":"'fruto araçauna'!E$23","v":0},{"$f":"'fruto araçauna'!F$23","v":0},{"$f":"'fruto araçauna'!G$23","v":0},{"$f":"'fruto araçauna'!H$23","v":0},{"$f":"'fruto araçauna'!I$23","v":0},{"$f":"'fruto araçauna'!J$23","v":0},{"$f":"'fruto araçauna'!K$23","v":0},{"$f":"'fruto araçauna'!L$23","v":0},{"$f":"'fruto araçauna'!M$23","v":0},{"$f":"'fruto araçauna'!N$23","v":0},{"$f":"'fruto araçauna'!O$23","v":0},{"$f":"'fruto araçauna'!P$23","v":0},{"$f":"'fruto araçauna'!Q$23","v":0},{"$f":"'fruto araçauna'!R$23","v":0},{"$f":"'fruto araçauna'!S$23","v":0},{"$f":"'fruto araçauna'!T$23","v":0},{"$f":"'fruto araçauna'!U$23","v":0},{"$f":"'fruto araçauna'!V$23","v":0},{"$f":"'fruto araçauna'!W$23","v":0},{"$f":"'fruto araçauna'!X$23","v":0},{"$f":"'fruto araçauna'!Y$23","v":0},{"$f":"'fruto araçauna'!Z$23","v":0},{"$f":"'fruto araçauna'!AA$23","v":0},{"$f":"'fruto araçauna'!AB$23","v":0},{"$f":"'fruto araçauna'!AC$23","v":0},{"$f":"'fruto araçauna'!AD$23","v":0},{"$f":"'fruto araçauna'!AE$23","v":0},{"$f":"'fruto araçauna'!AF$23","v":0},{"$f":"'fruto araçauna'!AG$23","v":0}]
[null,null,null,null,null,null,null,null,null,null,null,null,null,null,null,{"$f":"Produção!$A$9","v":"fruto pitanga"},null,{"$f":"'fruto pitanga'!D$23","v":0},{"$f":"'fruto pitanga'!E$23","v":0},{"$f":"'fruto pitanga'!F$23","v":0},{"$f":"'fruto pitanga'!G$23","v":0},{"$f":"'fruto pitanga'!H$23","v":0},{"$f":"'fruto pitanga'!I$23","v":0},{"$f":"'fruto pitanga'!J$23","v":0},{"$f":"'fruto pitanga'!K$23","v":0},{"$f":"'fruto pitanga'!L$23","v":0},{"$f":"'fruto pitanga'!M$23","v":0},{"$f":"'fruto pitanga'!N$23","v":0},{"$f":"'fruto pitanga'!O$23","v":0},{"$f":"'fruto pitanga'!P$23","v":0},{"$f":"'fruto pitanga'!Q$23","v":0},{"$f":"'fruto pitanga'!R$23","v":0},{"$f":"'fruto pitanga'!S$23","v":0},{"$f":"'fruto pitanga'!T$23","v":0},{"$f":"'fruto pitanga'!U$23","v":0},{"$f":"'fruto pitanga'!V$23","v":0},{"$f":"'fruto pitanga'!W$23","v":0},{"$f":"'fruto pitanga'!X$23","v":0},{"$f":"'fruto pitanga'!Y$23","v":0},{"$f":"'fruto pitanga'!Z$23","v":0},{"$f":"'fruto pitanga'!AA$23","v":0},{"$f":"'fruto pitanga'!AB$23","v":0},{"$f":"'fruto pitanga'!AC$23","v":0},{"$f":"'fruto pitanga'!AD$23","v":0},{"$f":"'fruto pitanga'!AE$23","v":0},{"$f":"'fruto pitanga'!AF$23","v":0},{"$f":"'fruto pitanga'!AG$23","v":0}]
[null,null,null,null,null,null,null,null,null,null,null,null,null,null,null,{"$f":"Produção!$A$10","v":"castanha sapucaia"},null,{"$f":"Castanha!D$23","v":0},{"$f":"Castanha!E$23","v":0},{"$f":"Castanha!F$23","v":0},{"$f":"Castanha!G$23","v":0},{"$f":"Castanha!H$23","v":0},{"$f":"Castanha!I$23","v":0},{"$f":"Castanha!J$23","v":0},{"$f":"Castanha!K$23","v":0},{"$f":"Castanha!L$23","v":0},{"$f":"Castanha!M$23","v":0},{"$f":"Castanha!N$23","v":0},{"$f":"Castanha!O$23","v":0},{"$f":"Castanha!P$23","v":0},{"$f":"Castanha!Q$23","v":0},{"$f":"Castanha!R$23","v":0},{"$f":"Castanha!S$23","v":0},{"$f":"Castanha!T$23","v":0},{"$f":"Castanha!U$23","v":0},{"$f":"Castanha!V$23","v":0},{"$f":"Castanha!W$23","v":0},{"$f":"Castanha!X$23","v":0},{"$f":"Castanha!Y$23","v":0},{"$f":"Castanha!Z$23","v":0},{"$f":"Castanha!AA$23","v":0},{"$f":"Castanha!AB$23","v":0},{"$f":"Castanha!AC$23","v":0},{"$f":"Castanha!AD$23","v":0},{"$f":"Castanha!AE$23","v":0},{"$f":"Castanha!AF$23","v":0},{"$f":"Castanha!AG$23","v":0}]
[]
[null,null,null,null,null,null,null,null,null,null,null,null,null,null,null,{"$f":"Produção!$A$11","v":"fruto cajá"},null,{"$f":"'fruto cajá'!D$23","v":0},{"$f":"'fruto cajá'!E$23","v":0},{"$f":"'fruto cajá'!F$23","v":0},{"$f":"'fruto cajá'!G$23","v":0},{"$f":"'fruto cajá'!H$23","v":0},{"$f":"'fruto cajá'!I$23","v":0},{"$f":"'fruto cajá'!J$23","v":0},{"$f":"'fruto cajá'!K$23","v":0},{"$f":"'fruto cajá'!L$23","v":0},{"$f":"'fruto cajá'!M$23","v":0},{"$f":"'fruto cajá'!N$23","v":0},{"$f":"'fruto cajá'!O$23","v":0},{"$f":"'fruto cajá'!P$23","v":0},{"$f":"'fruto cajá'!Q$23","v":0},{"$f":"'fruto cajá'!R$23","v":0},{"$f":"'fruto cajá'!S$23","v":0},{"$f":"'fruto cajá'!T$23","v":0},{"$f":"'fruto cajá'!U$23","v":0},{"$f":"'fruto cajá'!V$23","v":0},{"$f":"'fruto cajá'!W$23","v":0},{"$f":"'fruto cajá'!X$23","v":0},{"$f":"'fruto cajá'!Y$23","v":0},{"$f":"'fruto cajá'!Z$23","v":0},{"$f":"'fruto cajá'!AA$23","v":0},{"$f":"'fruto cajá'!AB$23","v":0},{"$f":"'fruto cajá'!AC$23","v":0},{"$f":"'fruto cajá'!AD$23","v":0},{"$f":"'fruto cajá'!AE$23","v":0},{"$f":"'fruto cajá'!AF$23","v":0},{"$f":"'fruto cajá'!AG$23","v":0}]
[null,null,null,null,null,null,null,null,null,null,null,null,null,null,null,{"$f":"Produção!$A$12","v":"semente urucum"},null,{"$f":"'semente urucum'!D$23","v":0},{"$f":"'semente urucum'!E$23","v":0},{"$f":"'semente urucum'!F$23","v":0},{"$f":"'semente urucum'!G$23","v":0},{"$f":"'semente urucum'!H$23","v":0},{"$f":"'semente urucum'!I$23","v":0},{"$f":"'semente urucum'!J$23","v":0},{"$f":"'semente urucum'!K$23","v":0},{"$f":"'semente urucum'!L$23","v":0},{"$f":"'semente urucum'!M$23","v":0},{"$f":"'semente urucum'!N$23","v":0},{"$f":"'semente urucum'!O$23","v":0},{"$f":"'semente urucum'!P$23","v":0},{"$f":"'semente urucum'!Q$23","v":0},{"$f":"'semente urucum'!R$23","v":0},{"$f":"'semente urucum'!S$23","v":0},{"$f":"'semente urucum'!T$23","v":0},{"$f":"'semente urucum'!U$23","v":0},{"$f":"'semente urucum'!V$23","v":0},{"$f":"'semente urucum'!W$23","v":0},{"$f":"'semente urucum'!X$23","v":0},{"$f":"'semente urucum'!Y$23","v":0},{"$f":"'semente urucum'!Z$23","v":0},{"$f":"'semente urucum'!AA$23","v":0},{"$f":"'semente urucum'!AB$23","v":0},{"$f":"'semente urucum'!AC$23","v":0},{"$f":"'semente urucum'!AD$23","v":0},{"$f":"'semente urucum'!AE$23","v":0},{"$f":"'semente urucum'!AF$23","v":0},{"$f":"'semente urucum'!AG$23","v":0}]
[null,null,null,null,null,null,null,null,null,null,null,null,null,null,null,{"$f":"Produção!$A$13","v":"semente aroeira"},null,{"$f":"'semente aroeira'!D$23","v":0},{"$f":"'semente aroeira'!E$23","v":0},{"$f":"'semente aroeira'!F$23","v":0},{"$f":"'semente aroeira'!G$23","v":0},{"$f":"'semente aroeira'!H$23","v":0},{"$f":"'semente aroeira'!I$23","v":0},{"$f":"'semente aroeira'!J$23","v":0},{"$f":"'semente aroeira'!K$23","v":0},{"$f":"'semente aroeira'!L$23","v":0},{"$f":"'semente aroeira'!M$23","v":0},{"$f":"'semente aroeira'!N$23","v":0},{"$f":"'semente aroeira'!O$23","v":0},{"$f":"'semente aroeira'!P$23","v":0},{"$f":"'semente aroeira'!Q$23","v":0},{"$f":"'semente aroeira'!R$23","v":0},{"$f":"'semente aroeira'!S$23","v":0},{"$f":"'semente aroeira'!T$23","v":0},{"$f":"'semente aroeira'!U$23","v":0},{"$f":"'semente aroeira'!V$23","v":0},{"$f":"'semente aroeira'!W$23","v":0},{"$f":"'semente aroeira'!X$23","v":0},{"$f":"'semente aroeira'!Y$23","v":0},{"$f":"'semente aroeira'!Z$23","v":0},{"$f":"'semente aroeira'!AA$23","v":0},{"$f":"'semente aroeira'!AB$23","v":0},{"$f":"'semente aroeira'!AC$23","v":0},{"$f":"'semente aroeira'!AD$23","v":0},{"$f":"'semente aroeira'!AE$23","v":0},{"$f":"'semente aroeira'!AF$23","v":0},{"$f":"'semente aroeira'!AG$23","v":0}]
[null,null,null,null,null,null,null,null,null,null,null,null,null,null,null,{"$f":"Produção!$A$14","v":"raiz mandioca"},null,{"$f":"'raiz mandioca'!D$23","v":0},{"$f":"'raiz mandioca'!E$23","v":0},{"$f":"'raiz mandioca'!F$23","v":0},{"$f":"'raiz mandioca'!G$23","v":0},{"$f":"'raiz mandioca'!H$23","v":0},{"$f":"'raiz mandioca'!I$23","v":0},{"$f":"'raiz mandioca'!J$23","v":0},{"$f":"'raiz mandioca'!K$23","v":0},{"$f":"'raiz mandioca'!L$23","v":0},{"$f":"'raiz mandioca'!M$23","v":0},{"$f":"'raiz mandioca'!N$23","v":0},{"$f":"'raiz mandioca'!O$23","v":0},{"$f":"'raiz mandioca'!P$23","v":0},{"$f":"'raiz mandioca'!Q$23","v":0},{"$f":"'raiz mandioca'!R$23","v":0},{"$f":"'raiz mandioca'!S$23","v":0},{"$f":"'raiz mandioca'!T$23","v":0},{"$f":"'raiz mandioca'!U$23","v":0},{"$f":"'raiz mandioca'!V$23","v":0},{"$f":"'raiz mandioca'!W$23","v":0},{"$f":"'raiz mandioca'!X$23","v":0},{"$f":"'raiz mandioca'!Y$23","v":0},{"$f":"'raiz mandioca'!Z$23","v":0},{"$f":"'raiz mandioca'!AA$23","v":0},{"$f":"'raiz mandioca'!AB$23","v":0},{"$f":"'raiz mandioca'!AC$23","v":0},{"$f":"'raiz mandioca'!AD$23","v":0},{"$f":"'raiz mandioca'!AE$23","v":0},{"$f":"'raiz mandioca'!AF$23","v":0},{"$f":"'raiz mandioca'!AG$23","v":0}]
[]
[null,null,null,null,null,null,null,null,null,null,null,null,null,null,null,{"$f":"Produção!$A$15","v":"fruto abacaxi"},null,{"$f":"abacaxi!D$23","v":0},{"$f":"abacaxi!E$23","v":0},{"$f":"abacaxi!F$23","v":0},{"$f":"abacaxi!G$23","v":0},{"$f":"abacaxi!H$23","v":0},{"$f":"abacaxi!I$23","v":0},{"$f":"abacaxi!J$23","v":0},{"$f":"abacaxi!K$23","v":0},{"$f":"abacaxi!L$23","v":0},{"$f":"abacaxi!M$23","v":0},{"$f":"abacaxi!N$23","v":0},{"$f":"abacaxi!O$23","v":0},{"$f":"abacaxi!P$23","v":0},{"$f":"abacaxi!Q$23","v":0},{"$f":"abacaxi!R$23","v":0},{"$f":"abacaxi!S$23","v":0},{"$f":"abacaxi!T$23","v":0},{"$f":"abacaxi!U$23","v":0},{"$f":"abacaxi!V$23","v":0},{"$f":"abacaxi!W$23","v":0},{"$f":"abacaxi!X$23","v":0},{"$f":"abacaxi!Y$23","v":0},{"$f":"abacaxi!Z$23","v":0},{"$f":"abacaxi!AA$23","v":0},{"$f":"abacaxi!AB$23","v":0},{"$f":"abacaxi!AC$23","v":0},{"$f":"abacaxi!AD$23","v":0},{"$f":"abacaxi!AE$23","v":0},{"$f":"abacaxi!AF$23","v":0},{"$f":"abacaxi!AG$23","v":0}]
[null,null,null,null,null,null,null,null,null,null,null,null,null,null,null,{"$f":"Produção!$A$16","v":"espigas milho"},null,{"$f":"espigas!D$23","v":0},{"$f":"espigas!E$23","v":0},{"$f":"espigas!F$23","v":0},{"$f":"espigas!G$23","v":0},{"$f":"espigas!H$23","v":0},{"$f":"espigas!I$23","v":0},{"$f":"espigas!J$23","v":0},{"$f":"espigas!K$23","v":0},{"$f":"espigas!L$23","v":0},{"$f":"espigas!M$23","v":0},{"$f":"espigas!N$23","v":0},{"$f":"espigas!O$23","v":0},{"$f":"espigas!P$23","v":0},{"$f":"espigas!Q$23","v":0},{"$f":"espigas!R$23","v":0},{"$f":"espigas!S$23","v":0},{"$f":"espigas!T$23","v":0},{"$f":"espigas!U$23","v":0},{"$f":"espigas!V$23","v":0},{"$f":"espigas!W$23","v":0},{"$f":"espigas!X$23","v":0},{"$f":"espigas!Y$23","v":0},{"$f":"espigas!Z$23","v":0},{"$f":"espigas!AA$23","v":0},{"$f":"espigas!AB$23","v":0},{"$f":"espigas!AC$23","v":0},{"$f":"espigas!AD$23","v":0},{"$f":"espigas!AE$23","v":0},{"$f":"espigas!AF$23","v":0},{"$f":"espigas!AG$23","v":0}]
[null,null,null,null,null,null,null,null,null,null,null,null,null,null,null,{"$f":"Produção!$A$17","v":"estaca sansão do campo"},null,{"$f":"'semente caupi'!D$23","v":0},{"$f":"'semente caupi'!E$23","v":0},{"$f":"'semente caupi'!F$23","v":0},{"$f":"'semente caupi'!G$23","v":0},{"$f":"'semente caupi'!H$23","v":0},{"$f":"'semente caupi'!I$23","v":0},{"$f":"'semente caupi'!J$23","v":0},{"$f":"'semente caupi'!K$23","v":0},{"$f":"'semente caupi'!L$23","v":0},{"$f":"'semente caupi'!M$23","v":0},{"$f":"'semente caupi'!N$23","v":0},{"$f":"'semente caupi'!O$23","v":0},{"$f":"'semente caupi'!P$23","v":0},{"$f":"'semente caupi'!Q$23","v":0},{"$f":"'semente caupi'!R$23","v":0},{"$f":"'semente caupi'!S$23","v":0},{"$f":"'semente caupi'!T$23","v":0},{"$f":"'semente caupi'!U$23","v":0},{"$f":"'semente caupi'!V$23","v":0},{"$f":"'semente caupi'!W$23","v":0},{"$f":"'semente caupi'!X$23","v":0},{"$f":"'semente caupi'!Y$23","v":0},{"$f":"'semente caupi'!Z$23","v":0},{"$f":"'semente caupi'!AA$23","v":0},{"$f":"'semente caupi'!AB$23","v":0},{"$f":"'semente caupi'!AC$23","v":0},{"$f":"'semente caupi'!AD$23","v":0},{"$f":"'semente caupi'!AE$23","v":0},{"$f":"'semente caupi'!AF$23","v":0},{"$f":"'semente caupi'!AG$23","v":0}]
[null,null,null,null,null,null,null,null,null,null,null,null,null,null,null,{"$f":"Produção!$A$18","v":"madeira madeira nova"},null,{"$f":"biomassa!D$23","v":0},{"$f":"biomassa!E$23","v":0},{"$f":"biomassa!F$23","v":0},{"$f":"biomassa!G$23","v":0},{"$f":"biomassa!H$23","v":0},{"$f":"biomassa!I$23","v":0},{"$f":"biomassa!J$23","v":0},{"$f":"biomassa!K$23","v":0},{"$f":"biomassa!L$23","v":0},{"$f":"biomassa!M$23","v":0},{"$f":"biomassa!N$23","v":0},{"$f":"biomassa!O$23","v":0},{"$f":"biomassa!P$23","v":0},{"$f":"biomassa!Q$23","v":0},{"$f":"biomassa!R$23","v":0},{"$f":"biomassa!S$23","v":0},{"$f":"biomassa!T$23","v":0},{"$f":"biomassa!U$23","v":0},{"$f":"biomassa!V$23","v":0},{"$f":"biomassa!W$23","v":0},{"$f":"biomassa!X$23","v":0},{"$f":"biomassa!Y$23","v":0},{"$f":"biomassa!Z$23","v":0},{"$f":"biomassa!AA$23","v":0},{"$f":"biomassa!AB$23","v":0},{"$f":"biomassa!AC$23","v":0},{"$f":"biomassa!AD$23","v":0},{"$f":"biomassa!AE$23","v":0},{"$f":"biomassa!AF$23","v":0},{"$f":"biomassa!AG$23","v":0}]
[null,null,null,null,null,null,null,null,null,null,null,null,null,null,null,{"$f":"Produção!$A$19","v":"lenha fedegoso"},null,{"$f":"madeira!D$23","v":0},{"$f":"madeira!E$23","v":0},{"$f":"madeira!F$23","v":0},{"$f":"madeira!G$23","v":0},{"$f":"madeira!H$23","v":0},{"$f":"madeira!I$23","v":0},{"$f":"madeira!J$23","v":0},{"$f":"madeira!K$23","v":0},{"$f":"madeira!L$23","v":0},{"$f":"madeira!M$23","v":0},{"$f":"madeira!N$23","v":0},{"$f":"madeira!O$23","v":0},{"$f":"madeira!P$23","v":0},{"$f":"madeira!Q$23","v":0},{"$f":"madeira!R$23","v":0},{"$f":"madeira!S$23","v":0},{"$f":"madeira!T$23","v":0},{"$f":"madeira!U$23","v":0},{"$f":"madeira!V$23","v":0},{"$f":"madeira!W$23","v":0},{"$f":"madeira!X$23","v":0},{"$f":"madeira!Y$23","v":0},{"$f":"madeira!Z$23","v":0},{"$f":"madeira!AA$23","v":0},{"$f":"madeira!AB$23","v":0},{"$f":"madeira!AC$23","v":0},{"$f":"madeira!AD$23","v":0},{"$f":"madeira!AE$23","v":0},{"$f":"madeira!AF$23","v":0},{"$f":"madeira!AG$23","v":0}]
[null,null,null,null,null,null,null,null,null,null,null,null,null,null,null,{"$f":"Produção!$A$20","v":"estaca pau d'alho"},null,{"$f":"'Produto 15'!D$23","v":0},{"$f":"'Produto 15'!E$23","v":0},{"$f":"'Produto 15'!F$23","v":0},{"$f":"'Produto 15'!G$23","v":0},{"$f":"'Produto 15'!H$23","v":0},{"$f":"'Produto 15'!I$23","v":0},{"$f":"'Produto 15'!J$23","v":0},{"$f":"'Produto 15'!K$23","v":0},{"$f":"'Produto 15'!L$23","v":0},{"$f":"'Produto 15'!M$23","v":0},{"$f":"'Produto 15'!N$23","v":0},{"$f":"'Produto 15'!O$23","v":0},{"$f":"'Produto 15'!P$23","v":0},{"$f":"'Produto 15'!Q$23","v":0},{"$f":"'Produto 15'!R$23","v":0},{"$f":"'Produto 15'!S$23","v":0},{"$f":"'Produto 15'!T$23","v":0},{"$f":"'Produto 15'!U$23","v":0},{"$f":"'Produto 15'!V$23","v":0},{"$f":"'Produto 15'!W$23","v":0},{"$f":"'Produto 15'!X$23","v":0},{"$f":"'Produto 15'!Y$23","v":0},{"$f":"'Produto 15'!Z$23","v":0},{"$f":"'Produto 15'!AA$23","v":0},{"$f":"'Produto 15'!AB$23","v":0},{"$f":"'Produto 15'!AC$23","v":0},{"$f":"'Produto 15'!AD$23","v":0},{"$f":"'Produto 15'!AE$23","v":0},{"$f":"'Produto 15'!AF$23","v":0},{"$f":"'Produto 15'!AG$23","v":0}]
[null,null,null,null,null,null,null,null,null,null,null,null,null,null,null,{"$f":"Produção!$A$21","v":"caixotaria boleira"},null,{"$f":"'Produto 16'!D$23","v":0},{"$f":"'Produto 16'!E$23","v":0},{"$f":"'Produto 16'!F$23","v":0},{"$f":"'Produto 16'!G$23","v":0},{"$f":"'Produto 16'!H$23","v":0},{"$f":"'Produto 16'!I$23","v":0},{"$f":"'Produto 16'!J$23","v":0},{"$f":"'Produto 16'!K$23","v":0},{"$f":"'Produto 16'!L$23","v":0},{"$f":"'Produto 16'!M$23","v":0},{"$f":"'Produto 16'!N$23","v":0},{"$f":"'Produto 16'!O$23","v":0},{"$f":"'Produto 16'!P$23","v":0},{"$f":"'Produto 16'!Q$23","v":0},{"$f":"'Produto 16'!R$23","v":0},{"$f":"'Produto 16'!S$23","v":0},{"$f":"'Produto 16'!T$23","v":0},{"$f":"'Produto 16'!U$23","v":0},{"$f":"'Produto 16'!V$23","v":0},{"$f":"'Produto 16'!W$23","v":0},{"$f":"'Produto 16'!X$23","v":0},{"$f":"'Produto 16'!Y$23","v":0},{"$f":"'Produto 16'!Z$23","v":0},{"$f":"'Produto 16'!AA$23","v":0},{"$f":"'Produto 16'!AB$23","v":0},{"$f":"'Produto 16'!AC$23","v":0},{"$f":"'Produto 16'!AD$23","v":0},{"$f":"'Produto 16'!AE$23","v":0},{"$f":"'Produto 16'!AF$23","v":0},{"$f":"'Produto 16'!AG$23","v":0}]
[]
[null,null,null,null,null,null,null,null,null,null,null,null,null,null,null,{"$f":"Produção!$A$22","v":"madeira angico roxo"},null,{"$f":"'Produto 17'!D$23","v":0},{"$f":"'Produto 17'!E$23","v":0},{"$f":"'Produto 17'!F$23","v":0},{"$f":"'Produto 17'!G$23","v":0},{"$f":"'Produto 17'!H$23","v":0},{"$f":"'Produto 17'!I$23","v":0},{"$f":"'Produto 17'!J$23","v":0},{"$f":"'Produto 17'!K$23","v":0},{"$f":"'Produto 17'!L$23","v":0},{"$f":"'Produto 17'!M$23","v":0},{"$f":"'Produto 17'!N$23","v":0},{"$f":"'Produto 17'!O$23","v":0},{"$f":"'Produto 17'!P$23","v":0},{"$f":"'Produto 17'!Q$23","v":0},{"$f":"'Produto 17'!R$23","v":0},{"$f":"'Produto 17'!S$23","v":0},{"$f":"'Produto 17'!T$23","v":0},{"$f":"'Produto 17'!U$23","v":0},{"$f":"'Produto 17'!V$23","v":0},{"$f":"'Produto 17'!W$23","v":0},{"$f":"'Produto 17'!X$23","v":0},{"$f":"'Produto 17'!Y$23","v":0},{"$f":"'Produto 17'!Z$23","v":0},{"$f":"'Produto 17'!AA$23","v":0},{"$f":"'Produto 17'!AB$23","v":0},{"$f":"'Produto 17'!AC$23","v":0},{"$f":"'Produto 17'!AD$23","v":0},{"$f":"'Produto 17'!AE$23","v":0},{"$f":"'Produto 17'!AF$23","v":0},{"$f":"'Produto 17'!AG$23","v":0}]
[null,null,null,null,null,null,null,null,null,null,null,null,null,null,null,{"$f":"Produção!$A$23","v":"madeira ipê roxo"},null,{"$f":"'Produto 18'!D$23","v":0},{"$f":"'Produto 18'!E$23","v":0},{"$f":"'Produto 18'!F$23","v":0},{"$f":"'Produto 18'!G$23","v":0},{"$f":"'Produto 18'!H$23","v":0},{"$f":"'Produto 18'!I$23","v":0},{"$f":"'Produto 18'!J$23","v":0},{"$f":"'Produto 18'!K$23","v":0},{"$f":"'Produto 18'!L$23","v":0},{"$f":"'Produto 18'!M$23","v":0},{"$f":"'Produto 18'!N$23","v":0},{"$f":"'Produto 18'!O$23","v":0},{"$f":"'Produto 18'!P$23","v":0},{"$f":"'Produto 18'!Q$23","v":0},{"$f":"'Produto 18'!R$23","v":0},{"$f":"'Produto 18'!S$23","v":0},{"$f":"'Produto 18'!T$23","v":0},{"$f":"'Produto 18'!U$23","v":0},{"$f":"'Produto 18'!V$23","v":0},{"$f":"'Produto 18'!W$23","v":0},{"$f":"'Produto 18'!X$23","v":0},{"$f":"'Produto 18'!Y$23","v":0},{"$f":"'Produto 18'!Z$23","v":0},{"$f":"'Produto 18'!AA$23","v":0},{"$f":"'Produto 18'!AB$23","v":0},{"$f":"'Produto 18'!AC$23","v":0},{"$f":"'Produto 18'!AD$23","v":0},{"$f":"'Produto 18'!AE$23","v":0},{"$f":"'Produto 18'!AF$23","v":0},{"$f":"'Produto 18'!AG$23","v":0}]
[null,null,null,null,null,null,null,null,null,null,null,null,null,null,null,{"$f":"Produção!$A$24","v":"madeira ipê amarelo"},null,{"$f":"'Produto 19'!D$23","v":0},{"$f":"'Produto 19'!E$23","v":0},{"$f":"'Produto 19'!F$23","v":0},{"$f":"'Produto 19'!G$23","v":0},{"$f":"'Produto 19'!H$23","v":0},{"$f":"'Produto 19'!I$23","v":0},{"$f":"'Produto 19'!J$23","v":0},{"$f":"'Produto 19'!K$23","v":0},{"$f":"'Produto 19'!L$23","v":0},{"$f":"'Produto 19'!M$23","v":0},{"$f":"'Produto 19'!N$23","v":0},{"$f":"'Produto 19'!O$23","v":0},{"$f":"'Produto 19'!P$23","v":0},{"$f":"'Produto 19'!Q$23","v":0},{"$f":"'Produto 19'!R$23","v":0},{"$f":"'Produto 19'!S$23","v":0},{"$f":"'Produto 19'!T$23","v":0},{"$f":"'Produto 19'!U$23","v":0},{"$f":"'Produto 19'!V$23","v":0},{"$f":"'Produto 19'!W$23","v":0},{"$f":"'Produto 19'!X$23","v":0},{"$f":"'Produto 19'!Y$23","v":0},{"$f":"'Produto 19'!Z$23","v":0},{"$f":"'Produto 19'!AA$23","v":0},{"$f":"'Produto 19'!AB$23","v":0},{"$f":"'Produto 19'!AC$23","v":0},{"$f":"'Produto 19'!AD$23","v":0},{"$f":"'Produto 19'!AE$23","v":0},{"$f":"'Produto 19'!AF$23","v":0},{"$f":"'Produto 19'!AG$23","v":0}]
[null,null,null,null,null,null,null,null,null,null,null,null,null,null,null,{"$f":"Produção!$A$25","v":"madeira gonçalo alves"},null,{"$f":"'Produto 20'!D$23","v":0},{"$f":"'Produto 20'!E$23","v":0},{"$f":"'Produto 20'!F$23","v":0},{"$f":"'Produto 20'!G$23","v":0},{"$f":"'Produto 20'!H$23","v":0},{"$f":"'Produto 20'!I$23","v":0},{"$f":"'Produto 20'!J$23","v":0},{"$f":"'Produto 20'!K$23","v":0},{"$f":"'Produto 20'!L$23","v":0},{"$f":"'Produto 20'!M$23","v":0},{"$f":"'Produto 20'!N$23","v":0},{"$f":"'Produto 20'!O$23","v":0},{"$f":"'Produto 20'!P$23","v":0},{"$f":"'Produto 20'!Q$23","v":0},{"$f":"'Produto 20'!R$23","v":0},{"$f":"'Produto 20'!S$23","v":0},{"$f":"'Produto 20'!T$23","v":0},{"$f":"'Produto 20'!U$23","v":0},{"$f":"'Produto 20'!V$23","v":0},{"$f":"'Produto 20'!W$23","v":0},{"$f":"'Produto 20'!X$23","v":0},{"$f":"'Produto 20'!Y$23","v":0},{"$f":"'Produto 20'!Z$23","v":0},{"$f":"'Produto 20'!AA$23","v":0},{"$f":"'Produto 20'!AB$23","v":0},{"$f":"'Produto 20'!AC$23","v":0},{"$f":"'Produto 20'!AD$23","v":0},{"$f":"'Produto 20'!AE$23","v":0},{"$f":"'Produto 20'!AF$23","v":0},{"$f":"'Produto 20'!AG$23","v":0}]
[null,null,null,null,null,null,null,null,null,null,null,null,null,null,null,{"$f":"Produção!$A$26","v":"madeira vinhatico"},null,{"$f":"'Produto 21'!D$23","v":0},{"$f":"'Produto 21'!E$23","v":0},{"$f":"'Produto 21'!F$23","v":0},{"$f":"'Produto 21'!G$23","v":0},{"$f":"'Produto 21'!H$23","v":0},{"$f":"'Produto 21'!I$23","v":0},{"$f":"'Produto 21'!J$23","v":0},{"$f":"'Produto 21'!K$23","v":0},{"$f":"'Produto 21'!L$23","v":0},{"$f":"'Produto 21'!M$23","v":0},{"$f":"'Produto 21'!N$23","v":0},{"$f":"'Produto 21'!O$23","v":0},{"$f":"'Produto 21'!P$23","v":0},{"$f":"'Produto 21'!Q$23","v":0},{"$f":"'Produto 21'!R$23","v":0},{"$f":"'Produto 21'!S$23","v":0},{"$f":"'Produto 21'!T$23","v":0},{"$f":"'Produto 21'!U$23","v":0},{"$f":"'Produto 21'!V$23","v":0},{"$f":"'Produto 21'!W$23","v":0},{"$f":"'Produto 21'!X$23","v":0},{"$f":"'Produto 21'!Y$23","v":0},{"$f":"'Produto 21'!Z$23","v":0},{"$f":"'Produto 21'!AA$23","v":0},{"$f":"'Produto 21'!AB$23","v":0},{"$f":"'Produto 21'!AC$23","v":0},{"$f":"'Produto 21'!AD$23","v":0},{"$f":"'Produto 21'!AE$23","v":0},{"$f":"'Produto 21'!AF$23","v":0},{"$f":"'Produto 21'!AG$23","v":0}]
[null,null,null,null,null,null,null,null,null,null,null,null,null,null,null,{"$f":"Produção!$A$27","v":"madeira jequitiba"},null,{"$f":"'Produto 22'!D$23","v":0},{"$f":"'Produto 22'!E$23","v":0},{"$f":"'Produto 22'!F$23","v":0},{"$f":"'Produto 22'!G$23","v":0},{"$f":"'Produto 22'!H$23","v":0},{"$f":"'Produto 22'!I$23","v":0},{"$f":"'Produto 22'!J$23","v":0},{"$f":"'Produto 22'!K$23","v":0},{"$f":"'Produto 22'!L$23","v":0},{"$f":"'Produto 22'!M$23","v":0},{"$f":"'Produto 22'!N$23","v":0},{"$f":"'Produto 22'!O$23","v":0},{"$f":"'Produto 22'!P$23","v":0},{"$f":"'Produto 22'!Q$23","v":0},{"$f":"'Produto 22'!R$23","v":0},{"$f":"'Produto 22'!S$23","v":0},{"$f":"'Produto 22'!T$23","v":0},{"$f":"'Produto 22'!U$23","v":0},{"$f":"'Produto 22'!V$23","v":0},{"$f":"'Produto 22'!W$23","v":0},{"$f":"'Produto 22'!X$23","v":0},{"$f":"'Produto 22'!Y$23","v":0},{"$f":"'Produto 22'!Z$23","v":0},{"$f":"'Produto 22'!AA$23","v":0},{"$f":"'Produto 22'!AB$23","v":0},{"$f":"'Produto 22'!AC$23","v":0},{"$f":"'Produto 22'!AD$23","v":0},{"$f":"'Produto 22'!AE$23","v":0},{"$f":"'Produto 22'!AF$23","v":0},{"$f":"'Produto 22'!AG$23","v":0}]
[null,null,null,null,null,null,null,null,null,null,null,null,null,null,null,{"$f":"Produção!$A$29","v":"grão caupi"},null,{"$f":"'Produto 23'!D$23","v":0},{"$f":"'Produto 23'!E$23","v":0},{"$f":"'Produto 23'!F$23","v":0},{"$f":"'Produto 23'!G$23","v":0},{"$f":"'Produto 23'!H$23","v":0},{"$f":"'Produto 23'!I$23","v":0},{"$f":"'Produto 23'!J$23","v":0},{"$f":"'Produto 23'!K$23","v":0},{"$f":"'Produto 23'!L$23","v":0},{"$f":"'Produto 23'!M$23","v":0},{"$f":"'Produto 23'!N$23","v":0},{"$f":"'Produto 23'!O$23","v":0},{"$f":"'Produto 23'!P$23","v":0},{"$f":"'Produto 23'!Q$23","v":0},{"$f":"'Produto 23'!R$23","v":0},{"$f":"'Produto 23'!S$23","v":0},{"$f":"'Produto 23'!T$23","v":0},{"$f":"'Produto 23'!U$23","v":0},{"$f":"'Produto 23'!V$23","v":0},{"$f":"'Produto 23'!W$23","v":0},{"$f":"'Produto 23'!X$23","v":0},{"$f":"'Produto 23'!Y$23","v":0},{"$f":"'Produto 23'!Z$23","v":0},{"$f":"'Produto 23'!AA$23","v":0},{"$f":"'Produto 23'!AB$23","v":0},{"$f":"'Produto 23'!AC$23","v":0},{"$f":"'Produto 23'!AD$23","v":0},{"$f":"'Produto 23'!AE$23","v":0},{"$f":"'Produto 23'!AF$23","v":0},{"$f":"'Produto 23'!AG$23","v":0}]
[]
[null,null,null,null,null,null,null,null,null,null,null,null,null,null,null,{"$f":"'Parâmetros Gerais'!$B$37","v":"grão caupi"},null,{"$f":"'Produto 24'!D$23","v":0},{"$f":"'Produto 24'!E$23","v":0},{"$f":"'Produto 24'!F$23","v":0},{"$f":"'Produto 24'!G$23","v":0},{"$f":"'Produto 24'!H$23","v":0},{"$f":"'Produto 24'!I$23","v":0},{"$f":"'Produto 24'!J$23","v":0},{"$f":"'Produto 24'!K$23","v":0},{"$f":"'Produto 24'!L$23","v":0},{"$f":"'Produto 24'!M$23","v":0},{"$f":"'Produto 24'!N$23","v":0},{"$f":"'Produto 24'!O$23","v":0},{"$f":"'Produto 24'!P$23","v":0},{"$f":"'Produto 24'!Q$23","v":0},{"$f":"'Produto 24'!R$23","v":0},{"$f":"'Produto 24'!S$23","v":0},{"$f":"'Produto 24'!T$23","v":0},{"$f":"'Produto 24'!U$23","v":0},{"$f":"'Produto 24'!V$23","v":0},{"$f":"'Produto 24'!W$23","v":0},{"$f":"'Produto 24'!X$23","v":0},{"$f":"'Produto 24'!Y$23","v":0},{"$f":"'Produto 24'!Z$23","v":0},{"$f":"'Produto 24'!AA$23","v":0},{"$f":"'Produto 24'!AB$23","v":0},{"$f":"'Produto 24'!AC$23","v":0},{"$f":"'Produto 24'!AD$23","v":0},{"$f":"'Produto 24'!AE$23","v":0},{"$f":"'Produto 24'!AF$23","v":0},{"$f":"'Produto 24'!AG$23","v":0}]
[]
[]
[]
[null,null,null,null,null,null,null,null,null,null,null,null,null,null,null,"Custos de MO",{"$f":"'Resultado Fin (2)'!D7","v":0},{"$f":"'Resultado Fin (2)'!E7","v":0},{"$f":"'Resultado Fin (2)'!F7","v":0},{"$f":"'Resultado Fin (2)'!G7","v":0},{"$f":"'Resultado Fin (2)'!H7","v":0},{"$f":"'Resultado Fin (2)'!I7","v":0},{"$f":"'Resultado Fin (2)'!J7","v":0},{"$f":"'Resultado Fin (2)'!K7","v":0},{"$f":"'Resultado Fin (2)'!L7","v":0},{"$f":"'Resultado Fin (2)'!M7","v":0},{"$f":"'Resultado Fin (2)'!N7","v":0},{"$f":"'Resultado Fin (2)'!O7","v":0},{"$f":"'Resultado Fin (2)'!P7","v":0},{"$f":"'Resultado Fin (2)'!Q7","v":0},{"$f":"'Resultado Fin (2)'!R7","v":0},{"$f":"'Resultado Fin (2)'!S7","v":0},{"$f":"'Resultado Fin (2)'!T7","v":0},{"$f":"'Resultado Fin (2)'!U7","v":0},{"$f":"'Resultado Fin (2)'!V7","v":0},{"$f":"'Resultado Fin (2)'!W7","v":0},{"$f":"'Resultado Fin (2)'!X7","v":0},{"$f":"'Resultado Fin (2)'!Y7","v":0},{"$f":"'Resultado Fin (2)'!Z7","v":0},{"$f":"'Resultado Fin (2)'!AA7","v":0},{"$f":"'Resultado Fin (2)'!AB7","v":0},{"$f":"'Resultado Fin (2)'!AC7","v":0},{"$f":"'Resultado Fin (2)'!AD7","v":0},{"$f":"'Resultado Fin (2)'!AE7","v":0},{"$f":"'Resultado Fin (2)'!AF7","v":0},{"$f":"'Resultado Fin (2)'!AG7","v":0},{"$f":"'Resultado Fin (2)'!AH7","v":0},null,"TOTAL"]
[null,null,null,null,null,null,null,null,null,null,null,null,null,null,null,"Atividades Gerais",{"$f":"'Preparo e Gerais'!D6","v":0},null,null,null,null,null,null,null,null,null,null,null,null,null,null,null,null,null,null,null,null,null,null,null,null,null,null,null,null,null,null,null,{"$f":"SUM(Q37:AU37)","v":0}]
[null,null,null,null,null,null,null,null,null,null,null,null,null,null,null,{"$f":"Produção!$A$6","v":"latex"},null,{"$f":"latex!D$7","v":0},{"$f":"latex!E$7","v":0},{"$f":"latex!F$7","v":0},{"$f":"latex!G$7","v":0},{"$f":"latex!H$7","v":0},{"$f":"latex!I$7","v":0},{"$f":"latex!J$7","v":0},{"$f":"latex!K$7","v":0},{"$f":"latex!L$7","v":0},{"$f":"latex!M$7","v":0},{"$f":"latex!N$7","v":0},{"$f":"latex!O$7","v":0},{"$f":"latex!P$7","v":0},{"$f":"latex!Q$7","v":0},{"$f":"latex!R$7","v":0},{"$f":"latex!S$7","v":0},{"$f":"latex!T$7","v":0},{"$f":"latex!U$7","v":0},{"$f":"latex!V$7","v":0},{"$f":"latex!W$7","v":0},{"$f":"latex!X$7","v":0},{"$f":"latex!Y$7","v":0},{"$f":"latex!Z$7","v":0},{"$f":"latex!AA$7","v":0},{"$f":"latex!AB$7","v":0},{"$f":"latex!AC$7","v":0},{"$f":"latex!AD$7","v":0},{"$f":"latex!AE$7","v":0},{"$f":"latex!AF$7","v":0},{"$f":"latex!AG$7","v":0},null,0]
[null,null,null,null,null,null,null,null,null,null,null,null,null,null,null,{"$f":"Produção!$A$7","v":"fruto genipapo"},null,{"$f":"'fruto genipapo'!D$7","v":0},{"$f":"'fruto genipapo'!E$7","v":0},{"$f":"'fruto genipapo'!F$7","v":0},{"$f":"'fruto genipapo'!G$7","v":0},{"$f":"'fruto genipapo'!H$7","v":0},{"$f":"'fruto genipapo'!I$7","v":0},{"$f":"'fruto genipapo'!J$7","v":0},{"$f":"'fruto genipapo'!K$7","v":0},{"$f":"'fruto genipapo'!L$7","v":0},{"$f":"'fruto genipapo'!M$7","v":0},{"$f":"'fruto genipapo'!N$7","v":0},{"$f":"'fruto genipapo'!O$7","v":0},{"$f":"'fruto genipapo'!P$7","v":0},{"$f":"'fruto genipapo'!Q$7","v":0},{"$f":"'fruto genipapo'!R$7","v":0},{"$f":"'fruto genipapo'!S$7","v":0},{"$f":"'fruto genipapo'!T$7","v":0},{"$f":"'fruto genipapo'!U$7","v":0},{"$f":"'fruto genipapo'!V$7","v":0},{"$f":"'fruto genipapo'!W$7","v":0},{"$f":"'fruto genipapo'!X$7","v":0},{"$f":"'fruto genipapo'!Y$7","v":0},{"$f":"'fruto genipapo'!Z$7","v":0},{"$f":"'fruto genipapo'!AA$7","v":0},{"$f":"'fruto genipapo'!AB$7","v":0},{"$f":"'fruto genipapo'!AC$7","v":0},{"$f":"'fruto genipapo'!AD$7","v":0},{"$f":"'fruto genipapo'!AE$7","v":0},{"$f":"'fruto genipapo'!AF$7","v":0},{"$f":"'fruto genipapo'!AG$7","v":0},null,0]
[null,null,null,null,null,null,null,null,null,null,null,null,null,null,null,{"$f":"Produção!$A$8","v":"fruto araçauna"},null,{"$f":"'fruto araçauna'!D$7","v":0},{"$f":"'fruto araçauna'!E$7","v":0},{"$f":"'fruto araçauna'!F$7","v":0},{"$f":"'fruto araçauna'!G$7","v":0},{"$f":"'fruto araçauna'!H$7","v":0},{"$f":"'fruto araçauna'!I$7","v":0},{"$f":"'fruto araçauna'!J$7","v":0},{"$f":"'fruto araçauna'!K$7","v":0},{"$f":"'fruto araçauna'!L$7","v":0},{"$f":"'fruto araçauna'!M$7","v":0},{"$f":"'fruto araçauna'!N$7","v":0},{"$f":"'fruto araçauna'!O$7","v":0},{"$f":"'fruto araçauna'!P$7","v":0},{"$f":"'fruto araçauna'!Q$7","v":0},{"$f":"'fruto araçauna'!R$7","v":0},{"$f":"'fruto araçauna'!S$7","v":0},{"$f":"'fruto araçauna'!T$7","v":0},{"$f":"'fruto araçauna'!U$7","v":0},{"$f":"'fruto araçauna'!V$7","v":0},{"$f":"'fruto araçauna'!W$7","v":0},{"$f":"'fruto araçauna'!X$7","v":0},{"$f":"'fruto araçauna'!Y$7","v":0},{"$f":"'fruto araçauna'!Z$7","v":0},{"$f":"'fruto araçauna'!AA$7","v":0},{"$f":"'fruto araçauna'!AB$7","v":0},{"$f":"'fruto araçauna'!AC$7","v":0},{"$f":"'fruto araçauna'!AD$7","v":0},{"$f":"'fruto araçauna'!AE$7","v":0},{"$f":"'fruto araçauna'!AF$7","v":0},{"$f":"'fruto araçauna'!AG$7","v":0},null,0]
[null,null,null,null,null,null,null,null,null,null,null,null,null,null,null,{"$f":"Produção!$A$9","v":"fruto pitanga"},null,{"$f":"'fruto pitanga'!D$7","v":0},{"$f":"'fruto pitanga'!E$7","v":0},{"$f":"'fruto pitanga'!F$7","v":0},{"$f":"'fruto pitanga'!G$7","v":0},{"$f":"'fruto pitanga'!H$7","v":0},{"$f":"'fruto pitanga'!I$7","v":0},{"$f":"'fruto pitanga'!J$7","v":0},{"$f":"'fruto pitanga'!K$7","v":0},{"$f":"'fruto pitanga'!L$7","v":0},{"$f":"'fruto pitanga'!M$7","v":0},{"$f":"'fruto pitanga'!N$7","v":0},{"$f":"'fruto pitanga'!O$7","v":0},{"$f":"'fruto pitanga'!P$7","v":0},{"$f":"'fruto pitanga'!Q$7","v":0},{"$f":"'fruto pitanga'!R$7","v":0},{"$f":"'fruto pitanga'!S$7","v":0},{"$f":"'fruto pitanga'!T$7","v":0},{"$f":"'fruto pitanga'!U$7","v":0},{"$f":"'fruto pitanga'!V$7","v":0},{"$f":"'fruto pitanga'!W$7","v":0},{"$f":"'fruto pitanga'!X$7","v":0},{"$f":"'fruto pitanga'!Y$7","v":0},{"$f":"'fruto pitanga'!Z$7","v":0},{"$f":"'fruto pitanga'!AA$7","v":0},{"$f":"'fruto pitanga'!AB$7","v":0},{"$f":"'fruto pitanga'!AC$7","v":0},{"$f":"'fruto pitanga'!AD$7","v":0},{"$f":"'fruto pitanga'!AE$7","v":0},{"$f":"'fruto pitanga'!AF$7","v":0},{"$f":"'fruto pitanga'!AG$7","v":0},null,0]
[null,null,null,null,null,null,null,null,null,null,null,null,null,null,null,{"$f":"Produção!$A$10","v":"castanha sapucaia"},null,{"$f":"Castanha!D$7","v":0},{"$f":"Castanha!E$7","v":0},{"$f":"Castanha!F$7","v":0},{"$f":"Castanha!G$7","v":0},{"$f":"Castanha!H$7","v":0},{"$f":"Castanha!I$7","v":0},{"$f":"Castanha!J$7","v":0},{"$f":"Castanha!K$7","v":0},{"$f":"Castanha!L$7","v":0},{"$f":"Castanha!M$7","v":0},{"$f":"Castanha!N$7","v":0},{"$f":"Castanha!O$7","v":0},{"$f":"Castanha!P$7","v":0},{"$f":"Castanha!Q$7","v":0},{"$f":"Castanha!R$7","v":0},{"$f":"Castanha!S$7","v":0},{"$f":"Castanha!T$7","v":0},{"$f":"Castanha!U$7","v":0},{"$f":"Castanha!V$7","v":0},{"$f":"Castanha!W$7","v":0},{"$f":"Castanha!X$7","v":0},{"$f":"Castanha!Y$7","v":0},{"$f":"Castanha!Z$7","v":0},{"$f":"Castanha!AA$7","v":0},{"$f":"Castanha!AB$7","v":0},{"$f":"Castanha!AC$7","v":0},{"$f":"Castanha!AD$7","v":0},{"$f":"Castanha!AE$7","v":0},{"$f":"Castanha!AF$7","v":0},{"$f":"Castanha!AG$7","v":0},null,0]
[]
[null,null,null,null,null,null,null,null,null,null,null,null,null,null,null,{"$f":"Produção!$A$11","v":"fruto cajá"},null,{"$f":"'fruto cajá'!D$7","v":0},{"$f":"'fruto cajá'!E$7","v":0},{"$f":"'fruto cajá'!F$7","v":0},{"$f":"'fruto cajá'!G$7","v":0},{"$f":"'fruto cajá'!H$7","v":0},{"$f":"'fruto cajá'!I$7","v":0},{"$f":"'fruto cajá'!J$7","v":0},{"$f":"'fruto cajá'!K$7","v":0},{"$f":"'fruto cajá'!L$7","v":0},{"$f":"'fruto cajá'!M$7","v":0},{"$f":"'fruto cajá'!N$7","v":0},{"$f":"'fruto cajá'!O$7","v":0},{"$f":"'fruto cajá'!P$7","v":0},{"$f":"'fruto cajá'!Q$7","v":0},{"$f":"'fruto cajá'!R$7","v":0},{"$f":"'fruto cajá'!S$7","v":0},{"$f":"'fruto cajá'!T$7","v":0},{"$f":"'fruto cajá'!U$7","v":0},{"$f":"'fruto cajá'!V$7","v":0},{"$f":"'fruto cajá'!W$7","v":0},{"$f":"'fruto cajá'!X$7","v":0},{"$f":"'fruto cajá'!Y$7","v":0},{"$f":"'fruto cajá'!Z$7","v":0},{"$f":"'fruto cajá'!AA$7","v":0},{"$f":"'fruto cajá'!AB$7","v":0},{"$f":"'fruto cajá'!AC$7","v":0},{"$f":"'fruto cajá'!AD$7","v":0},{"$f":"'fruto cajá'!AE$7","v":0},{"$f":"'fruto cajá'!AF$7","v":0},{"$f":"'fruto cajá'!AG$7","v":0},null,{"$f":"SUM(Q44:AU44)","v":0}]
[null,null,null,null,null,null,null,null,null,null,null,null,null,null,null,{"$f":"Produção!$A$12","v":"semente urucum"},null,{"$f":"'semente urucum'!D$7","v":0},{"$f":"'semente urucum'!E$7","v":0},{"$f":"'semente urucum'!F$7","v":0},{"$f":"'semente urucum'!G$7","v":0},{"$f":"'semente urucum'!H$7","v":0},{"$f":"'semente urucum'!I$7","v":0},{"$f":"'semente urucum'!J$7","v":0},{"$f":"'semente urucum'!K$7","v":0},{"$f":"'semente urucum'!L$7","v":0},{"$f":"'semente urucum'!M$7","v":0},{"$f":"'semente urucum'!N$7","v":0},{"$f":"'semente urucum'!O$7","v":0},{"$f":"'semente urucum'!P$7","v":0},{"$f":"'semente urucum'!Q$7","v":0},{"$f":"'semente urucum'!R$7","v":0},{"$f":"'semente urucum'!S$7","v":0},{"$f":"'semente urucum'!T$7","v":0},{"$f":"'semente urucum'!U$7","v":0},{"$f":"'semente urucum'!V$7","v":0},{"$f":"'semente urucum'!W$7","v":0},{"$f":"'semente urucum'!X$7","v":0},{"$f":"'semente urucum'!Y$7","v":0},{"$f":"'semente urucum'!Z$7","v":0},{"$f":"'semente urucum'!AA$7","v":0},{"$f":"'semente urucum'!AB$7","v":0},{"$f":"'semente urucum'!AC$7","v":0},{"$f":"'semente urucum'!AD$7","v":0},{"$f":"'semente urucum'!AE$7","v":0},{"$f":"'semente urucum'!AF$7","v":0},{"$f":"'semente urucum'!AG$7","v":0},null,{"$f":"SUM(Q45:AU45)","v":0}]
[null,null,null,null,null,null,null,null,null,null,null,null,null,null,null,{"$f":"Produção!$A$13","v":"semente aroeira"},null,{"$f":"'semente aroeira'!D$7","v":0},{"$f":"'semente aroeira'!E$7","v":0},{"$f":"'semente aroeira'!F$7","v":0},{"$f":"'semente aroeira'!G$7","v":0},{"$f":"'semente aroeira'!H$7","v":0},{"$f":"'semente aroeira'!I$7","v":0},{"$f":"'semente aroeira'!J$7","v":0},{"$f":"'semente aroeira'!K$7","v":0},{"$f":"'semente aroeira'!L$7","v":0},{"$f":"'semente aroeira'!M$7","v":0},{"$f":"'semente aroeira'!N$7","v":0},{"$f":"'semente aroeira'!O$7","v":0},{"$f":"'semente aroeira'!P$7","v":0},{"$f":"'semente aroeira'!Q$7","v":0},{"$f":"'semente aroeira'!R$7","v":0},{"$f":"'semente aroeira'!S$7","v":0},{"$f":"'semente aroeira'!T$7","v":0},{"$f":"'semente aroeira'!U$7","v":0},{"$f":"'semente aroeira'!V$7","v":0},{"$f":"'semente aroeira'!W$7","v":0},{"$f":"'semente aroeira'!X$7","v":0},{"$f":"'semente aroeira'!Y$7","v":0},{"$f":"'semente aroeira'!Z$7","v":0},{"$f":"'semente aroeira'!AA$7","v":0},{"$f":"'semente aroeira'!AB$7","v":0},{"$f":"'semente aroeira'!AC$7","v":0},{"$f":"'semente aroeira'!AD$7","v":0},{"$f":"'semente aroeira'!AE$7","v":0},{"$f":"'semente aroeira'!AF$7","v":0},{"$f":"'semente aroeira'!AG$7","v":0},null,{"$f":"SUM(Q46:AU46)","v":0}]
[null,null,null,null,null,null,null,null,null,null,null,null,null,null,null,{"$f":"Produção!$A$14","v":"raiz mandioca"},null,{"$f":"'raiz mandioca'!D$7","v":0},{"$f":"'raiz mandioca'!E$7","v":0},{"$f":"'raiz mandioca'!F$7","v":0},{"$f":"'raiz mandioca'!G$7","v":0},{"$f":"'raiz mandioca'!H$7","v":0},{"$f":"'raiz mandioca'!I$7","v":0},{"$f":"'raiz mandioca'!J$7","v":0},{"$f":"'raiz mandioca'!K$7","v":0},{"$f":"'raiz mandioca'!L$7","v":0},{"$f":"'raiz mandioca'!M$7","v":0},{"$f":"'raiz mandioca'!N$7","v":0},{"$f":"'raiz mandioca'!O$7","v":0},{"$f":"'raiz mandioca'!P$7","v":0},{"$f":"'raiz mandioca'!Q$7","v":0},{"$f":"'raiz mandioca'!R$7","v":0},{"$f":"'raiz mandioca'!S$7","v":0},{"$f":"'raiz mandioca'!T$7","v":0},{"$f":"'raiz mandioca'!U$7","v":0},{"$f":"'raiz mandioca'!V$7","v":0},{"$f":"'raiz mandioca'!W$7","v":0},{"$f":"'raiz mandioca'!X$7","v":0},{"$f":"'raiz mandioca'!Y$7","v":0},{"$f":"'raiz mandioca'!Z$7","v":0},{"$f":"'raiz mandioca'!AA$7","v":0},{"$f":"'raiz mandioca'!AB$7","v":0},{"$f":"'raiz mandioca'!AC$7","v":0},{"$f":"'raiz mandioca'!AD$7","v":0},{"$f":"'raiz mandioca'!AE$7","v":0},{"$f":"'raiz mandioca'!AF$7","v":0},{"$f":"'raiz mandioca'!AG$7","v":0},null,{"$f":"SUM(Q47:AU47)","v":0}]
[]
[null,null,null,null,null,null,null,null,null,null,null,null,null,null,null,{"$f":"Produção!$A$15","v":"fruto abacaxi"},null,{"$f":"abacaxi!D$7","v":0},{"$f":"abacaxi!E$7","v":0},{"$f":"abacaxi!F$7","v":0},{"$f":"abacaxi!G$7","v":0},{"$f":"abacaxi!H$7","v":0},{"$f":"abacaxi!I$7","v":0},{"$f":"abacaxi!J$7","v":0},{"$f":"abacaxi!K$7","v":0},{"$f":"abacaxi!L$7","v":0},{"$f":"abacaxi!M$7","v":0},{"$f":"abacaxi!N$7","v":0},{"$f":"abacaxi!O$7","v":0},{"$f":"abacaxi!P$7","v":0},{"$f":"abacaxi!Q$7","v":0},{"$f":"abacaxi!R$7","v":0},{"$f":"abacaxi!S$7","v":0},{"$f":"abacaxi!T$7","v":0},{"$f":"abacaxi!U$7","v":0},{"$f":"abacaxi!V$7","v":0},{"$f":"abacaxi!W$7","v":0},{"$f":"abacaxi!X$7","v":0},{"$f":"abacaxi!Y$7","v":0},{"$f":"abacaxi!Z$7","v":0},{"$f":"abacaxi!AA$7","v":0},{"$f":"abacaxi!AB$7","v":0},{"$f":"abacaxi!AC$7","v":0},{"$f":"abacaxi!AD$7","v":0},{"$f":"abacaxi!AE$7","v":0},{"$f":"abacaxi!AF$7","v":0},{"$f":"abacaxi!AG$7","v":0},null,{"$f":"SUM(Q49:AU49)","v":0}]
[null,null,null,null,null,null,null,null,null,null,null,null,null,null,null,{"$f":"Produção!$A$16","v":"espigas milho"},null,{"$f":"espigas!D$7","v":0},{"$f":"espigas!E$7","v":0},{"$f":"espigas!F$7","v":0},{"$f":"espigas!G$7","v":0},{"$f":"espigas!H$7","v":0},{"$f":"espigas!I$7","v":0},{"$f":"espigas!J$7","v":0},{"$f":"espigas!K$7","v":0},{"$f":"espigas!L$7","v":0},{"$f":"espigas!M$7","v":0},{"$f":"espigas!N$7","v":0},{"$f":"espigas!O$7","v":0},{"$f":"espigas!P$7","v":0},{"$f":"espigas!Q$7","v":0},{"$f":"espigas!R$7","v":0},{"$f":"espigas!S$7","v":0},{"$f":"espigas!T$7","v":0},{"$f":"espigas!U$7","v":0},{"$f":"espigas!V$7","v":0},{"$f":"espigas!W$7","v":0},{"$f":"espigas!X$7","v":0},{"$f":"espigas!Y$7","v":0},{"$f":"espigas!Z$7","v":0},{"$f":"espigas!AA$7","v":0},{"$f":"espigas!AB$7","v":0},{"$f":"espigas!AC$7","v":0},{"$f":"espigas!AD$7","v":0},{"$f":"espigas!AE$7","v":0},{"$f":"espigas!AF$7","v":0},{"$f":"espigas!AG$7","v":0},null,0]
[null,null,null,null,null,null,null,null,null,null,null,null,null,null,null,{"$f":"Produção!$A$17","v":"estaca sansão do campo"},null,{"$f":"'semente caupi'!D$7","v":0},{"$f":"'semente caupi'!E$7","v":0},{"$f":"'semente caupi'!F$7","v":0},{"$f":"'semente caupi'!G$7","v":0},{"$f":"'semente caupi'!H$7","v":0},{"$f":"'semente caupi'!I$7","v":0},{"$f":"'semente caupi'!J$7","v":0},{"$f":"'semente caupi'!K$7","v":0},{"$f":"'semente caupi'!L$7","v":0},{"$f":"'semente caupi'!M$7","v":0},{"$f":"'semente caupi'!N$7","v":0},{"$f":"'semente caupi'!O$7","v":0},{"$f":"'semente caupi'!P$7","v":0},{"$f":"'semente caupi'!Q$7","v":0},{"$f":"'semente caupi'!R$7","v":0},{"$f":"'semente caupi'!S$7","v":0},{"$f":"'semente caupi'!T$7","v":0},{"$f":"'semente caupi'!U$7","v":0},{"$f":"'semente caupi'!V$7","v":0},{"$f":"'semente caupi'!W$7","v":0},{"$f":"'semente caupi'!X$7","v":0},{"$f":"'semente caupi'!Y$7","v":0},{"$f":"'semente caupi'!Z$7","v":0},{"$f":"'semente caupi'!AA$7","v":0},{"$f":"'semente caupi'!AB$7","v":0},{"$f":"'semente caupi'!AC$7","v":0},{"$f":"'semente caupi'!AD$7","v":0},{"$f":"'semente caupi'!AE$7","v":0},{"$f":"'semente caupi'!AF$7","v":0},{"$f":"'semente caupi'!AG$7","v":0},null,0]
[null,null,null,null,null,null,null,null,null,null,null,null,null,null,null,{"$f":"Produção!$A$18","v":"madeira madeira nova"},null,{"$f":"biomassa!D$7","v":0},{"$f":"biomassa!E$7","v":0},{"$f":"biomassa!F$7","v":0},{"$f":"biomassa!G$7","v":0},{"$f":"biomassa!H$7","v":0},{"$f":"biomassa!I$7","v":0},{"$f":"biomassa!J$7","v":0},{"$f":"biomassa!K$7","v":0},{"$f":"biomassa!L$7","v":0},{"$f":"biomassa!M$7","v":0},{"$f":"biomassa!N$7","v":0},{"$f":"biomassa!O$7","v":0},{"$f":"biomassa!P$7","v":0},{"$f":"biomassa!Q$7","v":0},{"$f":"biomassa!R$7","v":0},{"$f":"biomassa!S$7","v":0},{"$f":"biomassa!T$7","v":0},{"$f":"biomassa!U$7","v":0},{"$f":"biomassa!V$7","v":0},{"$f":"biomassa!W$7","v":0},{"$f":"biomassa!X$7","v":0},{"$f":"biomassa!Y$7","v":0},{"$f":"biomassa!Z$7","v":0},{"$f":"biomassa!AA$7","v":0},{"$f":"biomassa!AB$7","v":0},{"$f":"biomassa!AC$7","v":0},{"$f":"biomassa!AD$7","v":0},{"$f":"biomassa!AE$7","v":0},{"$f":"biomassa!AF$7","v":0},{"$f":"biomassa!AG$7","v":0},null,0]
[null,null,null,null,null,null,null,null,null,null,null,null,null,null,null,{"$f":"Produção!$A$19","v":"lenha fedegoso"},null,{"$f":"madeira!D$7","v":0},{"$f":"madeira!E$7","v":0},{"$f":"madeira!F$7","v":0},{"$f":"madeira!G$7","v":0},{"$f":"madeira!H$7","v":0},{"$f":"madeira!I$7","v":0},{"$f":"madeira!J$7","v":0},{"$f":"madeira!K$7","v":0},{"$f":"madeira!L$7","v":0},{"$f":"madeira!M$7","v":0},{"$f":"madeira!N$7","v":0},{"$f":"madeira!O$7","v":0},{"$f":"madeira!P$7","v":0},{"$f":"madeira!Q$7","v":0},{"$f":"madeira!R$7","v":0},{"$f":"madeira!S$7","v":0},{"$f":"madeira!T$7","v":0},{"$f":"madeira!U$7","v":0},{"$f":"madeira!V$7","v":0},{"$f":"madeira!W$7","v":0},{"$f":"madeira!X$7","v":0},{"$f":"madeira!Y$7","v":0},{"$f":"madeira!Z$7","v":0},{"$f":"madeira!AA$7","v":0},{"$f":"madeira!AB$7","v":0},{"$f":"madeira!AC$7","v":0},{"$f":"madeira!AD$7","v":0},{"$f":"madeira!AE$7","v":0},{"$f":"madeira!AF$7","v":0},{"$f":"madeira!AG$7","v":0},null,0]
[null,null,null,null,null,null,null,null,null,null,null,null,null,null,null,{"$f":"Produção!$A$20","v":"estaca pau d'alho"},null,{"$f":"'Produto 15'!D$7","v":0},{"$f":"'Produto 15'!E$7","v":0},{"$f":"'Produto 15'!F$7","v":0},{"$f":"'Produto 15'!G$7","v":0},{"$f":"'Produto 15'!H$7","v":0},{"$f":"'Produto 15'!I$7","v":0},{"$f":"'Produto 15'!J$7","v":0},{"$f":"'Produto 15'!K$7","v":0},{"$f":"'Produto 15'!L$7","v":0},{"$f":"'Produto 15'!M$7","v":0},{"$f":"'Produto 15'!N$7","v":0},{"$f":"'Produto 15'!O$7","v":0},{"$f":"'Produto 15'!P$7","v":0},{"$f":"'Produto 15'!Q$7","v":0},{"$f":"'Produto 15'!R$7","v":0},{"$f":"'Produto 15'!S$7","v":0},{"$f":"'Produto 15'!T$7","v":0},{"$f":"'Produto 15'!U$7","v":0},{"$f":"'Produto 15'!V$7","v":0},{"$f":"'Produto 15'!W$7","v":0},{"$f":"'Produto 15'!X$7","v":0},{"$f":"'Produto 15'!Y$7","v":0},{"$f":"'Produto 15'!Z$7","v":0},{"$f":"'Produto 15'!AA$7","v":0},{"$f":"'Produto 15'!AB$7","v":0},{"$f":"'Produto 15'!AC$7","v":0},{"$f":"'Produto 15'!AD$7","v":0},{"$f":"'Produto 15'!AE$7","v":0},{"$f":"'Produto 15'!AF$7","v":0},{"$f":"'Produto 15'!AG$7","v":0},null,0]
[null,null,null,null,null,null,null,null,null,null,null,null,null,null,null,{"$f":"Produção!$A$21","v":"caixotaria boleira"},null,{"$f":"'Produto 16'!D$7","v":0},{"$f":"'Produto 16'!E$7","v":0},{"$f":"'Produto 16'!F$7","v":0},{"$f":"'Produto 16'!G$7","v":0},{"$f":"'Produto 16'!H$7","v":0},{"$f":"'Produto 16'!I$7","v":0},{"$f":"'Produto 16'!J$7","v":0},{"$f":"'Produto 16'!K$7","v":0},{"$f":"'Produto 16'!L$7","v":0},{"$f":"'Produto 16'!M$7","v":0},{"$f":"'Produto 16'!N$7","v":0},{"$f":"'Produto 16'!O$7","v":0},{"$f":"'Produto 16'!P$7","v":0},{"$f":"'Produto 16'!Q$7","v":0},{"$f":"'Produto 16'!R$7","v":0},{"$f":"'Produto 16'!S$7","v":0},{"$f":"'Produto 16'!T$7","v":0},{"$f":"'Produto 16'!U$7","v":0},{"$f":"'Produto 16'!V$7","v":0},{"$f":"'Produto 16'!W$7","v":0},{"$f":"'Produto 16'!X$7","v":0},{"$f":"'Produto 16'!Y$7","v":0},{"$f":"'Produto 16'!Z$7","v":0},{"$f":"'Produto 16'!AA$7","v":0},{"$f":"'Produto 16'!AB$7","v":0},{"$f":"'Produto 16'!AC$7","v":0},{"$f":"'Produto 16'!AD$7","v":0},{"$f":"'Produto 16'!AE$7","v":0},{"$f":"'Produto 16'!AF$7","v":0},{"$f":"'Produto 16'!AG$7","v":0},null,0]
[]
[null,null,null,null,null,null,null,null,null,null,null,null,null,null,null,{"$f":"Produção!$A$22","v":"madeira angico roxo"},null,{"$f":"'Produto 17'!D$7","v":0},{"$f":"'Produto 17'!E$7","v":0},{"$f":"'Produto 17'!F$7","v":0},{"$f":"'Produto 17'!G$7","v":0},{"$f":"'Produto 17'!H$7","v":0},{"$f":"'Produto 17'!I$7","v":0},{"$f":"'Produto 17'!J$7","v":0},{"$f":"'Produto 17'!K$7","v":0},{"$f":"'Produto 17'!L$7","v":0},{"$f":"'Produto 17'!M$7","v":0},{"$f":"'Produto 17'!N$7","v":0},{"$f":"'Produto 17'!O$7","v":0},{"$f":"'Produto 17'!P$7","v":0},{"$f":"'Produto 17'!Q$7","v":0},{"$f":"'Produto 17'!R$7","v":0},{"$f":"'Produto 17'!S$7","v":0},{"$f":"'Produto 17'!T$7","v":0},{"$f":"'Produto 17'!U$7","v":0},{"$f":"'Produto 17'!V$7","v":0},{"$f":"'Produto 17'!W$7","v":0},{"$f":"'Produto 17'!X$7","v":0},{"$f":"'Produto 17'!Y$7","v":0},{"$f":"'Produto 17'!Z$7","v":0},{"$f":"'Produto 17'!AA$7","v":0},{"$f":"'Produto 17'!AB$7","v":0},{"$f":"'Produto 17'!AC$7","v":0},{"$f":"'Produto 17'!AD$7","v":0},{"$f":"'Produto 17'!AE$7","v":0},{"$f":"'Produto 17'!AF$7","v":0},{"$f":"'Produto 17'!AG$7","v":0},null,{"$f":"SUM(Q57:AU57)","v":0}]
[null,null,null,null,null,null,null,null,null,null,null,null,null,null,null,{"$f":"Produção!$A$23","v":"madeira ipê roxo"},null,{"$f":"'Produto 18'!D$7","v":0},{"$f":"'Produto 18'!E$7","v":0},{"$f":"'Produto 18'!F$7","v":0},{"$f":"'Produto 18'!G$7","v":0},{"$f":"'Produto 18'!H$7","v":0},{"$f":"'Produto 18'!I$7","v":0},{"$f":"'Produto 18'!J$7","v":0},{"$f":"'Produto 18'!K$7","v":0},{"$f":"'Produto 18'!L$7","v":0},{"$f":"'Produto 18'!M$7","v":0},{"$f":"'Produto 18'!N$7","v":0},{"$f":"'Produto 18'!O$7","v":0},{"$f":"'Produto 18'!P$7","v":0},{"$f":"'Produto 18'!Q$7","v":0},{"$f":"'Produto 18'!R$7","v":0},{"$f":"'Produto 18'!S$7","v":0},{"$f":"'Produto 18'!T$7","v":0},{"$f":"'Produto 18'!U$7","v":0},{"$f":"'Produto 18'!V$7","v":0},{"$f":"'Produto 18'!W$7","v":0},{"$f":"'Produto 18'!X$7","v":0},{"$f":"'Produto 18'!Y$7","v":0},{"$f":"'Produto 18'!Z$7","v":0},{"$f":"'Produto 18'!AA$7","v":0},{"$f":"'Produto 18'!AB$7","v":0},{"$f":"'Produto 18'!AC$7","v":0},{"$f":"'Produto 18'!AD$7","v":0},{"$f":"'Produto 18'!AE$7","v":0},{"$f":"'Produto 18'!AF$7","v":0},{"$f":"'Produto 18'!AG$7","v":0},null,0]
[null,null,null,null,null,null,null,null,null,null,null,null,null,null,null,{"$f":"Produção!$A$24","v":"madeira ipê amarelo"},null,{"$f":"'Produto 19'!D$7","v":0},{"$f":"'Produto 19'!E$7","v":0},{"$f":"'Produto 19'!F$7","v":0},{"$f":"'Produto 19'!G$7","v":0},{"$f":"'Produto 19'!H$7","v":0},{"$f":"'Produto 19'!I$7","v":0},{"$f":"'Produto 19'!J$7","v":0},{"$f":"'Produto 19'!K$7","v":0},{"$f":"'Produto 19'!L$7","v":0},{"$f":"'Produto 19'!M$7","v":0},{"$f":"'Produto 19'!N$7","v":0},{"$f":"'Produto 19'!O$7","v":0},{"$f":"'Produto 19'!P$7","v":0},{"$f":"'Produto 19'!Q$7","v":0},{"$f":"'Produto 19'!R$7","v":0},{"$f":"'Produto 19'!S$7","v":0},{"$f":"'Produto 19'!T$7","v":0},{"$f":"'Produto 19'!U$7","v":0},{"$f":"'Produto 19'!V$7","v":0},{"$f":"'Produto 19'!W$7","v":0},{"$f":"'Produto 19'!X$7","v":0},{"$f":"'Produto 19'!Y$7","v":0},{"$f":"'Produto 19'!Z$7","v":0},{"$f":"'Produto 19'!AA$7","v":0},{"$f":"'Produto 19'!AB$7","v":0},{"$f":"'Produto 19'!AC$7","v":0},{"$f":"'Produto 19'!AD$7","v":0},{"$f":"'Produto 19'!AE$7","v":0},{"$f":"'Produto 19'!AF$7","v":0},{"$f":"'Produto 19'!AG$7","v":0},null,0]
[null,null,null,null,null,null,null,null,null,null,null,null,null,null,null,{"$f":"Produção!$A$25","v":"madeira gonçalo alves"},null,{"$f":"'Produto 20'!D$7","v":0},{"$f":"'Produto 20'!E$7","v":0},{"$f":"'Produto 20'!F$7","v":0},{"$f":"'Produto 20'!G$7","v":0},{"$f":"'Produto 20'!H$7","v":0},{"$f":"'Produto 20'!I$7","v":0},{"$f":"'Produto 20'!J$7","v":0},{"$f":"'Produto 20'!K$7","v":0},{"$f":"'Produto 20'!L$7","v":0},{"$f":"'Produto 20'!M$7","v":0},{"$f":"'Produto 20'!N$7","v":0},{"$f":"'Produto 20'!O$7","v":0},{"$f":"'Produto 20'!P$7","v":0},{"$f":"'Produto 20'!Q$7","v":0},{"$f":"'Produto 20'!R$7","v":0},{"$f":"'Produto 20'!S$7","v":0},{"$f":"'Produto 20'!T$7","v":0},{"$f":"'Produto 20'!U$7","v":0},{"$f":"'Produto 20'!V$7","v":0},{"$f":"'Produto 20'!W$7","v":0},{"$f":"'Produto 20'!X$7","v":0},{"$f":"'Produto 20'!Y$7","v":0},{"$f":"'Produto 20'!Z$7","v":0},{"$f":"'Produto 20'!AA$7","v":0},{"$f":"'Produto 20'!AB$7","v":0},{"$f":"'Produto 20'!AC$7","v":0},{"$f":"'Produto 20'!AD$7","v":0},{"$f":"'Produto 20'!AE$7","v":0},{"$f":"'Produto 20'!AF$7","v":0},{"$f":"'Produto 20'!AG$7","v":0},null,0]
[null,null,null,null,null,null,null,null,null,null,null,null,null,null,null,{"$f":"Produção!$A$26","v":"madeira vinhatico"},null,{"$f":"'Produto 21'!D$7","v":0},{"$f":"'Produto 21'!E$7","v":0},{"$f":"'Produto 21'!F$7","v":0},{"$f":"'Produto 21'!G$7","v":0},{"$f":"'Produto 21'!H$7","v":0},{"$f":"'Produto 21'!I$7","v":0},{"$f":"'Produto 21'!J$7","v":0},{"$f":"'Produto 21'!K$7","v":0},{"$f":"'Produto 21'!L$7","v":0},{"$f":"'Produto 21'!M$7","v":0},{"$f":"'Produto 21'!N$7","v":0},{"$f":"'Produto 21'!O$7","v":0},{"$f":"'Produto 21'!P$7","v":0},{"$f":"'Produto 21'!Q$7","v":0},{"$f":"'Produto 21'!R$7","v":0},{"$f":"'Produto 21'!S$7","v":0},{"$f":"'Produto 21'!T$7","v":0},{"$f":"'Produto 21'!U$7","v":0},{"$f":"'Produto 21'!V$7","v":0},{"$f":"'Produto 21'!W$7","v":0},{"$f":"'Produto 21'!X$7","v":0},{"$f":"'Produto 21'!Y$7","v":0},{"$f":"'Produto 21'!Z$7","v":0},{"$f":"'Produto 21'!AA$7","v":0},{"$f":"'Produto 21'!AB$7","v":0},{"$f":"'Produto 21'!AC$7","v":0},{"$f":"'Produto 21'!AD$7","v":0},{"$f":"'Produto 21'!AE$7","v":0},{"$f":"'Produto 21'!AF$7","v":0},{"$f":"'Produto 21'!AG$7","v":0},null,0]
[null,null,null,null,null,null,null,null,null,null,null,null,null,null,null,{"$f":"Produção!$A$27","v":"madeira jequitiba"},null,{"$f":"'Produto 22'!D$7","v":0},{"$f":"'Produto 22'!E$7","v":0},{"$f":"'Produto 22'!F$7","v":0},{"$f":"'Produto 22'!G$7","v":0},{"$f":"'Produto 22'!H$7","v":0},{"$f":"'Produto 22'!I$7","v":0},{"$f":"'Produto 22'!J$7","v":0},{"$f":"'Produto 22'!K$7","v":0},{"$f":"'Produto 22'!L$7","v":0},{"$f":"'Produto 22'!M$7","v":0},{"$f":"'Produto 22'!N$7","v":0},{"$f":"'Produto 22'!O$7","v":0},{"$f":"'Produto 22'!P$7","v":0},{"$f":"'Produto 22'!Q$7","v":0},{"$f":"'Produto 22'!R$7","v":0},{"$f":"'Produto 22'!S$7","v":0},{"$f":"'Produto 22'!T$7","v":0},{"$f":"'Produto 22'!U$7","v":0},{"$f":"'Produto 22'!V$7","v":0},{"$f":"'Produto 22'!W$7","v":0},{"$f":"'Produto 22'!X$7","v":0},{"$f":"'Produto 22'!Y$7","v":0},{"$f":"'Produto 22'!Z$7","v":0},{"$f":"'Produto 22'!AA$7","v":0},{"$f":"'Produto 22'!AB$7","v":0},{"$f":"'Produto 22'!AC$7","v":0},{"$f":"'Produto 22'!AD$7","v":0},{"$f":"'Produto 22'!AE$7","v":0},{"$f":"'Produto 22'!AF$7","v":0},{"$f":"'Produto 22'!AG$7","v":0},null,0]
[null,null,null,null,null,null,null,null,null,null,null,null,null,null,null,{"$f":"Produção!$A$29","v":"grão caupi"},null,{"$f":"'Produto 23'!D$7","v":0},{"$f":"'Produto 23'!E$7","v":0},{"$f":"'Produto 23'!F$7","v":0},{"$f":"'Produto 23'!G$7","v":0},{"$f":"'Produto 23'!H$7","v":0},{"$f":"'Produto 23'!I$7","v":0},{"$f":"'Produto 23'!J$7","v":0},{"$f":"'Produto 23'!K$7","v":0},{"$f":"'Produto 23'!L$7","v":0},{"$f":"'Produto 23'!M$7","v":0},{"$f":"'Produto 23'!N$7","v":0},{"$f":"'Produto 23'!O$7","v":0},{"$f":"'Produto 23'!P$7","v":0},{"$f":"'Produto 23'!Q$7","v":0},{"$f":"'Produto 23'!R$7","v":0},{"$f":"'Produto 23'!S$7","v":0},{"$f":"'Produto 23'!T$7","v":0},{"$f":"'Produto 23'!U$7","v":0},{"$f":"'Produto 23'!V$7","v":0},{"$f":"'Produto 23'!W$7","v":0},{"$f":"'Produto 23'!X$7","v":0},{"$f":"'Produto 23'!Y$7","v":0},{"$f":"'Produto 23'!Z$7","v":0},{"$f":"'Produto 23'!AA$7","v":0},{"$f":"'Produto 23'!AB$7","v":0},{"$f":"'Produto 23'!AC$7","v":0},{"$f":"'Produto 23'!AD$7","v":0},{"$f":"'Produto 23'!AE$7","v":0},{"$f":"'Produto 23'!AF$7","v":0},{"$f":"'Produto 23'!AG$7","v":0},null,0]
[]
[null,null,null,null,null,null,null,null,null,null,null,null,null,null,null,{"$f":"'Parâmetros Gerais'!$B$37","v":"grão caupi"},null,{"$f":"'Produto 24'!D$7","v":0},{"$f":"'Produto 24'!E$7","v":0},{"$f":"'Produto 24'!F$7","v":0},{"$f":"'Produto 24'!G$7","v":0},{"$f":"'Produto 24'!H$7","v":0},{"$f":"'Produto 24'!I$7","v":0},{"$f":"'Produto 24'!J$7","v":0},{"$f":"'Produto 24'!K$7","v":0},{"$f":"'Produto 24'!L$7","v":0},{"$f":"'Produto 24'!M$7","v":0},{"$f":"'Produto 24'!N$7","v":0},{"$f":"'Produto 24'!O$7","v":0},{"$f":"'Produto 24'!P$7","v":0},{"$f":"'Produto 24'!Q$7","v":0},{"$f":"'Produto 24'!R$7","v":0},{"$f":"'Produto 24'!S$7","v":0},{"$f":"'Produto 24'!T$7","v":0},{"$f":"'Produto 24'!U$7","v":0},{"$f":"'Produto 24'!V$7","v":0},{"$f":"'Produto 24'!W$7","v":0},{"$f":"'Produto 24'!X$7","v":0},{"$f":"'Produto 24'!Y$7","v":0},{"$f":"'Produto 24'!Z$7","v":0},{"$f":"'Produto 24'!AA$7","v":0},{"$f":"'Produto 24'!AB$7","v":0},{"$f":"'Produto 24'!AC$7","v":0},{"$f":"'Produto 24'!AD$7","v":0},{"$f":"'Produto 24'!AE$7","v":0},{"$f":"'Produto 24'!AF$7","v":0},{"$f":"'Produto 24'!AG$7","v":0},null,{"$f":"SUM(Q65:AU65)","v":0}]
[]
[]
[null,null,null,null,null,null,null,null,null,null,null,null,null,null,null,"Custos de Insumos",{"$f":"'Resultado Fin (2)'!D8","v":0},{"$f":"'Resultado Fin (2)'!E8","v":0},{"$f":"'Resultado Fin (2)'!F8","v":0},{"$f":"'Resultado Fin (2)'!G8","v":0},{"$f":"'Resultado Fin (2)'!H8","v":0},{"$f":"'Resultado Fin (2)'!I8","v":0},{"$f":"'Resultado Fin (2)'!J8","v":0},{"$f":"'Resultado Fin (2)'!K8","v":0},{"$f":"'Resultado Fin (2)'!L8","v":0},{"$f":"'Resultado Fin (2)'!M8","v":0},{"$f":"'Resultado Fin (2)'!N8","v":0},{"$f":"'Resultado Fin (2)'!O8","v":0},{"$f":"'Resultado Fin (2)'!P8","v":0},{"$f":"'Resultado Fin (2)'!Q8","v":0},{"$f":"'Resultado Fin (2)'!R8","v":0},{"$f":"'Resultado Fin (2)'!S8","v":0},{"$f":"'Resultado Fin (2)'!T8","v":0},{"$f":"'Resultado Fin (2)'!U8","v":0},{"$f":"'Resultado Fin (2)'!V8","v":0},{"$f":"'Resultado Fin (2)'!W8","v":0},{"$f":"'Resultado Fin (2)'!X8","v":0},{"$f":"'Resultado Fin (2)'!Y8","v":0},{"$f":"'Resultado Fin (2)'!Z8","v":0},{"$f":"'Resultado Fin (2)'!AA8","v":0},{"$f":"'Resultado Fin (2)'!AB8","v":0},{"$f":"'Resultado Fin (2)'!AC8","v":0},{"$f":"'Resultado Fin (2)'!AD8","v":0},{"$f":"'Resultado Fin (2)'!AE8","v":0},{"$f":"'Resultado Fin (2)'!AF8","v":0},{"$f":"'Resultado Fin (2)'!AG8","v":0},{"$f":"'Resultado Fin (2)'!AH8","v":0}]
[null,null,null,null,null,null,null,null,null,null,null,null,null,null,null,"Atividades Gerais",{"$f":"'Preparo e Gerais'!D$20","v":0},null,null,null,null,null,null,null,null,null,null,null,null,null,null,null,null,null,null,null,null,null,null,null,null,null,null,null,null,null,null,null,{"$f":"SUM(Q69:AU69)","v":0}]
[null,null,null,null,null,null,null,null,null,null,null,null,null,null,null,{"$f":"Produção!$A$6","v":"latex"},null,{"$f":"latex!D$24","v":0},{"$f":"latex!E$24","v":0},{"$f":"latex!F$24","v":0},{"$f":"latex!G$24","v":0},{"$f":"latex!H$24","v":0},{"$f":"latex!I$24","v":0},{"$f":"latex!J$24","v":0},{"$f":"latex!K$24","v":0},{"$f":"latex!L$24","v":0},{"$f":"latex!M$24","v":0},{"$f":"latex!N$24","v":0},{"$f":"latex!O$24","v":0},{"$f":"latex!P$24","v":0},{"$f":"latex!Q$24","v":0},{"$f":"latex!R$24","v":0},{"$f":"latex!S$24","v":0},{"$f":"latex!T$24","v":0},{"$f":"latex!U$24","v":0},{"$f":"latex!V$24","v":0},{"$f":"latex!W$24","v":0},{"$f":"latex!X$24","v":0},{"$f":"latex!Y$24","v":0},{"$f":"latex!Z$24","v":0},{"$f":"latex!AA$24","v":0},{"$f":"latex!AB$24","v":0},{"$f":"latex!AC$24","v":0},{"$f":"latex!AD$24","v":0},{"$f":"latex!AE$24","v":0},{"$f":"latex!AF$24","v":0},{"$f":"latex!AG$24","v":0},null,0]
[null,null,null,null,null,null,null,null,null,null,null,null,null,null,null,{"$f":"Produção!$A$7","v":"fruto genipapo"},null,{"$f":"'fruto genipapo'!D$24","v":0},{"$f":"'fruto genipapo'!E$24","v":0},{"$f":"'fruto genipapo'!F$24","v":0},{"$f":"'fruto genipapo'!G$24","v":0},{"$f":"'fruto genipapo'!H$24","v":0},{"$f":"'fruto genipapo'!I$24","v":0},{"$f":"'fruto genipapo'!J$24","v":0},{"$f":"'fruto genipapo'!K$24","v":0},{"$f":"'fruto genipapo'!L$24","v":0},{"$f":"'fruto genipapo'!M$24","v":0},{"$f":"'fruto genipapo'!N$24","v":0},{"$f":"'fruto genipapo'!O$24","v":0},{"$f":"'fruto genipapo'!P$24","v":0},{"$f":"'fruto genipapo'!Q$24","v":0},{"$f":"'fruto genipapo'!R$24","v":0},{"$f":"'fruto genipapo'!S$24","v":0},{"$f":"'fruto genipapo'!T$24","v":0},{"$f":"'fruto genipapo'!U$24","v":0},{"$f":"'fruto genipapo'!V$24","v":0},{"$f":"'fruto genipapo'!W$24","v":0},{"$f":"'fruto genipapo'!X$24","v":0},{"$f":"'fruto genipapo'!Y$24","v":0},{"$f":"'fruto genipapo'!Z$24","v":0},{"$f":"'fruto genipapo'!AA$24","v":0},{"$f":"'fruto genipapo'!AB$24","v":0},{"$f":"'fruto genipapo'!AC$24","v":0},{"$f":"'fruto genipapo'!AD$24","v":0},{"$f":"'fruto genipapo'!AE$24","v":0},{"$f":"'fruto genipapo'!AF$24","v":0},{"$f":"'fruto genipapo'!AG$24","v":0},null,0]
[null,null,null,null,null,null,null,null,null,null,null,null,null,null,null,{"$f":"Produção!$A$8","v":"fruto araçauna"},null,{"$f":"'fruto araçauna'!D$24","v":0},{"$f":"'fruto araçauna'!E$24","v":0},{"$f":"'fruto araçauna'!F$24","v":0},{"$f":"'fruto araçauna'!G$24","v":0},{"$f":"'fruto araçauna'!H$24","v":0},{"$f":"'fruto araçauna'!I$24","v":0},{"$f":"'fruto araçauna'!J$24","v":0},{"$f":"'fruto araçauna'!K$24","v":0},{"$f":"'fruto araçauna'!L$24","v":0},{"$f":"'fruto araçauna'!M$24","v":0},{"$f":"'fruto araçauna'!N$24","v":0},{"$f":"'fruto araçauna'!O$24","v":0},{"$f":"'fruto araçauna'!P$24","v":0},{"$f":"'fruto araçauna'!Q$24","v":0},{"$f":"'fruto araçauna'!R$24","v":0},{"$f":"'fruto araçauna'!S$24","v":0},{"$f":"'fruto araçauna'!T$24","v":0},{"$f":"'fruto araçauna'!U$24","v":0},{"$f":"'fruto araçauna'!V$24","v":0},{"$f":"'fruto araçauna'!W$24","v":0},{"$f":"'fruto araçauna'!X$24","v":0},{"$f":"'fruto araçauna'!Y$24","v":0},{"$f":"'fruto araçauna'!Z$24","v":0},{"$f":"'fruto araçauna'!AA$24","v":0},{"$f":"'fruto araçauna'!AB$24","v":0},{"$f":"'fruto araçauna'!AC$24","v":0},{"$f":"'fruto araçauna'!AD$24","v":0},{"$f":"'fruto araçauna'!AE$24","v":0},{"$f":"'fruto araçauna'!AF$24","v":0},{"$f":"'fruto araçauna'!AG$24","v":0},null,0]
[null,null,null,null,null,null,null,null,null,null,null,null,null,null,null,{"$f":"Produção!$A$9","v":"fruto pitanga"},null,{"$f":"'fruto pitanga'!D$24","v":0},{"$f":"'fruto pitanga'!E$24","v":0},{"$f":"'fruto pitanga'!F$24","v":0},{"$f":"'fruto pitanga'!G$24","v":0},{"$f":"'fruto pitanga'!H$24","v":0},{"$f":"'fruto pitanga'!I$24","v":0},{"$f":"'fruto pitanga'!J$24","v":0},{"$f":"'fruto pitanga'!K$24","v":0},{"$f":"'fruto pitanga'!L$24","v":0},{"$f":"'fruto pitanga'!M$24","v":0},{"$f":"'fruto pitanga'!N$24","v":0},{"$f":"'fruto pitanga'!O$24","v":0},{"$f":"'fruto pitanga'!P$24","v":0},{"$f":"'fruto pitanga'!Q$24","v":0},{"$f":"'fruto pitanga'!R$24","v":0},{"$f":"'fruto pitanga'!S$24","v":0},{"$f":"'fruto pitanga'!T$24","v":0},{"$f":"'fruto pitanga'!U$24","v":0},{"$f":"'fruto pitanga'!V$24","v":0},{"$f":"'fruto pitanga'!W$24","v":0},{"$f":"'fruto pitanga'!X$24","v":0},{"$f":"'fruto pitanga'!Y$24","v":0},{"$f":"'fruto pitanga'!Z$24","v":0},{"$f":"'fruto pitanga'!AA$24","v":0},{"$f":"'fruto pitanga'!AB$24","v":0},{"$f":"'fruto pitanga'!AC$24","v":0},{"$f":"'fruto pitanga'!AD$24","v":0},{"$f":"'fruto pitanga'!AE$24","v":0},{"$f":"'fruto pitanga'!AF$24","v":0},{"$f":"'fruto pitanga'!AG$24","v":0},null,0]
[null,null,null,null,null,null,null,null,null,null,null,null,null,null,null,{"$f":"Produção!$A$10","v":"castanha sapucaia"},null,{"$f":"Castanha!D$24","v":0},{"$f":"Castanha!E$24","v":0},{"$f":"Castanha!F$24","v":0},{"$f":"Castanha!G$24","v":0},{"$f":"Castanha!H$24","v":0},{"$f":"Castanha!I$24","v":0},{"$f":"Castanha!J$24","v":0},{"$f":"Castanha!K$24","v":0},{"$f":"Castanha!L$24","v":0},{"$f":"Castanha!M$24","v":0},{"$f":"Castanha!N$24","v":0},{"$f":"Castanha!O$24","v":0},{"$f":"Castanha!P$24","v":0},{"$f":"Castanha!Q$24","v":0},{"$f":"Castanha!R$24","v":0},{"$f":"Castanha!S$24","v":0},{"$f":"Castanha!T$24","v":0},{"$f":"Castanha!U$24","v":0},{"$f":"Castanha!V$24","v":0},{"$f":"Castanha!W$24","v":0},{"$f":"Castanha!X$24","v":0},{"$f":"Castanha!Y$24","v":0},{"$f":"Castanha!Z$24","v":0},{"$f":"Castanha!AA$24","v":0},{"$f":"Castanha!AB$24","v":0},{"$f":"Castanha!AC$24","v":0},{"$f":"Castanha!AD$24","v":0},{"$f":"Castanha!AE$24","v":0},{"$f":"Castanha!AF$24","v":0},{"$f":"Castanha!AG$24","v":0},null,0]
[]
[null,null,null,null,null,null,null,null,null,null,null,null,null,null,null,{"$f":"Produção!$A$11","v":"fruto cajá"},null,{"$f":"'fruto cajá'!D$24","v":0},{"$f":"'fruto cajá'!E$24","v":0},{"$f":"'fruto cajá'!F$24","v":0},{"$f":"'fruto cajá'!G$24","v":0},{"$f":"'fruto cajá'!H$24","v":0},{"$f":"'fruto cajá'!I$24","v":0},{"$f":"'fruto cajá'!J$24","v":0},{"$f":"'fruto cajá'!K$24","v":0},{"$f":"'fruto cajá'!L$24","v":0},{"$f":"'fruto cajá'!M$24","v":0},{"$f":"'fruto cajá'!N$24","v":0},{"$f":"'fruto cajá'!O$24","v":0},{"$f":"'fruto cajá'!P$24","v":0},{"$f":"'fruto cajá'!Q$24","v":0},{"$f":"'fruto cajá'!R$24","v":0},{"$f":"'fruto cajá'!S$24","v":0},{"$f":"'fruto cajá'!T$24","v":0},{"$f":"'fruto cajá'!U$24","v":0},{"$f":"'fruto cajá'!V$24","v":0},{"$f":"'fruto cajá'!W$24","v":0},{"$f":"'fruto cajá'!X$24","v":0},{"$f":"'fruto cajá'!Y$24","v":0},{"$f":"'fruto cajá'!Z$24","v":0},{"$f":"'fruto cajá'!AA$24","v":0},{"$f":"'fruto cajá'!AB$24","v":0},{"$f":"'fruto cajá'!AC$24","v":0},{"$f":"'fruto cajá'!AD$24","v":0},{"$f":"'fruto cajá'!AE$24","v":0},{"$f":"'fruto cajá'!AF$24","v":0},{"$f":"'fruto cajá'!AG$24","v":0},null,{"$f":"SUM(Q76:AU76)","v":0}]
[null,null,null,null,null,null,null,null,null,null,null,null,null,null,null,{"$f":"Produção!$A$12","v":"semente urucum"},null,{"$f":"'semente urucum'!D$24","v":0},{"$f":"'semente urucum'!E$24","v":0},{"$f":"'semente urucum'!F$24","v":0},{"$f":"'semente urucum'!G$24","v":0},{"$f":"'semente urucum'!H$24","v":0},{"$f":"'semente urucum'!I$24","v":0},{"$f":"'semente urucum'!J$24","v":0},{"$f":"'semente urucum'!K$24","v":0},{"$f":"'semente urucum'!L$24","v":0},{"$f":"'semente urucum'!M$24","v":0},{"$f":"'semente urucum'!N$24","v":0},{"$f":"'semente urucum'!O$24","v":0},{"$f":"'semente urucum'!P$24","v":0},{"$f":"'semente urucum'!Q$24","v":0},{"$f":"'semente urucum'!R$24","v":0},{"$f":"'semente urucum'!S$24","v":0},{"$f":"'semente urucum'!T$24","v":0},{"$f":"'semente urucum'!U$24","v":0},{"$f":"'semente urucum'!V$24","v":0},{"$f":"'semente urucum'!W$24","v":0},{"$f":"'semente urucum'!X$24","v":0},{"$f":"'semente urucum'!Y$24","v":0},{"$f":"'semente urucum'!Z$24","v":0},{"$f":"'semente urucum'!AA$24","v":0},{"$f":"'semente urucum'!AB$24","v":0},{"$f":"'semente urucum'!AC$24","v":0},{"$f":"'semente urucum'!AD$24","v":0},{"$f":"'semente urucum'!AE$24","v":0},{"$f":"'semente urucum'!AF$24","v":0},{"$f":"'semente urucum'!AG$24","v":0},null,{"$f":"SUM(Q77:AU77)","v":0}]
[null,null,null,null,null,null,null,null,null,null,null,null,null,null,null,{"$f":"Produção!$A$13","v":"semente aroeira"},null,{"$f":"'semente aroeira'!D$24","v":0},{"$f":"'semente aroeira'!E$24","v":0},{"$f":"'semente aroeira'!F$24","v":0},{"$f":"'semente aroeira'!G$24","v":0},{"$f":"'semente aroeira'!H$24","v":0},{"$f":"'semente aroeira'!I$24","v":0},{"$f":"'semente aroeira'!J$24","v":0},{"$f":"'semente aroeira'!K$24","v":0},{"$f":"'semente aroeira'!L$24","v":0},{"$f":"'semente aroeira'!M$24","v":0},{"$f":"'semente aroeira'!N$24","v":0},{"$f":"'semente aroeira'!O$24","v":0},{"$f":"'semente aroeira'!P$24","v":0},{"$f":"'semente aroeira'!Q$24","v":0},{"$f":"'semente aroeira'!R$24","v":0},{"$f":"'semente aroeira'!S$24","v":0},{"$f":"'semente aroeira'!T$24","v":0},{"$f":"'semente aroeira'!U$24","v":0},{"$f":"'semente aroeira'!V$24","v":0},{"$f":"'semente aroeira'!W$24","v":0},{"$f":"'semente aroeira'!X$24","v":0},{"$f":"'semente aroeira'!Y$24","v":0},{"$f":"'semente aroeira'!Z$24","v":0},{"$f":"'semente aroeira'!AA$24","v":0},{"$f":"'semente aroeira'!AB$24","v":0},{"$f":"'semente aroeira'!AC$24","v":0},{"$f":"'semente aroeira'!AD$24","v":0},{"$f":"'semente aroeira'!AE$24","v":0},{"$f":"'semente aroeira'!AF$24","v":0},{"$f":"'semente aroeira'!AG$24","v":0},null,{"$f":"SUM(Q78:AU78)","v":0}]
[null,null,null,null,null,null,null,null,null,null,null,null,null,null,null,{"$f":"Produção!$A$14","v":"raiz mandioca"},null,{"$f":"'raiz mandioca'!D$24","v":0},{"$f":"'raiz mandioca'!E$24","v":0},{"$f":"'raiz mandioca'!F$24","v":0},{"$f":"'raiz mandioca'!G$24","v":0},{"$f":"'raiz mandioca'!H$24","v":0},{"$f":"'raiz mandioca'!I$24","v":0},{"$f":"'raiz mandioca'!J$24","v":0},{"$f":"'raiz mandioca'!K$24","v":0},{"$f":"'raiz mandioca'!L$24","v":0},{"$f":"'raiz mandioca'!M$24","v":0},{"$f":"'raiz mandioca'!N$24","v":0},{"$f":"'raiz mandioca'!O$24","v":0},{"$f":"'raiz mandioca'!P$24","v":0},{"$f":"'raiz mandioca'!Q$24","v":0},{"$f":"'raiz mandioca'!R$24","v":0},{"$f":"'raiz mandioca'!S$24","v":0},{"$f":"'raiz mandioca'!T$24","v":0},{"$f":"'raiz mandioca'!U$24","v":0},{"$f":"'raiz mandioca'!V$24","v":0},{"$f":"'raiz mandioca'!W$24","v":0},{"$f":"'raiz mandioca'!X$24","v":0},{"$f":"'raiz mandioca'!Y$24","v":0},{"$f":"'raiz mandioca'!Z$24","v":0},{"$f":"'raiz mandioca'!AA$24","v":0},{"$f":"'raiz mandioca'!AB$24","v":0},{"$f":"'raiz mandioca'!AC$24","v":0},{"$f":"'raiz mandioca'!AD$24","v":0},{"$f":"'raiz mandioca'!AE$24","v":0},{"$f":"'raiz mandioca'!AF$24","v":0},{"$f":"'raiz mandioca'!AG$24","v":0},null,{"$f":"SUM(Q79:AU79)","v":0}]
[]
[null,null,null,null,null,null,null,null,null,null,null,null,null,null,null,{"$f":"Produção!$A$15","v":"fruto abacaxi"},null,{"$f":"abacaxi!D$24","v":0},{"$f":"abacaxi!E$24","v":0},{"$f":"abacaxi!F$24","v":0},{"$f":"abacaxi!G$24","v":0},{"$f":"abacaxi!H$24","v":0},{"$f":"abacaxi!I$24","v":0},{"$f":"abacaxi!J$24","v":0},{"$f":"abacaxi!K$24","v":0},{"$f":"abacaxi!L$24","v":0},{"$f":"abacaxi!M$24","v":0},{"$f":"abacaxi!N$24","v":0},{"$f":"abacaxi!O$24","v":0},{"$f":"abacaxi!P$24","v":0},{"$f":"abacaxi!Q$24","v":0},{"$f":"abacaxi!R$24","v":0},{"$f":"abacaxi!S$24","v":0},{"$f":"abacaxi!T$24","v":0},{"$f":"abacaxi!U$24","v":0},{"$f":"abacaxi!V$24","v":0},{"$f":"abacaxi!W$24","v":0},{"$f":"abacaxi!X$24","v":0},{"$f":"abacaxi!Y$24","v":0},{"$f":"abacaxi!Z$24","v":0},{"$f":"abacaxi!AA$24","v":0},{"$f":"abacaxi!AB$24","v":0},{"$f":"abacaxi!AC$24","v":0},{"$f":"abacaxi!AD$24","v":0},{"$f":"abacaxi!AE$24","v":0},{"$f":"abacaxi!AF$24","v":0},{"$f":"abacaxi!AG$24","v":0},null,{"$f":"SUM(Q81:AU81)","v":0}]
[null,null,null,null,null,null,null,null,null,null,null,null,null,null,null,{"$f":"Produção!$A$16","v":"espigas milho"},null,{"$f":"espigas!D$24","v":0},{"$f":"espigas!E$24","v":0},{"$f":"espigas!F$24","v":0},{"$f":"espigas!G$24","v":0},{"$f":"espigas!H$24","v":0},{"$f":"espigas!I$24","v":0},{"$f":"espigas!J$24","v":0},{"$f":"espigas!K$24","v":0},{"$f":"espigas!L$24","v":0},{"$f":"espigas!M$24","v":0},{"$f":"espigas!N$24","v":0},{"$f":"espigas!O$24","v":0},{"$f":"espigas!P$24","v":0},{"$f":"espigas!Q$24","v":0},{"$f":"espigas!R$24","v":0},{"$f":"espigas!S$24","v":0},{"$f":"espigas!T$24","v":0},{"$f":"espigas!U$24","v":0},{"$f":"espigas!V$24","v":0},{"$f":"espigas!W$24","v":0},{"$f":"espigas!X$24","v":0},{"$f":"espigas!Y$24","v":0},{"$f":"espigas!Z$24","v":0},{"$f":"espigas!AA$24","v":0},{"$f":"espigas!AB$24","v":0},{"$f":"espigas!AC$24","v":0},{"$f":"espigas!AD$24","v":0},{"$f":"espigas!AE$24","v":0},{"$f":"espigas!AF$24","v":0},{"$f":"espigas!AG$24","v":0},null,0]
[null,null,null,null,null,null,null,null,null,null,null,null,null,null,null,{"$f":"Produção!$A$17","v":"estaca sansão do campo"},null,{"$f":"'semente caupi'!D$24","v":0},{"$f":"'semente caupi'!E$24","v":0},{"$f":"'semente caupi'!F$24","v":0},{"$f":"'semente caupi'!G$24","v":0},{"$f":"'semente caupi'!H$24","v":0},{"$f":"'semente caupi'!I$24","v":0},{"$f":"'semente caupi'!J$24","v":0},{"$f":"'semente caupi'!K$24","v":0},{"$f":"'semente caupi'!L$24","v":0},{"$f":"'semente caupi'!M$24","v":0},{"$f":"'semente caupi'!N$24","v":0},{"$f":"'semente caupi'!O$24","v":0},{"$f":"'semente caupi'!P$24","v":0},{"$f":"'semente caupi'!Q$24","v":0},{"$f":"'semente caupi'!R$24","v":0},{"$f":"'semente caupi'!S$24","v":0},{"$f":"'semente caupi'!T$24","v":0},{"$f":"'semente caupi'!U$24","v":0},{"$f":"'semente caupi'!V$24","v":0},{"$f":"'semente caupi'!W$24","v":0},{"$f":"'semente caupi'!X$24","v":0},{"$f":"'semente caupi'!Y$24","v":0},{"$f":"'semente caupi'!Z$24","v":0},{"$f":"'semente caupi'!AA$24","v":0},{"$f":"'semente caupi'!AB$24","v":0},{"$f":"'semente caupi'!AC$24","v":0},{"$f":"'semente caupi'!AD$24","v":0},{"$f":"'semente caupi'!AE$24","v":0},{"$f":"'semente caupi'!AF$24","v":0},{"$f":"'semente caupi'!AG$24","v":0},null,0]
[null,null,null,null,null,null,null,null,null,null,null,null,null,null,null,{"$f":"Produção!$A$18","v":"madeira madeira nova"},null,{"$f":"biomassa!D$24","v":0},{"$f":"biomassa!E$24","v":0},{"$f":"biomassa!F$24","v":0},{"$f":"biomassa!G$24","v":0},{"$f":"biomassa!H$24","v":0},{"$f":"biomassa!I$24","v":0},{"$f":"biomassa!J$24","v":0},{"$f":"biomassa!K$24","v":0},{"$f":"biomassa!L$24","v":0},{"$f":"biomassa!M$24","v":0},{"$f":"biomassa!N$24","v":0},{"$f":"biomassa!O$24","v":0},{"$f":"biomassa!P$24","v":0},{"$f":"biomassa!Q$24","v":0},{"$f":"biomassa!R$24","v":0},{"$f":"biomassa!S$24","v":0},{"$f":"biomassa!T$24","v":0},{"$f":"biomassa!U$24","v":0},{"$f":"biomassa!V$24","v":0},{"$f":"biomassa!W$24","v":0},{"$f":"biomassa!X$24","v":0},{"$f":"biomassa!Y$24","v":0},{"$f":"biomassa!Z$24","v":0},{"$f":"biomassa!AA$24","v":0},{"$f":"biomassa!AB$24","v":0},{"$f":"biomassa!AC$24","v":0},{"$f":"biomassa!AD$24","v":0},{"$f":"biomassa!AE$24","v":0},{"$f":"biomassa!AF$24","v":0},{"$f":"biomassa!AG$24","v":0},null,0]
[null,null,null,null,null,null,null,null,null,null,null,null,null,null,null,{"$f":"Produção!$A$19","v":"lenha fedegoso"},null,{"$f":"madeira!D$24","v":0},{"$f":"madeira!E$24","v":0},{"$f":"madeira!F$24","v":0},{"$f":"madeira!G$24","v":0},{"$f":"madeira!H$24","v":0},{"$f":"madeira!I$24","v":0},{"$f":"madeira!J$24","v":0},{"$f":"madeira!K$24","v":0},{"$f":"madeira!L$24","v":0},{"$f":"madeira!M$24","v":0},{"$f":"madeira!N$24","v":0},{"$f":"madeira!O$24","v":0},{"$f":"madeira!P$24","v":0},{"$f":"madeira!Q$24","v":0},{"$f":"madeira!R$24","v":0},{"$f":"madeira!S$24","v":0},{"$f":"madeira!T$24","v":0},{"$f":"madeira!U$24","v":0},{"$f":"madeira!V$24","v":0},{"$f":"madeira!W$24","v":0},{"$f":"madeira!X$24","v":0},{"$f":"madeira!Y$24","v":0},{"$f":"madeira!Z$24","v":0},{"$f":"madeira!AA$24","v":0},{"$f":"madeira!AB$24","v":0},{"$f":"madeira!AC$24","v":0},{"$f":"madeira!AD$24","v":0},{"$f":"madeira!AE$24","v":0},{"$f":"madeira!AF$24","v":0},{"$f":"madeira!AG$24","v":0},null,0]
[null,null,null,null,null,null,null,null,null,null,null,null,null,null,null,{"$f":"Produção!$A$20","v":"estaca pau d'alho"},null,{"$f":"'Produto 15'!D$24","v":0},{"$f":"'Produto 15'!E$24","v":0},{"$f":"'Produto 15'!F$24","v":0},{"$f":"'Produto 15'!G$24","v":0},{"$f":"'Produto 15'!H$24","v":0},{"$f":"'Produto 15'!I$24","v":0},{"$f":"'Produto 15'!J$24","v":0},{"$f":"'Produto 15'!K$24","v":0},{"$f":"'Produto 15'!L$24","v":0},{"$f":"'Produto 15'!M$24","v":0},{"$f":"'Produto 15'!N$24","v":0},{"$f":"'Produto 15'!O$24","v":0},{"$f":"'Produto 15'!P$24","v":0},{"$f":"'Produto 15'!Q$24","v":0},{"$f":"'Produto 15'!R$24","v":0},{"$f":"'Produto 15'!S$24","v":0},{"$f":"'Produto 15'!T$24","v":0},{"$f":"'Produto 15'!U$24","v":0},{"$f":"'Produto 15'!V$24","v":0},{"$f":"'Produto 15'!W$24","v":0},{"$f":"'Produto 15'!X$24","v":0},{"$f":"'Produto 15'!Y$24","v":0},{"$f":"'Produto 15'!Z$24","v":0},{"$f":"'Produto 15'!AA$24","v":0},{"$f":"'Produto 15'!AB$24","v":0},{"$f":"'Produto 15'!AC$24","v":0},{"$f":"'Produto 15'!AD$24","v":0},{"$f":"'Produto 15'!AE$24","v":0},{"$f":"'Produto 15'!AF$24","v":0},{"$f":"'Produto 15'!AG$24","v":0},null,0]
[null,null,null,null,null,null,null,null,null,null,null,null,null,null,null,{"$f":"Produção!$A$21","v":"caixotaria boleira"},null,{"$f":"'Produto 16'!D$24","v":0},{"$f":"'Produto 16'!E$24","v":0},{"$f":"'Produto 16'!F$24","v":0},{"$f":"'Produto 16'!G$24","v":0},{"$f":"'Produto 16'!H$24","v":0},{"$f":"'Produto 16'!I$24","v":0},{"$f":"'Produto 16'!J$24","v":0},{"$f":"'Produto 16'!K$24","v":0},{"$f":"'Produto 16'!L$24","v":0},{"$f":"'Produto 16'!M$24","v":0},{"$f":"'Produto 16'!N$24","v":0},{"$f":"'Produto 16'!O$24","v":0},{"$f":"'Produto 16'!P$24","v":0},{"$f":"'Produto 16'!Q$24","v":0},{"$f":"'Produto 16'!R$24","v":0},{"$f":"'Produto 16'!S$24","v":0},{"$f":"'Produto 16'!T$24","v":0},{"$f":"'Produto 16'!U$24","v":0},{"$f":"'Produto 16'!V$24","v":0},{"$f":"'Produto 16'!W$24","v":0},{"$f":"'Produto 16'!X$24","v":0},{"$f":"'Produto 16'!Y$24","v":0},{"$f":"'Produto 16'!Z$24","v":0},{"$f":"'Produto 16'!AA$24","v":0},{"$f":"'Produto 16'!AB$24","v":0},{"$f":"'Produto 16'!AC$24","v":0},{"$f":"'Produto 16'!AD$24","v":0},{"$f":"'Produto 16'!AE$24","v":0},{"$f":"'Produto 16'!AF$24","v":0},{"$f":"'Produto 16'!AG$24","v":0},null,0]
[]
[null,null,null,null,null,null,null,null,null,null,null,null,null,null,null,{"$f":"Produção!$A$22","v":"madeira angico roxo"},null,{"$f":"'Produto 17'!D$24","v":0},{"$f":"'Produto 17'!E$24","v":0},{"$f":"'Produto 17'!F$24","v":0},{"$f":"'Produto 17'!G$24","v":0},{"$f":"'Produto 17'!H$24","v":0},{"$f":"'Produto 17'!I$24","v":0},{"$f":"'Produto 17'!J$24","v":0},{"$f":"'Produto 17'!K$24","v":0},{"$f":"'Produto 17'!L$24","v":0},{"$f":"'Produto 17'!M$24","v":0},{"$f":"'Produto 17'!N$24","v":0},{"$f":"'Produto 17'!O$24","v":0},{"$f":"'Produto 17'!P$24","v":0},{"$f":"'Produto 17'!Q$24","v":0},{"$f":"'Produto 17'!R$24","v":0},{"$f":"'Produto 17'!S$24","v":0},{"$f":"'Produto 17'!T$24","v":0},{"$f":"'Produto 17'!U$24","v":0},{"$f":"'Produto 17'!V$24","v":0},{"$f":"'Produto 17'!W$24","v":0},{"$f":"'Produto 17'!X$24","v":0},{"$f":"'Produto 17'!Y$24","v":0},{"$f":"'Produto 17'!Z$24","v":0},{"$f":"'Produto 17'!AA$24","v":0},{"$f":"'Produto 17'!AB$24","v":0},{"$f":"'Produto 17'!AC$24","v":0},{"$f":"'Produto 17'!AD$24","v":0},{"$f":"'Produto 17'!AE$24","v":0},{"$f":"'Produto 17'!AF$24","v":0},{"$f":"'Produto 17'!AG$24","v":0},null,{"$f":"SUM(Q89:AU89)","v":0}]
[null,null,null,null,null,null,null,null,null,null,null,null,null,null,null,{"$f":"Produção!$A$23","v":"madeira ipê roxo"},null,{"$f":"'Produto 18'!D$24","v":0},{"$f":"'Produto 18'!E$24","v":0},{"$f":"'Produto 18'!F$24","v":0},{"$f":"'Produto 18'!G$24","v":0},{"$f":"'Produto 18'!H$24","v":0},{"$f":"'Produto 18'!I$24","v":0},{"$f":"'Produto 18'!J$24","v":0},{"$f":"'Produto 18'!K$24","v":0},{"$f":"'Produto 18'!L$24","v":0},{"$f":"'Produto 18'!M$24","v":0},{"$f":"'Produto 18'!N$24","v":0},{"$f":"'Produto 18'!O$24","v":0},{"$f":"'Produto 18'!P$24","v":0},{"$f":"'Produto 18'!Q$24","v":0},{"$f":"'Produto 18'!R$24","v":0},{"$f":"'Produto 18'!S$24","v":0},{"$f":"'Produto 18'!T$24","v":0},{"$f":"'Produto 18'!U$24","v":0},{"$f":"'Produto 18'!V$24","v":0},{"$f":"'Produto 18'!W$24","v":0},{"$f":"'Produto 18'!X$24","v":0},{"$f":"'Produto 18'!Y$24","v":0},{"$f":"'Produto 18'!Z$24","v":0},{"$f":"'Produto 18'!AA$24","v":0},{"$f":"'Produto 18'!AB$24","v":0},{"$f":"'Produto 18'!AC$24","v":0},{"$f":"'Produto 18'!AD$24","v":0},{"$f":"'Produto 18'!AE$24","v":0},{"$f":"'Produto 18'!AF$24","v":0},{"$f":"'Produto 18'!AG$24","v":0},null,0]
[null,null,null,null,null,null,null,null,null,null,null,null,null,null,null,{"$f":"Produção!$A$24","v":"madeira ipê amarelo"},null,{"$f":"'Produto 19'!D$24","v":0},{"$f":"'Produto 19'!E$24","v":0},{"$f":"'Produto 19'!F$24","v":0},{"$f":"'Produto 19'!G$24","v":0},{"$f":"'Produto 19'!H$24","v":0},{"$f":"'Produto 19'!I$24","v":0},{"$f":"'Produto 19'!J$24","v":0},{"$f":"'Produto 19'!K$24","v":0},{"$f":"'Produto 19'!L$24","v":0},{"$f":"'Produto 19'!M$24","v":0},{"$f":"'Produto 19'!N$24","v":0},{"$f":"'Produto 19'!O$24","v":0},{"$f":"'Produto 19'!P$24","v":0},{"$f":"'Produto 19'!Q$24","v":0},{"$f":"'Produto 19'!R$24","v":0},{"$f":"'Produto 19'!S$24","v":0},{"$f":"'Produto 19'!T$24","v":0},{"$f":"'Produto 19'!U$24","v":0},{"$f":"'Produto 19'!V$24","v":0},{"$f":"'Produto 19'!W$24","v":0},{"$f":"'Produto 19'!X$24","v":0},{"$f":"'Produto 19'!Y$24","v":0},{"$f":"'Produto 19'!Z$24","v":0},{"$f":"'Produto 19'!AA$24","v":0},{"$f":"'Produto 19'!AB$24","v":0},{"$f":"'Produto 19'!AC$24","v":0},{"$f":"'Produto 19'!AD$24","v":0},{"$f":"'Produto 19'!AE$24","v":0},{"$f":"'Produto 19'!AF$24","v":0},{"$f":"'Produto 19'!AG$24","v":0},null,0]
[null,null,null,null,null,null,null,null,null,null,null,null,null,null,null,{"$f":"Produção!$A$25","v":"madeira gonçalo alves"},null,{"$f":"'Produto 20'!D$24","v":0},{"$f":"'Produto 20'!E$24","v":0},{"$f":"'Produto 20'!F$24","v":0},{"$f":"'Produto 20'!G$24","v":0},{"$f":"'Produto 20'!H$24","v":0},{"$f":"'Produto 20'!I$24","v":0},{"$f":"'Produto 20'!J$24","v":0},{"$f":"'Produto 20'!K$24","v":0},{"$f":"'Produto 20'!L$24","v":0},{"$f":"'Produto 20'!M$24","v":0},{"$f":"'Produto 20'!N$24","v":0},{"$f":"'Produto 20'!O$24","v":0},{"$f":"'Produto 20'!P$24","v":0},{"$f":"'Produto 20'!Q$24","v":0},{"$f":"'Produto 20'!R$24","v":0},{"$f":"'Produto 20'!S$24","v":0},{"$f":"'Produto 20'!T$24","v":0},{"$f":"'Produto 20'!U$24","v":0},{"$f":"'Produto 20'!V$24","v":0},{"$f":"'Produto 20'!W$24","v":0},{"$f":"'Produto 20'!X$24","v":0},{"$f":"'Produto 20'!Y$24","v":0},{"$f":"'Produto 20'!Z$24","v":0},{"$f":"'Produto 20'!AA$24","v":0},{"$f":"'Produto 20'!AB$24","v":0},{"$f":"'Produto 20'!AC$24","v":0},{"$f":"'Produto 20'!AD$24","v":0},{"$f":"'Produto 20'!AE$24","v":0},{"$f":"'Produto 20'!AF$24","v":0},{"$f":"'Produto 20'!AG$24","v":0},null,0]
[null,null,null,null,null,null,null,null,null,null,null,null,null,null,null,{"$f":"Produção!$A$26","v":"madeira vinhatico"},null,{"$f":"'Produto 21'!D$24","v":0},{"$f":"'Produto 21'!E$24","v":0},{"$f":"'Produto 21'!F$24","v":0},{"$f":"'Produto 21'!G$24","v":0},{"$f":"'Produto 21'!H$24","v":0},{"$f":"'Produto 21'!I$24","v":0},{"$f":"'Produto 21'!J$24","v":0},{"$f":"'Produto 21'!K$24","v":0},{"$f":"'Produto 21'!L$24","v":0},{"$f":"'Produto 21'!M$24","v":0},{"$f":"'Produto 21'!N$24","v":0},{"$f":"'Produto 21'!O$24","v":0},{"$f":"'Produto 21'!P$24","v":0},{"$f":"'Produto 21'!Q$24","v":0},{"$f":"'Produto 21'!R$24","v":0},{"$f":"'Produto 21'!S$24","v":0},{"$f":"'Produto 21'!T$24","v":0},{"$f":"'Produto 21'!U$24","v":0},{"$f":"'Produto 21'!V$24","v":0},{"$f":"'Produto 21'!W$24","v":0},{"$f":"'Produto 21'!X$24","v":0},{"$f":"'Produto 21'!Y$24","v":0},{"$f":"'Produto 21'!Z$24","v":0},{"$f":"'Produto 21'!AA$24","v":0},{"$f":"'Produto 21'!AB$24","v":0},{"$f":"'Produto 21'!AC$24","v":0},{"$f":"'Produto 21'!AD$24","v":0},{"$f":"'Produto 21'!AE$24","v":0},{"$f":"'Produto 21'!AF$24","v":0},{"$f":"'Produto 21'!AG$24","v":0},null,0]
[null,null,null,null,null,null,null,null,null,null,null,null,null,null,null,{"$f":"Produção!$A$27","v":"madeira jequitiba"},null,{"$f":"'Produto 22'!D$24","v":0},{"$f":"'Produto 22'!E$24","v":0},{"$f":"'Produto 22'!F$24","v":0},{"$f":"'Produto 22'!G$24","v":0},{"$f":"'Produto 22'!H$24","v":0},{"$f":"'Produto 22'!I$24","v":0},{"$f":"'Produto 22'!J$24","v":0},{"$f":"'Produto 22'!K$24","v":0},{"$f":"'Produto 22'!L$24","v":0},{"$f":"'Produto 22'!M$24","v":0},{"$f":"'Produto 22'!N$24","v":0},{"$f":"'Produto 22'!O$24","v":0},{"$f":"'Produto 22'!P$24","v":0},{"$f":"'Produto 22'!Q$24","v":0},{"$f":"'Produto 22'!R$24","v":0},{"$f":"'Produto 22'!S$24","v":0},{"$f":"'Produto 22'!T$24","v":0},{"$f":"'Produto 22'!U$24","v":0},{"$f":"'Produto 22'!V$24","v":0},{"$f":"'Produto 22'!W$24","v":0},{"$f":"'Produto 22'!X$24","v":0},{"$f":"'Produto 22'!Y$24","v":0},{"$f":"'Produto 22'!Z$24","v":0},{"$f":"'Produto 22'!AA$24","v":0},{"$f":"'Produto 22'!AB$24","v":0},{"$f":"'Produto 22'!AC$24","v":0},{"$f":"'Produto 22'!AD$24","v":0},{"$f":"'Produto 22'!AE$24","v":0},{"$f":"'Produto 22'!AF$24","v":0},{"$f":"'Produto 22'!AG$24","v":0},null,0]
[null,null,null,null,null,null,null,null,null,null,null,null,null,null,null,{"$f":"Produção!$A$29","v":"grão caupi"},null,{"$f":"'Produto 23'!D$24","v":0},{"$f":"'Produto 23'!E$24","v":0},{"$f":"'Produto 23'!F$24","v":0},{"$f":"'Produto 23'!G$24","v":0},{"$f":"'Produto 23'!H$24","v":0},{"$f":"'Produto 23'!I$24","v":0},{"$f":"'Produto 23'!J$24","v":0},{"$f":"'Produto 23'!K$24","v":0},{"$f":"'Produto 23'!L$24","v":0},{"$f":"'Produto 23'!M$24","v":0},{"$f":"'Produto 23'!N$24","v":0},{"$f":"'Produto 23'!O$24","v":0},{"$f":"'Produto 23'!P$24","v":0},{"$f":"'Produto 23'!Q$24","v":0},{"$f":"'Produto 23'!R$24","v":0},{"$f":"'Produto 23'!S$24","v":0},{"$f":"'Produto 23'!T$24","v":0},{"$f":"'Produto 23'!U$24","v":0},{"$f":"'Produto 23'!V$24","v":0},{"$f":"'Produto 23'!W$24","v":0},{"$f":"'Produto 23'!X$24","v":0},{"$f":"'Produto 23'!Y$24","v":0},{"$f":"'Produto 23'!Z$24","v":0},{"$f":"'Produto 23'!AA$24","v":0},{"$f":"'Produto 23'!AB$24","v":0},{"$f":"'Produto 23'!AC$24","v":0},{"$f":"'Produto 23'!AD$24","v":0},{"$f":"'Produto 23'!AE$24","v":0},{"$f":"'Produto 23'!AF$24","v":0},{"$f":"'Produto 23'!AG$24","v":0},null,0]
[]
[null,null,null,null,null,null,null,null,null,null,null,null,null,null,null,{"$f":"'Parâmetros Gerais'!$B$37","v":"grão caupi"},null,{"$f":"'Produto 24'!D$24","v":0},{"$f":"'Produto 24'!E$24","v":0},{"$f":"'Produto 24'!F$24","v":0},{"$f":"'Produto 24'!G$24","v":0},{"$f":"'Produto 24'!H$24","v":0},{"$f":"'Produto 24'!I$24","v":0},{"$f":"'Produto 24'!J$24","v":0},{"$f":"'Produto 24'!K$24","v":0},{"$f":"'Produto 24'!L$24","v":0},{"$f":"'Produto 24'!M$24","v":0},{"$f":"'Produto 24'!N$24","v":0},{"$f":"'Produto 24'!O$24","v":0},{"$f":"'Produto 24'!P$24","v":0},{"$f":"'Produto 24'!Q$24","v":0},{"$f":"'Produto 24'!R$24","v":0},{"$f":"'Produto 24'!S$24","v":0},{"$f":"'Produto 24'!T$24","v":0},{"$f":"'Produto 24'!U$24","v":0},{"$f":"'Produto 24'!V$24","v":0},{"$f":"'Produto 24'!W$24","v":0},{"$f":"'Produto 24'!X$24","v":0},{"$f":"'Produto 24'!Y$24","v":0},{"$f":"'Produto 24'!Z$24","v":0},{"$f":"'Produto 24'!AA$24","v":0},{"$f":"'Produto 24'!AB$24","v":0},{"$f":"'Produto 24'!AC$24","v":0},{"$f":"'Produto 24'!AD$24","v":0},{"$f":"'Produto 24'!AE$24","v":0},{"$f":"'Produto 24'!AF$24","v":0},{"$f":"'Produto 24'!AG$24","v":0},null,{"$f":"SUM(Q97:AU97)","v":0}]
[]
[]
[null,null,null,null,null,null,null,null,null,null,null,null,null,null,null,null,"MO","Insumos",null,"CustTot","RecTot"]
[null,null,null,null,null,null,null,null,null,null,null,null,null,null,null,{"$f":"Produção!$A$6","v":"latex"},{"$f":"AW38","v":0},{"$f":"AW70","v":0},null,{"$f":"(Q101+R101)*-1","v":0},{"$f":"'Resultados Fin'!C71","v":12267}]
[null,null,null,null,null,null,null,null,null,null,null,null,null,null,null,{"$f":"Produção!$A$7","v":"fruto genipapo"},{"$f":"AW39","v":0},{"$f":"AW71","v":0},null,{"$f":"(Q102+R102)*-1","v":0},{"$f":"'Resultados Fin'!C72","v":42688}]
[null,null,null,null,null,null,null,null,null,null,null,null,null,null,null,{"$f":"Produção!$A$8","v":"fruto araçauna"},{"$f":"AW40","v":0},{"$f":"AW72","v":0},null,0,{"$f":"'Resultados Fin'!C73","v":3920}]
[null,null,null,null,null,null,null,null,null,null,null,null,null,null,null,{"$f":"Produção!$A$9","v":"fruto pitanga"},{"$f":"AW41","v":0},{"$f":"AW73","v":0},null,0,{"$f":"'Resultados Fin'!C74","v":3990}]
[null,null,null,null,null,null,null,null,null,null,null,null,null,null,null,{"$f":"Produção!$A$10","v":"castanha sapucaia"},{"$f":"AW42","v":0},{"$f":"AW74","v":0},null,0,{"$f":"'Resultados Fin'!C75","v":72240}]
[null,null,null,null,null,null,null,null,null,null,null,null,null,null,null,{"$f":"Produção!$A$11","v":"fruto cajá"},{"$f":"AW44","v":0},{"$f":"AW76","v":0},null,0,{"$f":"'Resultados Fin'!C76","v":52184}]
[null,null,null,null,null,null,null,null,null,null,null,null,null,null,null,{"$f":"Produção!$A$12","v":"semente urucum"},{"$f":"AW45","v":0},{"$f":"AW77","v":0},null,0,{"$f":"'Resultados Fin'!C77","v":22720}]
[null,null,null,null,null,null,null,null,null,null,null,null,null,null,null,{"$f":"Produção!$A$13","v":"semente aroeira"},{"$f":"AW46","v":0},{"$f":"AW78","v":0},null,0,{"$f":"'Resultados Fin'!C78","v":5220}]
[null,null,null,null,null,null,null,null,null,null,null,null,null,null,null,{"$f":"Produção!$A$14","v":"raiz mandioca"},{"$f":"AW47","v":0},{"$f":"AW79","v":0},null,0,{"$f":"'Resultados Fin'!C79","v":9120}]
[null,null,null,null,null,null,null,null,null,null,null,null,null,null,null,{"$f":"Produção!$A$15","v":"fruto abacaxi"},{"$f":"AW49","v":0},{"$f":"AW81","v":0},null,0,{"$f":"'Resultados Fin'!C80","v":5490}]
[null,null,null,null,null,null,null,null,null,null,null,null,null,null,null,{"$f":"Produção!$A$16","v":"espigas milho"},0,0,null,0,{"$f":"'Resultados Fin'!C81","v":4275}]
[null,null,null,null,null,null,null,null,null,null,null,null,null,null,null,{"$f":"Produção!$A$17","v":"estaca sansão do campo"},0,0,null,0,{"$f":"'Resultados Fin'!C82","v":1080}]
[null,null,null,null,null,null,null,null,null,null,null,null,null,null,null,{"$f":"Produção!$A$18","v":"madeira madeira nova"},0,0,null,0,{"$f":"'Resultados Fin'!C83","v":2500}]
[null,null,null,null,null,null,null,null,null,null,null,null,null,null,null,{"$f":"Produção!$A$19","v":"lenha fedegoso"},0,0,null,0,{"$f":"'Resultados Fin'!C84","v":250}]
[null,null,null,null,null,null,null,null,null,null,null,null,null,null,null,{"$f":"Produção!$A$20","v":"estaca pau d'alho"},0,0,null,0,{"$f":"'Resultados Fin'!C85","v":0}]
[null,null,null,null,null,null,null,null,null,null,null,null,null,null,null,{"$f":"Produção!$A$21","v":"caixotaria boleira"},0,0,null,0,{"$f":"'Resultados Fin'!C86","v":500}]
[null,null,null,null,null,null,null,null,null,null,null,null,null,null,null,{"$f":"Produção!$A$22","v":"madeira angico roxo"},{"$f":"AW57","v":0},{"$f":"AW89","v":0},null,0,{"$f":"'Resultados Fin'!C87","v":3150}]
[null,null,null,null,null,null,null,null,null,null,null,null,null,null,null,{"$f":"Produção!$A$23","v":"madeira ipê roxo"},0,0,null,0,{"$f":"'Resultados Fin'!C88","v":0}]
[null,null,null,null,null,null,null,null,null,null,null,null,null,null,null,{"$f":"Produção!$A$24","v":"madeira ipê amarelo"},0,0,null,0,{"$f":"'Resultados Fin'!C89","v":12600}]
[null,null,null,null,null,null,null,null,null,null,null,null,null,null,null,{"$f":"Produção!$A$25","v":"madeira gonçalo alves"},0,0,null,0,{"$f":"'Resultados Fin'!C90","v":0}]
[null,null,null,null,null,null,null,null,null,null,null,null,null,null,null,{"$f":"Produção!$A$26","v":"madeira vinhatico"},0,0,null,0,{"$f":"'Resultados Fin'!C91","v":3500}]
[null,null,null,null,null,null,null,null,null,null,null,null,null,null,null,{"$f":"Produção!$A$27","v":"madeira jequitiba"},0,0,null,0,{"$f":"'Resultados Fin'!C92","v":1400}]
[null,null,null,null,null,null,null,null,null,null,null,null,null,null,null,{"$f":"Produção!$A$29","v":"grão caupi"},0,0,null,0,{"$f":"'Resultados Fin'!C93","v":0}]
[null,null,null,null,null,null,null,null,null,null,null,null,null,null,null,{"$f":"'Parâmetros Gerais'!$B$37","v":"grão caupi"},{"$f":"AW65","v":0},{"$f":"AW97","v":0},null,0,0]

{"sheet":"Gráficos 30 (2)","index":45,"n_rows":124,"n_cols":49,"rows_kept":124,"cut":false,"hidden":false,"merged":[]}
[]
[null,null,null,null,null,null,null,null,null,null,null,null,null,null,null,null,0,1,2,3,4,5,6,7,8,9,10,11,12,13,14,15,16,17,18,19,20,21,22,23,24,25,26,27,28,29,30]
[null,null,null,null,null,null,null,null,null,null,null,null,null,null,null,"Uso de MO",{"$f":"SUM(Q4:Q32)","v":0},{"$f":"SUM(R4:R32)","v":0},0,0,0,0,0,0,0,0,0,0,0,0,0,0,0,0,0,0,0,0,0,0,0,0,0,0,0,0,0]
[null,null,null,null,null,null,null,null,null,null,null,null,null,null,null,"Atividades Gerais",{"$f":"'Preparo e Gerais'!D19","v":0}]
[null,null,null,null,null,null,null,null,null,null,null,null,null,null,null,{"$f":"Produção!$A$6","v":"latex"},null,{"$f":"latex!D$23","v":0},{"$f":"latex!E$23","v":0},{"$f":"latex!F$23","v":0},{"$f":"latex!G$23","v":0},{"$f":"latex!H$23","v":0},{"$f":"latex!I$23","v":0},{"$f":"latex!J$23","v":0},{"$f":"latex!K$23","v":0},{"$f":"latex!L$23","v":0},{"$f":"latex!M$23","v":0},{"$f":"latex!N$23","v":0},{"$f":"latex!O$23","v":0},{"$f":"latex!P$23","v":0},{"$f":"latex!Q$23","v":0},{"$f":"latex!R$23","v":0},{"$f":"latex!S$23","v":0},{"$f":"latex!T$23","v":0},{"$f":"latex!U$23","v":0},{"$f":"latex!V$23","v":0},{"$f":"latex!W$23","v":0},{"$f":"latex!X$23","v":0},{"$f":"latex!Y$23","v":0},{"$f":"latex!Z$23","v":0},{"$f":"latex!AA$23","v":0},{"$f":"latex!AB$23","v":0},{"$f":"latex!AC$23","v":0},{"$f":"latex!AD$23","v":0},{"$f":"latex!AE$23","v":0},{"$f":"latex!AF$23","v":0},{"$f":"latex!AG$23","v":0}]
[null,null,null,null,null,null,null,null,null,null,null,null,null,null,null,{"$f":"Produção!$A$7","v":"fruto genipapo"},null,{"$f":"'fruto genipapo'!D$23","v":0},{"$f":"'fruto genipapo'!E$23","v":0},{"$f":"'fruto genipapo'!F$23","v":0},{"$f":"'fruto genipapo'!G$23","v":0},{"$f":"'fruto genipapo'!H$23","v":0},{"$f":"'fruto genipapo'!I$23","v":0},{"$f":"'fruto genipapo'!J$23","v":0},{"$f":"'fruto genipapo'!K$23","v":0},{"$f":"'fruto genipapo'!L$23","v":0},{"$f":"'fruto genipapo'!M$23","v":0},{"$f":"'fruto genipapo'!N$23","v":0},{"$f":"'fruto genipapo'!O$23","v":0},{"$f":"'fruto genipapo'!P$23","v":0},{"$f":"'fruto genipapo'!Q$23","v":0},{"$f":"'fruto genipapo'!R$23","v":0},{"$f":"'fruto genipapo'!S$23","v":0},{"$f":"'fruto genipapo'!T$23","v":0},{"$f":"'fruto genipapo'!U$23","v":0},{"$f":"'fruto genipapo'!V$23","v":0},{"$f":"'fruto genipapo'!W$23","v":0},{"$f":"'fruto genipapo'!X$23","v":0},{"$f":"'fruto genipapo'!Y$23","v":0},{"$f":"'fruto genipapo'!Z$23","v":0},{"$f":"'fruto genipapo'!AA$23","v":0},{"$f":"'fruto genipapo'!AB$23","v":0},{"$f":"'fruto genipapo'!AC$23","v":0},{"$f":"'fruto genipapo'!AD$23","v":0},{"$f":"'fruto genipapo'!AE$23","v":0},{"$f":"'fruto genipapo'!AF$23","v":0},{"$f":"'fruto genipapo'!AG$23","v":0}]
[null,null,null,null,null,null,null,null,null,null,null,null,null,null,null,{"$f":"Produção!$A$8","v":"fruto araçauna"},null,{"$f":"'fruto araçauna'!D$23","v":0},{"$f":"'fruto araçauna'!E$23","v":0},{"$f":"'fruto araçauna'!F$23","v":0},{"$f":"'fruto araçauna'!G$23","v":0},{"$f":"'fruto araçauna'!H$23","v":0},{"$f":"'fruto araçauna'!I$23","v":0},{"$f":"'fruto araçauna'!J$23","v":0},{"$f":"'fruto araçauna'!K$23","v":0},{"$f":"'fruto araçauna'!L$23","v":0},{"$f":"'fruto araçauna'!M$23","v":0},{"$f":"'fruto araçauna'!N$23","v":0},{"$f":"'fruto araçauna'!O$23","v":0},{"$f":"'fruto araçauna'!P$23","v":0},{"$f":"'fruto araçauna'!Q$23","v":0},{"$f":"'fruto araçauna'!R$23","v":0},{"$f":"'fruto araçauna'!S$23","v":0},{"$f":"'fruto araçauna'!T$23","v":0},{"$f":"'fruto araçauna'!U$23","v":0},{"$f":"'fruto araçauna'!V$23","v":0},{"$f":"'fruto araçauna'!W$23","v":0},{"$f":"'fruto araçauna'!X$23","v":0},{"$f":"'fruto araçauna'!Y$23","v":0},{"$f":"'fruto araçauna'!Z$23","v":0},{"$f":"'fruto araçauna'!AA$23","v":0},{"$f":"'fruto araçauna'!AB$23","v":0},{"$f":"'fruto araçauna'!AC$23","v":0},{"$f":"'fruto araçauna'!AD$23","v":0},{"$f":"'fruto araçauna'!AE$23","v":0},{"$f":"'fruto araçauna'!AF$23","v":0},{"$f":"'fruto araçauna'!AG$23","v":0}]
[null,null,null,null,null,null,null,null,null,null,null,null,null,null,null,{"$f":"Produção!$A$9","v":"fruto pitanga"},null,{"$f":"'fruto pitanga'!D$23","v":0},{"$f":"'fruto pitanga'!E$23","v":0},{"$f":"'fruto pitanga'!F$23","v":0},{"$f":"'fruto pitanga'!G$23","v":0},{"$f":"'fruto pitanga'!H$23","v":0},{"$f":"'fruto pitanga'!I$23","v":0},{"$f":"'fruto pitanga'!J$23","v":0},{"$f":"'fruto pitanga'!K$23","v":0},{"$f":"'fruto pitanga'!L$23","v":0},{"$f":"'fruto pitanga'!M$23","v":0},{"$f":"'fruto pitanga'!N$23","v":0},{"$f":"'fruto pitanga'!O$23","v":0},{"$f":"'fruto pitanga'!P$23","v":0},{"$f":"'fruto pitanga'!Q$23","v":0},{"$f":"'fruto pitanga'!R$23","v":0},{"$f":"'fruto pitanga'!S$23","v":0},{"$f":"'fruto pitanga'!T$23","v":0},{"$f":"'fruto pitanga'!U$23","v":0},{"$f":"'fruto pitanga'!V$23","v":0},{"$f":"'fruto pitanga'!W$23","v":0},{"$f":"'fruto pitanga'!X$23","v":0},{"$f":"'fruto pitanga'!Y$23","v":0},{"$f":"'fruto pitanga'!Z$23","v":0},{"$f":"'fruto pitanga'!AA$23","v":0},{"$f":"'fruto pitanga'!AB$23","v":0},{"$f":"'fruto pitanga'!AC$23","v":0},{"$f":"'fruto pitanga'!AD$23","v":0},{"$f":"'fruto pitanga'!AE$23","v":0},{"$f":"'fruto pitanga'!AF$23","v":0},{"$f":"'fruto pitanga'!AG$23","v":0}]
[null,null,null,null,null,null,null,null,null,null,null,null,null,null,null,{"$f":"Produção!$A$10","v":"castanha sapucaia"},null,{"$f":"Castanha!D$23","v":0},{"$f":"Castanha!E$23","v":0},{"$f":"Castanha!F$23","v":0},{"$f":"Castanha!G$23","v":0},{"$f":"Castanha!H$23","v":0},{"$f":"Castanha!I$23","v":0},{"$f":"Castanha!J$23","v":0},{"$f":"Castanha!K$23","v":0},{"$f":"Castanha!L$23","v":0},{"$f":"Castanha!M$23","v":0},{"$f":"Castanha!N$23","v":0},{"$f":"Castanha!O$23","v":0},{"$f":"Castanha!P$23","v":0},{"$f":"Castanha!Q$23","v":0},{"$f":"Castanha!R$23","v":0},{"$f":"Castanha!S$23","v":0},{"$f":"Castanha!T$23","v":0},{"$f":"Castanha!U$23","v":0},{"$f":"Castanha!V$23","v":0},{"$f":"Castanha!W$23","v":0},{"$f":"Castanha!X$23","v":0},{"$f":"Castanha!Y$23","v":0},{"$f":"Castanha!Z$23","v":0},{"$f":"Castanha!AA$23","v":0},{"$f":"Castanha!AB$23","v":0},{"$f":"Castanha!AC$23","v":0},{"$f":"Castanha!AD$23","v":0},{"$f":"Castanha!AE$23","v":0},{"$f":"Castanha!AF$23","v":0},{"$f":"Castanha!AG$23","v":0}]
[]
[null,null,null,null,null,null,null,null,null,null,null,null,null,null,null,{"$f":"Produção!$A$11","v":"fruto cajá"},null,{"$f":"'fruto cajá'!D$23","v":0},{"$f":"'fruto cajá'!E$23","v":0},{"$f":"'fruto cajá'!F$23","v":0},{"$f":"'fruto cajá'!G$23","v":0},{"$f":"'fruto cajá'!H$23","v":0},{"$f":"'fruto cajá'!I$23","v":0},{"$f":"'fruto cajá'!J$23","v":0},{"$f":"'fruto cajá'!K$23","v":0},{"$f":"'fruto cajá'!L$23","v":0},{"$f":"'fruto cajá'!M$23","v":0},{"$f":"'fruto cajá'!N$23","v":0},{"$f":"'fruto cajá'!O$23","v":0},{"$f":"'fruto cajá'!P$23","v":0},{"$f":"'fruto cajá'!Q$23","v":0},{"$f":"'fruto cajá'!R$23","v":0},{"$f":"'fruto cajá'!S$23","v":0},{"$f":"'fruto cajá'!T$23","v":0},{"$f":"'fruto cajá'!U$23","v":0},{"$f":"'fruto cajá'!V$23","v":0},{"$f":"'fruto cajá'!W$23","v":0},{"$f":"'fruto cajá'!X$23","v":0},{"$f":"'fruto cajá'!Y$23","v":0},{"$f":"'fruto cajá'!Z$23","v":0},{"$f":"'fruto cajá'!AA$23","v":0},{"$f":"'fruto cajá'!AB$23","v":0},{"$f":"'fruto cajá'!AC$23","v":0},{"$f":"'fruto cajá'!AD$23","v":0},{"$f":"'fruto cajá'!AE$23","v":0},{"$f":"'fruto cajá'!AF$23","v":0},{"$f":"'fruto cajá'!AG$23","v":0}]
[null,null,null,null,null,null,null,null,null,null,null,null,null,null,null,{"$f":"Produção!$A$12","v":"semente urucum"},null,{"$f":"'semente urucum'!D$23","v":0},{"$f":"'semente urucum'!E$23","v":0},{"$f":"'semente urucum'!F$23","v":0},{"$f":"'semente urucum'!G$23","v":0},{"$f":"'semente urucum'!H$23","v":0},{"$f":"'semente urucum'!I$23","v":0},{"$f":"'semente urucum'!J$23","v":0},{"$f":"'semente urucum'!K$23","v":0},{"$f":"'semente urucum'!L$23","v":0},{"$f":"'semente urucum'!M$23","v":0},{"$f":"'semente urucum'!N$23","v":0},{"$f":"'semente urucum'!O$23","v":0},{"$f":"'semente urucum'!P$23","v":0},{"$f":"'semente urucum'!Q$23","v":0},{"$f":"'semente urucum'!R$23","v":0},{"$f":"'semente urucum'!S$23","v":0},{"$f":"'semente urucum'!T$23","v":0},{"$f":"'semente urucum'!U$23","v":0},{"$f":"'semente urucum'!V$23","v":0},{"$f":"'semente urucum'!W$23","v":0},{"$f":"'semente urucum'!X$23","v":0},{"$f":"'semente urucum'!Y$23","v":0},{"$f":"'semente urucum'!Z$23","v":0},{"$f":"'semente urucum'!AA$23","v":0},{"$f":"'semente urucum'!AB$23","v":0},{"$f":"'semente urucum'!AC$23","v":0},{"$f":"'semente urucum'!AD$23","v":0},{"$f":"'semente urucum'!AE$23","v":0},{"$f":"'semente urucum'!AF$23","v":0},{"$f":"'semente urucum'!AG$23","v":0}]
[null,null,null,null,null,null,null,null,null,null,null,null,null,null,null,{"$f":"Produção!$A$13","v":"semente aroeira"},null,{"$f":"'semente aroeira'!D$23","v":0},{"$f":"'semente aroeira'!E$23","v":0},{"$f":"'semente aroeira'!F$23","v":0},{"$f":"'semente aroeira'!G$23","v":0},{"$f":"'semente aroeira'!H$23","v":0},{"$f":"'semente aroeira'!I$23","v":0},{"$f":"'semente aroeira'!J$23","v":0},{"$f":"'semente aroeira'!K$23","v":0},{"$f":"'semente aroeira'!L$23","v":0},{"$f":"'semente aroeira'!M$23","v":0},{"$f":"'semente aroeira'!N$23","v":0},{"$f":"'semente aroeira'!O$23","v":0},{"$f":"'semente aroeira'!P$23","v":0},{"$f":"'semente aroeira'!Q$23","v":0},{"$f":"'semente aroeira'!R$23","v":0},{"$f":"'semente aroeira'!S$23","v":0},{"$f":"'semente aroeira'!T$23","v":0},{"$f":"'semente aroeira'!U$23","v":0},{"$f":"'semente aroeira'!V$23","v":0},{"$f":"'semente aroeira'!W$23","v":0},{"$f":"'semente aroeira'!X$23","v":0},{"$f":"'semente aroeira'!Y$23","v":0},{"$f":"'semente aroeira'!Z$23","v":0},{"$f":"'semente aroeira'!AA$23","v":0},{"$f":"'semente aroeira'!AB$23","v":0},{"$f":"'semente aroeira'!AC$23","v":0},{"$f":"'semente aroeira'!AD$23","v":0},{"$f":"'semente aroeira'!AE$23","v":0},{"$f":"'semente aroeira'!AF$23","v":0},{"$f":"'semente aroeira'!AG$23","v":0}]
[null,null,null,null,null,null,null,null,null,null,null,null,null,null,null,{"$f":"Produção!$A$14","v":"raiz mandioca"},null,{"$f":"'raiz mandioca'!D$23","v":0},{"$f":"'raiz mandioca'!E$23","v":0},{"$f":"'raiz mandioca'!F$23","v":0},{"$f":"'raiz mandioca'!G$23","v":0},{"$f":"'raiz mandioca'!H$23","v":0},{"$f":"'raiz mandioca'!I$23","v":0},{"$f":"'raiz mandioca'!J$23","v":0},{"$f":"'raiz mandioca'!K$23","v":0},{"$f":"'raiz mandioca'!L$23","v":0},{"$f":"'raiz mandioca'!M$23","v":0},{"$f":"'raiz mandioca'!N$23","v":0},{"$f":"'raiz mandioca'!O$23","v":0},{"$f":"'raiz mandioca'!P$23","v":0},{"$f":"'raiz mandioca'!Q$23","v":0},{"$f":"'raiz mandioca'!R$23","v":0},{"$f":"'raiz mandioca'!S$23","v":0},{"$f":"'raiz mandioca'!T$23","v":0},{"$f":"'raiz mandioca'!U$23","v":0},{"$f":"'raiz mandioca'!V$23","v":0},{"$f":"'raiz mandioca'!W$23","v":0},{"$f":"'raiz mandioca'!X$23","v":0},{"$f":"'raiz mandioca'!Y$23","v":0},{"$f":"'raiz mandioca'!Z$23","v":0},{"$f":"'raiz mandioca'!AA$23","v":0},{"$f":"'raiz mandioca'!AB$23","v":0},{"$f":"'raiz mandioca'!AC$23","v":0},{"$f":"'raiz mandioca'!AD$23","v":0},{"$f":"'raiz mandioca'!AE$23","v":0},{"$f":"'raiz mandioca'!AF$23","v":0},{"$f":"'raiz mandioca'!AG$23","v":0}]
[]
[null,null,null,null,null,null,null,null,null,null,null,null,null,null,null,{"$f":"Produção!$A$15","v":"fruto abacaxi"},null,{"$f":"abacaxi!D$23","v":0},{"$f":"abacaxi!E$23","v":0},{"$f":"abacaxi!F$23","v":0},{"$f":"abacaxi!G$23","v":0},{"$f":"abacaxi!H$23","v":0},{"$f":"abacaxi!I$23","v":0},{"$f":"abacaxi!J$23","v":0},{"$f":"abacaxi!K$23","v":0},{"$f":"abacaxi!L$23","v":0},{"$f":"abacaxi!M$23","v":0},{"$f":"abacaxi!N$23","v":0},{"$f":"abacaxi!O$23","v":0},{"$f":"abacaxi!P$23","v":0},{"$f":"abacaxi!Q$23","v":0},{"$f":"abacaxi!R$23","v":0},{"$f":"abacaxi!S$23","v":0},{"$f":"abacaxi!T$23","v":0},{"$f":"abacaxi!U$23","v":0},{"$f":"abacaxi!V$23","v":0},{"$f":"abacaxi!W$23","v":0},{"$f":"abacaxi!X$23","v":0},{"$f":"abacaxi!Y$23","v":0},{"$f":"abacaxi!Z$23","v":0},{"$f":"abacaxi!AA$23","v":0},{"$f":"abacaxi!AB$23","v":0},{"$f":"abacaxi!AC$23","v":0},{"$f":"abacaxi!AD$23","v":0},{"$f":"abacaxi!AE$23","v":0},{"$f":"abacaxi!AF$23","v":0},{"$f":"abacaxi!AG$23","v":0}]
[null,null,null,null,null,null,null,null,null,null,null,null,null,null,null,{"$f":"Produção!$A$16","v":"espigas milho"},null,{"$f":"espigas!D$23","v":0},{"$f":"espigas!E$23","v":0},{"$f":"espigas!F$23","v":0},{"$f":"espigas!G$23","v":0},{"$f":"espigas!H$23","v":0},{"$f":"espigas!I$23","v":0},{"$f":"espigas!J$23","v":0},{"$f":"espigas!K$23","v":0},{"$f":"espigas!L$23","v":0},{"$f":"espigas!M$23","v":0},{"$f":"espigas!N$23","v":0},{"$f":"espigas!O$23","v":0},{"$f":"espigas!P$23","v":0},{"$f":"espigas!Q$23","v":0},{"$f":"espigas!R$23","v":0},{"$f":"espigas!S$23","v":0},{"$f":"espigas!T$23","v":0},{"$f":"espigas!U$23","v":0},{"$f":"espigas!V$23","v":0},{"$f":"espigas!W$23","v":0},{"$f":"espigas!X$23","v":0},{"$f":"espigas!Y$23","v":0},{"$f":"espigas!Z$23","v":0},{"$f":"espigas!AA$23","v":0},{"$f":"espigas!AB$23","v":0},{"$f":"espigas!AC$23","v":0},{"$f":"espigas!AD$23","v":0},{"$f":"espigas!AE$23","v":0},{"$f":"espigas!AF$23","v":0},{"$f":"espigas!AG$23","v":0}]
[null,null,null,null,null,null,null,null,null,null,null,null,null,null,null,{"$f":"Produção!$A$17","v":"estaca sansão do campo"},null,{"$f":"'semente caupi'!D$23","v":0},{"$f":"'semente caupi'!E$23","v":0},{"$f":"'semente caupi'!F$23","v":0},{"$f":"'semente caupi'!G$23","v":0},{"$f":"'semente caupi'!H$23","v":0},{"$f":"'semente caupi'!I$23","v":0},{"$f":"'semente caupi'!J$23","v":0},{"$f":"'semente caupi'!K$23","v":0},{"$f":"'semente caupi'!L$23","v":0},{"$f":"'semente caupi'!M$23","v":0},{"$f":"'semente caupi'!N$23","v":0},{"$f":"'semente caupi'!O$23","v":0},{"$f":"'semente caupi'!P$23","v":0},{"$f":"'semente caupi'!Q$23","v":0},{"$f":"'semente caupi'!R$23","v":0},{"$f":"'semente caupi'!S$23","v":0},{"$f":"'semente caupi'!T$23","v":0},{"$f":"'semente caupi'!U$23","v":0},{"$f":"'semente caupi'!V$23","v":0},{"$f":"'semente caupi'!W$23","v":0},{"$f":"'semente caupi'!X$23","v":0},{"$f":"'semente caupi'!Y$23","v":0},{"$f":"'semente caupi'!Z$23","v":0},{"$f":"'semente caupi'!AA$23","v":0},{"$f":"'semente caupi'!AB$23","v":0},{"$f":"'semente caupi'!AC$23","v":0},{"$f":"'semente caupi'!AD$23","v":0},{"$f":"'semente caupi'!AE$23","v":0},{"$f":"'semente caupi'!AF$23","v":0},{"$f":"'semente caupi'!AG$23","v":0}]
[null,null,null,null,null,null,null,null,null,null,null,null,null,null,null,{"$f":"Produção!$A$18","v":"madeira madeira nova"},null,{"$f":"biomassa!D$23","v":0},{"$f":"biomassa!E$23","v":0},{"$f":"biomassa!F$23","v":0},{"$f":"biomassa!G$23","v":0},{"$f":"biomassa!H$23","v":0},{"$f":"biomassa!I$23","v":0},{"$f":"biomassa!J$23","v":0},{"$f":"biomassa!K$23","v":0},{"$f":"biomassa!L$23","v":0},{"$f":"biomassa!M$23","v":0},{"$f":"biomassa!N$23","v":0},{"$f":"biomassa!O$23","v":0},{"$f":"biomassa!P$23","v":0},{"$f":"biomassa!Q$23","v":0},{"$f":"biomassa!R$23","v":0},{"$f":"biomassa!S$23","v":0},{"$f":"biomassa!T$23","v":0},{"$f":"biomassa!U$23","v":0},{"$f":"biomassa!V$23","v":0},{"$f":"biomassa!W$23","v":0},{"$f":"biomassa!X$23","v":0},{"$f":"biomassa!Y$23","v":0},{"$f":"biomassa!Z$23","v":0},{"$f":"biomassa!AA$23","v":0},{"$f":"biomassa!AB$23","v":0},{"$f":"biomassa!AC$23","v":0},{"$f":"biomassa!AD$23","v":0},{"$f":"biomassa!AE$23","v":0},{"$f":"biomassa!AF$23","v":0},{"$f":"biomassa!AG$23","v":0}]
[null,null,null,null,null,null,null,null,null,null,null,null,null,null,null,{"$f":"Produção!$A$19","v":"lenha fedegoso"},null,{"$f":"madeira!D$23","v":0},{"$f":"madeira!E$23","v":0},{"$f":"madeira!F$23","v":0},{"$f":"madeira!G$23","v":0},{"$f":"madeira!H$23","v":0},{"$f":"madeira!I$23","v":0},{"$f":"madeira!J$23","v":0},{"$f":"madeira!K$23","v":0},{"$f":"madeira!L$23","v":0},{"$f":"madeira!M$23","v":0},{"$f":"madeira!N$23","v":0},{"$f":"madeira!O$23","v":0},{"$f":"madeira!P$23","v":0},{"$f":"madeira!Q$23","v":0},{"$f":"madeira!R$23","v":0},{"$f":"madeira!S$23","v":0},{"$f":"madeira!T$23","v":0},{"$f":"madeira!U$23","v":0},{"$f":"madeira!V$23","v":0},{"$f":"madeira!W$23","v":0},{"$f":"madeira!X$23","v":0},{"$f":"madeira!Y$23","v":0},{"$f":"madeira!Z$23","v":0},{"$f":"madeira!AA$23","v":0},{"$f":"madeira!AB$23","v":0},{"$f":"madeira!AC$23","v":0},{"$f":"madeira!AD$23","v":0},{"$f":"madeira!AE$23","v":0},{"$f":"madeira!AF$23","v":0},{"$f":"madeira!AG$23","v":0}]
[null,null,null,null,null,null,null,null,null,null,null,null,null,null,null,{"$f":"Produção!$A$20","v":"estaca pau d'alho"},null,{"$f":"'Produto 15'!D$23","v":0},{"$f":"'Produto 15'!E$23","v":0},{"$f":"'Produto 15'!F$23","v":0},{"$f":"'Produto 15'!G$23","v":0},{"$f":"'Produto 15'!H$23","v":0},{"$f":"'Produto 15'!I$23","v":0},{"$f":"'Produto 15'!J$23","v":0},{"$f":"'Produto 15'!K$23","v":0},{"$f":"'Produto 15'!L$23","v":0},{"$f":"'Produto 15'!M$23","v":0},{"$f":"'Produto 15'!N$23","v":0},{"$f":"'Produto 15'!O$23","v":0},{"$f":"'Produto 15'!P$23","v":0},{"$f":"'Produto 15'!Q$23","v":0},{"$f":"'Produto 15'!R$23","v":0},{"$f":"'Produto 15'!S$23","v":0},{"$f":"'Produto 15'!T$23","v":0},{"$f":"'Produto 15'!U$23","v":0},{"$f":"'Produto 15'!V$23","v":0},{"$f":"'Produto 15'!W$23","v":0},{"$f":"'Produto 15'!X$23","v":0},{"$f":"'Produto 15'!Y$23","v":0},{"$f":"'Produto 15'!Z$23","v":0},{"$f":"'Produto 15'!AA$23","v":0},{"$f":"'Produto 15'!AB$23","v":0},{"$f":"'Produto 15'!AC$23","v":0},{"$f":"'Produto 15'!AD$23","v":0},{"$f":"'Produto 15'!AE$23","v":0},{"$f":"'Produto 15'!AF$23","v":0},{"$f":"'Produto 15'!AG$23","v":0}]
[null,null,null,null,null,null,null,null,null,null,null,null,null,null,null,{"$f":"Produção!$A$21","v":"caixotaria boleira"},null,{"$f":"'Produto 16'!D$23","v":0},{"$f":"'Produto 16'!E$23","v":0},{"$f":"'Produto 16'!F$23","v":0},{"$f":"'Produto 16'!G$23","v":0},{"$f":"'Produto 16'!H$23","v":0},{"$f":"'Produto 16'!I$23","v":0},{"$f":"'Produto 16'!J$23","v":0},{"$f":"'Produto 16'!K$23","v":0},{"$f":"'Produto 16'!L$23","v":0},{"$f":"'Produto 16'!M$23","v":0},{"$f":"'Produto 16'!N$23","v":0},{"$f":"'Produto 16'!O$23","v":0},{"$f":"'Produto 16'!P$23","v":0},{"$f":"'Produto 16'!Q$23","v":0},{"$f":"'Produto 16'!R$23","v":0},{"$f":"'Produto 16'!S$23","v":0},{"$f":"'Produto 16'!T$23","v":0},{"$f":"'Produto 16'!U$23","v":0},{"$f":"'Produto 16'!V$23","v":0},{"$f":"'Produto 16'!W$23","v":0},{"$f":"'Produto 16'!X$23","v":0},{"$f":"'Produto 16'!Y$23","v":0},{"$f":"'Produto 16'!Z$23","v":0},{"$f":"'Produto 16'!AA$23","v":0},{"$f":"'Produto 16'!AB$23","v":0},{"$f":"'Produto 16'!AC$23","v":0},{"$f":"'Produto 16'!AD$23","v":0},{"$f":"'Produto 16'!AE$23","v":0},{"$f":"'Produto 16'!AF$23","v":0},{"$f":"'Produto 16'!AG$23","v":0}]
[]
[null,null,null,null,null,null,null,null,null,null,null,null,null,null,null,{"$f":"Produção!$A$22","v":"madeira angico roxo"},null,{"$f":"'Produto 17'!D$23","v":0},{"$f":"'Produto 17'!E$23","v":0},{"$f":"'Produto 17'!F$23","v":0},{"$f":"'Produto 17'!G$23","v":0},{"$f":"'Produto 17'!H$23","v":0},{"$f":"'Produto 17'!I$23","v":0},{"$f":"'Produto 17'!J$23","v":0},{"$f":"'Produto 17'!K$23","v":0},{"$f":"'Produto 17'!L$23","v":0},{"$f":"'Produto 17'!M$23","v":0},{"$f":"'Produto 17'!N$23","v":0},{"$f":"'Produto 17'!O$23","v":0},{"$f":"'Produto 17'!P$23","v":0},{"$f":"'Produto 17'!Q$23","v":0},{"$f":"'Produto 17'!R$23","v":0},{"$f":"'Produto 17'!S$23","v":0},{"$f":"'Produto 17'!T$23","v":0},{"$f":"'Produto 17'!U$23","v":0},{"$f":"'Produto 17'!V$23","v":0},{"$f":"'Produto 17'!W$23","v":0},{"$f":"'Produto 17'!X$23","v":0},{"$f":"'Produto 17'!Y$23","v":0},{"$f":"'Produto 17'!Z$23","v":0},{"$f":"'Produto 17'!AA$23","v":0},{"$f":"'Produto 17'!AB$23","v":0},{"$f":"'Produto 17'!AC$23","v":0},{"$f":"'Produto 17'!AD$23","v":0},{"$f":"'Produto 17'!AE$23","v":0},{"$f":"'Produto 17'!AF$23","v":0},{"$f":"'Produto 17'!AG$23","v":0}]
[null,null,null,null,null,null,null,null,null,null,null,null,null,null,null,{"$f":"Produção!$A$23","v":"madeira ipê roxo"},null,{"$f":"'Produto 18'!D$23","v":0},{"$f":"'Produto 18'!E$23","v":0},{"$f":"'Produto 18'!F$23","v":0},{"$f":"'Produto 18'!G$23","v":0},{"$f":"'Produto 18'!H$23","v":0},{"$f":"'Produto 18'!I$23","v":0},{"$f":"'Produto 18'!J$23","v":0},{"$f":"'Produto 18'!K$23","v":0},{"$f":"'Produto 18'!L$23","v":0},{"$f":"'Produto 18'!M$23","v":0},{"$f":"'Produto 18'!N$23","v":0},{"$f":"'Produto 18'!O$23","v":0},{"$f":"'Produto 18'!P$23","v":0},{"$f":"'Produto 18'!Q$23","v":0},{"$f":"'Produto 18'!R$23","v":0},{"$f":"'Produto 18'!S$23","v":0},{"$f":"'Produto 18'!T$23","v":0},{"$f":"'Produto 18'!U$23","v":0},{"$f":"'Produto 18'!V$23","v":0},{"$f":"'Produto 18'!W$23","v":0},{"$f":"'Produto 18'!X$23","v":0},{"$f":"'Produto 18'!Y$23","v":0},{"$f":"'Produto 18'!Z$23","v":0},{"$f":"'Produto 18'!AA$23","v":0},{"$f":"'Produto 18'!AB$23","v":0},{"$f":"'Produto 18'!AC$23","v":0},{"$f":"'Produto 18'!AD$23","v":0},{"$f":"'Produto 18'!AE$23","v":0},{"$f":"'Produto 18'!AF$23","v":0},{"$f":"'Produto 18'!AG$23","v":0}]
[null,null,null,null,null,null,null,null,null,null,null,null,null,null,null,{"$f":"Produção!$A$24","v":"madeira ipê amarelo"},null,{"$f":"'Produto 19'!D$23","v":0},{"$f":"'Produto 19'!E$23","v":0},{"$f":"'Produto 19'!F$23","v":0},{"$f":"'Produto 19'!G$23","v":0},{"$f":"'Produto 19'!H$23","v":0},{"$f":"'Produto 19'!I$23","v":0},{"$f":"'Produto 19'!J$23","v":0},{"$f":"'Produto 19'!K$23","v":0},{"$f":"'Produto 19'!L$23","v":0},{"$f":"'Produto 19'!M$23","v":0},{"$f":"'Produto 19'!N$23","v":0},{"$f":"'Produto 19'!O$23","v":0},{"$f":"'Produto 19'!P$23","v":0},{"$f":"'Produto 19'!Q$23","v":0},{"$f":"'Produto 19'!R$23","v":0},{"$f":"'Produto 19'!S$23","v":0},{"$f":"'Produto 19'!T$23","v":0},{"$f":"'Produto 19'!U$23","v":0},{"$f":"'Produto 19'!V$23","v":0},{"$f":"'Produto 19'!W$23","v":0},{"$f":"'Produto 19'!X$23","v":0},{"$f":"'Produto 19'!Y$23","v":0},{"$f":"'Produto 19'!Z$23","v":0},{"$f":"'Produto 19'!AA$23","v":0},{"$f":"'Produto 19'!AB$23","v":0},{"$f":"'Produto 19'!AC$23","v":0},{"$f":"'Produto 19'!AD$23","v":0},{"$f":"'Produto 19'!AE$23","v":0},{"$f":"'Produto 19'!AF$23","v":0},{"$f":"'Produto 19'!AG$23","v":0}]
[null,null,null,null,null,null,null,null,null,null,null,null,null,null,null,{"$f":"Produção!$A$25","v":"madeira gonçalo alves"},null,{"$f":"'Produto 20'!D$23","v":0},{"$f":"'Produto 20'!E$23","v":0},{"$f":"'Produto 20'!F$23","v":0},{"$f":"'Produto 20'!G$23","v":0},{"$f":"'Produto 20'!H$23","v":0},{"$f":"'Produto 20'!I$23","v":0},{"$f":"'Produto 20'!J$23","v":0},{"$f":"'Produto 20'!K$23","v":0},{"$f":"'Produto 20'!L$23","v":0},{"$f":"'Produto 20'!M$23","v":0},{"$f":"'Produto 20'!N$23","v":0},{"$f":"'Produto 20'!O$23","v":0},{"$f":"'Produto 20'!P$23","v":0},{"$f":"'Produto 20'!Q$23","v":0},{"$f":"'Produto 20'!R$23","v":0},{"$f":"'Produto 20'!S$23","v":0},{"$f":"'Produto 20'!T$23","v":0},{"$f":"'Produto 20'!U$23","v":0},{"$f":"'Produto 20'!V$23","v":0},{"$f":"'Produto 20'!W$23","v":0},{"$f":"'Produto 20'!X$23","v":0},{"$f":"'Produto 20'!Y$23","v":0},{"$f":"'Produto 20'!Z$23","v":0},{"$f":"'Produto 20'!AA$23","v":0},{"$f":"'Produto 20'!AB$23","v":0},{"$f":"'Produto 20'!AC$23","v":0},{"$f":"'Produto 20'!AD$23","v":0},{"$f":"'Produto 20'!AE$23","v":0},{"$f":"'Produto 20'!AF$23","v":0},{"$f":"'Produto 20'!AG$23","v":0}]
[null,null,null,null,null,null,null,null,null,null,null,null,null,null,null,{"$f":"Produção!$A$26","v":"madeira vinhatico"},null,{"$f":"'Produto 21'!D$23","v":0},{"$f":"'Produto 21'!E$23","v":0},{"$f":"'Produto 21'!F$23","v":0},{"$f":"'Produto 21'!G$23","v":0},{"$f":"'Produto 21'!H$23","v":0},{"$f":"'Produto 21'!I$23","v":0},{"$f":"'Produto 21'!J$23","v":0},{"$f":"'Produto 21'!K$23","v":0},{"$f":"'Produto 21'!L$23","v":0},{"$f":"'Produto 21'!M$23","v":0},{"$f":"'Produto 21'!N$23","v":0},{"$f":"'Produto 21'!O$23","v":0},{"$f":"'Produto 21'!P$23","v":0},{"$f":"'Produto 21'!Q$23","v":0},{"$f":"'Produto 21'!R$23","v":0},{"$f":"'Produto 21'!S$23","v":0},{"$f":"'Produto 21'!T$23","v":0},{"$f":"'Produto 21'!U$23","v":0},{"$f":"'Produto 21'!V$23","v":0},{"$f":"'Produto 21'!W$23","v":0},{"$f":"'Produto 21'!X$23","v":0},{"$f":"'Produto 21'!Y$23","v":0},{"$f":"'Produto 21'!Z$23","v":0},{"$f":"'Produto 21'!AA$23","v":0},{"$f":"'Produto 21'!AB$23","v":0},{"$f":"'Produto 21'!AC$23","v":0},{"$f":"'Produto 21'!AD$23","v":0},{"$f":"'Produto 21'!AE$23","v":0},{"$f":"'Produto 21'!AF$23","v":0},{"$f":"'Produto 21'!AG$23","v":0}]
[null,null,null,null,null,null,null,null,null,null,null,null,null,null,null,{"$f":"Produção!$A$27","v":"madeira jequitiba"},null,{"$f":"'Produto 22'!D$23","v":0},{"$f":"'Produto 22'!E$23","v":0},{"$f":"'Produto 22'!F$23","v":0},{"$f":"'Produto 22'!G$23","v":0},{"$f":"'Produto 22'!H$23","v":0},{"$f":"'Produto 22'!I$23","v":0},{"$f":"'Produto 22'!J$23","v":0},{"$f":"'Produto 22'!K$23","v":0},{"$f":"'Produto 22'!L$23","v":0},{"$f":"'Produto 22'!M$23","v":0},{"$f":"'Produto 22'!N$23","v":0},{"$f":"'Produto 22'!O$23","v":0},{"$f":"'Produto 22'!P$23","v":0},{"$f":"'Produto 22'!Q$23","v":0},{"$f":"'Produto 22'!R$23","v":0},{"$f":"'Produto 22'!S$23","v":0},{"$f":"'Produto 22'!T$23","v":0},{"$f":"'Produto 22'!U$23","v":0},{"$f":"'Produto 22'!V$23","v":0},{"$f":"'Produto 22'!W$23","v":0},{"$f":"'Produto 22'!X$23","v":0},{"$f":"'Produto 22'!Y$23","v":0},{"$f":"'Produto 22'!Z$23","v":0},{"$f":"'Produto 22'!AA$23","v":0},{"$f":"'Produto 22'!AB$23","v":0},{"$f":"'Produto 22'!AC$23","v":0},{"$f":"'Produto 22'!AD$23","v":0},{"$f":"'Produto 22'!AE$23","v":0},{"$f":"'Produto 22'!AF$23","v":0},{"$f":"'Produto 22'!AG$23","v":0}]
[null,null,null,null,null,null,null,null,null,null,null,null,null,null,null,{"$f":"Produção!$A$29","v":"grão caupi"},null,{"$f":"'Produto 23'!D$23","v":0},{"$f":"'Produto 23'!E$23","v":0},{"$f":"'Produto 23'!F$23","v":0},{"$f":"'Produto 23'!G$23","v":0},{"$f":"'Produto 23'!H$23","v":0},{"$f":"'Produto 23'!I$23","v":0},{"$f":"'Produto 23'!J$23","v":0},{"$f":"'Produto 23'!K$23","v":0},{"$f":"'Produto 23'!L$23","v":0},{"$f":"'Produto 23'!M$23","v":0},{"$f":"'Produto 23'!N$23","v":0},{"$f":"'Produto 23'!O$23","v":0},{"$f":"'Produto 23'!P$23","v":0},{"$f":"'Produto 23'!Q$23","v":0},{"$f":"'Produto 23'!R$23","v":0},{"$f":"'Produto 23'!S$23","v":0},{"$f":"'Produto 23'!T$23","v":0},{"$f":"'Produto 23'!U$23","v":0},{"$f":"'Produto 23'!V$23","v":0},{"$f":"'Produto 23'!W$23","v":0},{"$f":"'Produto 23'!X$23","v":0},{"$f":"'Produto 23'!Y$23","v":0},{"$f":"'Produto 23'!Z$23","v":0},{"$f":"'Produto 23'!AA$23","v":0},{"$f":"'Produto 23'!AB$23","v":0},{"$f":"'Produto 23'!AC$23","v":0},{"$f":"'Produto 23'!AD$23","v":0},{"$f":"'Produto 23'!AE$23","v":0},{"$f":"'Produto 23'!AF$23","v":0},{"$f":"'Produto 23'!AG$23","v":0}]
[]
[null,null,null,null,null,null,null,null,null,null,null,null,null,null,null,{"$f":"'Parâmetros Gerais'!$B$37","v":"grão caupi"},null,{"$f":"'Produto 24'!D$23","v":0},{"$f":"'Produto 24'!E$23","v":0},{"$f":"'Produto 24'!F$23","v":0},{"$f":"'Produto 24'!G$23","v":0},{"$f":"'Produto 24'!H$23","v":0},{"$f":"'Produto 24'!I$23","v":0},{"$f":"'Produto 24'!J$23","v":0},{"$f":"'Produto 24'!K$23","v":0},{"$f":"'Produto 24'!L$23","v":0},{"$f":"'Produto 24'!M$23","v":0},{"$f":"'Produto 24'!N$23","v":0},{"$f":"'Produto 24'!O$23","v":0},{"$f":"'Produto 24'!P$23","v":0},{"$f":"'Produto 24'!Q$23","v":0},{"$f":"'Produto 24'!R$23","v":0},{"$f":"'Produto 24'!S$23","v":0},{"$f":"'Produto 24'!T$23","v":0},{"$f":"'Produto 24'!U$23","v":0},{"$f":"'Produto 24'!V$23","v":0},{"$f":"'Produto 24'!W$23","v":0},{"$f":"'Produto 24'!X$23","v":0},{"$f":"'Produto 24'!Y$23","v":0},{"$f":"'Produto 24'!Z$23","v":0},{"$f":"'Produto 24'!AA$23","v":0},{"$f":"'Produto 24'!AB$23","v":0},{"$f":"'Produto 24'!AC$23","v":0},{"$f":"'Produto 24'!AD$23","v":0},{"$f":"'Produto 24'!AE$23","v":0},{"$f":"'Produto 24'!AF$23","v":0},{"$f":"'Produto 24'!AG$23","v":0}]
[]
[]
[]
[null,null,null,null,null,null,null,null,null,null,null,null,null,null,null,"Custos de MO",{"$f":"'Resultado Fin (2)'!D7","v":0},{"$f":"'Resultado Fin (2)'!E7","v":0},{"$f":"'Resultado Fin (2)'!F7","v":0},{"$f":"'Resultado Fin (2)'!G7","v":0},{"$f":"'Resultado Fin (2)'!H7","v":0},{"$f":"'Resultado Fin (2)'!I7","v":0},{"$f":"'Resultado Fin (2)'!J7","v":0},{"$f":"'Resultado Fin (2)'!K7","v":0},{"$f":"'Resultado Fin (2)'!L7","v":0},{"$f":"'Resultado Fin (2)'!M7","v":0},{"$f":"'Resultado Fin (2)'!N7","v":0},{"$f":"'Resultado Fin (2)'!O7","v":0},{"$f":"'Resultado Fin (2)'!P7","v":0},{"$f":"'Resultado Fin (2)'!Q7","v":0},{"$f":"'Resultado Fin (2)'!R7","v":0},{"$f":"'Resultado Fin (2)'!S7","v":0},{"$f":"'Resultado Fin (2)'!T7","v":0},{"$f":"'Resultado Fin (2)'!U7","v":0},{"$f":"'Resultado Fin (2)'!V7","v":0},{"$f":"'Resultado Fin (2)'!W7","v":0},{"$f":"'Resultado Fin (2)'!X7","v":0},{"$f":"'Resultado Fin (2)'!Y7","v":0},{"$f":"'Resultado Fin (2)'!Z7","v":0},{"$f":"'Resultado Fin (2)'!AA7","v":0},{"$f":"'Resultado Fin (2)'!AB7","v":0},{"$f":"'Resultado Fin (2)'!AC7","v":0},{"$f":"'Resultado Fin (2)'!AD7","v":0},{"$f":"'Resultado Fin (2)'!AE7","v":0},{"$f":"'Resultado Fin (2)'!AF7","v":0},{"$f":"'Resultado Fin (2)'!AG7","v":0},{"$f":"'Resultado Fin (2)'!AH7","v":0},null,"TOTAL"]
[null,null,null,null,null,null,null,null,null,null,null,null,null,null,null,"Atividades Gerais",{"$f":"'Preparo e Gerais'!D6","v":0},null,null,null,null,null,null,null,null,null,null,null,null,null,null,null,null,null,null,null,null,null,null,null,null,null,null,null,null,null,null,null,{"$f":"SUM(Q37:AU37)","v":0}]
[null,null,null,null,null,null,null,null,null,null,null,null,null,null,null,{"$f":"Produção!$A$6","v":"latex"},null,{"$f":"latex!D$7","v":0},{"$f":"latex!E$7","v":0},{"$f":"latex!F$7","v":0},{"$f":"latex!G$7","v":0},{"$f":"latex!H$7","v":0},{"$f":"latex!I$7","v":0},{"$f":"latex!J$7","v":0},{"$f":"latex!K$7","v":0},{"$f":"latex!L$7","v":0},{"$f":"latex!M$7","v":0},{"$f":"latex!N$7","v":0},{"$f":"latex!O$7","v":0},{"$f":"latex!P$7","v":0},{"$f":"latex!Q$7","v":0},{"$f":"latex!R$7","v":0},{"$f":"latex!S$7","v":0},{"$f":"latex!T$7","v":0},{"$f":"latex!U$7","v":0},{"$f":"latex!V$7","v":0},{"$f":"latex!W$7","v":0},{"$f":"latex!X$7","v":0},{"$f":"latex!Y$7","v":0},{"$f":"latex!Z$7","v":0},{"$f":"latex!AA$7","v":0},{"$f":"latex!AB$7","v":0},{"$f":"latex!AC$7","v":0},{"$f":"latex!AD$7","v":0},{"$f":"latex!AE$7","v":0},{"$f":"latex!AF$7","v":0},{"$f":"latex!AG$7","v":0},null,0]
[null,null,null,null,null,null,null,null,null,null,null,null,null,null,null,{"$f":"Produção!$A$7","v":"fruto genipapo"},null,{"$f":"'fruto genipapo'!D$7","v":0},{"$f":"'fruto genipapo'!E$7","v":0},{"$f":"'fruto genipapo'!F$7","v":0},{"$f":"'fruto genipapo'!G$7","v":0},{"$f":"'fruto genipapo'!H$7","v":0},{"$f":"'fruto genipapo'!I$7","v":0},{"$f":"'fruto genipapo'!J$7","v":0},{"$f":"'fruto genipapo'!K$7","v":0},{"$f":"'fruto genipapo'!L$7","v":0},{"$f":"'fruto genipapo'!M$7","v":0},{"$f":"'fruto genipapo'!N$7","v":0},{"$f":"'fruto genipapo'!O$7","v":0},{"$f":"'fruto genipapo'!P$7","v":0},{"$f":"'fruto genipapo'!Q$7","v":0},{"$f":"'fruto genipapo'!R$7","v":0},{"$f":"'fruto genipapo'!S$7","v":0},{"$f":"'fruto genipapo'!T$7","v":0},{"$f":"'fruto genipapo'!U$7","v":0},{"$f":"'fruto genipapo'!V$7","v":0},{"$f":"'fruto genipapo'!W$7","v":0},{"$f":"'fruto genipapo'!X$7","v":0},{"$f":"'fruto genipapo'!Y$7","v":0},{"$f":"'fruto genipapo'!Z$7","v":0},{"$f":"'fruto genipapo'!AA$7","v":0},{"$f":"'fruto genipapo'!AB$7","v":0},{"$f":"'fruto genipapo'!AC$7","v":0},{"$f":"'fruto genipapo'!AD$7","v":0},{"$f":"'fruto genipapo'!AE$7","v":0},{"$f":"'fruto genipapo'!AF$7","v":0},{"$f":"'fruto genipapo'!AG$7","v":0},null,0]
[null,null,null,null,null,null,null,null,null,null,null,null,null,null,null,{"$f":"Produção!$A$8","v":"fruto araçauna"},null,{"$f":"'fruto araçauna'!D$7","v":0},{"$f":"'fruto araçauna'!E$7","v":0},{"$f":"'fruto araçauna'!F$7","v":0},{"$f":"'fruto araçauna'!G$7","v":0},{"$f":"'fruto araçauna'!H$7","v":0},{"$f":"'fruto araçauna'!I$7","v":0},{"$f":"'fruto araçauna'!J$7","v":0},{"$f":"'fruto araçauna'!K$7","v":0},{"$f":"'fruto araçauna'!L$7","v":0},{"$f":"'fruto araçauna'!M$7","v":0},{"$f":"'fruto araçauna'!N$7","v":0},{"$f":"'fruto araçauna'!O$7","v":0},{"$f":"'fruto araçauna'!P$7","v":0},{"$f":"'fruto araçauna'!Q$7","v":0},{"$f":"'fruto araçauna'!R$7","v":0},{"$f":"'fruto araçauna'!S$7","v":0},{"$f":"'fruto araçauna'!T$7","v":0},{"$f":"'fruto araçauna'!U$7","v":0},{"$f":"'fruto araçauna'!V$7","v":0},{"$f":"'fruto araçauna'!W$7","v":0},{"$f":"'fruto araçauna'!X$7","v":0},{"$f":"'fruto araçauna'!Y$7","v":0},{"$f":"'fruto araçauna'!Z$7","v":0},{"$f":"'fruto araçauna'!AA$7","v":0},{"$f":"'fruto araçauna'!AB$7","v":0},{"$f":"'fruto araçauna'!AC$7","v":0},{"$f":"'fruto araçauna'!AD$7","v":0},{"$f":"'fruto araçauna'!AE$7","v":0},{"$f":"'fruto araçauna'!AF$7","v":0},{"$f":"'fruto araçauna'!AG$7","v":0},null,0]
[null,null,null,null,null,null,null,null,null,null,null,null,null,null,null,{"$f":"Produção!$A$9","v":"fruto pitanga"},null,{"$f":"'fruto pitanga'!D$7","v":0},{"$f":"'fruto pitanga'!E$7","v":0},{"$f":"'fruto pitanga'!F$7","v":0},{"$f":"'fruto pitanga'!G$7","v":0},{"$f":"'fruto pitanga'!H$7","v":0},{"$f":"'fruto pitanga'!I$7","v":0},{"$f":"'fruto pitanga'!J$7","v":0},{"$f":"'fruto pitanga'!K$7","v":0},{"$f":"'fruto pitanga'!L$7","v":0},{"$f":"'fruto pitanga'!M$7","v":0},{"$f":"'fruto pitanga'!N$7","v":0},{"$f":"'fruto pitanga'!O$7","v":0},{"$f":"'fruto pitanga'!P$7","v":0},{"$f":"'fruto pitanga'!Q$7","v":0},{"$f":"'fruto pitanga'!R$7","v":0},{"$f":"'fruto pitanga'!S$7","v":0},{"$f":"'fruto pitanga'!T$7","v":0},{"$f":"'fruto pitanga'!U$7","v":0},{"$f":"'fruto pitanga'!V$7","v":0},{"$f":"'fruto pitanga'!W$7","v":0},{"$f":"'fruto pitanga'!X$7","v":0},{"$f":"'fruto pitanga'!Y$7","v":0},{"$f":"'fruto pitanga'!Z$7","v":0},{"$f":"'fruto pitanga'!AA$7","v":0},{"$f":"'fruto pitanga'!AB$7","v":0},{"$f":"'fruto pitanga'!AC$7","v":0},{"$f":"'fruto pitanga'!AD$7","v":0},{"$f":"'fruto pitanga'!AE$7","v":0},{"$f":"'fruto pitanga'!AF$7","v":0},{"$f":"'fruto pitanga'!AG$7","v":0},null,0]
[null,null,null,null,null,null,null,null,null,null,null,null,null,null,null,{"$f":"Produção!$A$10","v":"castanha sapucaia"},null,{"$f":"Castanha!D$7","v":0},{"$f":"Castanha!E$7","v":0},{"$f":"Castanha!F$7","v":0},{"$f":"Castanha!G$7","v":0},{"$f":"Castanha!H$7","v":0},{"$f":"Castanha!I$7","v":0},{"$f":"Castanha!J$7","v":0},{"$f":"Castanha!K$7","v":0},{"$f":"Castanha!L$7","v":0},{"$f":"Castanha!M$7","v":0},{"$f":"Castanha!N$7","v":0},{"$f":"Castanha!O$7","v":0},{"$f":"Castanha!P$7","v":0},{"$f":"Castanha!Q$7","v":0},{"$f":"Castanha!R$7","v":0},{"$f":"Castanha!S$7","v":0},{"$f":"Castanha!T$7","v":0},{"$f":"Castanha!U$7","v":0},{"$f":"Castanha!V$7","v":0},{"$f":"Castanha!W$7","v":0},{"$f":"Castanha!X$7","v":0},{"$f":"Castanha!Y$7","v":0},{"$f":"Castanha!Z$7","v":0},{"$f":"Castanha!AA$7","v":0},{"$f":"Castanha!AB$7","v":0},{"$f":"Castanha!AC$7","v":0},{"$f":"Castanha!AD$7","v":0},{"$f":"Castanha!AE$7","v":0},{"$f":"Castanha!AF$7","v":0},{"$f":"Castanha!AG$7","v":0},null,0]
[]
[null,null,null,null,null,null,null,null,null,null,null,null,null,null,null,{"$f":"Produção!$A$11","v":"fruto cajá"},null,{"$f":"'fruto cajá'!D$7","v":0},{"$f":"'fruto cajá'!E$7","v":0},{"$f":"'fruto cajá'!F$7","v":0},{"$f":"'fruto cajá'!G$7","v":0},{"$f":"'fruto cajá'!H$7","v":0},{"$f":"'fruto cajá'!I$7","v":0},{"$f":"'fruto cajá'!J$7","v":0},{"$f":"'fruto cajá'!K$7","v":0},{"$f":"'fruto cajá'!L$7","v":0},{"$f":"'fruto cajá'!M$7","v":0},{"$f":"'fruto cajá'!N$7","v":0},{"$f":"'fruto cajá'!O$7","v":0},{"$f":"'fruto cajá'!P$7","v":0},{"$f":"'fruto cajá'!Q$7","v":0},{"$f":"'fruto cajá'!R$7","v":0},{"$f":"'fruto cajá'!S$7","v":0},{"$f":"'fruto cajá'!T$7","v":0},{"$f":"'fruto cajá'!U$7","v":0},{"$f":"'fruto cajá'!V$7","v":0},{"$f":"'fruto cajá'!W$7","v":0},{"$f":"'fruto cajá'!X$7","v":0},{"$f":"'fruto cajá'!Y$7","v":0},{"$f":"'fruto cajá'!Z$7","v":0},{"$f":"'fruto cajá'!AA$7","v":0},{"$f":"'fruto cajá'!AB$7","v":0},{"$f":"'fruto cajá'!AC$7","v":0},{"$f":"'fruto cajá'!AD$7","v":0},{"$f":"'fruto cajá'!AE$7","v":0},{"$f":"'fruto cajá'!AF$7","v":0},{"$f":"'fruto cajá'!AG$7","v":0},null,{"$f":"SUM(Q44:AU44)","v":0}]
[null,null,null,null,null,null,null,null,null,null,null,null,null,null,null,{"$f":"Produção!$A$12","v":"semente urucum"},null,{"$f":"'semente urucum'!D$7","v":0},{"$f":"'semente urucum'!E$7","v":0},{"$f":"'semente urucum'!F$7","v":0},{"$f":"'semente urucum'!G$7","v":0},{"$f":"'semente urucum'!H$7","v":0},{"$f":"'semente urucum'!I$7","v":0},{"$f":"'semente urucum'!J$7","v":0},{"$f":"'semente urucum'!K$7","v":0},{"$f":"'semente urucum'!L$7","v":0},{"$f":"'semente urucum'!M$7","v":0},{"$f":"'semente urucum'!N$7","v":0},{"$f":"'semente urucum'!O$7","v":0},{"$f":"'semente urucum'!P$7","v":0},{"$f":"'semente urucum'!Q$7","v":0},{"$f":"'semente urucum'!R$7","v":0},{"$f":"'semente urucum'!S$7","v":0},{"$f":"'semente urucum'!T$7","v":0},{"$f":"'semente urucum'!U$7","v":0},{"$f":"'semente urucum'!V$7","v":0},{"$f":"'semente urucum'!W$7","v":0},{"$f":"'semente urucum'!X$7","v":0},{"$f":"'semente urucum'!Y$7","v":0},{"$f":"'semente urucum'!Z$7","v":0},{"$f":"'semente urucum'!AA$7","v":0},{"$f":"'semente urucum'!AB$7","v":0},{"$f":"'semente urucum'!AC$7","v":0},{"$f":"'semente urucum'!AD$7","v":0},{"$f":"'semente urucum'!AE$7","v":0},{"$f":"'semente urucum'!AF$7","v":0},{"$f":"'semente urucum'!AG$7","v":0},null,{"$f":"SUM(Q45:AU45)","v":0}]
[null,null,null,null,null,null,null,null,null,null,null,null,null,null,null,{"$f":"Produção!$A$13","v":"semente aroeira"},null,{"$f":"'semente aroeira'!D$7","v":0},{"$f":"'semente aroeira'!E$7","v":0},{"$f":"'semente aroeira'!F$7","v":0},{"$f":"'semente aroeira'!G$7","v":0},{"$f":"'semente aroeira'!H$7","v":0},{"$f":"'semente aroeira'!I$7","v":0},{"$f":"'semente aroeira'!J$7","v":0},{"$f":"'semente aroeira'!K$7","v":0},{"$f":"'semente aroeira'!L$7","v":0},{"$f":"'semente aroeira'!M$7","v":0},{"$f":"'semente aroeira'!N$7","v":0},{"$f":"'semente aroeira'!O$7","v":0},{"$f":"'semente aroeira'!P$7","v":0},{"$f":"'semente aroeira'!Q$7","v":0},{"$f":"'semente aroeira'!R$7","v":0},{"$f":"'semente aroeira'!S$7","v":0},{"$f":"'semente aroeira'!T$7","v":0},{"$f":"'semente aroeira'!U$7","v":0},{"$f":"'semente aroeira'!V$7","v":0},{"$f":"'semente aroeira'!W$7","v":0},{"$f":"'semente aroeira'!X$7","v":0},{"$f":"'semente aroeira'!Y$7","v":0},{"$f":"'semente aroeira'!Z$7","v":0},{"$f":"'semente aroeira'!AA$7","v":0},{"$f":"'semente aroeira'!AB$7","v":0},{"$f":"'semente aroeira'!AC$7","v":0},{"$f":"'semente aroeira'!AD$7","v":0},{"$f":"'semente aroeira'!AE$7","v":0},{"$f":"'semente aroeira'!AF$7","v":0},{"$f":"'semente aroeira'!AG$7","v":0},null,{"$f":"SUM(Q46:AU46)","v":0}]
[null,null,null,null,null,null,null,null,null,null,null,null,null,null,null,{"$f":"Produção!$A$14","v":"raiz mandioca"},null,{"$f":"'raiz mandioca'!D$7","v":0},{"$f":"'raiz mandioca'!E$7","v":0},{"$f":"'raiz mandioca'!F$7","v":0},{"$f":"'raiz mandioca'!G$7","v":0},{"$f":"'raiz mandioca'!H$7","v":0},{"$f":"'raiz mandioca'!I$7","v":0},{"$f":"'raiz mandioca'!J$7","v":0},{"$f":"'raiz mandioca'!K$7","v":0},{"$f":"'raiz mandioca'!L$7","v":0},{"$f":"'raiz mandioca'!M$7","v":0},{"$f":"'raiz mandioca'!N$7","v":0},{"$f":"'raiz mandioca'!O$7","v":0},{"$f":"'raiz mandioca'!P$7","v":0},{"$f":"'raiz mandioca'!Q$7","v":0},{"$f":"'raiz mandioca'!R$7","v":0},{"$f":"'raiz mandioca'!S$7","v":0},{"$f":"'raiz mandioca'!T$7","v":0},{"$f":"'raiz mandioca'!U$7","v":0},{"$f":"'raiz mandioca'!V$7","v":0},{"$f":"'raiz mandioca'!W$7","v":0},{"$f":"'raiz mandioca'!X$7","v":0},{"$f":"'raiz mandioca'!Y$7","v":0},{"$f":"'raiz mandioca'!Z$7","v":0},{"$f":"'raiz mandioca'!AA$7","v":0},{"$f":"'raiz mandioca'!AB$7","v":0},{"$f":"'raiz mandioca'!AC$7","v":0},{"$f":"'raiz mandioca'!AD$7","v":0},{"$f":"'raiz mandioca'!AE$7","v":0},{"$f":"'raiz mandioca'!AF$7","v":0},{"$f":"'raiz mandioca'!AG$7","v":0},null,{"$f":"SUM(Q47:AU47)","v":0}]
[]
[null,null,null,null,null,null,null,null,null,null,null,null,null,null,null,{"$f":"Produção!$A$15","v":"fruto abacaxi"},null,{"$f":"abacaxi!D$7","v":0},{"$f":"abacaxi!E$7","v":0},{"$f":"abacaxi!F$7","v":0},{"$f":"abacaxi!G$7","v":0},{"$f":"abacaxi!H$7","v":0},{"$f":"abacaxi!I$7","v":0},{"$f":"abacaxi!J$7","v":0},{"$f":"abacaxi!K$7","v":0},{"$f":"abacaxi!L$7","v":0},{"$f":"abacaxi!M$7","v":0},{"$f":"abacaxi!N$7","v":0},{"$f":"abacaxi!O$7","v":0},{"$f":"abacaxi!P$7","v":0},{"$f":"abacaxi!Q$7","v":0},{"$f":"abacaxi!R$7","v":0},{"$f":"abacaxi!S$7","v":0},{"$f":"abacaxi!T$7","v":0},{"$f":"abacaxi!U$7","v":0},{"$f":"abacaxi!V$7","v":0},{"$f":"abacaxi!W$7","v":0},{"$f":"abacaxi!X$7","v":0},{"$f":"abacaxi!Y$7","v":0},{"$f":"abacaxi!Z$7","v":0},{"$f":"abacaxi!AA$7","v":0},{"$f":"abacaxi!AB$7","v":0},{"$f":"abacaxi!AC$7","v":0},{"$f":"abacaxi!AD$7","v":0},{"$f":"abacaxi!AE$7","v":0},{"$f":"abacaxi!AF$7","v":0},{"$f":"abacaxi!AG$7","v":0},null,{"$f":"SUM(Q49:AU49)","v":0}]
[null,null,null,null,null,null,null,null,null,null,null,null,null,null,null,{"$f":"Produção!$A$16","v":"espigas milho"},null,{"$f":"espigas!D$7","v":0},{"$f":"espigas!E$7","v":0},{"$f":"espigas!F$7","v":0},{"$f":"espigas!G$7","v":0},{"$f":"espigas!H$7","v":0},{"$f":"espigas!I$7","v":0},{"$f":"espigas!J$7","v":0},{"$f":"espigas!K$7","v":0},{"$f":"espigas!L$7","v":0},{"$f":"espigas!M$7","v":0},{"$f":"espigas!N$7","v":0},{"$f":"espigas!O$7","v":0},{"$f":"espigas!P$7","v":0},{"$f":"espigas!Q$7","v":0},{"$f":"espigas!R$7","v":0},{"$f":"espigas!S$7","v":0},{"$f":"espigas!T$7","v":0},{"$f":"espigas!U$7","v":0},{"$f":"espigas!V$7","v":0},{"$f":"espigas!W$7","v":0},{"$f":"espigas!X$7","v":0},{"$f":"espigas!Y$7","v":0},{"$f":"espigas!Z$7","v":0},{"$f":"espigas!AA$7","v":0},{"$f":"espigas!AB$7","v":0},{"$f":"espigas!AC$7","v":0},{"$f":"espigas!AD$7","v":0},{"$f":"espigas!AE$7","v":0},{"$f":"espigas!AF$7","v":0},{"$f":"espigas!AG$7","v":0},null,0]
[null,null,null,null,null,null,null,null,null,null,null,null,null,null,null,{"$f":"Produção!$A$17","v":"estaca sansão do campo"},null,{"$f":"'semente caupi'!D$7","v":0},{"$f":"'semente caupi'!E$7","v":0},{"$f":"'semente caupi'!F$7","v":0},{"$f":"'semente caupi'!G$7","v":0},{"$f":"'semente caupi'!H$7","v":0},{"$f":"'semente caupi'!I$7","v":0},{"$f":"'semente caupi'!J$7","v":0},{"$f":"'semente caupi'!K$7","v":0},{"$f":"'semente caupi'!L$7","v":0},{"$f":"'semente caupi'!M$7","v":0},{"$f":"'semente caupi'!N$7","v":0},{"$f":"'semente caupi'!O$7","v":0},{"$f":"'semente caupi'!P$7","v":0},{"$f":"'semente caupi'!Q$7","v":0},{"$f":"'semente caupi'!R$7","v":0},{"$f":"'semente caupi'!S$7","v":0},{"$f":"'semente caupi'!T$7","v":0},{"$f":"'semente caupi'!U$7","v":0},{"$f":"'semente caupi'!V$7","v":0},{"$f":"'semente caupi'!W$7","v":0},{"$f":"'semente caupi'!X$7","v":0},{"$f":"'semente caupi'!Y$7","v":0},{"$f":"'semente caupi'!Z$7","v":0},{"$f":"'semente caupi'!AA$7","v":0},{"$f":"'semente caupi'!AB$7","v":0},{"$f":"'semente caupi'!AC$7","v":0},{"$f":"'semente caupi'!AD$7","v":0},{"$f":"'semente caupi'!AE$7","v":0},{"$f":"'semente caupi'!AF$7","v":0},{"$f":"'semente caupi'!AG$7","v":0},null,0]
[null,null,null,null,null,null,null,null,null,null,null,null,null,null,null,{"$f":"Produção!$A$18","v":"madeira madeira nova"},null,{"$f":"biomassa!D$7","v":0},{"$f":"biomassa!E$7","v":0},{"$f":"biomassa!F$7","v":0},{"$f":"biomassa!G$7","v":0},{"$f":"biomassa!H$7","v":0},{"$f":"biomassa!I$7","v":0},{"$f":"biomassa!J$7","v":0},{"$f":"biomassa!K$7","v":0},{"$f":"biomassa!L$7","v":0},{"$f":"biomassa!M$7","v":0},{"$f":"biomassa!N$7","v":0},{"$f":"biomassa!O$7","v":0},{"$f":"biomassa!P$7","v":0},{"$f":"biomassa!Q$7","v":0},{"$f":"biomassa!R$7","v":0},{"$f":"biomassa!S$7","v":0},{"$f":"biomassa!T$7","v":0},{"$f":"biomassa!U$7","v":0},{"$f":"biomassa!V$7","v":0},{"$f":"biomassa!W$7","v":0},{"$f":"biomassa!X$7","v":0},{"$f":"biomassa!Y$7","v":0},{"$f":"biomassa!Z$7","v":0},{"$f":"biomassa!AA$7","v":0},{"$f":"biomassa!AB$7","v":0},{"$f":"biomassa!AC$7","v":0},{"$f":"biomassa!AD$7","v":0},{"$f":"biomassa!AE$7","v":0},{"$f":"biomassa!AF$7","v":0},{"$f":"biomassa!AG$7","v":0},null,0]
[null,null,null,null,null,null,null,null,null,null,null,null,null,null,null,{"$f":"Produção!$A$19","v":"lenha fedegoso"},null,{"$f":"madeira!D$7","v":0},{"$f":"madeira!E$7","v":0},{"$f":"madeira!F$7","v":0},{"$f":"madeira!G$7","v":0},{"$f":"madeira!H$7","v":0},{"$f":"madeira!I$7","v":0},{"$f":"madeira!J$7","v":0},{"$f":"madeira!K$7","v":0},{"$f":"madeira!L$7","v":0},{"$f":"madeira!M$7","v":0},{"$f":"madeira!N$7","v":0},{"$f":"madeira!O$7","v":0},{"$f":"madeira!P$7","v":0},{"$f":"madeira!Q$7","v":0},{"$f":"madeira!R$7","v":0},{"$f":"madeira!S$7","v":0},{"$f":"madeira!T$7","v":0},{"$f":"madeira!U$7","v":0},{"$f":"madeira!V$7","v":0},{"$f":"madeira!W$7","v":0},{"$f":"madeira!X$7","v":0},{"$f":"madeira!Y$7","v":0},{"$f":"madeira!Z$7","v":0},{"$f":"madeira!AA$7","v":0},{"$f":"madeira!AB$7","v":0},{"$f":"madeira!AC$7","v":0},{"$f":"madeira!AD$7","v":0},{"$f":"madeira!AE$7","v":0},{"$f":"madeira!AF$7","v":0},{"$f":"madeira!AG$7","v":0},null,0]
[null,null,null,null,null,null,null,null,null,null,null,null,null,null,null,{"$f":"Produção!$A$20","v":"estaca pau d'alho"},null,{"$f":"'Produto 15'!D$7","v":0},{"$f":"'Produto 15'!E$7","v":0},{"$f":"'Produto 15'!F$7","v":0},{"$f":"'Produto 15'!G$7","v":0},{"$f":"'Produto 15'!H$7","v":0},{"$f":"'Produto 15'!I$7","v":0},{"$f":"'Produto 15'!J$7","v":0},{"$f":"'Produto 15'!K$7","v":0},{"$f":"'Produto 15'!L$7","v":0},{"$f":"'Produto 15'!M$7","v":0},{"$f":"'Produto 15'!N$7","v":0},{"$f":"'Produto 15'!O$7","v":0},{"$f":"'Produto 15'!P$7","v":0},{"$f":"'Produto 15'!Q$7","v":0},{"$f":"'Produto 15'!R$7","v":0},{"$f":"'Produto 15'!S$7","v":0},{"$f":"'Produto 15'!T$7","v":0},{"$f":"'Produto 15'!U$7","v":0},{"$f":"'Produto 15'!V$7","v":0},{"$f":"'Produto 15'!W$7","v":0},{"$f":"'Produto 15'!X$7","v":0},{"$f":"'Produto 15'!Y$7","v":0},{"$f":"'Produto 15'!Z$7","v":0},{"$f":"'Produto 15'!AA$7","v":0},{"$f":"'Produto 15'!AB$7","v":0},{"$f":"'Produto 15'!AC$7","v":0},{"$f":"'Produto 15'!AD$7","v":0},{"$f":"'Produto 15'!AE$7","v":0},{"$f":"'Produto 15'!AF$7","v":0},{"$f":"'Produto 15'!AG$7","v":0},null,0]
[null,null,null,null,null,null,null,null,null,null,null,null,null,null,null,{"$f":"Produção!$A$21","v":"caixotaria boleira"},null,{"$f":"'Produto 16'!D$7","v":0},{"$f":"'Produto 16'!E$7","v":0},{"$f":"'Produto 16'!F$7","v":0},{"$f":"'Produto 16'!G$7","v":0},{"$f":"'Produto 16'!H$7","v":0},{"$f":"'Produto 16'!I$7","v":0},{"$f":"'Produto 16'!J$7","v":0},{"$f":"'Produto 16'!K$7","v":0},{"$f":"'Produto 16'!L$7","v":0},{"$f":"'Produto 16'!M$7","v":0},{"$f":"'Produto 16'!N$7","v":0},{"$f":"'Produto 16'!O$7","v":0},{"$f":"'Produto 16'!P$7","v":0},{"$f":"'Produto 16'!Q$7","v":0},{"$f":"'Produto 16'!R$7","v":0},{"$f":"'Produto 16'!S$7","v":0},{"$f":"'Produto 16'!T$7","v":0},{"$f":"'Produto 16'!U$7","v":0},{"$f":"'Produto 16'!V$7","v":0},{"$f":"'Produto 16'!W$7","v":0},{"$f":"'Produto 16'!X$7","v":0},{"$f":"'Produto 16'!Y$7","v":0},{"$f":"'Produto 16'!Z$7","v":0},{"$f":"'Produto 16'!AA$7","v":0},{"$f":"'Produto 16'!AB$7","v":0},{"$f":"'Produto 16'!AC$7","v":0},{"$f":"'Produto 16'!AD$7","v":0},{"$f":"'Produto 16'!AE$7","v":0},{"$f":"'Produto 16'!AF$7","v":0},{"$f":"'Produto 16'!AG$7","v":0},null,0]
[]
[null,null,null,null,null,null,null,null,null,null,null,null,null,null,null,{"$f":"Produção!$A$22","v":"madeira angico roxo"},null,{"$f":"'Produto 17'!D$7","v":0},{"$f":"'Produto 17'!E$7","v":0},{"$f":"'Produto 17'!F$7","v":0},{"$f":"'Produto 17'!G$7","v":0},{"$f":"'Produto 17'!H$7","v":0},{"$f":"'Produto 17'!I$7","v":0},{"$f":"'Produto 17'!J$7","v":0},{"$f":"'Produto 17'!K$7","v":0},{"$f":"'Produto 17'!L$7","v":0},{"$f":"'Produto 17'!M$7","v":0},{"$f":"'Produto 17'!N$7","v":0},{"$f":"'Produto 17'!O$7","v":0},{"$f":"'Produto 17'!P$7","v":0},{"$f":"'Produto 17'!Q$7","v":0},{"$f":"'Produto 17'!R$7","v":0},{"$f":"'Produto 17'!S$7","v":0},{"$f":"'Produto 17'!T$7","v":0},{"$f":"'Produto 17'!U$7","v":0},{"$f":"'Produto 17'!V$7","v":0},{"$f":"'Produto 17'!W$7","v":0},{"$f":"'Produto 17'!X$7","v":0},{"$f":"'Produto 17'!Y$7","v":0},{"$f":"'Produto 17'!Z$7","v":0},{"$f":"'Produto 17'!AA$7","v":0},{"$f":"'Produto 17'!AB$7","v":0},{"$f":"'Produto 17'!AC$7","v":0},{"$f":"'Produto 17'!AD$7","v":0},{"$f":"'Produto 17'!AE$7","v":0},{"$f":"'Produto 17'!AF$7","v":0},{"$f":"'Produto 17'!AG$7","v":0},null,{"$f":"SUM(Q57:AU57)","v":0}]
[null,null,null,null,null,null,null,null,null,null,null,null,null,null,null,{"$f":"Produção!$A$23","v":"madeira ipê roxo"},null,{"$f":"'Produto 18'!D$7","v":0},{"$f":"'Produto 18'!E$7","v":0},{"$f":"'Produto 18'!F$7","v":0},{"$f":"'Produto 18'!G$7","v":0},{"$f":"'Produto 18'!H$7","v":0},{"$f":"'Produto 18'!I$7","v":0},{"$f":"'Produto 18'!J$7","v":0},{"$f":"'Produto 18'!K$7","v":0},{"$f":"'Produto 18'!L$7","v":0},{"$f":"'Produto 18'!M$7","v":0},{"$f":"'Produto 18'!N$7","v":0},{"$f":"'Produto 18'!O$7","v":0},{"$f":"'Produto 18'!P$7","v":0},{"$f":"'Produto 18'!Q$7","v":0},{"$f":"'Produto 18'!R$7","v":0},{"$f":"'Produto 18'!S$7","v":0},{"$f":"'Produto 18'!T$7","v":0},{"$f":"'Produto 18'!U$7","v":0},{"$f":"'Produto 18'!V$7","v":0},{"$f":"'Produto 18'!W$7","v":0},{"$f":"'Produto 18'!X$7","v":0},{"$f":"'Produto 18'!Y$7","v":0},{"$f":"'Produto 18'!Z$7","v":0},{"$f":"'Produto 18'!AA$7","v":0},{"$f":"'Produto 18'!AB$7","v":0},{"$f":"'Produto 18'!AC$7","v":0},{"$f":"'Produto 18'!AD$7","v":0},{"$f":"'Produto 18'!AE$7","v":0},{"$f":"'Produto 18'!AF$7","v":0},{"$f":"'Produto 18'!AG$7","v":0},null,0]
[null,null,null,null,null,null,null,null,null,null,null,null,null,null,null,{"$f":"Produção!$A$24","v":"madeira ipê amarelo"},null,{"$f":"'Produto 19'!D$7","v":0},{"$f":"'Produto 19'!E$7","v":0},{"$f":"'Produto 19'!F$7","v":0},{"$f":"'Produto 19'!G$7","v":0},{"$f":"'Produto 19'!H$7","v":0},{"$f":"'Produto 19'!I$7","v":0},{"$f":"'Produto 19'!J$7","v":0},{"$f":"'Produto 19'!K$7","v":0},{"$f":"'Produto 19'!L$7","v":0},{"$f":"'Produto 19'!M$7","v":0},{"$f":"'Produto 19'!N$7","v":0},{"$f":"'Produto 19'!O$7","v":0},{"$f":"'Produto 19'!P$7","v":0},{"$f":"'Produto 19'!Q$7","v":0},{"$f":"'Produto 19'!R$7","v":0},{"$f":"'Produto 19'!S$7","v":0},{"$f":"'Produto 19'!T$7","v":0},{"$f":"'Produto 19'!U$7","v":0},{"$f":"'Produto 19'!V$7","v":0},{"$f":"'Produto 19'!W$7","v":0},{"$f":"'Produto 19'!X$7","v":0},{"$f":"'Produto 19'!Y$7","v":0},{"$f":"'Produto 19'!Z$7","v":0},{"$f":"'Produto 19'!AA$7","v":0},{"$f":"'Produto 19'!AB$7","v":0},{"$f":"'Produto 19'!AC$7","v":0},{"$f":"'Produto 19'!AD$7","v":0},{"$f":"'Produto 19'!AE$7","v":0},{"$f":"'Produto 19'!AF$7","v":0},{"$f":"'Produto 19'!AG$7","v":0},null,0]
[null,null,null,null,null,null,null,null,null,null,null,null,null,null,null,{"$f":"Produção!$A$25","v":"madeira gonçalo alves"},null,{"$f":"'Produto 20'!D$7","v":0},{"$f":"'Produto 20'!E$7","v":0},{"$f":"'Produto 20'!F$7","v":0},{"$f":"'Produto 20'!G$7","v":0},{"$f":"'Produto 20'!H$7","v":0},{"$f":"'Produto 20'!I$7","v":0},{"$f":"'Produto 20'!J$7","v":0},{"$f":"'Produto 20'!K$7","v":0},{"$f":"'Produto 20'!L$7","v":0},{"$f":"'Produto 20'!M$7","v":0},{"$f":"'Produto 20'!N$7","v":0},{"$f":"'Produto 20'!O$7","v":0},{"$f":"'Produto 20'!P$7","v":0},{"$f":"'Produto 20'!Q$7","v":0},{"$f":"'Produto 20'!R$7","v":0},{"$f":"'Produto 20'!S$7","v":0},{"$f":"'Produto 20'!T$7","v":0},{"$f":"'Produto 20'!U$7","v":0},{"$f":"'Produto 20'!V$7","v":0},{"$f":"'Produto 20'!W$7","v":0},{"$f":"'Produto 20'!X$7","v":0},{"$f":"'Produto 20'!Y$7","v":0},{"$f":"'Produto 20'!Z$7","v":0},{"$f":"'Produto 20'!AA$7","v":0},{"$f":"'Produto 20'!AB$7","v":0},{"$f":"'Produto 20'!AC$7","v":0},{"$f":"'Produto 20'!AD$7","v":0},{"$f":"'Produto 20'!AE$7","v":0},{"$f":"'Produto 20'!AF$7","v":0},{"$f":"'Produto 20'!AG$7","v":0},null,0]
[null,null,null,null,null,null,null,null,null,null,null,null,null,null,null,{"$f":"Produção!$A$26","v":"madeira vinhatico"},null,{"$f":"'Produto 21'!D$7","v":0},{"$f":"'Produto 21'!E$7","v":0},{"$f":"'Produto 21'!F$7","v":0},{"$f":"'Produto 21'!G$7","v":0},{"$f":"'Produto 21'!H$7","v":0},{"$f":"'Produto 21'!I$7","v":0},{"$f":"'Produto 21'!J$7","v":0},{"$f":"'Produto 21'!K$7","v":0},{"$f":"'Produto 21'!L$7","v":0},{"$f":"'Produto 21'!M$7","v":0},{"$f":"'Produto 21'!N$7","v":0},{"$f":"'Produto 21'!O$7","v":0},{"$f":"'Produto 21'!P$7","v":0},{"$f":"'Produto 21'!Q$7","v":0},{"$f":"'Produto 21'!R$7","v":0},{"$f":"'Produto 21'!S$7","v":0},{"$f":"'Produto 21'!T$7","v":0},{"$f":"'Produto 21'!U$7","v":0},{"$f":"'Produto 21'!V$7","v":0},{"$f":"'Produto 21'!W$7","v":0},{"$f":"'Produto 21'!X$7","v":0},{"$f":"'Produto 21'!Y$7","v":0},{"$f":"'Produto 21'!Z$7","v":0},{"$f":"'Produto 21'!AA$7","v":0},{"$f":"'Produto 21'!AB$7","v":0},{"$f":"'Produto 21'!AC$7","v":0},{"$f":"'Produto 21'!AD$7","v":0},{"$f":"'Produto 21'!AE$7","v":0},{"$f":"'Produto 21'!AF$7","v":0},{"$f":"'Produto 21'!AG$7","v":0},null,0]
[null,null,null,null,null,null,null,null,null,null,null,null,null,null,null,{"$f":"Produção!$A$27","v":"madeira jequitiba"},null,{"$f":"'Produto 22'!D$7","v":0},{"$f":"'Produto 22'!E$7","v":0},{"$f":"'Produto 22'!F$7","v":0},{"$f":"'Produto 22'!G$7","v":0},{"$f":"'Produto 22'!H$7","v":0},{"$f":"'Produto 22'!I$7","v":0},{"$f":"'Produto 22'!J$7","v":0},{"$f":"'Produto 22'!K$7","v":0},{"$f":"'Produto 22'!L$7","v":0},{"$f":"'Produto 22'!M$7","v":0},{"$f":"'Produto 22'!N$7","v":0},{"$f":"'Produto 22'!O$7","v":0},{"$f":"'Produto 22'!P$7","v":0},{"$f":"'Produto 22'!Q$7","v":0},{"$f":"'Produto 22'!R$7","v":0},{"$f":"'Produto 22'!S$7","v":0},{"$f":"'Produto 22'!T$7","v":0},{"$f":"'Produto 22'!U$7","v":0},{"$f":"'Produto 22'!V$7","v":0},{"$f":"'Produto 22'!W$7","v":0},{"$f":"'Produto 22'!X$7","v":0},{"$f":"'Produto 22'!Y$7","v":0},{"$f":"'Produto 22'!Z$7","v":0},{"$f":"'Produto 22'!AA$7","v":0},{"$f":"'Produto 22'!AB$7","v":0},{"$f":"'Produto 22'!AC$7","v":0},{"$f":"'Produto 22'!AD$7","v":0},{"$f":"'Produto 22'!AE$7","v":0},{"$f":"'Produto 22'!AF$7","v":0},{"$f":"'Produto 22'!AG$7","v":0},null,0]
[null,null,null,null,null,null,null,null,null,null,null,null,null,null,null,{"$f":"Produção!$A$29","v":"grão caupi"},null,{"$f":"'Produto 23'!D$7","v":0},{"$f":"'Produto 23'!E$7","v":0},{"$f":"'Produto 23'!F$7","v":0},{"$f":"'Produto 23'!G$7","v":0},{"$f":"'Produto 23'!H$7","v":0},{"$f":"'Produto 23'!I$7","v":0},{"$f":"'Produto 23'!J$7","v":0},{"$f":"'Produto 23'!K$7","v":0},{"$f":"'Produto 23'!L$7","v":0},{"$f":"'Produto 23'!M$7","v":0},{"$f":"'Produto 23'!N$7","v":0},{"$f":"'Produto 23'!O$7","v":0},{"$f":"'Produto 23'!P$7","v":0},{"$f":"'Produto 23'!Q$7","v":0},{"$f":"'Produto 23'!R$7","v":0},{"$f":"'Produto 23'!S$7","v":0},{"$f":"'Produto 23'!T$7","v":0},{"$f":"'Produto 23'!U$7","v":0},{"$f":"'Produto 23'!V$7","v":0},{"$f":"'Produto 23'!W$7","v":0},{"$f":"'Produto 23'!X$7","v":0},{"$f":"'Produto 23'!Y$7","v":0},{"$f":"'Produto 23'!Z$7","v":0},{"$f":"'Produto 23'!AA$7","v":0},{"$f":"'Produto 23'!AB$7","v":0},{"$f":"'Produto 23'!AC$7","v":0},{"$f":"'Produto 23'!AD$7","v":0},{"$f":"'Produto 23'!AE$7","v":0},{"$f":"'Produto 23'!AF$7","v":0},{"$f":"'Produto 23'!AG$7","v":0},null,0]
[]
[null,null,null,null,null,null,null,null,null,null,null,null,null,null,null,{"$f":"'Parâmetros Gerais'!$B$37","v":"grão caupi"},null,{"$f":"'Produto 24'!D$7","v":0},{"$f":"'Produto 24'!E$7","v":0},{"$f":"'Produto 24'!F$7","v":0},{"$f":"'Produto 24'!G$7","v":0},{"$f":"'Produto 24'!H$7","v":0},{"$f":"'Produto 24'!I$7","v":0},{"$f":"'Produto 24'!J$7","v":0},{"$f":"'Produto 24'!K$7","v":0},{"$f":"'Produto 24'!L$7","v":0},{"$f":"'Produto 24'!M$7","v":0},{"$f":"'Produto 24'!N$7","v":0},{"$f":"'Produto 24'!O$7","v":0},{"$f":"'Produto 24'!P$7","v":0},{"$f":"'Produto 24'!Q$7","v":0},{"$f":"'Produto 24'!R$7","v":0},{"$f":"'Produto 24'!S$7","v":0},{"$f":"'Produto 24'!T$7","v":0},{"$f":"'Produto 24'!U$7","v":0},{"$f":"'Produto 24'!V$7","v":0},{"$f":"'Produto 24'!W$7","v":0},{"$f":"'Produto 24'!X$7","v":0},{"$f":"'Produto 24'!Y$7","v":0},{"$f":"'Produto 24'!Z$7","v":0},{"$f":"'Produto 24'!AA$7","v":0},{"$f":"'Produto 24'!AB$7","v":0},{"$f":"'Produto 24'!AC$7","v":0},{"$f":"'Produto 24'!AD$7","v":0},{"$f":"'Produto 24'!AE$7","v":0},{"$f":"'Produto 24'!AF$7","v":0},{"$f":"'Produto 24'!AG$7","v":0},null,{"$f":"SUM(Q65:AU65)","v":0}]
[]
[]
[null,null,null,null,null,null,null,null,null,null,null,null,null,null,null,"Custos de Insumos",{"$f":"'Resultado Fin (2)'!D8","v":0},{"$f":"'Resultado Fin (2)'!E8","v":0},{"$f":"'Resultado Fin (2)'!F8","v":0},{"$f":"'Resultado Fin (2)'!G8","v":0},{"$f":"'Resultado Fin (2)'!H8","v":0},{"$f":"'Resultado Fin (2)'!I8","v":0},{"$f":"'Resultado Fin (2)'!J8","v":0},{"$f":"'Resultado Fin (2)'!K8","v":0},{"$f":"'Resultado Fin (2)'!L8","v":0},{"$f":"'Resultado Fin (2)'!M8","v":0},{"$f":"'Resultado Fin (2)'!N8","v":0},{"$f":"'Resultado Fin (2)'!O8","v":0},{"$f":"'Resultado Fin (2)'!P8","v":0},{"$f":"'Resultado Fin (2)'!Q8","v":0},{"$f":"'Resultado Fin (2)'!R8","v":0},{"$f":"'Resultado Fin (2)'!S8","v":0},{"$f":"'Resultado Fin (2)'!T8","v":0},{"$f":"'Resultado Fin (2)'!U8","v":0},{"$f":"'Resultado Fin (2)'!V8","v":0},{"$f":"'Resultado Fin (2)'!W8","v":0},{"$f":"'Resultado Fin (2)'!X8","v":0},{"$f":"'Resultado Fin (2)'!Y8","v":0},{"$f":"'Resultado Fin (2)'!Z8","v":0},{"$f":"'Resultado Fin (2)'!AA8","v":0},{"$f":"'Resultado Fin (2)'!AB8","v":0},{"$f":"'Resultado Fin (2)'!AC8","v":0},{"$f":"'Resultado Fin (2)'!AD8","v":0},{"$f":"'Resultado Fin (2)'!AE8","v":0},{"$f":"'Resultado Fin (2)'!AF8","v":0},{"$f":"'Resultado Fin (2)'!AG8","v":0},{"$f":"'Resultado Fin (2)'!AH8","v":0}]
[null,null,null,null,null,null,null,null,null,null,null,null,null,null,null,"Atividades Gerais",{"$f":"'Preparo e Gerais'!D$20","v":0},null,null,null,null,null,null,null,null,null,null,null,null,null,null,null,null,null,null,null,null,null,null,null,null,null,null,null,null,null,null,null,{"$f":"SUM(Q69:AU69)","v":0}]
[null,null,null,null,null,null,null,null,null,null,null,null,null,null,null,{"$f":"Produção!$A$6","v":"latex"},null,{"$f":"latex!D$24","v":0},{"$f":"latex!E$24","v":0},{"$f":"latex!F$24","v":0},{"$f":"latex!G$24","v":0},{"$f":"latex!H$24","v":0},{"$f":"latex!I$24","v":0},{"$f":"latex!J$24","v":0},{"$f":"latex!K$24","v":0},{"$f":"latex!L$24","v":0},{"$f":"latex!M$24","v":0},{"$f":"latex!N$24","v":0},{"$f":"latex!O$24","v":0},{"$f":"latex!P$24","v":0},{"$f":"latex!Q$24","v":0},{"$f":"latex!R$24","v":0},{"$f":"latex!S$24","v":0},{"$f":"latex!T$24","v":0},{"$f":"latex!U$24","v":0},{"$f":"latex!V$24","v":0},{"$f":"latex!W$24","v":0},{"$f":"latex!X$24","v":0},{"$f":"latex!Y$24","v":0},{"$f":"latex!Z$24","v":0},{"$f":"latex!AA$24","v":0},{"$f":"latex!AB$24","v":0},{"$f":"latex!AC$24","v":0},{"$f":"latex!AD$24","v":0},{"$f":"latex!AE$24","v":0},{"$f":"latex!AF$24","v":0},{"$f":"latex!AG$24","v":0},null,0]
[null,null,null,null,null,null,null,null,null,null,null,null,null,null,null,{"$f":"Produção!$A$7","v":"fruto genipapo"},null,{"$f":"'fruto genipapo'!D$24","v":0},{"$f":"'fruto genipapo'!E$24","v":0},{"$f":"'fruto genipapo'!F$24","v":0},{"$f":"'fruto genipapo'!G$24","v":0},{"$f":"'fruto genipapo'!H$24","v":0},{"$f":"'fruto genipapo'!I$24","v":0},{"$f":"'fruto genipapo'!J$24","v":0},{"$f":"'fruto genipapo'!K$24","v":0},{"$f":"'fruto genipapo'!L$24","v":0},{"$f":"'fruto genipapo'!M$24","v":0},{"$f":"'fruto genipapo'!N$24","v":0},{"$f":"'fruto genipapo'!O$24","v":0},{"$f":"'fruto genipapo'!P$24","v":0},{"$f":"'fruto genipapo'!Q$24","v":0},{"$f":"'fruto genipapo'!R$24","v":0},{"$f":"'fruto genipapo'!S$24","v":0},{"$f":"'fruto genipapo'!T$24","v":0},{"$f":"'fruto genipapo'!U$24","v":0},{"$f":"'fruto genipapo'!V$24","v":0},{"$f":"'fruto genipapo'!W$24","v":0},{"$f":"'fruto genipapo'!X$24","v":0},{"$f":"'fruto genipapo'!Y$24","v":0},{"$f":"'fruto genipapo'!Z$24","v":0},{"$f":"'fruto genipapo'!AA$24","v":0},{"$f":"'fruto genipapo'!AB$24","v":0},{"$f":"'fruto genipapo'!AC$24","v":0},{"$f":"'fruto genipapo'!AD$24","v":0},{"$f":"'fruto genipapo'!AE$24","v":0},{"$f":"'fruto genipapo'!AF$24","v":0},{"$f":"'fruto genipapo'!AG$24","v":0},null,0]
[null,null,null,null,null,null,null,null,null,null,null,null,null,null,null,{"$f":"Produção!$A$8","v":"fruto araçauna"},null,{"$f":"'fruto araçauna'!D$24","v":0},{"$f":"'fruto araçauna'!E$24","v":0},{"$f":"'fruto araçauna'!F$24","v":0},{"$f":"'fruto araçauna'!G$24","v":0},{"$f":"'fruto araçauna'!H$24","v":0},{"$f":"'fruto araçauna'!I$24","v":0},{"$f":"'fruto araçauna'!J$24","v":0},{"$f":"'fruto araçauna'!K$24","v":0},{"$f":"'fruto araçauna'!L$24","v":0},{"$f":"'fruto araçauna'!M$24","v":0},{"$f":"'fruto araçauna'!N$24","v":0},{"$f":"'fruto araçauna'!O$24","v":0},{"$f":"'fruto araçauna'!P$24","v":0},{"$f":"'fruto araçauna'!Q$24","v":0},{"$f":"'fruto araçauna'!R$24","v":0},{"$f":"'fruto araçauna'!S$24","v":0},{"$f":"'fruto araçauna'!T$24","v":0},{"$f":"'fruto araçauna'!U$24","v":0},{"$f":"'fruto araçauna'!V$24","v":0},{"$f":"'fruto araçauna'!W$24","v":0},{"$f":"'fruto araçauna'!X$24","v":0},{"$f":"'fruto araçauna'!Y$24","v":0},{"$f":"'fruto araçauna'!Z$24","v":0},{"$f":"'fruto araçauna'!AA$24","v":0},{"$f":"'fruto araçauna'!AB$24","v":0},{"$f":"'fruto araçauna'!AC$24","v":0},{"$f":"'fruto araçauna'!AD$24","v":0},{"$f":"'fruto araçauna'!AE$24","v":0},{"$f":"'fruto araçauna'!AF$24","v":0},{"$f":"'fruto araçauna'!AG$24","v":0},null,0]
[null,null,null,null,null,null,null,null,null,null,null,null,null,null,null,{"$f":"Produção!$A$9","v":"fruto pitanga"},null,{"$f":"'fruto pitanga'!D$24","v":0},{"$f":"'fruto pitanga'!E$24","v":0},{"$f":"'fruto pitanga'!F$24","v":0},{"$f":"'fruto pitanga'!G$24","v":0},{"$f":"'fruto pitanga'!H$24","v":0},{"$f":"'fruto pitanga'!I$24","v":0},{"$f":"'fruto pitanga'!J$24","v":0},{"$f":"'fruto pitanga'!K$24","v":0},{"$f":"'fruto pitanga'!L$24","v":0},{"$f":"'fruto pitanga'!M$24","v":0},{"$f":"'fruto pitanga'!N$24","v":0},{"$f":"'fruto pitanga'!O$24","v":0},{"$f":"'fruto pitanga'!P$24","v":0},{"$f":"'fruto pitanga'!Q$24","v":0},{"$f":"'fruto pitanga'!R$24","v":0},{"$f":"'fruto pitanga'!S$24","v":0},{"$f":"'fruto pitanga'!T$24","v":0},{"$f":"'fruto pitanga'!U$24","v":0},{"$f":"'fruto pitanga'!V$24","v":0},{"$f":"'fruto pitanga'!W$24","v":0},{"$f":"'fruto pitanga'!X$24","v":0},{"$f":"'fruto pitanga'!Y$24","v":0},{"$f":"'fruto pitanga'!Z$24","v":0},{"$f":"'fruto pitanga'!AA$24","v":0},{"$f":"'fruto pitanga'!AB$24","v":0},{"$f":"'fruto pitanga'!AC$24","v":0},{"$f":"'fruto pitanga'!AD$24","v":0},{"$f":"'fruto pitanga'!AE$24","v":0},{"$f":"'fruto pitanga'!AF$24","v":0},{"$f":"'fruto pitanga'!AG$24","v":0},null,0]
[null,null,null,null,null,null,null,null,null,null,null,null,null,null,null,{"$f":"Produção!$A$10","v":"castanha sapucaia"},null,{"$f":"Castanha!D$24","v":0},{"$f":"Castanha!E$24","v":0},{"$f":"Castanha!F$24","v":0},{"$f":"Castanha!G$24","v":0},{"$f":"Castanha!H$24","v":0},{"$f":"Castanha!I$24","v":0},{"$f":"Castanha!J$24","v":0},{"$f":"Castanha!K$24","v":0},{"$f":"Castanha!L$24","v":0},{"$f":"Castanha!M$24","v":0},{"$f":"Castanha!N$24","v":0},{"$f":"Castanha!O$24","v":0},{"$f":"Castanha!P$24","v":0},{"$f":"Castanha!Q$24","v":0},{"$f":"Castanha!R$24","v":0},{"$f":"Castanha!S$24","v":0},{"$f":"Castanha!T$24","v":0},{"$f":"Castanha!U$24","v":0},{"$f":"Castanha!V$24","v":0},{"$f":"Castanha!W$24","v":0},{"$f":"Castanha!X$24","v":0},{"$f":"Castanha!Y$24","v":0},{"$f":"Castanha!Z$24","v":0},{"$f":"Castanha!AA$24","v":0},{"$f":"Castanha!AB$24","v":0},{"$f":"Castanha!AC$24","v":0},{"$f":"Castanha!AD$24","v":0},{"$f":"Castanha!AE$24","v":0},{"$f":"Castanha!AF$24","v":0},{"$f":"Castanha!AG$24","v":0},null,0]
[]
[null,null,null,null,null,null,null,null,null,null,null,null,null,null,null,{"$f":"Produção!$A$11","v":"fruto cajá"},null,{"$f":"'fruto cajá'!D$24","v":0},{"$f":"'fruto cajá'!E$24","v":0},{"$f":"'fruto cajá'!F$24","v":0},{"$f":"'fruto cajá'!G$24","v":0},{"$f":"'fruto cajá'!H$24","v":0},{"$f":"'fruto cajá'!I$24","v":0},{"$f":"'fruto cajá'!J$24","v":0},{"$f":"'fruto cajá'!K$24","v":0},{"$f":"'fruto cajá'!L$24","v":0},{"$f":"'fruto cajá'!M$24","v":0},{"$f":"'fruto cajá'!N$24","v":0},{"$f":"'fruto cajá'!O$24","v":0},{"$f":"'fruto cajá'!P$24","v":0},{"$f":"'fruto cajá'!Q$24","v":0},{"$f":"'fruto cajá'!R$24","v":0},{"$f":"'fruto cajá'!S$24","v":0},{"$f":"'fruto cajá'!T$24","v":0},{"$f":"'fruto cajá'!U$24","v":0},{"$f":"'fruto cajá'!V$24","v":0},{"$f":"'fruto cajá'!W$24","v":0},{"$f":"'fruto cajá'!X$24","v":0},{"$f":"'fruto cajá'!Y$24","v":0},{"$f":"'fruto cajá'!Z$24","v":0},{"$f":"'fruto cajá'!AA$24","v":0},{"$f":"'fruto cajá'!AB$24","v":0},{"$f":"'fruto cajá'!AC$24","v":0},{"$f":"'fruto cajá'!AD$24","v":0},{"$f":"'fruto cajá'!AE$24","v":0},{"$f":"'fruto cajá'!AF$24","v":0},{"$f":"'fruto cajá'!AG$24","v":0},null,{"$f":"SUM(Q76:AU76)","v":0}]
[null,null,null,null,null,null,null,null,null,null,null,null,null,null,null,{"$f":"Produção!$A$12","v":"semente urucum"},null,{"$f":"'semente urucum'!D$24","v":0},{"$f":"'semente urucum'!E$24","v":0},{"$f":"'semente urucum'!F$24","v":0},{"$f":"'semente urucum'!G$24","v":0},{"$f":"'semente urucum'!H$24","v":0},{"$f":"'semente urucum'!I$24","v":0},{"$f":"'semente urucum'!J$24","v":0},{"$f":"'semente urucum'!K$24","v":0},{"$f":"'semente urucum'!L$24","v":0},{"$f":"'semente urucum'!M$24","v":0},{"$f":"'semente urucum'!N$24","v":0},{"$f":"'semente urucum'!O$24","v":0},{"$f":"'semente urucum'!P$24","v":0},{"$f":"'semente urucum'!Q$24","v":0},{"$f":"'semente urucum'!R$24","v":0},{"$f":"'semente urucum'!S$24","v":0},{"$f":"'semente urucum'!T$24","v":0},{"$f":"'semente urucum'!U$24","v":0},{"$f":"'semente urucum'!V$24","v":0},{"$f":"'semente urucum'!W$24","v":0},{"$f":"'semente urucum'!X$24","v":0},{"$f":"'semente urucum'!Y$24","v":0},{"$f":"'semente urucum'!Z$24","v":0},{"$f":"'semente urucum'!AA$24","v":0},{"$f":"'semente urucum'!AB$24","v":0},{"$f":"'semente urucum'!AC$24","v":0},{"$f":"'semente urucum'!AD$24","v":0},{"$f":"'semente urucum'!AE$24","v":0},{"$f":"'semente urucum'!AF$24","v":0},{"$f":"'semente urucum'!AG$24","v":0},null,{"$f":"SUM(Q77:AU77)","v":0}]
[null,null,null,null,null,null,null,null,null,null,null,null,null,null,null,{"$f":"Produção!$A$13","v":"semente aroeira"},null,{"$f":"'semente aroeira'!D$24","v":0},{"$f":"'semente aroeira'!E$24","v":0},{"$f":"'semente aroeira'!F$24","v":0},{"$f":"'semente aroeira'!G$24","v":0},{"$f":"'semente aroeira'!H$24","v":0},{"$f":"'semente aroeira'!I$24","v":0},{"$f":"'semente aroeira'!J$24","v":0},{"$f":"'semente aroeira'!K$24","v":0},{"$f":"'semente aroeira'!L$24","v":0},{"$f":"'semente aroeira'!M$24","v":0},{"$f":"'semente aroeira'!N$24","v":0},{"$f":"'semente aroeira'!O$24","v":0},{"$f":"'semente aroeira'!P$24","v":0},{"$f":"'semente aroeira'!Q$24","v":0},{"$f":"'semente aroeira'!R$24","v":0},{"$f":"'semente aroeira'!S$24","v":0},{"$f":"'semente aroeira'!T$24","v":0},{"$f":"'semente aroeira'!U$24","v":0},{"$f":"'semente aroeira'!V$24","v":0},{"$f":"'semente aroeira'!W$24","v":0},{"$f":"'semente aroeira'!X$24","v":0},{"$f":"'semente aroeira'!Y$24","v":0},{"$f":"'semente aroeira'!Z$24","v":0},{"$f":"'semente aroeira'!AA$24","v":0},{"$f":"'semente aroeira'!AB$24","v":0},{"$f":"'semente aroeira'!AC$24","v":0},{"$f":"'semente aroeira'!AD$24","v":0},{"$f":"'semente aroeira'!AE$24","v":0},{"$f":"'semente aroeira'!AF$24","v":0},{"$f":"'semente aroeira'!AG$24","v":0},null,{"$f":"SUM(Q78:AU78)","v":0}]
[null,null,null,null,null,null,null,null,null,null,null,null,null,null,null,{"$f":"Produção!$A$14","v":"raiz mandioca"},null,{"$f":"'raiz mandioca'!D$24","v":0},{"$f":"'raiz mandioca'!E$24","v":0},{"$f":"'raiz mandioca'!F$24","v":0},{"$f":"'raiz mandioca'!G$24","v":0},{"$f":"'raiz mandioca'!H$24","v":0},{"$f":"'raiz mandioca'!I$24","v":0},{"$f":"'raiz mandioca'!J$24","v":0},{"$f":"'raiz mandioca'!K$24","v":0},{"$f":"'raiz mandioca'!L$24","v":0},{"$f":"'raiz mandioca'!M$24","v":0},{"$f":"'raiz mandioca'!N$24","v":0},{"$f":"'raiz mandioca'!O$24","v":0},{"$f":"'raiz mandioca'!P$24","v":0},{"$f":"'raiz mandioca'!Q$24","v":0},{"$f":"'raiz mandioca'!R$24","v":0},{"$f":"'raiz mandioca'!S$24","v":0},{"$f":"'raiz mandioca'!T$24","v":0},{"$f":"'raiz mandioca'!U$24","v":0},{"$f":"'raiz mandioca'!V$24","v":0},{"$f":"'raiz mandioca'!W$24","v":0},{"$f":"'raiz mandioca'!X$24","v":0},{"$f":"'raiz mandioca'!Y$24","v":0},{"$f":"'raiz mandioca'!Z$24","v":0},{"$f":"'raiz mandioca'!AA$24","v":0},{"$f":"'raiz mandioca'!AB$24","v":0},{"$f":"'raiz mandioca'!AC$24","v":0},{"$f":"'raiz mandioca'!AD$24","v":0},{"$f":"'raiz mandioca'!AE$24","v":0},{"$f":"'raiz mandioca'!AF$24","v":0},{"$f":"'raiz mandioca'!AG$24","v":0},null,{"$f":"SUM(Q79:AU79)","v":0}]
[]
[null,null,null,null,null,null,null,null,null,null,null,null,null,null,null,{"$f":"Produção!$A$15","v":"fruto abacaxi"},null,{"$f":"abacaxi!D$24","v":0},{"$f":"abacaxi!E$24","v":0},{"$f":"abacaxi!F$24","v":0},{"$f":"abacaxi!G$24","v":0},{"$f":"abacaxi!H$24","v":0},{"$f":"abacaxi!I$24","v":0},{"$f":"abacaxi!J$24","v":0},{"$f":"abacaxi!K$24","v":0},{"$f":"abacaxi!L$24","v":0},{"$f":"abacaxi!M$24","v":0},{"$f":"abacaxi!N$24","v":0},{"$f":"abacaxi!O$24","v":0},{"$f":"abacaxi!P$24","v":0},{"$f":"abacaxi!Q$24","v":0},{"$f":"abacaxi!R$24","v":0},{"$f":"abacaxi!S$24","v":0},{"$f":"abacaxi!T$24","v":0},{"$f":"abacaxi!U$24","v":0},{"$f":"abacaxi!V$24","v":0},{"$f":"abacaxi!W$24","v":0},{"$f":"abacaxi!X$24","v":0},{"$f":"abacaxi!Y$24","v":0},{"$f":"abacaxi!Z$24","v":0},{"$f":"abacaxi!AA$24","v":0},{"$f":"abacaxi!AB$24","v":0},{"$f":"abacaxi!AC$24","v":0},{"$f":"abacaxi!AD$24","v":0},{"$f":"abacaxi!AE$24","v":0},{"$f":"abacaxi!AF$24","v":0},{"$f":"abacaxi!AG$24","v":0},null,{"$f":"SUM(Q81:AU81)","v":0}]
[null,null,null,null,null,null,null,null,null,null,null,null,null,null,null,{"$f":"Produção!$A$16","v":"espigas milho"},null,{"$f":"espigas!D$24","v":0},{"$f":"espigas!E$24","v":0},{"$f":"espigas!F$24","v":0},{"$f":"espigas!G$24","v":0},{"$f":"espigas!H$24","v":0},{"$f":"espigas!I$24","v":0},{"$f":"espigas!J$24","v":0},{"$f":"espigas!K$24","v":0},{"$f":"espigas!L$24","v":0},{"$f":"espigas!M$24","v":0},{"$f":"espigas!N$24","v":0},{"$f":"espigas!O$24","v":0},{"$f":"espigas!P$24","v":0},{"$f":"espigas!Q$24","v":0},{"$f":"espigas!R$24","v":0},{"$f":"espigas!S$24","v":0},{"$f":"espigas!T$24","v":0},{"$f":"espigas!U$24","v":0},{"$f":"espigas!V$24","v":0},{"$f":"espigas!W$24","v":0},{"$f":"espigas!X$24","v":0},{"$f":"espigas!Y$24","v":0},{"$f":"espigas!Z$24","v":0},{"$f":"espigas!AA$24","v":0},{"$f":"espigas!AB$24","v":0},{"$f":"espigas!AC$24","v":0},{"$f":"espigas!AD$24","v":0},{"$f":"espigas!AE$24","v":0},{"$f":"espigas!AF$24","v":0},{"$f":"espigas!AG$24","v":0},null,0]
[null,null,null,null,null,null,null,null,null,null,null,null,null,null,null,{"$f":"Produção!$A$17","v":"estaca sansão do campo"},null,{"$f":"'semente caupi'!D$24","v":0},{"$f":"'semente caupi'!E$24","v":0},{"$f":"'semente caupi'!F$24","v":0},{"$f":"'semente caupi'!G$24","v":0},{"$f":"'semente caupi'!H$24","v":0},{"$f":"'semente caupi'!I$24","v":0},{"$f":"'semente caupi'!J$24","v":0},{"$f":"'semente caupi'!K$24","v":0},{"$f":"'semente caupi'!L$24","v":0},{"$f":"'semente caupi'!M$24","v":0},{"$f":"'semente caupi'!N$24","v":0},{"$f":"'semente caupi'!O$24","v":0},{"$f":"'semente caupi'!P$24","v":0},{"$f":"'semente caupi'!Q$24","v":0},{"$f":"'semente caupi'!R$24","v":0},{"$f":"'semente caupi'!S$24","v":0},{"$f":"'semente caupi'!T$24","v":0},{"$f":"'semente caupi'!U$24","v":0},{"$f":"'semente caupi'!V$24","v":0},{"$f":"'semente caupi'!W$24","v":0},{"$f":"'semente caupi'!X$24","v":0},{"$f":"'semente caupi'!Y$24","v":0},{"$f":"'semente caupi'!Z$24","v":0},{"$f":"'semente caupi'!AA$24","v":0},{"$f":"'semente caupi'!AB$24","v":0},{"$f":"'semente caupi'!AC$24","v":0},{"$f":"'semente caupi'!AD$24","v":0},{"$f":"'semente caupi'!AE$24","v":0},{"$f":"'semente caupi'!AF$24","v":0},{"$f":"'semente caupi'!AG$24","v":0},null,0]
[null,null,null,null,null,null,null,null,null,null,null,null,null,null,null,{"$f":"Produção!$A$18","v":"madeira madeira nova"},null,{"$f":"biomassa!D$24","v":0},{"$f":"biomassa!E$24","v":0},{"$f":"biomassa!F$24","v":0},{"$f":"biomassa!G$24","v":0},{"$f":"biomassa!H$24","v":0},{"$f":"biomassa!I$24","v":0},{"$f":"biomassa!J$24","v":0},{"$f":"biomassa!K$24","v":0},{"$f":"biomassa!L$24","v":0},{"$f":"biomassa!M$24","v":0},{"$f":"biomassa!N$24","v":0},{"$f":"biomassa!O$24","v":0},{"$f":"biomassa!P$24","v":0},{"$f":"biomassa!Q$24","v":0},{"$f":"biomassa!R$24","v":0},{"$f":"biomassa!S$24","v":0},{"$f":"biomassa!T$24","v":0},{"$f":"biomassa!U$24","v":0},{"$f":"biomassa!V$24","v":0},{"$f":"biomassa!W$24","v":0},{"$f":"biomassa!X$24","v":0},{"$f":"biomassa!Y$24","v":0},{"$f":"biomassa!Z$24","v":0},{"$f":"biomassa!AA$24","v":0},{"$f":"biomassa!AB$24","v":0},{"$f":"biomassa!AC$24","v":0},{"$f":"biomassa!AD$24","v":0},{"$f":"biomassa!AE$24","v":0},{"$f":"biomassa!AF$24","v":0},{"$f":"biomassa!AG$24","v":0},null,0]
[null,null,null,null,null,null,null,null,null,null,null,null,null,null,null,{"$f":"Produção!$A$19","v":"lenha fedegoso"},null,{"$f":"madeira!D$24","v":0},{"$f":"madeira!E$24","v":0},{"$f":"madeira!F$24","v":0},{"$f":"madeira!G$24","v":0},{"$f":"madeira!H$24","v":0},{"$f":"madeira!I$24","v":0},{"$f":"madeira!J$24","v":0},{"$f":"madeira!K$24","v":0},{"$f":"madeira!L$24","v":0},{"$f":"madeira!M$24","v":0},{"$f":"madeira!N$24","v":0},{"$f":"madeira!O$24","v":0},{"$f":"madeira!P$24","v":0},{"$f":"madeira!Q$24","v":0},{"$f":"madeira!R$24","v":0},{"$f":"madeira!S$24","v":0},{"$f":"madeira!T$24","v":0},{"$f":"madeira!U$24","v":0},{"$f":"madeira!V$24","v":0},{"$f":"madeira!W$24","v":0},{"$f":"madeira!X$24","v":0},{"$f":"madeira!Y$24","v":0},{"$f":"madeira!Z$24","v":0},{"$f":"madeira!AA$24","v":0},{"$f":"madeira!AB$24","v":0},{"$f":"madeira!AC$24","v":0},{"$f":"madeira!AD$24","v":0},{"$f":"madeira!AE$24","v":0},{"$f":"madeira!AF$24","v":0},{"$f":"madeira!AG$24","v":0},null,0]
[null,null,null,null,null,null,null,null,null,null,null,null,null,null,null,{"$f":"Produção!$A$20","v":"estaca pau d'alho"},null,{"$f":"'Produto 15'!D$24","v":0},{"$f":"'Produto 15'!E$24","v":0},{"$f":"'Produto 15'!F$24","v":0},{"$f":"'Produto 15'!G$24","v":0},{"$f":"'Produto 15'!H$24","v":0},{"$f":"'Produto 15'!I$24","v":0},{"$f":"'Produto 15'!J$24","v":0},{"$f":"'Produto 15'!K$24","v":0},{"$f":"'Produto 15'!L$24","v":0},{"$f":"'Produto 15'!M$24","v":0},{"$f":"'Produto 15'!N$24","v":0},{"$f":"'Produto 15'!O$24","v":0},{"$f":"'Produto 15'!P$24","v":0},{"$f":"'Produto 15'!Q$24","v":0},{"$f":"'Produto 15'!R$24","v":0},{"$f":"'Produto 15'!S$24","v":0},{"$f":"'Produto 15'!T$24","v":0},{"$f":"'Produto 15'!U$24","v":0},{"$f":"'Produto 15'!V$24","v":0},{"$f":"'Produto 15'!W$24","v":0},{"$f":"'Produto 15'!X$24","v":0},{"$f":"'Produto 15'!Y$24","v":0},{"$f":"'Produto 15'!Z$24","v":0},{"$f":"'Produto 15'!AA$24","v":0},{"$f":"'Produto 15'!AB$24","v":0},{"$f":"'Produto 15'!AC$24","v":0},{"$f":"'Produto 15'!AD$24","v":0},{"$f":"'Produto 15'!AE$24","v":0},{"$f":"'Produto 15'!AF$24","v":0},{"$f":"'Produto 15'!AG$24","v":0},null,0]
[null,null,null,null,null,null,null,null,null,null,null,null,null,null,null,{"$f":"Produção!$A$21","v":"caixotaria boleira"},null,{"$f":"'Produto 16'!D$24","v":0},{"$f":"'Produto 16'!E$24","v":0},{"$f":"'Produto 16'!F$24","v":0},{"$f":"'Produto 16'!G$24","v":0},{"$f":"'Produto 16'!H$24","v":0},{"$f":"'Produto 16'!I$24","v":0},{"$f":"'Produto 16'!J$24","v":0},{"$f":"'Produto 16'!K$24","v":0},{"$f":"'Produto 16'!L$24","v":0},{"$f":"'Produto 16'!M$24","v":0},{"$f":"'Produto 16'!N$24","v":0},{"$f":"'Produto 16'!O$24","v":0},{"$f":"'Produto 16'!P$24","v":0},{"$f":"'Produto 16'!Q$24","v":0},{"$f":"'Produto 16'!R$24","v":0},{"$f":"'Produto 16'!S$24","v":0},{"$f":"'Produto 16'!T$24","v":0},{"$f":"'Produto 16'!U$24","v":0},{"$f":"'Produto 16'!V$24","v":0},{"$f":"'Produto 16'!W$24","v":0},{"$f":"'Produto 16'!X$24","v":0},{"$f":"'Produto 16'!Y$24","v":0},{"$f":"'Produto 16'!Z$24","v":0},{"$f":"'Produto 16'!AA$24","v":0},{"$f":"'Produto 16'!AB$24","v":0},{"$f":"'Produto 16'!AC$24","v":0},{"$f":"'Produto 16'!AD$24","v":0},{"$f":"'Produto 16'!AE$24","v":0},{"$f":"'Produto 16'!AF$24","v":0},{"$f":"'Produto 16'!AG$24","v":0},null,0]
[]
[null,null,null,null,null,null,null,null,null,null,null,null,null,null,null,{"$f":"Produção!$A$22","v":"madeira angico roxo"},null,{"$f":"'Produto 17'!D$24","v":0},{"$f":"'Produto 17'!E$24","v":0},{"$f":"'Produto 17'!F$24","v":0},{"$f":"'Produto 17'!G$24","v":0},{"$f":"'Produto 17'!H$24","v":0},{"$f":"'Produto 17'!I$24","v":0},{"$f":"'Produto 17'!J$24","v":0},{"$f":"'Produto 17'!K$24","v":0},{"$f":"'Produto 17'!L$24","v":0},{"$f":"'Produto 17'!M$24","v":0},{"$f":"'Produto 17'!N$24","v":0},{"$f":"'Produto 17'!O$24","v":0},{"$f":"'Produto 17'!P$24","v":0},{"$f":"'Produto 17'!Q$24","v":0},{"$f":"'Produto 17'!R$24","v":0},{"$f":"'Produto 17'!S$24","v":0},{"$f":"'Produto 17'!T$24","v":0},{"$f":"'Produto 17'!U$24","v":0},{"$f":"'Produto 17'!V$24","v":0},{"$f":"'Produto 17'!W$24","v":0},{"$f":"'Produto 17'!X$24","v":0},{"$f":"'Produto 17'!Y$24","v":0},{"$f":"'Produto 17'!Z$24","v":0},{"$f":"'Produto 17'!AA$24","v":0},{"$f":"'Produto 17'!AB$24","v":0},{"$f":"'Produto 17'!AC$24","v":0},{"$f":"'Produto 17'!AD$24","v":0},{"$f":"'Produto 17'!AE$24","v":0},{"$f":"'Produto 17'!AF$24","v":0},{"$f":"'Produto 17'!AG$24","v":0},null,{"$f":"SUM(Q89:AU89)","v":0}]
[null,null,null,null,null,null,null,null,null,null,null,null,null,null,null,{"$f":"Produção!$A$23","v":"madeira ipê roxo"},null,{"$f":"'Produto 18'!D$24","v":0},{"$f":"'Produto 18'!E$24","v":0},{"$f":"'Produto 18'!F$24","v":0},{"$f":"'Produto 18'!G$24","v":0},{"$f":"'Produto 18'!H$24","v":0},{"$f":"'Produto 18'!I$24","v":0},{"$f":"'Produto 18'!J$24","v":0},{"$f":"'Produto 18'!K$24","v":0},{"$f":"'Produto 18'!L$24","v":0},{"$f":"'Produto 18'!M$24","v":0},{"$f":"'Produto 18'!N$24","v":0},{"$f":"'Produto 18'!O$24","v":0},{"$f":"'Produto 18'!P$24","v":0},{"$f":"'Produto 18'!Q$24","v":0},{"$f":"'Produto 18'!R$24","v":0},{"$f":"'Produto 18'!S$24","v":0},{"$f":"'Produto 18'!T$24","v":0},{"$f":"'Produto 18'!U$24","v":0},{"$f":"'Produto 18'!V$24","v":0},{"$f":"'Produto 18'!W$24","v":0},{"$f":"'Produto 18'!X$24","v":0},{"$f":"'Produto 18'!Y$24","v":0},{"$f":"'Produto 18'!Z$24","v":0},{"$f":"'Produto 18'!AA$24","v":0},{"$f":"'Produto 18'!AB$24","v":0},{"$f":"'Produto 18'!AC$24","v":0},{"$f":"'Produto 18'!AD$24","v":0},{"$f":"'Produto 18'!AE$24","v":0},{"$f":"'Produto 18'!AF$24","v":0},{"$f":"'Produto 18'!AG$24","v":0},null,0]
[null,null,null,null,null,null,null,null,null,null,null,null,null,null,null,{"$f":"Produção!$A$24","v":"madeira ipê amarelo"},null,{"$f":"'Produto 19'!D$24","v":0},{"$f":"'Produto 19'!E$24","v":0},{"$f":"'Produto 19'!F$24","v":0},{"$f":"'Produto 19'!G$24","v":0},{"$f":"'Produto 19'!H$24","v":0},{"$f":"'Produto 19'!I$24","v":0},{"$f":"'Produto 19'!J$24","v":0},{"$f":"'Produto 19'!K$24","v":0},{"$f":"'Produto 19'!L$24","v":0},{"$f":"'Produto 19'!M$24","v":0},{"$f":"'Produto 19'!N$24","v":0},{"$f":"'Produto 19'!O$24","v":0},{"$f":"'Produto 19'!P$24","v":0},{"$f":"'Produto 19'!Q$24","v":0},{"$f":"'Produto 19'!R$24","v":0},{"$f":"'Produto 19'!S$24","v":0},{"$f":"'Produto 19'!T$24","v":0},{"$f":"'Produto 19'!U$24","v":0},{"$f":"'Produto 19'!V$24","v":0},{"$f":"'Produto 19'!W$24","v":0},{"$f":"'Produto 19'!X$24","v":0},{"$f":"'Produto 19'!Y$24","v":0},{"$f":"'Produto 19'!Z$24","v":0},{"$f":"'Produto 19'!AA$24","v":0},{"$f":"'Produto 19'!AB$24","v":0},{"$f":"'Produto 19'!AC$24","v":0},{"$f":"'Produto 19'!AD$24","v":0},{"$f":"'Produto 19'!AE$24","v":0},{"$f":"'Produto 19'!AF$24","v":0},{"$f":"'Produto 19'!AG$24","v":0},null,0]
[null,null,null,null,null,null,null,null,null,null,null,null,null,null,null,{"$f":"Produção!$A$25","v":"madeira gonçalo alves"},null,{"$f":"'Produto 20'!D$24","v":0},{"$f":"'Produto 20'!E$24","v":0},{"$f":"'Produto 20'!F$24","v":0},{"$f":"'Produto 20'!G$24","v":0},{"$f":"'Produto 20'!H$24","v":0},{"$f":"'Produto 20'!I$24","v":0},{"$f":"'Produto 20'!J$24","v":0},{"$f":"'Produto 20'!K$24","v":0},{"$f":"'Produto 20'!L$24","v":0},{"$f":"'Produto 20'!M$24","v":0},{"$f":"'Produto 20'!N$24","v":0},{"$f":"'Produto 20'!O$24","v":0},{"$f":"'Produto 20'!P$24","v":0},{"$f":"'Produto 20'!Q$24","v":0},{"$f":"'Produto 20'!R$24","v":0},{"$f":"'Produto 20'!S$24","v":0},{"$f":"'Produto 20'!T$24","v":0},{"$f":"'Produto 20'!U$24","v":0},{"$f":"'Produto 20'!V$24","v":0},{"$f":"'Produto 20'!W$24","v":0},{"$f":"'Produto 20'!X$24","v":0},{"$f":"'Produto 20'!Y$24","v":0},{"$f":"'Produto 20'!Z$24","v":0},{"$f":"'Produto 20'!AA$24","v":0},{"$f":"'Produto 20'!AB$24","v":0},{"$f":"'Produto 20'!AC$24","v":0},{"$f":"'Produto 20'!AD$24","v":0},{"$f":"'Produto 20'!AE$24","v":0},{"$f":"'Produto 20'!AF$24","v":0},{"$f":"'Produto 20'!AG$24","v":0},null,0]
[null,null,null,null,null,null,null,null,null,null,null,null,null,null,null,{"$f":"Produção!$A$26","v":"madeira vinhatico"},null,{"$f":"'Produto 21'!D$24","v":0},{"$f":"'Produto 21'!E$24","v":0},{"$f":"'Produto 21'!F$24","v":0},{"$f":"'Produto 21'!G$24","v":0},{"$f":"'Produto 21'!H$24","v":0},{"$f":"'Produto 21'!I$24","v":0},{"$f":"'Produto 21'!J$24","v":0},{"$f":"'Produto 21'!K$24","v":0},{"$f":"'Produto 21'!L$24","v":0},{"$f":"'Produto 21'!M$24","v":0},{"$f":"'Produto 21'!N$24","v":0},{"$f":"'Produto 21'!O$24","v":0},{"$f":"'Produto 21'!P$24","v":0},{"$f":"'Produto 21'!Q$24","v":0},{"$f":"'Produto 21'!R$24","v":0},{"$f":"'Produto 21'!S$24","v":0},{"$f":"'Produto 21'!T$24","v":0},{"$f":"'Produto 21'!U$24","v":0},{"$f":"'Produto 21'!V$24","v":0},{"$f":"'Produto 21'!W$24","v":0},{"$f":"'Produto 21'!X$24","v":0},{"$f":"'Produto 21'!Y$24","v":0},{"$f":"'Produto 21'!Z$24","v":0},{"$f":"'Produto 21'!AA$24","v":0},{"$f":"'Produto 21'!AB$24","v":0},{"$f":"'Produto 21'!AC$24","v":0},{"$f":"'Produto 21'!AD$24","v":0},{"$f":"'Produto 21'!AE$24","v":0},{"$f":"'Produto 21'!AF$24","v":0},{"$f":"'Produto 21'!AG$24","v":0},null,0]
[null,null,null,null,null,null,null,null,null,null,null,null,null,null,null,{"$f":"Produção!$A$27","v":"madeira jequitiba"},null,{"$f":"'Produto 22'!D$24","v":0},{"$f":"'Produto 22'!E$24","v":0},{"$f":"'Produto 22'!F$24","v":0},{"$f":"'Produto 22'!G$24","v":0},{"$f":"'Produto 22'!H$24","v":0},{"$f":"'Produto 22'!I$24","v":0},{"$f":"'Produto 22'!J$24","v":0},{"$f":"'Produto 22'!K$24","v":0},{"$f":"'Produto 22'!L$24","v":0},{"$f":"'Produto 22'!M$24","v":0},{"$f":"'Produto 22'!N$24","v":0},{"$f":"'Produto 22'!O$24","v":0},{"$f":"'Produto 22'!P$24","v":0},{"$f":"'Produto 22'!Q$24","v":0},{"$f":"'Produto 22'!R$24","v":0},{"$f":"'Produto 22'!S$24","v":0},{"$f":"'Produto 22'!T$24","v":0},{"$f":"'Produto 22'!U$24","v":0},{"$f":"'Produto 22'!V$24","v":0},{"$f":"'Produto 22'!W$24","v":0},{"$f":"'Produto 22'!X$24","v":0},{"$f":"'Produto 22'!Y$24","v":0},{"$f":"'Produto 22'!Z$24","v":0},{"$f":"'Produto 22'!AA$24","v":0},{"$f":"'Produto 22'!AB$24","v":0},{"$f":"'Produto 22'!AC$24","v":0},{"$f":"'Produto 22'!AD$24","v":0},{"$f":"'Produto 22'!AE$24","v":0},{"$f":"'Produto 22'!AF$24","v":0},{"$f":"'Produto 22'!AG$24","v":0},null,0]
[null,null,null,null,null,null,null,null,null,null,null,null,null,null,null,{"$f":"Produção!$A$29","v":"grão caupi"},null,{"$f":"'Produto 23'!D$24","v":0},{"$f":"'Produto 23'!E$24","v":0},{"$f":"'Produto 23'!F$24","v":0},{"$f":"'Produto 23'!G$24","v":0},{"$f":"'Produto 23'!H$24","v":0},{"$f":"'Produto 23'!I$24","v":0},{"$f":"'Produto 23'!J$24","v":0},{"$f":"'Produto 23'!K$24","v":0},{"$f":"'Produto 23'!L$24","v":0},{"$f":"'Produto 23'!M$24","v":0},{"$f":"'Produto 23'!N$24","v":0},{"$f":"'Produto 23'!O$24","v":0},{"$f":"'Produto 23'!P$24","v":0},{"$f":"'Produto 23'!Q$24","v":0},{"$f":"'Produto 23'!R$24","v":0},{"$f":"'Produto 23'!S$24","v":0},{"$f":"'Produto 23'!T$24","v":0},{"$f":"'Produto 23'!U$24","v":0},{"$f":"'Produto 23'!V$24","v":0},{"$f":"'Produto 23'!W$24","v":0},{"$f":"'Produto 23'!X$24","v":0},{"$f":"'Produto 23'!Y$24","v":0},{"$f":"'Produto 23'!Z$24","v":0},{"$f":"'Produto 23'!AA$24","v":0},{"$f":"'Produto 23'!AB$24","v":0},{"$f":"'Produto 23'!AC$24","v":0},{"$f":"'Produto 23'!AD$24","v":0},{"$f":"'Produto 23'!AE$24","v":0},{"$f":"'Produto 23'!AF$24","v":0},{"$f":"'Produto 23'!AG$24","v":0},null,0]
[]
[null,null,null,null,null,null,null,null,null,null,null,null,null,null,null,{"$f":"'Parâmetros Gerais'!$B$37","v":"grão caupi"},null,{"$f":"'Produto 24'!D$24","v":0},{"$f":"'Produto 24'!E$24","v":0},{"$f":"'Produto 24'!F$24","v":0},{"$f":"'Produto 24'!G$24","v":0},{"$f":"'Produto 24'!H$24","v":0},{"$f":"'Produto 24'!I$24","v":0},{"$f":"'Produto 24'!J$24","v":0},{"$f":"'Produto 24'!K$24","v":0},{"$f":"'Produto 24'!L$24","v":0},{"$f":"'Produto 24'!M$24","v":0},{"$f":"'Produto 24'!N$24","v":0},{"$f":"'Produto 24'!O$24","v":0},{"$f":"'Produto 24'!P$24","v":0},{"$f":"'Produto 24'!Q$24","v":0},{"$f":"'Produto 24'!R$24","v":0},{"$f":"'Produto 24'!S$24","v":0},{"$f":"'Produto 24'!T$24","v":0},{"$f":"'Produto 24'!U$24","v":0},{"$f":"'Produto 24'!V$24","v":0},{"$f":"'Produto 24'!W$24","v":0},{"$f":"'Produto 24'!X$24","v":0},{"$f":"'Produto 24'!Y$24","v":0},{"$f":"'Produto 24'!Z$24","v":0},{"$f":"'Produto 24'!AA$24","v":0},{"$f":"'Produto 24'!AB$24","v":0},{"$f":"'Produto 24'!AC$24","v":0},{"$f":"'Produto 24'!AD$24","v":0},{"$f":"'Produto 24'!AE$24","v":0},{"$f":"'Produto 24'!AF$24","v":0},{"$f":"'Produto 24'!AG$24","v":0},null,{"$f":"SUM(Q97:AU97)","v":0}]
[]
[]
[null,null,null,null,null,null,null,null,null,null,null,null,null,null,null,null,"MO","Insumos",null,"CustTot","RecTot"]
[null,null,null,null,null,null,null,null,null,null,null,null,null,null,null,{"$f":"Produção!$A$6","v":"latex"},{"$f":"AW38","v":0},{"$f":"AW70","v":0},null,{"$f":"(Q101+R101)*-1","v":0},{"$f":"'Resultados Fin'!C71","v":12267}]
[null,null,null,null,null,null,null,null,null,null,null,null,null,null,null,{"$f":"Produção!$A$7","v":"fruto genipapo"},{"$f":"AW39","v":0},{"$f":"AW71","v":0},null,{"$f":"(Q102+R102)*-1","v":0},{"$f":"'Resultados Fin'!C72","v":42688}]
[null,null,null,null,null,null,null,null,null,null,null,null,null,null,null,{"$f":"Produção!$A$8","v":"fruto araçauna"},{"$f":"AW40","v":0},{"$f":"AW72","v":0},null,0,{"$f":"'Resultados Fin'!C73","v":3920}]
[null,null,null,null,null,null,null,null,null,null,null,null,null,null,null,{"$f":"Produção!$A$9","v":"fruto pitanga"},{"$f":"AW41","v":0},{"$f":"AW73","v":0},null,0,{"$f":"'Resultados Fin'!C74","v":3990}]
[null,null,null,null,null,null,null,null,null,null,null,null,null,null,null,{"$f":"Produção!$A$10","v":"castanha sapucaia"},{"$f":"AW42","v":0},{"$f":"AW74","v":0},null,0,{"$f":"'Resultados Fin'!C75","v":72240}]
[null,null,null,null,null,null,null,null,null,null,null,null,null,null,null,{"$f":"Produção!$A$11","v":"fruto cajá"},{"$f":"AW44","v":0},{"$f":"AW76","v":0},null,0,{"$f":"'Resultados Fin'!C76","v":52184}]
[null,null,null,null,null,null,null,null,null,null,null,null,null,null,null,{"$f":"Produção!$A$12","v":"semente urucum"},{"$f":"AW45","v":0},{"$f":"AW77","v":0},null,0,{"$f":"'Resultados Fin'!C77","v":22720}]
[null,null,null,null,null,null,null,null,null,null,null,null,null,null,null,{"$f":"Produção!$A$13","v":"semente aroeira"},{"$f":"AW46","v":0},{"$f":"AW78","v":0},null,0,{"$f":"'Resultados Fin'!C78","v":5220}]
[null,null,null,null,null,null,null,null,null,null,null,null,null,null,null,{"$f":"Produção!$A$14","v":"raiz mandioca"},{"$f":"AW47","v":0},{"$f":"AW79","v":0},null,0,{"$f":"'Resultados Fin'!C79","v":9120}]
[null,null,null,null,null,null,null,null,null,null,null,null,null,null,null,{"$f":"Produção!$A$15","v":"fruto abacaxi"},{"$f":"AW49","v":0},{"$f":"AW81","v":0},null,0,{"$f":"'Resultados Fin'!C80","v":5490}]
[null,null,null,null,null,null,null,null,null,null,null,null,null,null,null,{"$f":"Produção!$A$16","v":"espigas milho"},0,0,null,0,{"$f":"'Resultados Fin'!C81","v":4275}]
[null,null,null,null,null,null,null,null,null,null,null,null,null,null,null,{"$f":"Produção!$A$17","v":"estaca sansão do campo"},0,0,null,0,{"$f":"'Resultados Fin'!C82","v":1080}]
[null,null,null,null,null,null,null,null,null,null,null,null,null,null,null,{"$f":"Produção!$A$18","v":"madeira madeira nova"},0,0,null,0,{"$f":"'Resultados Fin'!C83","v":2500}]
[null,null,null,null,null,null,null,null,null,null,null,null,null,null,null,{"$f":"Produção!$A$19","v":"lenha fedegoso"},0,0,null,0,{"$f":"'Resultados Fin'!C84","v":250}]
[null,null,null,null,null,null,null,null,null,null,null,null,null,null,null,{"$f":"Produção!$A$20","v":"estaca pau d'alho"},0,0,null,0,{"$f":"'Resultados Fin'!C85","v":0}]
[null,null,null,null,null,null,null,null,null,null,null,null,null,null,null,{"$f":"Produção!$A$21","v":"caixotaria boleira"},0,0,null,0,{"$f":"'Resultados Fin'!C86","v":500}]
[null,null,null,null,null,null,null,null,null,null,null,null,null,null,null,{"$f":"Produção!$A$22","v":"madeira angico roxo"},{"$f":"AW57","v":0},{"$f":"AW89","v":0},null,0,{"$f":"'Resultados Fin'!C87","v":3150}]
[null,null,null,null,null,null,null,null,null,null,null,null,null,null,null,{"$f":"Produção!$A$23","v":"madeira ipê roxo"},0,0,null,0,{"$f":"'Resultados Fin'!C88","v":0}]
[null,null,null,null,null,null,null,null,null,null,null,null,null,null,null,{"$f":"Produção!$A$24","v":"madeira ipê amarelo"},0,0,null,0,{"$f":"'Resultados Fin'!C89","v":12600}]
[null,null,null,null,null,null,null,null,null,null,null,null,null,null,null,{"$f":"Produção!$A$25","v":"madeira gonçalo alves"},0,0,null,0,{"$f":"'Resultados Fin'!C90","v":0}]
[null,null,null,null,null,null,null,null,null,null,null,null,null,null,null,{"$f":"Produção!$A$26","v":"madeira vinhatico"},0,0,null,0,{"$f":"'Resultados Fin'!C91","v":3500}]
[null,null,null,null,null,null,null,null,null,null,null,null,null,null,null,{"$f":"Produção!$A$27","v":"madeira jequitiba"},0,0,null,0,{"$f":"'Resultados Fin'!C92","v":1400}]
[null,null,null,null,null,null,null,null,null,null,null,null,null,null,null,{"$f":"Produção!$A$29","v":"grão caupi"},0,0,null,0,{"$f":"'Resultados Fin'!C93","v":0}]
[null,null,null,null,null,null,null,null,null,null,null,null,null,null,null,{"$f":"'Parâmetros Gerais'!$B$37","v":"grão caupi"},{"$f":"AW65","v":0},{"$f":"AW97","v":0},null,0,0]